{"text_format":"3","workbook":"xlsx","n_sheets":48,"sheets":["Start","Meldungen","Neues","Anleitung","Filterung","Ergebnisse","Galerie","Vorschau","Merkliste","News","K1","K2","K21","K22","K23","K3","K4","K41","K411","K412","K4121","K413","K42","K43","K44","K45","K46","K47","K48","K49","K4A","K4B1","K4B2","K4C","K4D","K4E","K4F","K4G","K4H","K5","K6","K61","K7","LL","Europa","Übersee","Betriebeliste","Datenbank"],"not_rendered":{"images":112,"macros":1,"defined_names":5},"read":"whole","date_system":"1900"}

{"sheet":"Start","index":0,"n_rows":33,"n_cols":8,"rows_kept":33,"merged":[[0,0,0,7],[1,0,1,6],[2,0,2,7],[14,0,14,1],[15,4,15,7],[16,4,21,7],[22,2,24,2],[25,3,27,3],[29,2,29,7]]}
[{"$f":"\"     \"&\"NAHVERKEHRS-BILDARCHIV des Verbandes Deutscher Verkehrsamateure e.V.\"","v":"     NAHVERKEHRS-BILDARCHIV des Verbandes Deutscher Verkehrsamateure e.V."}]
["Bilderverzeichnis \nStraßenbahnen* Ausland"]
["Alphabetische Listen"]
{"$rows_empty":10}
[{"$nulls":7},"i  Klick auf Flagge: Direkt zur Länderseite"]
["Karten"]
[{"$nulls":4},"Letzte Meldung:"]
[{"$nulls":4},{"$f":"News!B2","v":"Herzlich Willkommen zur neuen Version der Auslands-Datenbank! Diese bietet nun die gleichen Funktionen, wie die Deutschland-Datenbank. Wie dort, haben wir auch hier etwas aufgeräumt und die Eisenbahnen in die Eisenbahn-DB verschoben. Neue Bilder gibt es auch: Rund 400 Fotos von Horst Völkel aus Österreich bereichern das Archiv."}]
[]
[]
[]
[]
[]
[null,null,"Direkt zum Betrieb Nr.     ",{"$nulls":3},{"$f":"\"Gesamtzahl erfasster Fotos:  \"&Betriebeliste!AE2","v":"Gesamtzahl erfasster Fotos:  7508"}]
[{"$nulls":3},"",null,null,{"$f":"\"davon mit Vorschaubild:       \"&Betriebeliste!AE4","v":"davon mit Vorschaubild:       3404"}]
[{"$nulls":6},{"$f":"\"Quote Fotos mit Vorschau:      \"&Betriebeliste!AE6*100&\" %\"","v":"Quote Fotos mit Vorschau:      45 %"}]
[{"$nulls":3},{"$f":"Merkliste!$F$2","v":0},null,null,{"$f":"\"Neu/geändert:                               \"&Betriebeliste!AE8","v":"Neu/geändert:                               427"}]
[{"$nulls":6},"Programm-Version: 3.0"]
[{"$nulls":6},{"$f":"News!A2","v":"2023-03-30"}]
[]
[null,null,"* … und ggf. weiterer städtischer ÖPNV (Obus, Bus, Zahnradbahn etc.)"]
[]
[]
["D24"]

{"sheet":"Meldungen","index":1,"n_rows":15,"n_cols":10,"rows_kept":15,"merged":[[0,0,0,7]]}
["Meldungsübersicht"]
[]
[]
[{"$nulls":6},"Neue Bilder markieren?"]
[null,null,"Letzte Meldung",{"$nulls":6},{"$f":"MIN(J6:J10)","v":"2023-03-30"}]
[null,null,{"$f":"News!A2","v":"2023-03-30"},null,{"$f":"News!B2","v":"Herzlich Willkommen zur neuen Version der Auslands-Datenbank! Diese bietet nun die gleichen Funktionen, wie die Deutschland-Datenbank. Wie dort, haben wir auch hier etwas aufgeräumt und die Eisenbahnen in die Eisenbahn-DB verschoben. Neue Bilder gibt es auch: Rund 400 Fotos von Horst Völkel aus Österreich bereichern das Archiv."},null,null,"i Standardmäßig werden nur die mit der letzten Meldung geänderten bzw. ergänzten Bilder als + gekennzeichnet.",true,{"$f":"IFERROR(C6/I6,99999)","v":"2023-03-30"}]
[{"$nulls":8},false,{"$f":"IFERROR(C9/I7,99999)","v":"2173-10-13"}]
[null,null,"Frühere Meldungen",{"$nulls":5},false,{"$f":"IFERROR(C11/I8,99999)","v":"2173-10-13"}]
[null,null,{"$f":"News!A3","v":"00:00:00"},null,{"$f":"News!B3","v":0},null,null,"i Wenn Sie eine der früherer Meldung ankreuzen, werden alle Bilder, die zu diesem Datum oder später hinzugefügt/geändert wurden, als +  gekennzeichnet.",false,{"$f":"IFERROR(C13/I9,99999)","v":"2173-10-13"}]
[{"$nulls":8},false,{"$f":"IFERROR(C15/I10,99999)","v":"2173-10-13"}]
[null,null,{"$f":"News!A4","v":"00:00:00"},null,{"$f":"News!B4","v":0}]
[]
[null,null,{"$f":"News!A5","v":"00:00:00"},null,{"$f":"News!B5","v":0}]
[]
[null,null,{"$f":"News!A6","v":"00:00:00"},null,{"$f":"News!B6","v":0}]

{"sheet":"Neues","index":2,"n_rows":11,"n_cols":3,"rows_kept":11,"merged":[[0,0,0,3]]}
["Was ist neu in Version 3.0?"]
[]
[]
[null,null,"Mit dieser neuen Version sind folgende Änderungen verbunden:"]
[null,null,"1. Um die Übersichtlichkeit zu verbessern, haben wir die Bilder von Eisenbahnen (im wesentlichen Klein- und Privatbahnen, aber auch Bergbahnen etc.) in eine gesonderte Datenbank ausgelagert. Sie können diese über die Homepage des VDVA downloaden."]
[null,null,"2. Unsere Datenbank wächst kontinuierlich und für diverse Verkehrsbetriebe sind schon mehrere Hundert Bilder abgelegt. Für eine wachsende Zahl von Verkehrsbetrieben besteht daher die Möglichkeit, die Einträge nach Fahrzeugtypen und/oder Aufnahmeanlässen zu filtern."]
[null,null,"Sie erkennen diese Möglichkeit am Symbol L in der alphabetischen Betriebeliste. Beim Aufruf eines Betriebs, für den diese Möglichkeit besteht, wird die Filtermaske zudem automatisch angezeigt."]
[null,null,"3. Bilder, die bei der letzten Aktualisierung neu hinzugekommen oder geändert worden sind, werden in der Ergebnisliste nun mit dem Symbol + markiert. Wenn es für einen Betrieb solche Bilder gibt, findet sich dieses Symbol auch in der alphabetischen Betriebeliste neben dem Namen der Stadt. "]
[null,null,"4. Wie bisher, wird auf der Startseite die jeweils neueste Meldung angezeigt. Sie können sich über einen Button nun aber auch die 4 vorherigen Meldungen anzeigen lassen. Auf der entsprechenden Seite können Sie zudem ankreuzen, dass auch die hierbei hinzugefügten/geänderten Bilder als \"neu\" markiert werden. "]
[null,null,"5. Die Hintergrundaktualisierung der Datenbank erfolgt jetzt nicht mehr bei jedem Programmstart, sondern nur noch bei Bedarf, d.h., wenn sich Änderungen im Datenbestand ergeben haben."]
[null,null,"6. In Vorbereitung zur Erfassung bereits gescannter Dias wurden zahlreiche neue Betriebsnummern eingefügt, die nun nach und nach mit Inhalten gefüllt werden. Ebenso wurden für Museumsstraßenbahnen/Straßenbahnmuseen eigene Kategorien geschaffen (erkennbar an der blauen Beschriftung der Buttons in den Karten)"]

{"sheet":"Anleitung","index":3,"n_rows":18,"n_cols":4,"rows_kept":18,"merged":[[0,0,1,3],[4,0,11,0],[17,2,18,2]]}
["Hinweise zur Benutzung"]
[]
[]
[null,null,"Für jeden Verkehrsbetrieb gibt es eine oder mehrere Tabellen. Es gibt drei Möglichkeiten, zu den Tabellen zu gelangen:"]
[null,null,"1. Über die Karten: Auf der Startseite passendes Kartenblatt anklicken, dann auf der jeweiligen Karte den gewünschten Betrieb. Über die Pfeilbuttons könne Sie zu angrenzenden Kartenblättern wechsen."]
[null,null,"2. Über die alphabetischen Listen: Auf der Startseite den Anfangsbuchstaben auswählen, dann den Betrieb aus der Auflistung anklicken (Die Zahl in Klammern auf dem Button ist übrigens die Betrieb-Nummer. Die Zahlen hinter dem Button zeigen die Anzahl der erfassten Fotos und die Quote von Vorschaubildern an)."]
[null,null,"3. Über die Betriebsnummer: Wenn die Nummer des Verkehrsbetriebs bekannt ist, diese einfach auf der Startseite unten ins weiße Feld eingeben und dann den Button \"Los!\" anklicken.",""]
[null,null,"WICHTIG: Die Datenbank funktioniert nur, wenn der Rechner mit dem Internet verbunden ist und die Makros aktiviert sind. Dazu ggf. oben in der gelb unterlegten Zeile \"Inhalt aktivieren\" auswählen. (Die Makros dienen nur dem genannten Zweck. Im Zweifel oder wer einfach neugierig ist: Mit ALT-F11 kann man sich alle Makros ansehen.)"]
[{"$nulls":3},""]
[null,null,"Auf der Bildtabelle können Sie durch Betätigen der entsprechenden Buttons wahlweise zur Startseite, zur alphabetischen Betriebeliste oder zur Karte gehen, um einen anderen Betrieb auszuwählen. \nMit den Pfeiltasten oben links können Sie zum Anfang bzw. zum Ende der Bilderliste springen.\nBei den meisten Fotos steht auch ein Vorschaubild zur Verfügung. Sofern es für den ausgewählten Verkehrsbetrieb Vorschaubilder gibt, sehen Sie im rechten Teil der Kopfzeilen deren Anzahl (im Beispiel oben 113) und Sie können dann hierfür auch die Galerieansicht aufrufen. \nBei den betreffenden Fotos kann außerdem in der Tabelle das jeweilige Vorschaubild aufgerufen werden (Hierzu auf \"Vorschau\" klicken).\n",""]
[null,null,"Die einzelnen Tabellen können durch Anklicken der Symbole                 in den Kopfzeilen beliebig gefiltert und/oder sortiert werden. Da sich beim Umsortieren leider die Zeilenhöhen nicht automatisch anpassen, bitte nach jedem Umsortieren den Button \"Zeilenhöhe opt.\"  betätigen. Nur so ist eine vollständige Darstellung aller Informationen gewährleistet.\nDie Anzahl der gefilterten Bilder sehen Sie jeweils unterhalb der Gesamtzahl.\nMit dem Button \"Alle Filter löschen\" können alle gesetzten Filter aufgehoben werden. Dies geschieht auch automatisch, wenn Sie einen anderen Betrieb auswählen.\nEs steht außerdem eine Merkliste zur Verfügung, in der Sie sich einzelne Bilder durch Anklicken von \"Merken\" eintragen können. Bilder, die auf der Merkliste stehen, erkennen Sie am roten Häkchen . Die Gesamtzahl der Bilder auf der Merkliste steht oben im hellroten Feld. Dort befindet sich auch ein Button, über den Sie Ihre Merkliste aufrufen können.",""]
[null,null,"Entsprechende Buttons für die Eintragung eines Fotos in die Merkliste stehen auch in der Galerieansicht und in der Vorschau zur Verfügung.\nIn der Merkliste selbst können Sie bei Bedarf auch wieder einzelne Bilder oder die Gesamtliste löschen. Ferner kann die Merkliste ausgedruckt oder als pdf-Datei exportiert werden (z.B., um sie als Anlage einer Bildbestellung (s.u.) beizufügen.",""]
[null,null,"Die Bild-Datenbank wird beim Öffnen der Datei bei Bedarf aktualisiert (Bitte beim ersten Benutzen der entsprechenden Verknüpfung zustimmen!). Dadurch werden zusätzliche Bilddaten und Vorschaubilder sofort und automatisch integriert.  \nIm unteren Bereich der Startseite sehen Sie, auf welchem Stand die Datenbank ist und welche Änderungen gegenüber der letzten Version vogenommen wurden.\nEs loht sich also, gelegentlich die Datei zu öffnen und nach Neuerungen zu sehen."]
[null,null,"Wenn Sie Fragen oder Anregungen haben, stehen wir Ihnen unter der untenstehende Kontaktmöglichkeiten gerne zur Verfügung. An die genannte Email- Adresse können Sie auch festgestellte Fehler in der Datenbank meldet. Dies hilft uns, die Qualität weiter zu verbessern. ",""]
[{"$nulls":3},""]
[null,null,"Viele Verkehrsfreunde, die uns ihre Sammlung zur Verfügung gestellt haben, haben nicht nur selber fotografiert, sondern auch Bilder mit anderen Verkehrsfreunden getauscht. Vielfach ist hierbei der eigentliche Fotograf nicht mehr zu ermitteln. Soweit bekannt, sind solche Bilder im Feld \"Fotograf\" mit \"Slg. ...\" (für \"Sammlung\") gekennzeichnet. Sollte jemand sein eigenes Bild erkennen und mit der Veröffentlichung nicht einverstanden sein, wird er gebeten, sich bei der unten angegebenen Adresse zu melden; wir entfernen dann das betreffende Bild umgehend.",""]
[null,null,"Sie haben etwas Interessantes gefunden? Gerne können über die unten angegebenen Kontaktmöglichkeiten Abzüge der Fotos bestellen. Preise, Nutzungsbestimmungen und weitere Einzelheiten finden Sie unter folgendem Link: https://vdva.de/vdva-bildersammlung/",""]
[null,null,"Kontakt: \nE-Mail: sammlung@vdva.de \nTelefon: 0221 38 83 04 (Axel Reuther) ",""]

{"sheet":"Filterung","index":4,"n_rows":28,"n_cols":22,"rows_kept":28,"merged":[[0,0,0,13],[1,0,1,8],[1,9,1,14]]}
[{"$f":"INDEX(Betriebeliste!A1:D653,MATCH(O1,Betriebeliste!A1:A653,0),2)","v":"Österreich: Wien (203)"},{"$nulls":13},{"$f":"Ergebnisse!N1","v":"203"}]
["Kriterium 1: Fahrzeugtyp",{"$nulls":8},"Kriterium 2: Anlass",{"$nulls":9},true,{"$f":"T3*U3*T15*U15*T21*U21*T28*U28","v":1},true]
[null,null,"Straßenbahn-Triebwagen",{"$f":"Ergebnisse!T2","v":360},null,null,"Straßenbahn-Beiwagen",{"$f":"Ergebnisse!U2","v":234},{"$nulls":11},true,true]
[null,null,{"$f":"INDEX(Betriebeliste!$A$1:$Y$653,MATCH($O$1,Betriebeliste!$A$1:$A$653,0),ROW()+2)","v":"2x"},{"$f":"Ergebnisse!AA2","v":218},null,null,{"$f":"INDEX(Betriebeliste!$A$1:$Y$653,MATCH($O$1,Betriebeliste!$A$1:$A$653,0),ROW()+11)","v":"2x"},{"$f":"Ergebnisse!AK$2","v":144},{"$nulls":3},"Regelbetrieb",{"$f":"COUNTIF(Ergebnisse!R6:R5000, ROW()-3)","v":512},{"$nulls":6},true,true,true]
[null,null,{"$f":"INDEX(Betriebeliste!$A$1:$Y$653,MATCH($O$1,Betriebeliste!$A$1:$A$653,0),ROW()+2)","v":"4x"},{"$f":"Ergebnisse!AB2","v":20},null,null,{"$f":"INDEX(Betriebeliste!$A$1:$Y$653,MATCH($O$1,Betriebeliste!$A$1:$A$653,0),ROW()+11)","v":"4x"},{"$f":"Ergebnisse!AL$2","v":3},{"$nulls":3},"VDVA-Tagung",{"$f":"COUNTIF(Ergebnisse!R6:R5000, ROW()-3)","v":26},{"$nulls":6},true,true,true]
[null,null,{"$f":"INDEX(Betriebeliste!$A$1:$Y$653,MATCH($O$1,Betriebeliste!$A$1:$A$653,0),ROW()+2)","v":"4x Großraumwagen"},{"$f":"Ergebnisse!AC2","v":23},null,null,{"$f":"INDEX(Betriebeliste!$A$1:$Y$653,MATCH($O$1,Betriebeliste!$A$1:$A$653,0),ROW()+11)","v":"4x Großraumwagen"},{"$f":"Ergebnisse!AM$2","v":85},{"$nulls":3},"Sonderfahrt/Museum/Ausstellung",{"$f":"COUNTIF(Ergebnisse!R6:R5000, ROW()-3)","v":10},{"$nulls":6},true,true,true]
[null,null,{"$f":"INDEX(Betriebeliste!$A$1:$Y$653,MATCH($O$1,Betriebeliste!$A$1:$A$653,0),ROW()+2)","v":"4x Gelenkwagen"},{"$f":"Ergebnisse!AD2","v":19},null,null,{"$f":"INDEX(Betriebeliste!$A$1:$Y$653,MATCH($O$1,Betriebeliste!$A$1:$A$653,0),ROW()+11)","v":0},{"$f":"Ergebnisse!AN$2","v":0},{"$nulls":3},"Eröffnung",{"$f":"COUNTIF(Ergebnisse!R6:R5000, ROW()-3)","v":0},{"$nulls":6},true,true,true]
[null,null,{"$f":"INDEX(Betriebeliste!$A$1:$Y$653,MATCH($O$1,Betriebeliste!$A$1:$A$653,0),ROW()+2)","v":"6x Gelenkwagen"},{"$f":"Ergebnisse!AE2","v":64},null,null,{"$f":"INDEX(Betriebeliste!$A$1:$Y$653,MATCH($O$1,Betriebeliste!$A$1:$A$653,0),ROW()+11)","v":0},{"$f":"Ergebnisse!AO$2","v":0},{"$nulls":3},"Stillegung",{"$f":"COUNTIF(Ergebnisse!R6:R5000, ROW()-3)","v":0},{"$nulls":6},true,true,true]
[null,null,{"$f":"INDEX(Betriebeliste!$A$1:$Y$653,MATCH($O$1,Betriebeliste!$A$1:$A$653,0),ROW()+2)","v":"Niederflur-Gelenkwagen (alle Typen)"},{"$f":"Ergebnisse!AF2","v":10},null,null,{"$f":"INDEX(Betriebeliste!$A$1:$Y$653,MATCH($O$1,Betriebeliste!$A$1:$A$653,0),ROW()+11)","v":0},{"$f":"Ergebnisse!AP$2","v":0},{"$nulls":3},"Jubiläum",{"$f":"COUNTIF(Ergebnisse!R6:R5000, ROW()-3)","v":0},{"$nulls":6},true,true,true]
[null,null,{"$f":"INDEX(Betriebeliste!$A$1:$Y$653,MATCH($O$1,Betriebeliste!$A$1:$A$653,0),ROW()+2)","v":0},{"$f":"Ergebnisse!AG2","v":0},null,null,{"$f":"INDEX(Betriebeliste!$A$1:$Y$653,MATCH($O$1,Betriebeliste!$A$1:$A$653,0),ROW()+11)","v":0},{"$f":"Ergebnisse!AQ$2","v":0},{"$nulls":3},"Sonstige Feierlichkeit",{"$f":"COUNTIF(Ergebnisse!R6:R5000, ROW()-3)","v":0},{"$nulls":6},true,true,true]
[null,null,{"$f":"INDEX(Betriebeliste!$A$1:$Y$653,MATCH($O$1,Betriebeliste!$A$1:$A$653,0),ROW()+2)","v":0},{"$f":"Ergebnisse!AH2","v":0},null,null,{"$f":"INDEX(Betriebeliste!$A$1:$Y$653,MATCH($O$1,Betriebeliste!$A$1:$A$653,0),ROW()+11)","v":0},{"$f":"Ergebnisse!AR$2","v":0},{"$nulls":3},"Bauarbeiten",{"$f":"COUNTIF(Ergebnisse!R6:R5000, ROW()-3)","v":0},{"$nulls":6},true,true,true]
[null,null,{"$f":"INDEX(Betriebeliste!$A$1:$Y$653,MATCH($O$1,Betriebeliste!$A$1:$A$653,0),ROW()+2)","v":"Güter-Tw"},{"$f":"Ergebnisse!AI2","v":4},null,null,{"$f":"INDEX(Betriebeliste!$A$1:$Y$653,MATCH($O$1,Betriebeliste!$A$1:$A$653,0),ROW()+11)","v":"Güter-Bw"},{"$f":"Ergebnisse!AS$2","v":2},{"$nulls":3},"Unfall/Betriebsstörung",{"$f":"COUNTIF(Ergebnisse!R6:R5000, ROW()-3)","v":2},{"$nulls":6},true,true,true]
[null,null,"Nicht zugeordnet/Sonstiges",{"$f":"Ergebnisse!AJ2","v":3},null,null,"Nicht zugeordnet/Sonstiges",{"$f":"Ergebnisse!AT2","v":0},{"$nulls":3},"Nicht zugeordnet/Sonstiges",{"$f":"COUNTIF(Ergebnisse!R6:R5000, 0)","v":0},{"$nulls":6},true,true,true]
[{"$nulls":19},{"$f":"T4*T5*T6*T7*T8*T9*T10*T11*T12*T13","v":1},{"$f":"U4*U5*U6*U7*U8*U9*U10*U11*U12*U13","v":1},1]
[null,null,"Straßenbahn Arbeitswagen",{"$f":"Ergebnisse!V2","v":70},null,null,"Sonderkategorien",{"$f":"Ergebnisse!Z2","v":39},{"$nulls":11},true,true]
[null,null,"Arbeitstriebwagen",{"$f":"Ergebnisse!AU$2","v":47},null,null,{"$f":"INDEX(Betriebeliste!$A$1:$Y$653,MATCH($O$1,Betriebeliste!$A$1:$A$653,0),ROW()+8)","v":"Stadtbahn"},{"$f":"Ergebnisse!BI2","v":31},{"$nulls":3},"Gesamtzahl Bilder:",{"$f":"INDEX(Betriebeliste!A1:AA299,MATCH(O1,Betriebeliste!A1:A653,0),27)","v":553},{"$nulls":6},true,true]
[null,null,"Arbeitsbeiwagen",{"$f":"Ergebnisse!AV$2","v":22},null,null,{"$f":"INDEX(Betriebeliste!$A$1:$Y$653,MATCH($O$1,Betriebeliste!$A$1:$A$653,0),ROW()+8)","v":"U-Bahn"},{"$f":"Ergebnisse!BJ2","v":6},{"$nulls":11},true,true]
[null,null,"Straßengängige Arbeitsfahrzeuge",{"$f":"Ergebnisse!AW2","v":2},null,null,"Nicht zugeordnet/Sonstiges",{"$f":"Ergebnisse!BK2","v":2},{"$nulls":11},true,true]
[null,null,"Nicht zugeordnet/Sonstiges",{"$f":"Ergebnisse!AX2","v":0},{"$nulls":15},true]
[{"$nulls":19},{"$f":"T16*T17*T18*T19","v":1},{"$f":"U16*U17*U18","v":1}]
[null,null,"Obus",{"$f":"Ergebnisse!X2","v":2},null,null,"Bus",{"$f":"Ergebnisse!Y2","v":6},{"$nulls":11},true,true]
[null,null,"Solowagen",{"$f":"Ergebnisse!AY2","v":2},null,null,"Solowagen",{"$f":"Ergebnisse!BD2","v":6},{"$nulls":3},"Anzahl ausgewählter Bilder:",{"$f":"Ergebnisse!Q2","v":550},{"$nulls":6},true,true]
[null,null,"Gelenkwagen",{"$f":"Ergebnisse!AZ2","v":0},null,null,"Gelenkwagen",{"$f":"Ergebnisse!BE2","v":0},{"$nulls":11},true,true]
[null,null,"Anderthalb-/Doppeldecker",{"$f":"Ergebnisse!BA2","v":0},null,null,"Anderthalb-/Doppeldecker",{"$f":"Ergebnisse!BF2","v":0},{"$nulls":11},true,true]
[null,null,"Anhänger",{"$f":"Ergebnisse!BB2","v":0},null,null,"Anhänger",{"$f":"Ergebnisse!BG2","v":0},{"$nulls":11},true,true]
[null,null,"Nicht zugeordnet/Sonstiges",{"$f":"Ergebnisse!BC2","v":0},null,null,"Nicht zugeordnet/Sonstiges",{"$f":"Ergebnisse!BH2","v":0},{"$nulls":11},true,true]
[{"$nulls":19},{"$f":"T22*T23*T24*T25*T26","v":1},{"$f":"U22*U23*U24*U25*U26","v":1}]
[null,null,"Straßenbahn Sonstiges",{"$f":"Ergebnisse!W2","v":7},null,null,"Nicht zugeordnet/Sonstiges",{"$f":"Ergebnisse!S2","v":0},{"$nulls":11},true,true]

{"sheet":"Ergebnisse","index":5,"n_rows":558,"n_cols":74,"rows_kept":558,"merged":[[0,0,0,12],[1,3,1,4],[1,8,1,9],[2,3,2,4],[3,3,3,4],[3,7,3,9],[3,12,3,13]]}
[{"$f":"INDEX(Betriebeliste!A1:D653,MATCH(N1,Betriebeliste!A1:A653,0),2)","v":"Österreich: Wien (203)"},{"$nulls":12},{"$f":"IF(IFERROR(FIND(\",\",BM1),0)>0,LEFT(BM1,FIND(\",\",BM1)-1)&\".\"&RIGHT(BM1,LEN(BM1)-FIND(\",\",BM1)),LEFT(BM1,LEN(BM1)))","v":"203"},"SelAnlass","SelTyp","SelGesamt","Anlass",0,1,2,3,4,5,6,7,11,12,13,14,15,16,17,18,19,10,21,22,23,24,25,26,27,28,29,20,31,32,33,30,51,52,53,54,50,61,62,63,64,60,71,72,70,1,"203",2,3,4,5,6,7,8,9,0]
[{"$f":"INDEX(Betriebeliste!A1:AB597,MATCH(N1,Betriebeliste!A1:A653,0),28)","v":1926},{"$nulls":4},{"$f":"INDEX(Betriebeliste!A1:AA597,MATCH(BM1,Betriebeliste!A1:A653,0),27)","v":553},"\n\n \n< Gesamt\nBild-Anzahl",{"$nulls":3},"  \n\n\nBilder mit>\nVorschau>",{"$f":"COUNTA(Ergebnistabelle[Signatur])","v":320},{"$f":"Merkliste!F2","v":0},null,{"$f":"COUNTIF(O6:O5000, TRUE)","v":550},{"$f":"COUNTIF(P6:P5000, TRUE)","v":550},{"$f":"SUM(Q6:Q5000)","v":550},{"$f":"INDEX(Betriebeliste!A1:E653,MATCH(N1,Betriebeliste!A1:A653,0),5)","v":1},{"$f":"COUNTIF(S6:S5000, TRUE)","v":0},{"$f":"COUNTIF(T6:T5000, TRUE)","v":360},234,70,7,2,6,39,218,20,23,19,64,10,0,0,4,3,144,3,85,0,0,0,0,0,2,0,47,22,2,0,2,0,0,0,0,6,0,0,0,0,31,6,2]
[null,null,{"$f":"INDEX(Betriebeliste!A1:D653,MATCH(N1,Betriebeliste!A1:A653,0),4)","v":"AUT16"},{"$f":"INDEX(Betriebeliste!A1:D653,MATCH(N1,Betriebeliste!A1:A653,0),3)","v":"K49"},null,{"$f":"SUBTOTAL(103,Ergebnistabelle[Bild-ID])","v":204},"< Gefiltert",{"$nulls":3},"Gefiltert>",{"$f":"SUBTOTAL(103,Ergebnistabelle[Signatur])","v":204},"   ^ Anz. Merkposten",{"$nulls":4},"^Filter mögl?",{"$f":"IF(Filterung!U28=TRUE,TRUE,\"\")","v":true},{"$f":"IF(Filterung!T3=TRUE,TRUE,\"\")","v":true},{"$f":"IF(Filterung!U3=TRUE,TRUE,\"\")","v":true},{"$f":"IF(Filterung!T15=TRUE,TRUE,\"\")","v":true},{"$f":"IF(Filterung!T28=TRUE,TRUE,\"\")","v":true},{"$f":"IF(Filterung!T21=TRUE,TRUE,\"\")","v":true},{"$f":"IF(Filterung!U21=TRUE,TRUE,\"\")","v":true},{"$f":"IF(Filterung!U15=TRUE,TRUE,\"\")","v":true},{"$f":"IF(Filterung!T4=TRUE,TRUE,\"\")","v":true},{"$f":"IF(Filterung!T5=TRUE,TRUE,\"\")","v":true},{"$f":"IF(Filterung!T6=TRUE,TRUE,\"\")","v":true},{"$f":"IF(Filterung!T7=TRUE,TRUE,\"\")","v":true},{"$f":"IF(Filterung!T8=TRUE,TRUE,\"\")","v":true},{"$f":"IF(Filterung!T9=TRUE,TRUE,\"\")","v":true},{"$f":"IF(Filterung!T10=TRUE,TRUE,\"\")","v":true},{"$f":"IF(Filterung!T11=TRUE,TRUE,\"\")","v":true},{"$f":"IF(Filterung!T12=TRUE,TRUE,\"\")","v":true},{"$f":"IF(Filterung!T13=TRUE,TRUE,\"\")","v":true},{"$f":"IF(Filterung!U4=TRUE,TRUE,\"\")","v":true},{"$f":"IF(Filterung!U5=TRUE,TRUE,\"\")","v":true},{"$f":"IF(Filterung!U6=TRUE,TRUE,\"\")","v":true},{"$f":"IF(Filterung!U7=TRUE,TRUE,\"\")","v":true},{"$f":"IF(Filterung!U8=TRUE,TRUE,\"\")","v":true},{"$f":"IF(Filterung!U9=TRUE,TRUE,\"\")","v":true},{"$f":"IF(Filterung!U10=TRUE,TRUE,\"\")","v":true},{"$f":"IF(Filterung!U11=TRUE,TRUE,\"\")","v":true},{"$f":"IF(Filterung!U12=TRUE,TRUE,\"\")","v":true},{"$f":"IF(Filterung!U13=TRUE,TRUE,\"\")","v":true},{"$f":"IF(Filterung!T16=TRUE,TRUE,\"\")","v":true},{"$f":"IF(Filterung!T17=TRUE,TRUE,\"\")","v":true},{"$f":"IF(Filterung!T18=TRUE,TRUE,\"\")","v":true},{"$f":"IF(Filterung!T19=TRUE,TRUE,\"\")","v":true},{"$f":"IF(Filterung!T22=TRUE,TRUE,\"\")","v":true},{"$f":"IF(Filterung!T23=TRUE,TRUE,\"\")","v":true},{"$f":"IF(Filterung!T24=TRUE,TRUE,\"\")","v":true},{"$f":"IF(Filterung!T25=TRUE,TRUE,\"\")","v":true},{"$f":"IF(Filterung!T26=TRUE,TRUE,\"\")","v":true},{"$f":"IF(Filterung!U22=TRUE,TRUE,\"\")","v":true},{"$f":"IF(Filterung!U23=TRUE,TRUE,\"\")","v":true},{"$f":"IF(Filterung!U24=TRUE,TRUE,\"\")","v":true},{"$f":"IF(Filterung!U25=TRUE,TRUE,\"\")","v":true},{"$f":"IF(Filterung!U26=TRUE,TRUE,\"\")","v":true},{"$f":"IF(Filterung!U16=TRUE,TRUE,\"\")","v":true},{"$f":"IF(Filterung!U17=TRUE,TRUE,\"\")","v":true},{"$f":"IF(Filterung!U18=TRUE,TRUE,\"\")","v":true},{"$f":"IF(Filterung!$V4=TRUE,BL1,\"\")","v":1},null,{"$f":"IF(Filterung!$V5=TRUE,BN1,\"\")","v":2},{"$f":"IF(Filterung!$V6=TRUE,BO1,\"\")","v":3},{"$f":"IF(Filterung!$V7=TRUE,BP1,\"\")","v":4},{"$f":"IF(Filterung!$V8=TRUE,BQ1,\"\")","v":5},{"$f":"IF(Filterung!$V9=TRUE,BR1,\"\")","v":6},{"$f":"IF(Filterung!$V10=TRUE,BS1,\"\")","v":7},{"$f":"IF(Filterung!$V11=TRUE,BT1,\"\")","v":8},{"$f":"IF(Filterung!$V12=TRUE,BU1,\"\")","v":9},{"$f":"IF(Filterung!$V13=TRUE,BV1,\"\")","v":0}]
["Bild-ID","Signatur","Aufnahmeort","Wagen",null,"Linie","Bemerkung","Datum",null,null,"Fotograf","Vorschau","Merken",{"$nulls":51},"+"]
["Bild-ID","Signatur","Aufnahmeort","Wg-Typ","Wg-Nr.","Linie","Bemerkung","T","M","J","Fotograf","Vorschau","ML","Merken","Spalte1","Spalte2","Spalte3","Spalte4","Spalte5","Spalte6","Spalte7","Spalte8","Spalte9","Spalte10","Spalte11","Spalte12","Spalte13","Spalte14","Spalte15","Spalte16","Spalte17","Spalte18","Spalte19","Spalte20","Spalte21","Spalte22","Spalte23","Spalte24","Spalte25","Spalte26","Spalte27","Spalte28","Spalte29","Spalte30","Spalte31","Spalte32","Spalte33","Spalte34","Spalte35","Spalte36","Spalte37","Spalte38","Spalte39","Spalte40","Spalte41","Spalte42","Spalte43","Spalte44","Spalte45","Spalte46","Spalte47","Spalte48","Spalte49","Spalte50","51"]
["203-001",null,"Reichsbrücke","2xTw (Typ D1) ",2435,"360",{"$nulls":5},{"$f":"IF(Ergebnistabelle[[#This Row],[Signatur]]<>\"\",\"Vorschau\",\"\")","v":""},{"$f":"IF(IFERROR(MATCH(Ergebnistabelle[[#This Row],[Bild-ID]],Merkliste!B:B,0),\"\")<>\"\",CHAR(252),\"\")","v":""},{"$f":"IF(Ergebnistabelle[[#This Row],[Bild-ID]]<>\"\",\"Merken\",\"\")","v":"Merken"},{"$f":"IF(IFERROR(MATCH(R6,$BL$3:$UP$3,0),FALSE)<>FALSE,TRUE)","v":true},{"$f":"OR(S6=S$3, W6=W$3, AA6=AA$3, AB6=AB$3, AC6=AC$3, AD6=AD$3, AE6=AE$3, AF6=AF$3, AG6=AG$3, AH6=AH$3, AI6=AI$3, AJ6=AJ$3, AK6=AK$3, AL6=AL$3, AM6=AM$3, AN6=AN$3, AO6=AO$3, AP6=AP$3, AQ6=AQ$3, AR6=AR$3, AS6=AS$3, AT6=AT$3, AU6=AU$3, AV6=AV$3, AW6=AW$3, AX6=AX$3, AY6=AY$3, AZ6=AZ$3, BA6=BA$3, BB6=BB$3, BC6=BC$3, BD6=BD$3, BE6=BE$3, BF6=BF$3, BG6=BG$3, BH6=BH$3, BI6=BI$3, BJ6=BJ$3, BK6=BK$3)","v":true},{"$f":"Ergebnistabelle[[#This Row],[Spalte1]]*Ergebnistabelle[[#This Row],[Spalte2]]","v":1},1,false,true,false,false,false,false,false,false,true,false,false,false,false,false,false,false,false,false,false,false,false,false,false,false,false,false,false,false,false,false,false,false,false,false,false,false,false,false,false,false,false,false,false,false,false,"2020-01-01",{"$f":"IF(Ergebnistabelle[[#This Row],[Spalte50]]>=Meldungen!$J$5,\"+\",\"\")","v":""}]
["203-002",null,null,"2xTw ",7,null,"historisch",{"$nulls":4},{"$f":"IF(Ergebnistabelle[[#This Row],[Signatur]]<>\"\",\"Vorschau\",\"\")","v":""},{"$f":"IF(IFERROR(MATCH(Ergebnistabelle[[#This Row],[Bild-ID]],Merkliste!B:B,0),\"\")<>\"\",CHAR(252),\"\")","v":""},{"$f":"IF(Ergebnistabelle[[#This Row],[Bild-ID]]<>\"\",\"Merken\",\"\")","v":"Merken"},{"$f":"IF(IFERROR(MATCH(R7,$BL$3:$UP$3,0),FALSE)<>FALSE,TRUE)","v":true},{"$f":"OR(S7=S$3, W7=W$3, AA7=AA$3, AB7=AB$3, AC7=AC$3, AD7=AD$3, AE7=AE$3, AF7=AF$3, AG7=AG$3, AH7=AH$3, AI7=AI$3, AJ7=AJ$3, AK7=AK$3, AL7=AL$3, AM7=AM$3, AN7=AN$3, AO7=AO$3, AP7=AP$3, AQ7=AQ$3, AR7=AR$3, AS7=AS$3, AT7=AT$3, AU7=AU$3, AV7=AV$3, AW7=AW$3, AX7=AX$3, AY7=AY$3, AZ7=AZ$3, BA7=BA$3, BB7=BB$3, BC7=BC$3, BD7=BD$3, BE7=BE$3, BF7=BF$3, BG7=BG$3, BH7=BH$3, BI7=BI$3, BJ7=BJ$3, BK7=BK$3)","v":true},{"$f":"Ergebnistabelle[[#This Row],[Spalte1]]*Ergebnistabelle[[#This Row],[Spalte2]]","v":1},1,false,true,false,false,false,false,false,false,true,false,false,false,false,false,false,false,false,false,false,false,false,false,false,false,false,false,false,false,false,false,false,false,false,false,false,false,false,false,false,false,false,false,false,false,false,"2020-01-01",{"$f":"IF(Ergebnistabelle[[#This Row],[Spalte50]]>=Meldungen!$J$5,\"+\",\"\")","v":""}]
["203-003",null,null,"2xTw ",2594,{"$nulls":6},{"$f":"IF(Ergebnistabelle[[#This Row],[Signatur]]<>\"\",\"Vorschau\",\"\")","v":""},{"$f":"IF(IFERROR(MATCH(Ergebnistabelle[[#This Row],[Bild-ID]],Merkliste!B:B,0),\"\")<>\"\",CHAR(252),\"\")","v":""},{"$f":"IF(Ergebnistabelle[[#This Row],[Bild-ID]]<>\"\",\"Merken\",\"\")","v":"Merken"},true,true,{"$f":"Ergebnistabelle[[#This Row],[Spalte1]]*Ergebnistabelle[[#This Row],[Spalte2]]","v":1},1,false,true,false,false,false,false,false,false,true,false,false,false,false,false,false,false,false,false,false,false,false,false,false,false,false,false,false,false,false,false,false,false,false,false,false,false,false,false,false,false,false,false,false,false,false,"2020-01-01",{"$f":"IF(Ergebnistabelle[[#This Row],[Spalte50]]>=Meldungen!$J$5,\"+\",\"\")","v":""}]
["203-004",null,"Betriebshof","2xTw ",56,{"$nulls":6},{"$f":"IF(Ergebnistabelle[[#This Row],[Signatur]]<>\"\",\"Vorschau\",\"\")","v":""},{"$f":"IF(IFERROR(MATCH(Ergebnistabelle[[#This Row],[Bild-ID]],Merkliste!B:B,0),\"\")<>\"\",CHAR(252),\"\")","v":""},{"$f":"IF(Ergebnistabelle[[#This Row],[Bild-ID]]<>\"\",\"Merken\",\"\")","v":"Merken"},true,true,{"$f":"Ergebnistabelle[[#This Row],[Spalte1]]*Ergebnistabelle[[#This Row],[Spalte2]]","v":1},1,false,true,false,false,false,false,false,false,true,false,false,false,false,false,false,false,false,false,false,false,false,false,false,false,false,false,false,false,false,false,false,false,false,false,false,false,false,false,false,false,false,false,false,false,false,"2020-01-01",{"$f":"IF(Ergebnistabelle[[#This Row],[Spalte50]]>=Meldungen!$J$5,\"+\",\"\")","v":""}]
["203-005",null,null,"6xGelTw ",4464,"60",null,null,8,1969,"Walter Steinberger",{"$f":"IF(Ergebnistabelle[[#This Row],[Signatur]]<>\"\",\"Vorschau\",\"\")","v":""},{"$f":"IF(IFERROR(MATCH(Ergebnistabelle[[#This Row],[Bild-ID]],Merkliste!B:B,0),\"\")<>\"\",CHAR(252),\"\")","v":""},{"$f":"IF(Ergebnistabelle[[#This Row],[Bild-ID]]<>\"\",\"Merken\",\"\")","v":"Merken"},true,true,{"$f":"Ergebnistabelle[[#This Row],[Spalte1]]*Ergebnistabelle[[#This Row],[Spalte2]]","v":1},1,false,true,false,false,false,false,false,false,false,false,false,false,true,false,false,false,false,false,false,false,false,false,false,false,false,false,false,false,false,false,false,false,false,false,false,false,false,false,false,false,false,false,false,false,false,"2020-01-01",{"$f":"IF(Ergebnistabelle[[#This Row],[Spalte50]]>=Meldungen!$J$5,\"+\",\"\")","v":""}]
["203-006",null,null,"2xBw ",1500,{"$nulls":4},1955,null,{"$f":"IF(Ergebnistabelle[[#This Row],[Signatur]]<>\"\",\"Vorschau\",\"\")","v":""},{"$f":"IF(IFERROR(MATCH(Ergebnistabelle[[#This Row],[Bild-ID]],Merkliste!B:B,0),\"\")<>\"\",CHAR(252),\"\")","v":""},{"$f":"IF(Ergebnistabelle[[#This Row],[Bild-ID]]<>\"\",\"Merken\",\"\")","v":"Merken"},true,true,{"$f":"Ergebnistabelle[[#This Row],[Spalte1]]*Ergebnistabelle[[#This Row],[Spalte2]]","v":1},1,false,false,true,false,false,false,false,false,false,false,false,false,false,false,false,false,false,false,true,false,false,false,false,false,false,false,false,false,false,false,false,false,false,false,false,false,false,false,false,false,false,false,false,false,false,"2020-01-01",{"$f":"IF(Ergebnistabelle[[#This Row],[Spalte50]]>=Meldungen!$J$5,\"+\",\"\")","v":""}]
["203-007",null,null,"4xBw \n2xTw "," \n524","66 \n66",{"$nulls":5},{"$f":"IF(Ergebnistabelle[[#This Row],[Signatur]]<>\"\",\"Vorschau\",\"\")","v":""},{"$f":"IF(IFERROR(MATCH(Ergebnistabelle[[#This Row],[Bild-ID]],Merkliste!B:B,0),\"\")<>\"\",CHAR(252),\"\")","v":""},{"$f":"IF(Ergebnistabelle[[#This Row],[Bild-ID]]<>\"\",\"Merken\",\"\")","v":"Merken"},true,true,{"$f":"Ergebnistabelle[[#This Row],[Spalte1]]*Ergebnistabelle[[#This Row],[Spalte2]]","v":1},1,false,true,true,false,false,false,false,false,true,false,false,false,false,false,false,false,false,false,false,true,false,false,false,false,false,false,false,false,false,false,false,false,false,false,false,false,false,false,false,false,false,false,false,false,false,"2020-01-01",{"$f":"IF(Ergebnistabelle[[#This Row],[Spalte50]]>=Meldungen!$J$5,\"+\",\"\")","v":""}]
["203-008",null,null,"2xBw \n2xTw \n2xBw ","1159 \n  \n ","39 \n39\n39",null,24,3,1955,"Harald Herrmann",{"$f":"IF(Ergebnistabelle[[#This Row],[Signatur]]<>\"\",\"Vorschau\",\"\")","v":""},{"$f":"IF(IFERROR(MATCH(Ergebnistabelle[[#This Row],[Bild-ID]],Merkliste!B:B,0),\"\")<>\"\",CHAR(252),\"\")","v":""},{"$f":"IF(Ergebnistabelle[[#This Row],[Bild-ID]]<>\"\",\"Merken\",\"\")","v":"Merken"},true,true,{"$f":"Ergebnistabelle[[#This Row],[Spalte1]]*Ergebnistabelle[[#This Row],[Spalte2]]","v":1},1,false,true,true,false,false,false,false,false,true,false,false,false,false,false,false,false,false,false,true,false,false,false,false,false,false,false,false,false,false,false,false,false,false,false,false,false,false,false,false,false,false,false,false,false,false,"2020-01-01",{"$f":"IF(Ergebnistabelle[[#This Row],[Spalte50]]>=Meldungen!$J$5,\"+\",\"\")","v":""}]
["203-009",null,null,"2xBw ",1645,{"$nulls":6},{"$f":"IF(Ergebnistabelle[[#This Row],[Signatur]]<>\"\",\"Vorschau\",\"\")","v":""},{"$f":"IF(IFERROR(MATCH(Ergebnistabelle[[#This Row],[Bild-ID]],Merkliste!B:B,0),\"\")<>\"\",CHAR(252),\"\")","v":""},{"$f":"IF(Ergebnistabelle[[#This Row],[Bild-ID]]<>\"\",\"Merken\",\"\")","v":"Merken"},true,true,{"$f":"Ergebnistabelle[[#This Row],[Spalte1]]*Ergebnistabelle[[#This Row],[Spalte2]]","v":1},1,false,false,true,false,false,false,false,false,false,false,false,false,false,false,false,false,false,false,true,false,false,false,false,false,false,false,false,false,false,false,false,false,false,false,false,false,false,false,false,false,false,false,false,false,false,"2020-01-01",{"$f":"IF(Ergebnistabelle[[#This Row],[Spalte50]]>=Meldungen!$J$5,\"+\",\"\")","v":""}]
["203-010",null,null,"ArbTw ",6121,null,"Turmwagen",{"$nulls":4},{"$f":"IF(Ergebnistabelle[[#This Row],[Signatur]]<>\"\",\"Vorschau\",\"\")","v":""},{"$f":"IF(IFERROR(MATCH(Ergebnistabelle[[#This Row],[Bild-ID]],Merkliste!B:B,0),\"\")<>\"\",CHAR(252),\"\")","v":""},{"$f":"IF(Ergebnistabelle[[#This Row],[Bild-ID]]<>\"\",\"Merken\",\"\")","v":"Merken"},true,true,{"$f":"Ergebnistabelle[[#This Row],[Spalte1]]*Ergebnistabelle[[#This Row],[Spalte2]]","v":1},1,false,false,false,true,false,false,false,false,false,false,false,false,false,false,false,false,false,false,false,false,false,false,false,false,false,false,false,false,true,false,false,false,false,false,false,false,false,false,false,false,false,false,false,false,false,"2020-01-01",{"$f":"IF(Ergebnistabelle[[#This Row],[Spalte50]]>=Meldungen!$J$5,\"+\",\"\")","v":""}]
["203-011",null,null,"2xTw ",2612,"AK",{"$nulls":5},{"$f":"IF(Ergebnistabelle[[#This Row],[Signatur]]<>\"\",\"Vorschau\",\"\")","v":""},{"$f":"IF(IFERROR(MATCH(Ergebnistabelle[[#This Row],[Bild-ID]],Merkliste!B:B,0),\"\")<>\"\",CHAR(252),\"\")","v":""},{"$f":"IF(Ergebnistabelle[[#This Row],[Bild-ID]]<>\"\",\"Merken\",\"\")","v":"Merken"},true,true,{"$f":"Ergebnistabelle[[#This Row],[Spalte1]]*Ergebnistabelle[[#This Row],[Spalte2]]","v":1},1,false,true,false,false,false,false,false,false,true,false,false,false,false,false,false,false,false,false,false,false,false,false,false,false,false,false,false,false,false,false,false,false,false,false,false,false,false,false,false,false,false,false,false,false,false,"2020-01-01",{"$f":"IF(Ergebnistabelle[[#This Row],[Spalte50]]>=Meldungen!$J$5,\"+\",\"\")","v":""}]
["203-012",null,null,"2xBw (Typ v) \n2xTw (Typ G) ","1875 \n ","9 \n9",{"$nulls":5},{"$f":"IF(Ergebnistabelle[[#This Row],[Signatur]]<>\"\",\"Vorschau\",\"\")","v":""},{"$f":"IF(IFERROR(MATCH(Ergebnistabelle[[#This Row],[Bild-ID]],Merkliste!B:B,0),\"\")<>\"\",CHAR(252),\"\")","v":""},{"$f":"IF(Ergebnistabelle[[#This Row],[Bild-ID]]<>\"\",\"Merken\",\"\")","v":"Merken"},true,true,{"$f":"Ergebnistabelle[[#This Row],[Spalte1]]*Ergebnistabelle[[#This Row],[Spalte2]]","v":1},1,false,false,true,false,false,false,false,false,false,false,false,false,false,false,false,false,false,false,true,false,false,false,false,false,false,false,false,false,false,false,false,false,false,false,false,false,false,false,false,false,false,false,false,false,false,"2020-01-01",{"$f":"IF(Ergebnistabelle[[#This Row],[Spalte50]]>=Meldungen!$J$5,\"+\",\"\")","v":""}]
["203-013",null,"Getreidemarkt","2xTw (Typ K) ",2470,"59",{"$nulls":5},{"$f":"IF(Ergebnistabelle[[#This Row],[Signatur]]<>\"\",\"Vorschau\",\"\")","v":""},{"$f":"IF(IFERROR(MATCH(Ergebnistabelle[[#This Row],[Bild-ID]],Merkliste!B:B,0),\"\")<>\"\",CHAR(252),\"\")","v":""},{"$f":"IF(Ergebnistabelle[[#This Row],[Bild-ID]]<>\"\",\"Merken\",\"\")","v":"Merken"},true,true,{"$f":"Ergebnistabelle[[#This Row],[Spalte1]]*Ergebnistabelle[[#This Row],[Spalte2]]","v":1},1,false,true,false,false,false,false,false,false,true,false,false,false,false,false,false,false,false,false,false,false,false,false,false,false,false,false,false,false,false,false,false,false,false,false,false,false,false,false,false,false,false,false,false,false,false,"2020-01-01",{"$f":"IF(Ergebnistabelle[[#This Row],[Spalte50]]>=Meldungen!$J$5,\"+\",\"\")","v":""}]
["203-014",null,"Getreidemarkt","2xTw (Typ G) ",813,"H2",{"$nulls":5},{"$f":"IF(Ergebnistabelle[[#This Row],[Signatur]]<>\"\",\"Vorschau\",\"\")","v":""},{"$f":"IF(IFERROR(MATCH(Ergebnistabelle[[#This Row],[Bild-ID]],Merkliste!B:B,0),\"\")<>\"\",CHAR(252),\"\")","v":""},{"$f":"IF(Ergebnistabelle[[#This Row],[Bild-ID]]<>\"\",\"Merken\",\"\")","v":"Merken"},true,true,{"$f":"Ergebnistabelle[[#This Row],[Spalte1]]*Ergebnistabelle[[#This Row],[Spalte2]]","v":1},1,false,true,false,false,false,false,false,false,true,false,false,false,false,false,false,false,false,false,false,false,false,false,false,false,false,false,false,false,false,false,false,false,false,false,false,false,false,false,false,false,false,false,false,false,false,"2020-01-01",{"$f":"IF(Ergebnistabelle[[#This Row],[Spalte50]]>=Meldungen!$J$5,\"+\",\"\")","v":""}]
["203-015",null,null,"Bus ",null,"7 \n9",{"$nulls":5},{"$f":"IF(Ergebnistabelle[[#This Row],[Signatur]]<>\"\",\"Vorschau\",\"\")","v":""},{"$f":"IF(IFERROR(MATCH(Ergebnistabelle[[#This Row],[Bild-ID]],Merkliste!B:B,0),\"\")<>\"\",CHAR(252),\"\")","v":""},{"$f":"IF(Ergebnistabelle[[#This Row],[Bild-ID]]<>\"\",\"Merken\",\"\")","v":"Merken"},true,true,{"$f":"Ergebnistabelle[[#This Row],[Spalte1]]*Ergebnistabelle[[#This Row],[Spalte2]]","v":1},1,false,false,false,false,false,false,true,false,false,false,false,false,false,false,false,false,false,false,false,false,false,false,false,false,false,false,false,false,false,false,false,false,false,false,false,false,false,true,false,false,false,false,false,false,false,"2020-01-01",{"$f":"IF(Ergebnistabelle[[#This Row],[Spalte50]]>=Meldungen!$J$5,\"+\",\"\")","v":""}]
["203-016",null,"Westbahnhof Schleife","2xBw (Typ s) ",1617,{"$nulls":6},{"$f":"IF(Ergebnistabelle[[#This Row],[Signatur]]<>\"\",\"Vorschau\",\"\")","v":""},{"$f":"IF(IFERROR(MATCH(Ergebnistabelle[[#This Row],[Bild-ID]],Merkliste!B:B,0),\"\")<>\"\",CHAR(252),\"\")","v":""},{"$f":"IF(Ergebnistabelle[[#This Row],[Bild-ID]]<>\"\",\"Merken\",\"\")","v":"Merken"},true,true,{"$f":"Ergebnistabelle[[#This Row],[Spalte1]]*Ergebnistabelle[[#This Row],[Spalte2]]","v":1},1,false,false,true,false,false,false,false,false,false,false,false,false,false,false,false,false,false,false,true,false,false,false,false,false,false,false,false,false,false,false,false,false,false,false,false,false,false,false,false,false,false,false,false,false,false,"2020-01-01",{"$f":"IF(Ergebnistabelle[[#This Row],[Spalte50]]>=Meldungen!$J$5,\"+\",\"\")","v":""}]
["203-017",null,null,"2xBw \n2xTw \n2xBw "," \n433 \n ","132 \n132 \n132",{"$nulls":5},{"$f":"IF(Ergebnistabelle[[#This Row],[Signatur]]<>\"\",\"Vorschau\",\"\")","v":""},{"$f":"IF(IFERROR(MATCH(Ergebnistabelle[[#This Row],[Bild-ID]],Merkliste!B:B,0),\"\")<>\"\",CHAR(252),\"\")","v":""},{"$f":"IF(Ergebnistabelle[[#This Row],[Bild-ID]]<>\"\",\"Merken\",\"\")","v":"Merken"},true,true,{"$f":"Ergebnistabelle[[#This Row],[Spalte1]]*Ergebnistabelle[[#This Row],[Spalte2]]","v":1},1,false,true,true,false,false,false,false,false,true,false,false,false,false,false,false,false,false,false,true,false,false,false,false,false,false,false,false,false,false,false,false,false,false,false,false,false,false,false,false,false,false,false,false,false,false,"2020-01-01",{"$f":"IF(Ergebnistabelle[[#This Row],[Spalte50]]>=Meldungen!$J$5,\"+\",\"\")","v":""}]
["203-018",null,null,"2xBw \n2xTw \n2xBw "," \n2179 \n "," \n  \n ",{"$nulls":5},{"$f":"IF(Ergebnistabelle[[#This Row],[Signatur]]<>\"\",\"Vorschau\",\"\")","v":""},{"$f":"IF(IFERROR(MATCH(Ergebnistabelle[[#This Row],[Bild-ID]],Merkliste!B:B,0),\"\")<>\"\",CHAR(252),\"\")","v":""},{"$f":"IF(Ergebnistabelle[[#This Row],[Bild-ID]]<>\"\",\"Merken\",\"\")","v":"Merken"},true,true,{"$f":"Ergebnistabelle[[#This Row],[Spalte1]]*Ergebnistabelle[[#This Row],[Spalte2]]","v":1},1,false,true,true,false,false,false,false,false,true,false,false,false,false,false,false,false,false,false,true,false,false,false,false,false,false,false,false,false,false,false,false,false,false,false,false,false,false,false,false,false,false,false,false,false,false,"2020-01-01",{"$f":"IF(Ergebnistabelle[[#This Row],[Spalte50]]>=Meldungen!$J$5,\"+\",\"\")","v":""}]
["203-019",null,null,"2xTw ",965,"48",{"$nulls":5},{"$f":"IF(Ergebnistabelle[[#This Row],[Signatur]]<>\"\",\"Vorschau\",\"\")","v":""},{"$f":"IF(IFERROR(MATCH(Ergebnistabelle[[#This Row],[Bild-ID]],Merkliste!B:B,0),\"\")<>\"\",CHAR(252),\"\")","v":""},{"$f":"IF(Ergebnistabelle[[#This Row],[Bild-ID]]<>\"\",\"Merken\",\"\")","v":"Merken"},true,true,{"$f":"Ergebnistabelle[[#This Row],[Spalte1]]*Ergebnistabelle[[#This Row],[Spalte2]]","v":1},1,false,true,false,false,false,false,false,false,true,false,false,false,false,false,false,false,false,false,false,false,false,false,false,false,false,false,false,false,false,false,false,false,false,false,false,false,false,false,false,false,false,false,false,false,false,"2020-01-01",{"$f":"IF(Ergebnistabelle[[#This Row],[Spalte50]]>=Meldungen!$J$5,\"+\",\"\")","v":""}]
["203-020",null,null,"2xBw ",5855,{"$nulls":6},{"$f":"IF(Ergebnistabelle[[#This Row],[Signatur]]<>\"\",\"Vorschau\",\"\")","v":""},{"$f":"IF(IFERROR(MATCH(Ergebnistabelle[[#This Row],[Bild-ID]],Merkliste!B:B,0),\"\")<>\"\",CHAR(252),\"\")","v":""},{"$f":"IF(Ergebnistabelle[[#This Row],[Bild-ID]]<>\"\",\"Merken\",\"\")","v":"Merken"},true,true,{"$f":"Ergebnistabelle[[#This Row],[Spalte1]]*Ergebnistabelle[[#This Row],[Spalte2]]","v":1},1,false,false,true,false,false,false,false,false,false,false,false,false,false,false,false,false,false,false,true,false,false,false,false,false,false,false,false,false,false,false,false,false,false,false,false,false,false,false,false,false,false,false,false,false,false,"2020-01-01",{"$f":"IF(Ergebnistabelle[[#This Row],[Spalte50]]>=Meldungen!$J$5,\"+\",\"\")","v":""}]
["203-021",null,null,"2xBw ",3003,{"$nulls":3},5,1957,null,{"$f":"IF(Ergebnistabelle[[#This Row],[Signatur]]<>\"\",\"Vorschau\",\"\")","v":""},{"$f":"IF(IFERROR(MATCH(Ergebnistabelle[[#This Row],[Bild-ID]],Merkliste!B:B,0),\"\")<>\"\",CHAR(252),\"\")","v":""},{"$f":"IF(Ergebnistabelle[[#This Row],[Bild-ID]]<>\"\",\"Merken\",\"\")","v":"Merken"},true,true,{"$f":"Ergebnistabelle[[#This Row],[Spalte1]]*Ergebnistabelle[[#This Row],[Spalte2]]","v":1},1,false,false,true,false,false,false,false,false,false,false,false,false,false,false,false,false,false,false,true,false,false,false,false,false,false,false,false,false,false,false,false,false,false,false,false,false,false,false,false,false,false,false,false,false,false,"2020-01-01",{"$f":"IF(Ergebnistabelle[[#This Row],[Spalte50]]>=Meldungen!$J$5,\"+\",\"\")","v":""}]
["203-022",null,null,"4xTw (Typ F) ",453,"157","Doppelstock Tw",{"$nulls":3},"Werkfoto",{"$f":"IF(Ergebnistabelle[[#This Row],[Signatur]]<>\"\",\"Vorschau\",\"\")","v":""},{"$f":"IF(IFERROR(MATCH(Ergebnistabelle[[#This Row],[Bild-ID]],Merkliste!B:B,0),\"\")<>\"\",CHAR(252),\"\")","v":""},{"$f":"IF(Ergebnistabelle[[#This Row],[Bild-ID]]<>\"\",\"Merken\",\"\")","v":"Merken"},true,true,{"$f":"Ergebnistabelle[[#This Row],[Spalte1]]*Ergebnistabelle[[#This Row],[Spalte2]]","v":1},1,false,true,false,false,false,false,false,false,false,true,false,false,false,false,false,false,false,false,false,false,false,false,false,false,false,false,false,false,false,false,false,false,false,false,false,false,false,false,false,false,false,false,false,false,false,"2020-01-01",{"$f":"IF(Ergebnistabelle[[#This Row],[Spalte50]]>=Meldungen!$J$5,\"+\",\"\")","v":""}]
["203-023",null,"Haltstelle Stadtpark","2xBw \n2xTw ","1843 \n6105"," \n ","Johannesgasse/Lothringer Straße",10,5,1977,"Dr. Heinrich Dillmann",{"$f":"IF(Ergebnistabelle[[#This Row],[Signatur]]<>\"\",\"Vorschau\",\"\")","v":""},{"$f":"IF(IFERROR(MATCH(Ergebnistabelle[[#This Row],[Bild-ID]],Merkliste!B:B,0),\"\")<>\"\",CHAR(252),\"\")","v":""},{"$f":"IF(Ergebnistabelle[[#This Row],[Bild-ID]]<>\"\",\"Merken\",\"\")","v":"Merken"},true,true,{"$f":"Ergebnistabelle[[#This Row],[Spalte1]]*Ergebnistabelle[[#This Row],[Spalte2]]","v":1},1,false,true,true,false,false,false,false,false,true,false,false,false,false,false,false,false,false,false,true,false,false,false,false,false,false,false,false,false,false,false,false,false,false,false,false,false,false,false,false,false,false,false,false,false,false,"2020-01-01",{"$f":"IF(Ergebnistabelle[[#This Row],[Spalte50]]>=Meldungen!$J$5,\"+\",\"\")","v":""}]
["203-024",null,null,"2xBw (Typ s) ",1619,"6",{"$nulls":5},{"$f":"IF(Ergebnistabelle[[#This Row],[Signatur]]<>\"\",\"Vorschau\",\"\")","v":""},{"$f":"IF(IFERROR(MATCH(Ergebnistabelle[[#This Row],[Bild-ID]],Merkliste!B:B,0),\"\")<>\"\",CHAR(252),\"\")","v":""},{"$f":"IF(Ergebnistabelle[[#This Row],[Bild-ID]]<>\"\",\"Merken\",\"\")","v":"Merken"},{"$f":"IF(IFERROR(MATCH(R29,$BL$3:$UP$3,0),FALSE)<>FALSE,TRUE)","v":true},{"$f":"OR(S29=S$3, W29=W$3, AA29=AA$3, AB29=AB$3, AC29=AC$3, AD29=AD$3, AE29=AE$3, AF29=AF$3, AG29=AG$3, AH29=AH$3, AI29=AI$3, AJ29=AJ$3, AK29=AK$3, AL29=AL$3, AM29=AM$3, AN29=AN$3, AO29=AO$3, AP29=AP$3, AQ29=AQ$3, AR29=AR$3, AS29=AS$3, AT29=AT$3, AU29=AU$3, AV29=AV$3, AW29=AW$3, AX29=AX$3, AY29=AY$3, AZ29=AZ$3, BA29=BA$3, BB29=BB$3, BC29=BC$3, BD29=BD$3, BE29=BE$3, BF29=BF$3, BG29=BG$3, BH29=BH$3, BI29=BI$3, BJ29=BJ$3, BK29=BK$3)","v":true},{"$f":"Ergebnistabelle[[#This Row],[Spalte1]]*Ergebnistabelle[[#This Row],[Spalte2]]","v":1},1,false,false,true,false,false,false,false,false,false,false,false,false,false,false,false,false,false,false,true,false,false,false,false,false,false,false,false,false,false,false,false,false,false,false,false,false,false,false,false,false,false,false,false,false,false,"2020-01-01",{"$f":"IF(Ergebnistabelle[[#This Row],[Spalte50]]>=Meldungen!$J$5,\"+\",\"\")","v":""}]
["203-025",null,"Kreuzung Landgerichts- Universitätsstraße","2xTw \n2xBw ","571 \n ","E2 \nE2",null,6,10,1974,"Dr. Heinrich Dillmann",{"$f":"IF(Ergebnistabelle[[#This Row],[Signatur]]<>\"\",\"Vorschau\",\"\")","v":""},{"$f":"IF(IFERROR(MATCH(Ergebnistabelle[[#This Row],[Bild-ID]],Merkliste!B:B,0),\"\")<>\"\",CHAR(252),\"\")","v":""},{"$f":"IF(Ergebnistabelle[[#This Row],[Bild-ID]]<>\"\",\"Merken\",\"\")","v":"Merken"},true,true,{"$f":"Ergebnistabelle[[#This Row],[Spalte1]]*Ergebnistabelle[[#This Row],[Spalte2]]","v":1},1,false,true,true,false,false,false,false,false,true,false,false,false,false,false,false,false,false,false,true,false,false,false,false,false,false,false,false,false,false,false,false,false,false,false,false,false,false,false,false,false,false,false,false,false,false,"2020-01-01",{"$f":"IF(Ergebnistabelle[[#This Row],[Spalte50]]>=Meldungen!$J$5,\"+\",\"\")","v":""}]
["203-026",null,null,"2xTw \n2xBw ","2485 \n5294","G \nG",null,null,8,1960,null,{"$f":"IF(Ergebnistabelle[[#This Row],[Signatur]]<>\"\",\"Vorschau\",\"\")","v":""},{"$f":"IF(IFERROR(MATCH(Ergebnistabelle[[#This Row],[Bild-ID]],Merkliste!B:B,0),\"\")<>\"\",CHAR(252),\"\")","v":""},{"$f":"IF(Ergebnistabelle[[#This Row],[Bild-ID]]<>\"\",\"Merken\",\"\")","v":"Merken"},true,true,{"$f":"Ergebnistabelle[[#This Row],[Spalte1]]*Ergebnistabelle[[#This Row],[Spalte2]]","v":1},1,false,false,false,false,false,false,false,true,false,false,false,false,false,false,false,false,false,false,false,false,false,false,false,false,false,false,false,false,false,false,false,false,false,false,false,false,false,false,false,false,false,false,true,false,false,"2020-01-01",{"$f":"IF(Ergebnistabelle[[#This Row],[Spalte50]]>=Meldungen!$J$5,\"+\",\"\")","v":""}]
["203-027",null,null,"2xTw \n2xBw ","2118 \n ","10 \n10",{"$nulls":5},{"$f":"IF(Ergebnistabelle[[#This Row],[Signatur]]<>\"\",\"Vorschau\",\"\")","v":""},{"$f":"IF(IFERROR(MATCH(Ergebnistabelle[[#This Row],[Bild-ID]],Merkliste!B:B,0),\"\")<>\"\",CHAR(252),\"\")","v":""},{"$f":"IF(Ergebnistabelle[[#This Row],[Bild-ID]]<>\"\",\"Merken\",\"\")","v":"Merken"},true,true,{"$f":"Ergebnistabelle[[#This Row],[Spalte1]]*Ergebnistabelle[[#This Row],[Spalte2]]","v":1},1,false,true,true,false,false,false,false,false,true,false,false,false,false,false,false,false,false,false,true,false,false,false,false,false,false,false,false,false,false,false,false,false,false,false,false,false,false,false,false,false,false,false,false,false,false,"2020-01-01",{"$f":"IF(Ergebnistabelle[[#This Row],[Spalte50]]>=Meldungen!$J$5,\"+\",\"\")","v":""}]
["203-028",null,"Maurer Berg bei Schwarzwaldgasse","2xTw (Typ K) ",2362,"360",{"$nulls":5},{"$f":"IF(Ergebnistabelle[[#This Row],[Signatur]]<>\"\",\"Vorschau\",\"\")","v":""},{"$f":"IF(IFERROR(MATCH(Ergebnistabelle[[#This Row],[Bild-ID]],Merkliste!B:B,0),\"\")<>\"\",CHAR(252),\"\")","v":""},{"$f":"IF(Ergebnistabelle[[#This Row],[Bild-ID]]<>\"\",\"Merken\",\"\")","v":"Merken"},true,true,{"$f":"Ergebnistabelle[[#This Row],[Spalte1]]*Ergebnistabelle[[#This Row],[Spalte2]]","v":1},1,false,true,false,false,false,false,false,false,true,false,false,false,false,false,false,false,false,false,false,false,false,false,false,false,false,false,false,false,false,false,false,false,false,false,false,false,false,false,false,false,false,false,false,false,false,"2020-01-01",{"$f":"IF(Ergebnistabelle[[#This Row],[Spalte50]]>=Meldungen!$J$5,\"+\",\"\")","v":""}]
["203-029",null,"Neubaugürtel bei Westbahnhof","2xTw (Typ G) ",586,"51",{"$nulls":5},{"$f":"IF(Ergebnistabelle[[#This Row],[Signatur]]<>\"\",\"Vorschau\",\"\")","v":""},{"$f":"IF(IFERROR(MATCH(Ergebnistabelle[[#This Row],[Bild-ID]],Merkliste!B:B,0),\"\")<>\"\",CHAR(252),\"\")","v":""},{"$f":"IF(Ergebnistabelle[[#This Row],[Bild-ID]]<>\"\",\"Merken\",\"\")","v":"Merken"},true,true,{"$f":"Ergebnistabelle[[#This Row],[Spalte1]]*Ergebnistabelle[[#This Row],[Spalte2]]","v":1},1,false,true,false,false,false,false,false,false,true,false,false,false,false,false,false,false,false,false,false,false,false,false,false,false,false,false,false,false,false,false,false,false,false,false,false,false,false,false,false,false,false,false,false,false,false,"2020-01-01",{"$f":"IF(Ergebnistabelle[[#This Row],[Spalte50]]>=Meldungen!$J$5,\"+\",\"\")","v":""}]
["203-030",null,null,"ArbTw ",6051,null,"Schienenschleifwagen",21,8,1969,"Horst Winnig",{"$f":"IF(Ergebnistabelle[[#This Row],[Signatur]]<>\"\",\"Vorschau\",\"\")","v":""},{"$f":"IF(IFERROR(MATCH(Ergebnistabelle[[#This Row],[Bild-ID]],Merkliste!B:B,0),\"\")<>\"\",CHAR(252),\"\")","v":""},{"$f":"IF(Ergebnistabelle[[#This Row],[Bild-ID]]<>\"\",\"Merken\",\"\")","v":"Merken"},true,true,{"$f":"Ergebnistabelle[[#This Row],[Spalte1]]*Ergebnistabelle[[#This Row],[Spalte2]]","v":1},1,false,false,false,true,false,false,false,false,false,false,false,false,false,false,false,false,false,false,false,false,false,false,false,false,false,false,false,false,true,false,false,false,false,false,false,false,false,false,false,false,false,false,false,false,false,"2020-01-01",{"$f":"IF(Ergebnistabelle[[#This Row],[Spalte50]]>=Meldungen!$J$5,\"+\",\"\")","v":""}]
["203-031",null,"Heiligenstadt","Tw ",6351,null,"Stadtbahn",null,null,1969,"Walter Steinberger",{"$f":"IF(Ergebnistabelle[[#This Row],[Signatur]]<>\"\",\"Vorschau\",\"\")","v":""},{"$f":"IF(IFERROR(MATCH(Ergebnistabelle[[#This Row],[Bild-ID]],Merkliste!B:B,0),\"\")<>\"\",CHAR(252),\"\")","v":""},{"$f":"IF(Ergebnistabelle[[#This Row],[Bild-ID]]<>\"\",\"Merken\",\"\")","v":"Merken"},true,true,{"$f":"Ergebnistabelle[[#This Row],[Spalte1]]*Ergebnistabelle[[#This Row],[Spalte2]]","v":1},1,false,false,false,false,false,false,false,true,false,false,false,false,false,false,false,false,false,false,false,false,false,false,false,false,false,false,false,false,false,false,false,false,false,false,false,false,false,false,false,false,false,false,true,false,false,"2020-01-01",{"$f":"IF(Ergebnistabelle[[#This Row],[Spalte50]]>=Meldungen!$J$5,\"+\",\"\")","v":""}]
["203-032",null,null,"ArbTw ",4001,{"$nulls":4},1908,null,{"$f":"IF(Ergebnistabelle[[#This Row],[Signatur]]<>\"\",\"Vorschau\",\"\")","v":""},{"$f":"IF(IFERROR(MATCH(Ergebnistabelle[[#This Row],[Bild-ID]],Merkliste!B:B,0),\"\")<>\"\",CHAR(252),\"\")","v":""},{"$f":"IF(Ergebnistabelle[[#This Row],[Bild-ID]]<>\"\",\"Merken\",\"\")","v":"Merken"},true,true,{"$f":"Ergebnistabelle[[#This Row],[Spalte1]]*Ergebnistabelle[[#This Row],[Spalte2]]","v":1},1,false,false,false,true,false,false,false,false,false,false,false,false,false,false,false,false,false,false,false,false,false,false,false,false,false,false,false,false,true,false,false,false,false,false,false,false,false,false,false,false,false,false,false,false,false,"2020-01-01",{"$f":"IF(Ergebnistabelle[[#This Row],[Spalte50]]>=Meldungen!$J$5,\"+\",\"\")","v":""}]
["203-033",null,null,"ArbTw ",6113,null,"Kranmotorwagen",21,8,1969,"Horst Winnig",{"$f":"IF(Ergebnistabelle[[#This Row],[Signatur]]<>\"\",\"Vorschau\",\"\")","v":""},{"$f":"IF(IFERROR(MATCH(Ergebnistabelle[[#This Row],[Bild-ID]],Merkliste!B:B,0),\"\")<>\"\",CHAR(252),\"\")","v":""},{"$f":"IF(Ergebnistabelle[[#This Row],[Bild-ID]]<>\"\",\"Merken\",\"\")","v":"Merken"},true,true,{"$f":"Ergebnistabelle[[#This Row],[Spalte1]]*Ergebnistabelle[[#This Row],[Spalte2]]","v":1},1,false,false,false,true,false,false,false,false,false,false,false,false,false,false,false,false,false,false,false,false,false,false,false,false,false,false,false,false,true,false,false,false,false,false,false,false,false,false,false,false,false,false,false,false,false,"2020-01-01",{"$f":"IF(Ergebnistabelle[[#This Row],[Spalte50]]>=Meldungen!$J$5,\"+\",\"\")","v":""}]
["203-034",null,null,"2xBw ",5312,{"$nulls":4},1973,"Peter Wagner",{"$f":"IF(Ergebnistabelle[[#This Row],[Signatur]]<>\"\",\"Vorschau\",\"\")","v":""},{"$f":"IF(IFERROR(MATCH(Ergebnistabelle[[#This Row],[Bild-ID]],Merkliste!B:B,0),\"\")<>\"\",CHAR(252),\"\")","v":""},{"$f":"IF(Ergebnistabelle[[#This Row],[Bild-ID]]<>\"\",\"Merken\",\"\")","v":"Merken"},true,true,{"$f":"Ergebnistabelle[[#This Row],[Spalte1]]*Ergebnistabelle[[#This Row],[Spalte2]]","v":1},1,false,false,true,false,false,false,false,false,false,false,false,false,false,false,false,false,false,false,true,false,false,false,false,false,false,false,false,false,false,false,false,false,false,false,false,false,false,false,false,false,false,false,false,false,false,"2020-01-01",{"$f":"IF(Ergebnistabelle[[#This Row],[Spalte50]]>=Meldungen!$J$5,\"+\",\"\")","v":""}]
["203-035",null,null,"2xBw ",2093,{"$nulls":5},"Werkfoto",{"$f":"IF(Ergebnistabelle[[#This Row],[Signatur]]<>\"\",\"Vorschau\",\"\")","v":""},{"$f":"IF(IFERROR(MATCH(Ergebnistabelle[[#This Row],[Bild-ID]],Merkliste!B:B,0),\"\")<>\"\",CHAR(252),\"\")","v":""},{"$f":"IF(Ergebnistabelle[[#This Row],[Bild-ID]]<>\"\",\"Merken\",\"\")","v":"Merken"},true,true,{"$f":"Ergebnistabelle[[#This Row],[Spalte1]]*Ergebnistabelle[[#This Row],[Spalte2]]","v":1},1,false,false,true,false,false,false,false,false,false,false,false,false,false,false,false,false,false,false,true,false,false,false,false,false,false,false,false,false,false,false,false,false,false,false,false,false,false,false,false,false,false,false,false,false,false,"2020-01-01",{"$f":"IF(Ergebnistabelle[[#This Row],[Spalte50]]>=Meldungen!$J$5,\"+\",\"\")","v":""}]
["203-036",null,null,"4xTw ",300,{"$nulls":5},"Werkfoto",{"$f":"IF(Ergebnistabelle[[#This Row],[Signatur]]<>\"\",\"Vorschau\",\"\")","v":""},{"$f":"IF(IFERROR(MATCH(Ergebnistabelle[[#This Row],[Bild-ID]],Merkliste!B:B,0),\"\")<>\"\",CHAR(252),\"\")","v":""},{"$f":"IF(Ergebnistabelle[[#This Row],[Bild-ID]]<>\"\",\"Merken\",\"\")","v":"Merken"},true,true,{"$f":"Ergebnistabelle[[#This Row],[Spalte1]]*Ergebnistabelle[[#This Row],[Spalte2]]","v":1},1,false,true,false,false,false,false,false,false,false,true,false,false,false,false,false,false,false,false,false,false,false,false,false,false,false,false,false,false,false,false,false,false,false,false,false,false,false,false,false,false,false,false,false,false,false,"2020-01-01",{"$f":"IF(Ergebnistabelle[[#This Row],[Spalte50]]>=Meldungen!$J$5,\"+\",\"\")","v":""}]
["203-037",null,"Rudolfsheim, Bahnhof","2xTw (Typ D) ",308,{"$nulls":4},1905,null,{"$f":"IF(Ergebnistabelle[[#This Row],[Signatur]]<>\"\",\"Vorschau\",\"\")","v":""},{"$f":"IF(IFERROR(MATCH(Ergebnistabelle[[#This Row],[Bild-ID]],Merkliste!B:B,0),\"\")<>\"\",CHAR(252),\"\")","v":""},{"$f":"IF(Ergebnistabelle[[#This Row],[Bild-ID]]<>\"\",\"Merken\",\"\")","v":"Merken"},true,true,{"$f":"Ergebnistabelle[[#This Row],[Spalte1]]*Ergebnistabelle[[#This Row],[Spalte2]]","v":1},1,false,true,false,false,false,false,false,false,true,false,false,false,false,false,false,false,false,false,false,false,false,false,false,false,false,false,false,false,false,false,false,false,false,false,false,false,false,false,false,false,false,false,false,false,false,"2020-01-01",{"$f":"IF(Ergebnistabelle[[#This Row],[Spalte50]]>=Meldungen!$J$5,\"+\",\"\")","v":""}]
["203-038",null,"Alte Hauptwerkstätte","2xTw (Typ A) ",8,{"$nulls":4},1904,null,{"$f":"IF(Ergebnistabelle[[#This Row],[Signatur]]<>\"\",\"Vorschau\",\"\")","v":""},{"$f":"IF(IFERROR(MATCH(Ergebnistabelle[[#This Row],[Bild-ID]],Merkliste!B:B,0),\"\")<>\"\",CHAR(252),\"\")","v":""},{"$f":"IF(Ergebnistabelle[[#This Row],[Bild-ID]]<>\"\",\"Merken\",\"\")","v":"Merken"},true,true,{"$f":"Ergebnistabelle[[#This Row],[Spalte1]]*Ergebnistabelle[[#This Row],[Spalte2]]","v":1},1,false,true,false,false,false,false,false,false,true,false,false,false,false,false,false,false,false,false,false,false,false,false,false,false,false,false,false,false,false,false,false,false,false,false,false,false,false,false,false,false,false,false,false,false,false,"2020-01-01",{"$f":"IF(Ergebnistabelle[[#This Row],[Spalte50]]>=Meldungen!$J$5,\"+\",\"\")","v":""}]
["203-039",null,"Haltestelle Friedensbrücke","U-Bahn \n2xTw "," \n2879"," \n ",null,6,7,1978,"Dr. Heinrich Dillmann",{"$f":"IF(Ergebnistabelle[[#This Row],[Signatur]]<>\"\",\"Vorschau\",\"\")","v":""},{"$f":"IF(IFERROR(MATCH(Ergebnistabelle[[#This Row],[Bild-ID]],Merkliste!B:B,0),\"\")<>\"\",CHAR(252),\"\")","v":""},{"$f":"IF(Ergebnistabelle[[#This Row],[Bild-ID]]<>\"\",\"Merken\",\"\")","v":"Merken"},true,true,{"$f":"Ergebnistabelle[[#This Row],[Spalte1]]*Ergebnistabelle[[#This Row],[Spalte2]]","v":1},1,false,true,false,false,false,false,false,true,true,false,false,false,false,false,false,false,false,false,false,false,false,false,false,false,false,false,false,false,false,false,false,false,false,false,false,false,false,false,false,false,false,false,false,true,false,"2020-01-01",{"$f":"IF(Ergebnistabelle[[#This Row],[Spalte50]]>=Meldungen!$J$5,\"+\",\"\")","v":""}]
["203-040",null,"Alte Hauptwerkstätte","2xBw (Typ w) ",1937,{"$nulls":4},1904,null,{"$f":"IF(Ergebnistabelle[[#This Row],[Signatur]]<>\"\",\"Vorschau\",\"\")","v":""},{"$f":"IF(IFERROR(MATCH(Ergebnistabelle[[#This Row],[Bild-ID]],Merkliste!B:B,0),\"\")<>\"\",CHAR(252),\"\")","v":""},{"$f":"IF(Ergebnistabelle[[#This Row],[Bild-ID]]<>\"\",\"Merken\",\"\")","v":"Merken"},true,true,{"$f":"Ergebnistabelle[[#This Row],[Spalte1]]*Ergebnistabelle[[#This Row],[Spalte2]]","v":1},1,false,false,true,false,false,false,false,false,false,false,false,false,false,false,false,false,false,false,true,false,false,false,false,false,false,false,false,false,false,false,false,false,false,false,false,false,false,false,false,false,false,false,false,false,false,"2020-01-01",{"$f":"IF(Ergebnistabelle[[#This Row],[Spalte50]]>=Meldungen!$J$5,\"+\",\"\")","v":""}]
["203-041",null,null,"2xTw \n2xBw \n2xBw ","2701 \n  \n ","18G \n18G \n18G","Gürtelbahnzug",{"$nulls":4},{"$f":"IF(Ergebnistabelle[[#This Row],[Signatur]]<>\"\",\"Vorschau\",\"\")","v":""},{"$f":"IF(IFERROR(MATCH(Ergebnistabelle[[#This Row],[Bild-ID]],Merkliste!B:B,0),\"\")<>\"\",CHAR(252),\"\")","v":""},{"$f":"IF(Ergebnistabelle[[#This Row],[Bild-ID]]<>\"\",\"Merken\",\"\")","v":"Merken"},true,true,{"$f":"Ergebnistabelle[[#This Row],[Spalte1]]*Ergebnistabelle[[#This Row],[Spalte2]]","v":1},1,false,true,true,false,false,false,false,false,true,false,false,false,false,false,false,false,false,false,true,false,false,false,false,false,false,false,false,false,false,false,false,false,false,false,false,false,false,false,false,false,false,false,false,false,false,"2020-01-01",{"$f":"IF(Ergebnistabelle[[#This Row],[Spalte50]]>=Meldungen!$J$5,\"+\",\"\")","v":""}]
["203-042",null,null,"2xBw \n2xTw "," \n973"," \n ",{"$nulls":5},{"$f":"IF(Ergebnistabelle[[#This Row],[Signatur]]<>\"\",\"Vorschau\",\"\")","v":""},{"$f":"IF(IFERROR(MATCH(Ergebnistabelle[[#This Row],[Bild-ID]],Merkliste!B:B,0),\"\")<>\"\",CHAR(252),\"\")","v":""},{"$f":"IF(Ergebnistabelle[[#This Row],[Bild-ID]]<>\"\",\"Merken\",\"\")","v":"Merken"},true,true,{"$f":"Ergebnistabelle[[#This Row],[Spalte1]]*Ergebnistabelle[[#This Row],[Spalte2]]","v":1},1,false,true,true,false,false,false,false,false,true,false,false,false,false,false,false,false,false,false,true,false,false,false,false,false,false,false,false,false,false,false,false,false,false,false,false,false,false,false,false,false,false,false,false,false,false,"2020-01-01",{"$f":"IF(Ergebnistabelle[[#This Row],[Spalte50]]>=Meldungen!$J$5,\"+\",\"\")","v":""}]
["203-043",null,null,"2xBw \n2xTw "," \n737","C \nc",{"$nulls":4},"Friedrich Grünwald",{"$f":"IF(Ergebnistabelle[[#This Row],[Signatur]]<>\"\",\"Vorschau\",\"\")","v":""},{"$f":"IF(IFERROR(MATCH(Ergebnistabelle[[#This Row],[Bild-ID]],Merkliste!B:B,0),\"\")<>\"\",CHAR(252),\"\")","v":""},{"$f":"IF(Ergebnistabelle[[#This Row],[Bild-ID]]<>\"\",\"Merken\",\"\")","v":"Merken"},true,true,{"$f":"Ergebnistabelle[[#This Row],[Spalte1]]*Ergebnistabelle[[#This Row],[Spalte2]]","v":1},1,false,true,true,false,false,false,false,false,true,false,false,false,false,false,false,false,false,false,true,false,false,false,false,false,false,false,false,false,false,false,false,false,false,false,false,false,false,false,false,false,false,false,false,false,false,"2020-01-01",{"$f":"IF(Ergebnistabelle[[#This Row],[Spalte50]]>=Meldungen!$J$5,\"+\",\"\")","v":""}]
["203-044",null,"Praterstern","2xBw (Typ m2) \n2xTw (Typ M) \n2xBw (Typ m2) "," \n  \n ","B \nB \nB",{"$nulls":3},1964,"Emil Konrad",{"$f":"IF(Ergebnistabelle[[#This Row],[Signatur]]<>\"\",\"Vorschau\",\"\")","v":""},{"$f":"IF(IFERROR(MATCH(Ergebnistabelle[[#This Row],[Bild-ID]],Merkliste!B:B,0),\"\")<>\"\",CHAR(252),\"\")","v":""},{"$f":"IF(Ergebnistabelle[[#This Row],[Bild-ID]]<>\"\",\"Merken\",\"\")","v":"Merken"},true,true,{"$f":"Ergebnistabelle[[#This Row],[Spalte1]]*Ergebnistabelle[[#This Row],[Spalte2]]","v":1},1,false,true,true,false,false,false,false,false,true,false,false,false,false,false,false,false,false,false,true,false,false,false,false,false,false,false,false,false,false,false,false,false,false,false,false,false,false,false,false,false,false,false,false,false,false,"2020-01-01",{"$f":"IF(Ergebnistabelle[[#This Row],[Spalte50]]>=Meldungen!$J$5,\"+\",\"\")","v":""}]
["203-045",null,null,"Bus ",null,"4","Türen noch mit Linkseinstieg",{"$nulls":4},{"$f":"IF(Ergebnistabelle[[#This Row],[Signatur]]<>\"\",\"Vorschau\",\"\")","v":""},{"$f":"IF(IFERROR(MATCH(Ergebnistabelle[[#This Row],[Bild-ID]],Merkliste!B:B,0),\"\")<>\"\",CHAR(252),\"\")","v":""},{"$f":"IF(Ergebnistabelle[[#This Row],[Bild-ID]]<>\"\",\"Merken\",\"\")","v":"Merken"},true,true,{"$f":"Ergebnistabelle[[#This Row],[Spalte1]]*Ergebnistabelle[[#This Row],[Spalte2]]","v":1},1,false,false,false,false,false,false,true,false,false,false,false,false,false,false,false,false,false,false,false,false,false,false,false,false,false,false,false,false,false,false,false,false,false,false,false,false,false,true,false,false,false,false,false,false,false,"2020-01-01",{"$f":"IF(Ergebnistabelle[[#This Row],[Spalte50]]>=Meldungen!$J$5,\"+\",\"\")","v":""}]
["203-046",null,null,"2xBw ",1561,"13",{"$nulls":5},{"$f":"IF(Ergebnistabelle[[#This Row],[Signatur]]<>\"\",\"Vorschau\",\"\")","v":""},{"$f":"IF(IFERROR(MATCH(Ergebnistabelle[[#This Row],[Bild-ID]],Merkliste!B:B,0),\"\")<>\"\",CHAR(252),\"\")","v":""},{"$f":"IF(Ergebnistabelle[[#This Row],[Bild-ID]]<>\"\",\"Merken\",\"\")","v":"Merken"},true,true,{"$f":"Ergebnistabelle[[#This Row],[Spalte1]]*Ergebnistabelle[[#This Row],[Spalte2]]","v":1},1,false,false,true,false,false,false,false,false,false,false,false,false,false,false,false,false,false,false,true,false,false,false,false,false,false,false,false,false,false,false,false,false,false,false,false,false,false,false,false,false,false,false,false,false,false,"2020-01-01",{"$f":"IF(Ergebnistabelle[[#This Row],[Spalte50]]>=Meldungen!$J$5,\"+\",\"\")","v":""}]
["203-047",null,null,"2xBw ",1592,"13",{"$nulls":5},{"$f":"IF(Ergebnistabelle[[#This Row],[Signatur]]<>\"\",\"Vorschau\",\"\")","v":""},{"$f":"IF(IFERROR(MATCH(Ergebnistabelle[[#This Row],[Bild-ID]],Merkliste!B:B,0),\"\")<>\"\",CHAR(252),\"\")","v":""},{"$f":"IF(Ergebnistabelle[[#This Row],[Bild-ID]]<>\"\",\"Merken\",\"\")","v":"Merken"},true,true,{"$f":"Ergebnistabelle[[#This Row],[Spalte1]]*Ergebnistabelle[[#This Row],[Spalte2]]","v":1},1,false,false,true,false,false,false,false,false,false,false,false,false,false,false,false,false,false,false,true,false,false,false,false,false,false,false,false,false,false,false,false,false,false,false,false,false,false,false,false,false,false,false,false,false,false,"2020-01-01",{"$f":"IF(Ergebnistabelle[[#This Row],[Spalte50]]>=Meldungen!$J$5,\"+\",\"\")","v":""}]
["203-048",null,null,"4xTw ",4207,"17",{"$nulls":4},"Harald Herrmann",{"$f":"IF(Ergebnistabelle[[#This Row],[Signatur]]<>\"\",\"Vorschau\",\"\")","v":""},{"$f":"IF(IFERROR(MATCH(Ergebnistabelle[[#This Row],[Bild-ID]],Merkliste!B:B,0),\"\")<>\"\",CHAR(252),\"\")","v":""},{"$f":"IF(Ergebnistabelle[[#This Row],[Bild-ID]]<>\"\",\"Merken\",\"\")","v":"Merken"},true,true,{"$f":"Ergebnistabelle[[#This Row],[Spalte1]]*Ergebnistabelle[[#This Row],[Spalte2]]","v":1},1,false,true,false,false,false,false,false,false,false,true,false,false,false,false,false,false,false,false,false,false,false,false,false,false,false,false,false,false,false,false,false,false,false,false,false,false,false,false,false,false,false,false,false,false,false,"2020-01-01",{"$f":"IF(Ergebnistabelle[[#This Row],[Spalte50]]>=Meldungen!$J$5,\"+\",\"\")","v":""}]
["203-049",null,null,"2xTw \n2xBw \n2xTw \n2xBw ","2958 \n  \n2954 \n "," \n  \n  \n ","Stadtbahn, Sonderzug",null,8,1969,"Walter Steinberger",{"$f":"IF(Ergebnistabelle[[#This Row],[Signatur]]<>\"\",\"Vorschau\",\"\")","v":""},{"$f":"IF(IFERROR(MATCH(Ergebnistabelle[[#This Row],[Bild-ID]],Merkliste!B:B,0),\"\")<>\"\",CHAR(252),\"\")","v":""},{"$f":"IF(Ergebnistabelle[[#This Row],[Bild-ID]]<>\"\",\"Merken\",\"\")","v":"Merken"},true,true,{"$f":"Ergebnistabelle[[#This Row],[Spalte1]]*Ergebnistabelle[[#This Row],[Spalte2]]","v":1},3,false,false,false,false,false,false,false,true,false,false,false,false,false,false,false,false,false,false,false,false,false,false,false,false,false,false,false,false,false,false,false,false,false,false,false,false,false,false,false,false,false,false,true,false,false,"2020-01-01",{"$f":"IF(Ergebnistabelle[[#This Row],[Spalte50]]>=Meldungen!$J$5,\"+\",\"\")","v":""}]
["203-050",null,"Ring, Oper","2xTw (Typ G) ",587,{"$nulls":4},1938,"Emil Konrad",{"$f":"IF(Ergebnistabelle[[#This Row],[Signatur]]<>\"\",\"Vorschau\",\"\")","v":""},{"$f":"IF(IFERROR(MATCH(Ergebnistabelle[[#This Row],[Bild-ID]],Merkliste!B:B,0),\"\")<>\"\",CHAR(252),\"\")","v":""},{"$f":"IF(Ergebnistabelle[[#This Row],[Bild-ID]]<>\"\",\"Merken\",\"\")","v":"Merken"},true,true,{"$f":"Ergebnistabelle[[#This Row],[Spalte1]]*Ergebnistabelle[[#This Row],[Spalte2]]","v":1},1,false,true,false,false,false,false,false,false,true,false,false,false,false,false,false,false,false,false,false,false,false,false,false,false,false,false,false,false,false,false,false,false,false,false,false,false,false,false,false,false,false,false,false,false,false,"2020-01-01",{"$f":"IF(Ergebnistabelle[[#This Row],[Spalte50]]>=Meldungen!$J$5,\"+\",\"\")","v":""}]
["203-051",null,"Ring, Oper","2xTw (Typ G2) ",2082,"J",{"$nulls":4},"Emil Konrad",{"$f":"IF(Ergebnistabelle[[#This Row],[Signatur]]<>\"\",\"Vorschau\",\"\")","v":""},{"$f":"IF(IFERROR(MATCH(Ergebnistabelle[[#This Row],[Bild-ID]],Merkliste!B:B,0),\"\")<>\"\",CHAR(252),\"\")","v":""},{"$f":"IF(Ergebnistabelle[[#This Row],[Bild-ID]]<>\"\",\"Merken\",\"\")","v":"Merken"},true,true,{"$f":"Ergebnistabelle[[#This Row],[Spalte1]]*Ergebnistabelle[[#This Row],[Spalte2]]","v":1},1,false,true,false,false,false,false,false,false,true,false,false,false,false,false,false,false,false,false,false,false,false,false,false,false,false,false,false,false,false,false,false,false,false,false,false,false,false,false,false,false,false,false,false,false,false,"2020-01-01",{"$f":"IF(Ergebnistabelle[[#This Row],[Spalte50]]>=Meldungen!$J$5,\"+\",\"\")","v":""}]
["203-052",null,null,"2xTw ",50,{"$nulls":6},{"$f":"IF(Ergebnistabelle[[#This Row],[Signatur]]<>\"\",\"Vorschau\",\"\")","v":""},{"$f":"IF(IFERROR(MATCH(Ergebnistabelle[[#This Row],[Bild-ID]],Merkliste!B:B,0),\"\")<>\"\",CHAR(252),\"\")","v":""},{"$f":"IF(Ergebnistabelle[[#This Row],[Bild-ID]]<>\"\",\"Merken\",\"\")","v":"Merken"},true,true,{"$f":"Ergebnistabelle[[#This Row],[Spalte1]]*Ergebnistabelle[[#This Row],[Spalte2]]","v":1},1,false,true,false,false,false,false,false,false,true,false,false,false,false,false,false,false,false,false,false,false,false,false,false,false,false,false,false,false,false,false,false,false,false,false,false,false,false,false,false,false,false,false,false,false,false,"2020-01-01",{"$f":"IF(Ergebnistabelle[[#This Row],[Spalte50]]>=Meldungen!$J$5,\"+\",\"\")","v":""}]
["203-053",null,null,"2xTw ",10,{"$nulls":6},{"$f":"IF(Ergebnistabelle[[#This Row],[Signatur]]<>\"\",\"Vorschau\",\"\")","v":""},{"$f":"IF(IFERROR(MATCH(Ergebnistabelle[[#This Row],[Bild-ID]],Merkliste!B:B,0),\"\")<>\"\",CHAR(252),\"\")","v":""},{"$f":"IF(Ergebnistabelle[[#This Row],[Bild-ID]]<>\"\",\"Merken\",\"\")","v":"Merken"},true,true,{"$f":"Ergebnistabelle[[#This Row],[Spalte1]]*Ergebnistabelle[[#This Row],[Spalte2]]","v":1},1,false,true,false,false,false,false,false,false,true,false,false,false,false,false,false,false,false,false,false,false,false,false,false,false,false,false,false,false,false,false,false,false,false,false,false,false,false,false,false,false,false,false,false,false,false,"2020-01-01",{"$f":"IF(Ergebnistabelle[[#This Row],[Spalte50]]>=Meldungen!$J$5,\"+\",\"\")","v":""}]
["203-054",null,null,"Bus ",{"$nulls":6},"Emil Konrad",{"$f":"IF(Ergebnistabelle[[#This Row],[Signatur]]<>\"\",\"Vorschau\",\"\")","v":""},{"$f":"IF(IFERROR(MATCH(Ergebnistabelle[[#This Row],[Bild-ID]],Merkliste!B:B,0),\"\")<>\"\",CHAR(252),\"\")","v":""},{"$f":"IF(Ergebnistabelle[[#This Row],[Bild-ID]]<>\"\",\"Merken\",\"\")","v":"Merken"},true,true,{"$f":"Ergebnistabelle[[#This Row],[Spalte1]]*Ergebnistabelle[[#This Row],[Spalte2]]","v":1},1,false,false,false,false,false,false,true,false,false,false,false,false,false,false,false,false,false,false,false,false,false,false,false,false,false,false,false,false,false,false,false,false,false,false,false,false,false,true,false,false,false,false,false,false,false,"2020-01-01",{"$f":"IF(Ergebnistabelle[[#This Row],[Spalte50]]>=Meldungen!$J$5,\"+\",\"\")","v":""}]
["203-055",null,null,"2xBw ",1410,{"$nulls":6},{"$f":"IF(Ergebnistabelle[[#This Row],[Signatur]]<>\"\",\"Vorschau\",\"\")","v":""},{"$f":"IF(IFERROR(MATCH(Ergebnistabelle[[#This Row],[Bild-ID]],Merkliste!B:B,0),\"\")<>\"\",CHAR(252),\"\")","v":""},{"$f":"IF(Ergebnistabelle[[#This Row],[Bild-ID]]<>\"\",\"Merken\",\"\")","v":"Merken"},true,true,{"$f":"Ergebnistabelle[[#This Row],[Spalte1]]*Ergebnistabelle[[#This Row],[Spalte2]]","v":1},1,false,false,true,false,false,false,false,false,false,false,false,false,false,false,false,false,false,false,true,false,false,false,false,false,false,false,false,false,false,false,false,false,false,false,false,false,false,false,false,false,false,false,false,false,false,"2020-01-01",{"$f":"IF(Ergebnistabelle[[#This Row],[Spalte50]]>=Meldungen!$J$5,\"+\",\"\")","v":""}]
["203-056",null,null,"2xBw ",1210,"38",{"$nulls":5},{"$f":"IF(Ergebnistabelle[[#This Row],[Signatur]]<>\"\",\"Vorschau\",\"\")","v":""},{"$f":"IF(IFERROR(MATCH(Ergebnistabelle[[#This Row],[Bild-ID]],Merkliste!B:B,0),\"\")<>\"\",CHAR(252),\"\")","v":""},{"$f":"IF(Ergebnistabelle[[#This Row],[Bild-ID]]<>\"\",\"Merken\",\"\")","v":"Merken"},true,true,{"$f":"Ergebnistabelle[[#This Row],[Spalte1]]*Ergebnistabelle[[#This Row],[Spalte2]]","v":1},1,false,false,true,false,false,false,false,false,false,false,false,false,false,false,false,false,false,false,true,false,false,false,false,false,false,false,false,false,false,false,false,false,false,false,false,false,false,false,false,false,false,false,false,false,false,"2020-01-01",{"$f":"IF(Ergebnistabelle[[#This Row],[Spalte50]]>=Meldungen!$J$5,\"+\",\"\")","v":""}]
["203-057",null,null,"2xTw ",null,null,"Stadtbahn",{"$nulls":3},"Emil Konrad",{"$f":"IF(Ergebnistabelle[[#This Row],[Signatur]]<>\"\",\"Vorschau\",\"\")","v":""},{"$f":"IF(IFERROR(MATCH(Ergebnistabelle[[#This Row],[Bild-ID]],Merkliste!B:B,0),\"\")<>\"\",CHAR(252),\"\")","v":""},{"$f":"IF(Ergebnistabelle[[#This Row],[Bild-ID]]<>\"\",\"Merken\",\"\")","v":"Merken"},true,true,{"$f":"Ergebnistabelle[[#This Row],[Spalte1]]*Ergebnistabelle[[#This Row],[Spalte2]]","v":1},1,false,false,false,false,false,false,false,true,false,false,false,false,false,false,false,false,false,false,false,false,false,false,false,false,false,false,false,false,false,false,false,false,false,false,false,false,false,false,false,false,false,false,true,false,false,"2020-01-01",{"$f":"IF(Ergebnistabelle[[#This Row],[Spalte50]]>=Meldungen!$J$5,\"+\",\"\")","v":""}]
["203-058",null,null,"2xBw ",5116,"V",{"$nulls":4},"Emil Konrad",{"$f":"IF(Ergebnistabelle[[#This Row],[Signatur]]<>\"\",\"Vorschau\",\"\")","v":""},{"$f":"IF(IFERROR(MATCH(Ergebnistabelle[[#This Row],[Bild-ID]],Merkliste!B:B,0),\"\")<>\"\",CHAR(252),\"\")","v":""},{"$f":"IF(Ergebnistabelle[[#This Row],[Bild-ID]]<>\"\",\"Merken\",\"\")","v":"Merken"},true,true,{"$f":"Ergebnistabelle[[#This Row],[Spalte1]]*Ergebnistabelle[[#This Row],[Spalte2]]","v":1},1,false,false,true,false,false,false,false,false,false,false,false,false,false,false,false,false,false,false,true,false,false,false,false,false,false,false,false,false,false,false,false,false,false,false,false,false,false,false,false,false,false,false,false,false,false,"2020-01-01",{"$f":"IF(Ergebnistabelle[[#This Row],[Spalte50]]>=Meldungen!$J$5,\"+\",\"\")","v":""}]
["203-059",null,null,"2xTw ",2074,{"$nulls":5},"Emil Konrad",{"$f":"IF(Ergebnistabelle[[#This Row],[Signatur]]<>\"\",\"Vorschau\",\"\")","v":""},{"$f":"IF(IFERROR(MATCH(Ergebnistabelle[[#This Row],[Bild-ID]],Merkliste!B:B,0),\"\")<>\"\",CHAR(252),\"\")","v":""},{"$f":"IF(Ergebnistabelle[[#This Row],[Bild-ID]]<>\"\",\"Merken\",\"\")","v":"Merken"},true,true,{"$f":"Ergebnistabelle[[#This Row],[Spalte1]]*Ergebnistabelle[[#This Row],[Spalte2]]","v":1},1,false,true,false,false,false,false,false,false,true,false,false,false,false,false,false,false,false,false,false,false,false,false,false,false,false,false,false,false,false,false,false,false,false,false,false,false,false,false,false,false,false,false,false,false,false,"2020-01-01",{"$f":"IF(Ergebnistabelle[[#This Row],[Spalte50]]>=Meldungen!$J$5,\"+\",\"\")","v":""}]
["203-060",null,null,"2xBw ",3552,{"$nulls":5},"Emil Konrad",{"$f":"IF(Ergebnistabelle[[#This Row],[Signatur]]<>\"\",\"Vorschau\",\"\")","v":""},{"$f":"IF(IFERROR(MATCH(Ergebnistabelle[[#This Row],[Bild-ID]],Merkliste!B:B,0),\"\")<>\"\",CHAR(252),\"\")","v":""},{"$f":"IF(Ergebnistabelle[[#This Row],[Bild-ID]]<>\"\",\"Merken\",\"\")","v":"Merken"},true,true,{"$f":"Ergebnistabelle[[#This Row],[Spalte1]]*Ergebnistabelle[[#This Row],[Spalte2]]","v":1},1,false,false,true,false,false,false,false,false,false,false,false,false,false,false,false,false,false,false,true,false,false,false,false,false,false,false,false,false,false,false,false,false,false,false,false,false,false,false,false,false,false,false,false,false,false,"2020-01-01",{"$f":"IF(Ergebnistabelle[[#This Row],[Spalte50]]>=Meldungen!$J$5,\"+\",\"\")","v":""}]
["203-061",null,null,"2xBw ",1365,"38",{"$nulls":4},"Emil Konrad",{"$f":"IF(Ergebnistabelle[[#This Row],[Signatur]]<>\"\",\"Vorschau\",\"\")","v":""},{"$f":"IF(IFERROR(MATCH(Ergebnistabelle[[#This Row],[Bild-ID]],Merkliste!B:B,0),\"\")<>\"\",CHAR(252),\"\")","v":""},{"$f":"IF(Ergebnistabelle[[#This Row],[Bild-ID]]<>\"\",\"Merken\",\"\")","v":"Merken"},true,true,{"$f":"Ergebnistabelle[[#This Row],[Spalte1]]*Ergebnistabelle[[#This Row],[Spalte2]]","v":1},1,false,false,true,false,false,false,false,false,false,false,false,false,false,false,false,false,false,false,true,false,false,false,false,false,false,false,false,false,false,false,false,false,false,false,false,false,false,false,false,false,false,false,false,false,false,"2020-01-01",{"$f":"IF(Ergebnistabelle[[#This Row],[Spalte50]]>=Meldungen!$J$5,\"+\",\"\")","v":""}]
["203-062",null,null,"2xBw ",1413,{"$nulls":4},1955,null,{"$f":"IF(Ergebnistabelle[[#This Row],[Signatur]]<>\"\",\"Vorschau\",\"\")","v":""},{"$f":"IF(IFERROR(MATCH(Ergebnistabelle[[#This Row],[Bild-ID]],Merkliste!B:B,0),\"\")<>\"\",CHAR(252),\"\")","v":""},{"$f":"IF(Ergebnistabelle[[#This Row],[Bild-ID]]<>\"\",\"Merken\",\"\")","v":"Merken"},true,true,{"$f":"Ergebnistabelle[[#This Row],[Spalte1]]*Ergebnistabelle[[#This Row],[Spalte2]]","v":1},1,false,false,true,false,false,false,false,false,false,false,false,false,false,false,false,false,false,false,true,false,false,false,false,false,false,false,false,false,false,false,false,false,false,false,false,false,false,false,false,false,false,false,false,false,false,"2020-01-01",{"$f":"IF(Ergebnistabelle[[#This Row],[Spalte50]]>=Meldungen!$J$5,\"+\",\"\")","v":""}]
["203-063",null,null,"2xBw ",3929,"BK",{"$nulls":4},"Emil Konrad",{"$f":"IF(Ergebnistabelle[[#This Row],[Signatur]]<>\"\",\"Vorschau\",\"\")","v":""},{"$f":"IF(IFERROR(MATCH(Ergebnistabelle[[#This Row],[Bild-ID]],Merkliste!B:B,0),\"\")<>\"\",CHAR(252),\"\")","v":""},{"$f":"IF(Ergebnistabelle[[#This Row],[Bild-ID]]<>\"\",\"Merken\",\"\")","v":"Merken"},true,true,{"$f":"Ergebnistabelle[[#This Row],[Spalte1]]*Ergebnistabelle[[#This Row],[Spalte2]]","v":1},1,false,false,true,false,false,false,false,false,false,false,false,false,false,false,false,false,false,false,true,false,false,false,false,false,false,false,false,false,false,false,false,false,false,false,false,false,false,false,false,false,false,false,false,false,false,"2020-01-01",{"$f":"IF(Ergebnistabelle[[#This Row],[Spalte50]]>=Meldungen!$J$5,\"+\",\"\")","v":""}]
["203-064",null,null,"2xBw \n2xBw \n2xTw "," \n  \n405","62 \n62 \n62",{"$nulls":4},"Harald Herrmann",{"$f":"IF(Ergebnistabelle[[#This Row],[Signatur]]<>\"\",\"Vorschau\",\"\")","v":""},{"$f":"IF(IFERROR(MATCH(Ergebnistabelle[[#This Row],[Bild-ID]],Merkliste!B:B,0),\"\")<>\"\",CHAR(252),\"\")","v":""},{"$f":"IF(Ergebnistabelle[[#This Row],[Bild-ID]]<>\"\",\"Merken\",\"\")","v":"Merken"},true,true,{"$f":"Ergebnistabelle[[#This Row],[Spalte1]]*Ergebnistabelle[[#This Row],[Spalte2]]","v":1},1,false,true,true,false,false,false,false,false,true,false,false,false,false,false,false,false,false,false,true,false,false,false,false,false,false,false,false,false,false,false,false,false,false,false,false,false,false,false,false,false,false,false,false,false,false,"2020-01-01",{"$f":"IF(Ergebnistabelle[[#This Row],[Spalte50]]>=Meldungen!$J$5,\"+\",\"\")","v":""}]
["203-065",null,null,"2xBw ",1133,"38 \nJ",{"$nulls":4},"Emil Konrad",{"$f":"IF(Ergebnistabelle[[#This Row],[Signatur]]<>\"\",\"Vorschau\",\"\")","v":""},{"$f":"IF(IFERROR(MATCH(Ergebnistabelle[[#This Row],[Bild-ID]],Merkliste!B:B,0),\"\")<>\"\",CHAR(252),\"\")","v":""},{"$f":"IF(Ergebnistabelle[[#This Row],[Bild-ID]]<>\"\",\"Merken\",\"\")","v":"Merken"},true,true,{"$f":"Ergebnistabelle[[#This Row],[Spalte1]]*Ergebnistabelle[[#This Row],[Spalte2]]","v":1},1,false,false,true,false,false,false,false,false,false,false,false,false,false,false,false,false,false,false,true,false,false,false,false,false,false,false,false,false,false,false,false,false,false,false,false,false,false,false,false,false,false,false,false,false,false,"2020-01-01",{"$f":"IF(Ergebnistabelle[[#This Row],[Spalte50]]>=Meldungen!$J$5,\"+\",\"\")","v":""}]
["203-066",null,null,"2xBw ",5230,{"$nulls":5},"Emil Konrad",{"$f":"IF(Ergebnistabelle[[#This Row],[Signatur]]<>\"\",\"Vorschau\",\"\")","v":""},{"$f":"IF(IFERROR(MATCH(Ergebnistabelle[[#This Row],[Bild-ID]],Merkliste!B:B,0),\"\")<>\"\",CHAR(252),\"\")","v":""},{"$f":"IF(Ergebnistabelle[[#This Row],[Bild-ID]]<>\"\",\"Merken\",\"\")","v":"Merken"},true,true,{"$f":"Ergebnistabelle[[#This Row],[Spalte1]]*Ergebnistabelle[[#This Row],[Spalte2]]","v":1},1,false,false,true,false,false,false,false,false,false,false,false,false,false,false,false,false,false,false,true,false,false,false,false,false,false,false,false,false,false,false,false,false,false,false,false,false,false,false,false,false,false,false,false,false,false,"2020-01-01",{"$f":"IF(Ergebnistabelle[[#This Row],[Spalte50]]>=Meldungen!$J$5,\"+\",\"\")","v":""}]
["203-067",null,null,"2xBw ",1300,"38",{"$nulls":4},"Emil Konrad",{"$f":"IF(Ergebnistabelle[[#This Row],[Signatur]]<>\"\",\"Vorschau\",\"\")","v":""},{"$f":"IF(IFERROR(MATCH(Ergebnistabelle[[#This Row],[Bild-ID]],Merkliste!B:B,0),\"\")<>\"\",CHAR(252),\"\")","v":""},{"$f":"IF(Ergebnistabelle[[#This Row],[Bild-ID]]<>\"\",\"Merken\",\"\")","v":"Merken"},true,true,{"$f":"Ergebnistabelle[[#This Row],[Spalte1]]*Ergebnistabelle[[#This Row],[Spalte2]]","v":1},1,false,false,true,false,false,false,false,false,false,false,false,false,false,false,false,false,false,false,true,false,false,false,false,false,false,false,false,false,false,false,false,false,false,false,false,false,false,false,false,false,false,false,false,false,false,"2020-01-01",{"$f":"IF(Ergebnistabelle[[#This Row],[Spalte50]]>=Meldungen!$J$5,\"+\",\"\")","v":""}]
["203-068",null,null,"2xBw \n2xTw "," \n2217","C \nC",{"$nulls":4},"Karl Matern",{"$f":"IF(Ergebnistabelle[[#This Row],[Signatur]]<>\"\",\"Vorschau\",\"\")","v":""},{"$f":"IF(IFERROR(MATCH(Ergebnistabelle[[#This Row],[Bild-ID]],Merkliste!B:B,0),\"\")<>\"\",CHAR(252),\"\")","v":""},{"$f":"IF(Ergebnistabelle[[#This Row],[Bild-ID]]<>\"\",\"Merken\",\"\")","v":"Merken"},true,true,{"$f":"Ergebnistabelle[[#This Row],[Spalte1]]*Ergebnistabelle[[#This Row],[Spalte2]]","v":1},1,false,true,true,false,false,false,false,false,true,false,false,false,false,false,false,false,false,false,true,false,false,false,false,false,false,false,false,false,false,false,false,false,false,false,false,false,false,false,false,false,false,false,false,false,false,"2020-01-01",{"$f":"IF(Ergebnistabelle[[#This Row],[Spalte50]]>=Meldungen!$J$5,\"+\",\"\")","v":""}]
["203-069",null,null,"2xTw ",641,null,"Die Linie M ist seit 1945 nicht mehr in Betrieb",null,null,1942,"Karl Matern",{"$f":"IF(Ergebnistabelle[[#This Row],[Signatur]]<>\"\",\"Vorschau\",\"\")","v":""},{"$f":"IF(IFERROR(MATCH(Ergebnistabelle[[#This Row],[Bild-ID]],Merkliste!B:B,0),\"\")<>\"\",CHAR(252),\"\")","v":""},{"$f":"IF(Ergebnistabelle[[#This Row],[Bild-ID]]<>\"\",\"Merken\",\"\")","v":"Merken"},{"$f":"IF(IFERROR(MATCH(R74,$BL$3:$UP$3,0),FALSE)<>FALSE,TRUE)","v":true},{"$f":"OR(S74=S$3, W74=W$3, AA74=AA$3, AB74=AB$3, AC74=AC$3, AD74=AD$3, AE74=AE$3, AF74=AF$3, AG74=AG$3, AH74=AH$3, AI74=AI$3, AJ74=AJ$3, AK74=AK$3, AL74=AL$3, AM74=AM$3, AN74=AN$3, AO74=AO$3, AP74=AP$3, AQ74=AQ$3, AR74=AR$3, AS74=AS$3, AT74=AT$3, AU74=AU$3, AV74=AV$3, AW74=AW$3, AX74=AX$3, AY74=AY$3, AZ74=AZ$3, BA74=BA$3, BB74=BB$3, BC74=BC$3, BD74=BD$3, BE74=BE$3, BF74=BF$3, BG74=BG$3, BH74=BH$3, BI74=BI$3, BJ74=BJ$3, BK74=BK$3)","v":true},{"$f":"Ergebnistabelle[[#This Row],[Spalte1]]*Ergebnistabelle[[#This Row],[Spalte2]]","v":1},1,false,true,false,false,false,false,false,false,true,false,false,false,false,false,false,false,false,false,false,false,false,false,false,false,false,false,false,false,false,false,false,false,false,false,false,false,false,false,false,false,false,false,false,false,false,"2020-01-01",{"$f":"IF(Ergebnistabelle[[#This Row],[Spalte50]]>=Meldungen!$J$5,\"+\",\"\")","v":""}]
["203-070",null,null,"2xBw \n2xTw "," \n2219","132 \n132",{"$nulls":4},"Karl Matern",{"$f":"IF(Ergebnistabelle[[#This Row],[Signatur]]<>\"\",\"Vorschau\",\"\")","v":""},{"$f":"IF(IFERROR(MATCH(Ergebnistabelle[[#This Row],[Bild-ID]],Merkliste!B:B,0),\"\")<>\"\",CHAR(252),\"\")","v":""},{"$f":"IF(Ergebnistabelle[[#This Row],[Bild-ID]]<>\"\",\"Merken\",\"\")","v":"Merken"},true,true,{"$f":"Ergebnistabelle[[#This Row],[Spalte1]]*Ergebnistabelle[[#This Row],[Spalte2]]","v":1},1,false,true,true,false,false,false,false,false,true,false,false,false,false,false,false,false,false,false,true,false,false,false,false,false,false,false,false,false,false,false,false,false,false,false,false,false,false,false,false,false,false,false,false,false,false,"2020-01-01",{"$f":"IF(Ergebnistabelle[[#This Row],[Spalte50]]>=Meldungen!$J$5,\"+\",\"\")","v":""}]
["203-071",null,null,"2xBw ",1701,{"$nulls":6},{"$f":"IF(Ergebnistabelle[[#This Row],[Signatur]]<>\"\",\"Vorschau\",\"\")","v":""},{"$f":"IF(IFERROR(MATCH(Ergebnistabelle[[#This Row],[Bild-ID]],Merkliste!B:B,0),\"\")<>\"\",CHAR(252),\"\")","v":""},{"$f":"IF(Ergebnistabelle[[#This Row],[Bild-ID]]<>\"\",\"Merken\",\"\")","v":"Merken"},true,true,{"$f":"Ergebnistabelle[[#This Row],[Spalte1]]*Ergebnistabelle[[#This Row],[Spalte2]]","v":1},1,false,false,true,false,false,false,false,false,false,false,false,false,false,false,false,false,false,false,true,false,false,false,false,false,false,false,false,false,false,false,false,false,false,false,false,false,false,false,false,false,false,false,false,false,false,"2020-01-01",{"$f":"IF(Ergebnistabelle[[#This Row],[Spalte50]]>=Meldungen!$J$5,\"+\",\"\")","v":""}]
["203-072",null,null,"2xBw ",1701,{"$nulls":6},{"$f":"IF(Ergebnistabelle[[#This Row],[Signatur]]<>\"\",\"Vorschau\",\"\")","v":""},{"$f":"IF(IFERROR(MATCH(Ergebnistabelle[[#This Row],[Bild-ID]],Merkliste!B:B,0),\"\")<>\"\",CHAR(252),\"\")","v":""},{"$f":"IF(Ergebnistabelle[[#This Row],[Bild-ID]]<>\"\",\"Merken\",\"\")","v":"Merken"},true,true,{"$f":"Ergebnistabelle[[#This Row],[Spalte1]]*Ergebnistabelle[[#This Row],[Spalte2]]","v":1},1,false,false,true,false,false,false,false,false,false,false,false,false,false,false,false,false,false,false,true,false,false,false,false,false,false,false,false,false,false,false,false,false,false,false,false,false,false,false,false,false,false,false,false,false,false,"2020-01-01",{"$f":"IF(Ergebnistabelle[[#This Row],[Spalte50]]>=Meldungen!$J$5,\"+\",\"\")","v":""}]
["203-073",null,null,"2xTw \n4xBw ","4011 \n ","O \nO",{"$nulls":4},"Harald Herrmann",{"$f":"IF(Ergebnistabelle[[#This Row],[Signatur]]<>\"\",\"Vorschau\",\"\")","v":""},{"$f":"IF(IFERROR(MATCH(Ergebnistabelle[[#This Row],[Bild-ID]],Merkliste!B:B,0),\"\")<>\"\",CHAR(252),\"\")","v":""},{"$f":"IF(Ergebnistabelle[[#This Row],[Bild-ID]]<>\"\",\"Merken\",\"\")","v":"Merken"},true,true,{"$f":"Ergebnistabelle[[#This Row],[Spalte1]]*Ergebnistabelle[[#This Row],[Spalte2]]","v":1},1,false,true,true,false,false,false,false,false,true,false,false,false,false,false,false,false,false,false,true,false,false,false,false,false,false,false,false,false,false,false,false,false,false,false,false,false,false,false,false,false,false,false,false,false,false,"2020-01-01",{"$f":"IF(Ergebnistabelle[[#This Row],[Spalte50]]>=Meldungen!$J$5,\"+\",\"\")","v":""}]
["203-074",null,null,"2xBw \n2xTw ","5330 \n4017"," \n ",null,19,9,1979,"Weis",{"$f":"IF(Ergebnistabelle[[#This Row],[Signatur]]<>\"\",\"Vorschau\",\"\")","v":""},{"$f":"IF(IFERROR(MATCH(Ergebnistabelle[[#This Row],[Bild-ID]],Merkliste!B:B,0),\"\")<>\"\",CHAR(252),\"\")","v":""},{"$f":"IF(Ergebnistabelle[[#This Row],[Bild-ID]]<>\"\",\"Merken\",\"\")","v":"Merken"},true,true,{"$f":"Ergebnistabelle[[#This Row],[Spalte1]]*Ergebnistabelle[[#This Row],[Spalte2]]","v":1},1,false,true,true,false,false,false,false,false,true,false,false,false,false,false,false,false,false,false,true,false,false,false,false,false,false,false,false,false,false,false,false,false,false,false,false,false,false,false,false,false,false,false,false,false,false,"2020-01-01",{"$f":"IF(Ergebnistabelle[[#This Row],[Spalte50]]>=Meldungen!$J$5,\"+\",\"\")","v":""}]
["203-075",null,null,"2xBw \n2xTw ","1379 \n "," \n ",{"$nulls":5},{"$f":"IF(Ergebnistabelle[[#This Row],[Signatur]]<>\"\",\"Vorschau\",\"\")","v":""},{"$f":"IF(IFERROR(MATCH(Ergebnistabelle[[#This Row],[Bild-ID]],Merkliste!B:B,0),\"\")<>\"\",CHAR(252),\"\")","v":""},{"$f":"IF(Ergebnistabelle[[#This Row],[Bild-ID]]<>\"\",\"Merken\",\"\")","v":"Merken"},true,true,{"$f":"Ergebnistabelle[[#This Row],[Spalte1]]*Ergebnistabelle[[#This Row],[Spalte2]]","v":1},1,false,true,true,false,false,false,false,false,true,false,false,false,false,false,false,false,false,false,true,false,false,false,false,false,false,false,false,false,false,false,false,false,false,false,false,false,false,false,false,false,false,false,false,false,false,"2020-01-01",{"$f":"IF(Ergebnistabelle[[#This Row],[Spalte50]]>=Meldungen!$J$5,\"+\",\"\")","v":""}]
["203-076",null,null,"2xTw ",2116,"13",{"$nulls":3},1970,null,{"$f":"IF(Ergebnistabelle[[#This Row],[Signatur]]<>\"\",\"Vorschau\",\"\")","v":""},{"$f":"IF(IFERROR(MATCH(Ergebnistabelle[[#This Row],[Bild-ID]],Merkliste!B:B,0),\"\")<>\"\",CHAR(252),\"\")","v":""},{"$f":"IF(Ergebnistabelle[[#This Row],[Bild-ID]]<>\"\",\"Merken\",\"\")","v":"Merken"},true,true,{"$f":"Ergebnistabelle[[#This Row],[Spalte1]]*Ergebnistabelle[[#This Row],[Spalte2]]","v":1},1,false,true,false,false,false,false,false,false,true,false,false,false,false,false,false,false,false,false,false,false,false,false,false,false,false,false,false,false,false,false,false,false,false,false,false,false,false,false,false,false,false,false,false,false,false,"2020-01-01",{"$f":"IF(Ergebnistabelle[[#This Row],[Spalte50]]>=Meldungen!$J$5,\"+\",\"\")","v":""}]
["203-077",null,null,"4xTw \n4xBw ","104 \n ","46 \n46",{"$nulls":3},1956,null,{"$f":"IF(Ergebnistabelle[[#This Row],[Signatur]]<>\"\",\"Vorschau\",\"\")","v":""},{"$f":"IF(IFERROR(MATCH(Ergebnistabelle[[#This Row],[Bild-ID]],Merkliste!B:B,0),\"\")<>\"\",CHAR(252),\"\")","v":""},{"$f":"IF(Ergebnistabelle[[#This Row],[Bild-ID]]<>\"\",\"Merken\",\"\")","v":"Merken"},true,true,{"$f":"Ergebnistabelle[[#This Row],[Spalte1]]*Ergebnistabelle[[#This Row],[Spalte2]]","v":1},1,false,true,true,false,false,false,false,false,false,false,true,false,false,false,false,false,false,false,false,false,true,false,false,false,false,false,false,false,false,false,false,false,false,false,false,false,false,false,false,false,false,false,false,false,false,"2020-01-01",{"$f":"IF(Ergebnistabelle[[#This Row],[Spalte50]]>=Meldungen!$J$5,\"+\",\"\")","v":""}]
["203-078",null,null,"2xBw ",3200,{"$nulls":6},{"$f":"IF(Ergebnistabelle[[#This Row],[Signatur]]<>\"\",\"Vorschau\",\"\")","v":""},{"$f":"IF(IFERROR(MATCH(Ergebnistabelle[[#This Row],[Bild-ID]],Merkliste!B:B,0),\"\")<>\"\",CHAR(252),\"\")","v":""},{"$f":"IF(Ergebnistabelle[[#This Row],[Bild-ID]]<>\"\",\"Merken\",\"\")","v":"Merken"},true,true,{"$f":"Ergebnistabelle[[#This Row],[Spalte1]]*Ergebnistabelle[[#This Row],[Spalte2]]","v":1},1,false,false,true,false,false,false,false,false,false,false,false,false,false,false,false,false,false,false,true,false,false,false,false,false,false,false,false,false,false,false,false,false,false,false,false,false,false,false,false,false,false,false,false,false,false,"2020-01-01",{"$f":"IF(Ergebnistabelle[[#This Row],[Spalte50]]>=Meldungen!$J$5,\"+\",\"\")","v":""}]
["203-079",null,null,"2xTw \n2xBw \n2xBw ","416 \n  \n "," \n  \n ",{"$nulls":5},{"$f":"IF(Ergebnistabelle[[#This Row],[Signatur]]<>\"\",\"Vorschau\",\"\")","v":""},{"$f":"IF(IFERROR(MATCH(Ergebnistabelle[[#This Row],[Bild-ID]],Merkliste!B:B,0),\"\")<>\"\",CHAR(252),\"\")","v":""},{"$f":"IF(Ergebnistabelle[[#This Row],[Bild-ID]]<>\"\",\"Merken\",\"\")","v":"Merken"},true,true,{"$f":"Ergebnistabelle[[#This Row],[Spalte1]]*Ergebnistabelle[[#This Row],[Spalte2]]","v":1},1,false,true,true,false,false,false,false,false,true,false,false,false,false,false,false,false,false,false,true,false,false,false,false,false,false,false,false,false,false,false,false,false,false,false,false,false,false,false,false,false,false,false,false,false,false,"2020-01-01",{"$f":"IF(Ergebnistabelle[[#This Row],[Spalte50]]>=Meldungen!$J$5,\"+\",\"\")","v":""}]
["203-080",null,null,"2xTw ",2174,{"$nulls":6},{"$f":"IF(Ergebnistabelle[[#This Row],[Signatur]]<>\"\",\"Vorschau\",\"\")","v":""},{"$f":"IF(IFERROR(MATCH(Ergebnistabelle[[#This Row],[Bild-ID]],Merkliste!B:B,0),\"\")<>\"\",CHAR(252),\"\")","v":""},{"$f":"IF(Ergebnistabelle[[#This Row],[Bild-ID]]<>\"\",\"Merken\",\"\")","v":"Merken"},true,true,{"$f":"Ergebnistabelle[[#This Row],[Spalte1]]*Ergebnistabelle[[#This Row],[Spalte2]]","v":1},1,false,true,false,false,false,false,false,false,true,false,false,false,false,false,false,false,false,false,false,false,false,false,false,false,false,false,false,false,false,false,false,false,false,false,false,false,false,false,false,false,false,false,false,false,false,"2020-01-01",{"$f":"IF(Ergebnistabelle[[#This Row],[Spalte50]]>=Meldungen!$J$5,\"+\",\"\")","v":""}]
["203-081",null,"Rechte Wienzeile","Güter-Tw ",6017,null,"mit Obst und Gemüse beladen",null,null,1944,"Rudolf Klitscher",{"$f":"IF(Ergebnistabelle[[#This Row],[Signatur]]<>\"\",\"Vorschau\",\"\")","v":""},{"$f":"IF(IFERROR(MATCH(Ergebnistabelle[[#This Row],[Bild-ID]],Merkliste!B:B,0),\"\")<>\"\",CHAR(252),\"\")","v":""},{"$f":"IF(Ergebnistabelle[[#This Row],[Bild-ID]]<>\"\",\"Merken\",\"\")","v":"Merken"},true,true,{"$f":"Ergebnistabelle[[#This Row],[Spalte1]]*Ergebnistabelle[[#This Row],[Spalte2]]","v":1},1,false,true,false,false,false,false,false,false,false,false,false,false,false,false,false,false,true,false,false,false,false,false,false,false,false,false,false,false,false,false,false,false,false,false,false,false,false,false,false,false,false,false,false,false,false,"2020-01-01",{"$f":"IF(Ergebnistabelle[[#This Row],[Spalte50]]>=Meldungen!$J$5,\"+\",\"\")","v":""}]
["203-082",null,"Ring","2xTw ",4065,{"$nulls":4},1944,"Rudolf Klitscher",{"$f":"IF(Ergebnistabelle[[#This Row],[Signatur]]<>\"\",\"Vorschau\",\"\")","v":""},{"$f":"IF(IFERROR(MATCH(Ergebnistabelle[[#This Row],[Bild-ID]],Merkliste!B:B,0),\"\")<>\"\",CHAR(252),\"\")","v":""},{"$f":"IF(Ergebnistabelle[[#This Row],[Bild-ID]]<>\"\",\"Merken\",\"\")","v":"Merken"},true,true,{"$f":"Ergebnistabelle[[#This Row],[Spalte1]]*Ergebnistabelle[[#This Row],[Spalte2]]","v":1},1,false,true,false,false,false,false,false,false,true,false,false,false,false,false,false,false,false,false,false,false,false,false,false,false,false,false,false,false,false,false,false,false,false,false,false,false,false,false,false,false,false,false,false,false,false,"2020-01-01",{"$f":"IF(Ergebnistabelle[[#This Row],[Spalte50]]>=Meldungen!$J$5,\"+\",\"\")","v":""}]
["203-084",null,null,"ArbTw ",6116,null,"Messwagen",{"$nulls":4},{"$f":"IF(Ergebnistabelle[[#This Row],[Signatur]]<>\"\",\"Vorschau\",\"\")","v":""},{"$f":"IF(IFERROR(MATCH(Ergebnistabelle[[#This Row],[Bild-ID]],Merkliste!B:B,0),\"\")<>\"\",CHAR(252),\"\")","v":""},{"$f":"IF(Ergebnistabelle[[#This Row],[Bild-ID]]<>\"\",\"Merken\",\"\")","v":"Merken"},true,true,{"$f":"Ergebnistabelle[[#This Row],[Spalte1]]*Ergebnistabelle[[#This Row],[Spalte2]]","v":1},1,false,false,false,true,false,false,false,false,false,false,false,false,false,false,false,false,false,false,false,false,false,false,false,false,false,false,false,false,true,false,false,false,false,false,false,false,false,false,false,false,false,false,false,false,false,"2020-01-01",{"$f":"IF(Ergebnistabelle[[#This Row],[Spalte50]]>=Meldungen!$J$5,\"+\",\"\")","v":""}]
["203-085",null,"Hietzing",{"$nulls":3},"Stadtbahnstrecke",{"$nulls":4},{"$f":"IF(Ergebnistabelle[[#This Row],[Signatur]]<>\"\",\"Vorschau\",\"\")","v":""},{"$f":"IF(IFERROR(MATCH(Ergebnistabelle[[#This Row],[Bild-ID]],Merkliste!B:B,0),\"\")<>\"\",CHAR(252),\"\")","v":""},{"$f":"IF(Ergebnistabelle[[#This Row],[Bild-ID]]<>\"\",\"Merken\",\"\")","v":"Merken"},true,true,{"$f":"Ergebnistabelle[[#This Row],[Spalte1]]*Ergebnistabelle[[#This Row],[Spalte2]]","v":1},1,false,false,false,false,false,false,false,true,false,false,false,false,false,false,false,false,false,false,false,false,false,false,false,false,false,false,false,false,false,false,false,false,false,false,false,false,false,false,false,false,false,false,true,false,false,"2020-01-01",{"$f":"IF(Ergebnistabelle[[#This Row],[Spalte50]]>=Meldungen!$J$5,\"+\",\"\")","v":""}]
["203-086",null,null,"2xTw ",null,"F",{"$nulls":5},{"$f":"IF(Ergebnistabelle[[#This Row],[Signatur]]<>\"\",\"Vorschau\",\"\")","v":""},{"$f":"IF(IFERROR(MATCH(Ergebnistabelle[[#This Row],[Bild-ID]],Merkliste!B:B,0),\"\")<>\"\",CHAR(252),\"\")","v":""},{"$f":"IF(Ergebnistabelle[[#This Row],[Bild-ID]]<>\"\",\"Merken\",\"\")","v":"Merken"},true,true,{"$f":"Ergebnistabelle[[#This Row],[Spalte1]]*Ergebnistabelle[[#This Row],[Spalte2]]","v":1},1,false,true,false,false,false,false,false,false,true,false,false,false,false,false,false,false,false,false,false,false,false,false,false,false,false,false,false,false,false,false,false,false,false,false,false,false,false,false,false,false,false,false,false,false,false,"2020-01-01",{"$f":"IF(Ergebnistabelle[[#This Row],[Spalte50]]>=Meldungen!$J$5,\"+\",\"\")","v":""}]
["203-087",null,"Haltestelle Volkstheater","4xBw \n4xTw ","1137 \n "," \n ",null,6,10,1974,"Dr. Heinrich Dillmann",{"$f":"IF(Ergebnistabelle[[#This Row],[Signatur]]<>\"\",\"Vorschau\",\"\")","v":""},{"$f":"IF(IFERROR(MATCH(Ergebnistabelle[[#This Row],[Bild-ID]],Merkliste!B:B,0),\"\")<>\"\",CHAR(252),\"\")","v":""},{"$f":"IF(Ergebnistabelle[[#This Row],[Bild-ID]]<>\"\",\"Merken\",\"\")","v":"Merken"},true,true,{"$f":"Ergebnistabelle[[#This Row],[Spalte1]]*Ergebnistabelle[[#This Row],[Spalte2]]","v":1},1,false,true,true,false,false,false,false,false,false,true,false,false,false,false,false,false,false,false,false,false,true,false,false,false,false,false,false,false,false,false,false,false,false,false,false,false,false,false,false,false,false,false,false,false,false,"2020-01-01",{"$f":"IF(Ergebnistabelle[[#This Row],[Spalte50]]>=Meldungen!$J$5,\"+\",\"\")","v":""}]
["203-088",null,null,"2xTw \n4xBw ","4157 \n1075","5 \n5",{"$nulls":3},1969,"Ernst Julius Wolff",{"$f":"IF(Ergebnistabelle[[#This Row],[Signatur]]<>\"\",\"Vorschau\",\"\")","v":""},{"$f":"IF(IFERROR(MATCH(Ergebnistabelle[[#This Row],[Bild-ID]],Merkliste!B:B,0),\"\")<>\"\",CHAR(252),\"\")","v":""},{"$f":"IF(Ergebnistabelle[[#This Row],[Bild-ID]]<>\"\",\"Merken\",\"\")","v":"Merken"},true,true,{"$f":"Ergebnistabelle[[#This Row],[Spalte1]]*Ergebnistabelle[[#This Row],[Spalte2]]","v":1},1,false,true,true,false,false,false,false,false,true,false,false,false,false,false,false,false,false,false,true,false,false,false,false,false,false,false,false,false,false,false,false,false,false,false,false,false,false,false,false,false,false,false,false,false,false,"2020-01-01",{"$f":"IF(Ergebnistabelle[[#This Row],[Spalte50]]>=Meldungen!$J$5,\"+\",\"\")","v":""}]
["203-089",null,"Parlament am Ring","2xTw \n2xBw "," \n "," \n ",{"$nulls":3},1954,null,{"$f":"IF(Ergebnistabelle[[#This Row],[Signatur]]<>\"\",\"Vorschau\",\"\")","v":""},{"$f":"IF(IFERROR(MATCH(Ergebnistabelle[[#This Row],[Bild-ID]],Merkliste!B:B,0),\"\")<>\"\",CHAR(252),\"\")","v":""},{"$f":"IF(Ergebnistabelle[[#This Row],[Bild-ID]]<>\"\",\"Merken\",\"\")","v":"Merken"},true,true,{"$f":"Ergebnistabelle[[#This Row],[Spalte1]]*Ergebnistabelle[[#This Row],[Spalte2]]","v":1},1,false,true,true,false,false,false,false,false,true,false,false,false,false,false,false,false,false,false,true,false,false,false,false,false,false,false,false,false,false,false,false,false,false,false,false,false,false,false,false,false,false,false,false,false,false,"2020-01-01",{"$f":"IF(Ergebnistabelle[[#This Row],[Spalte50]]>=Meldungen!$J$5,\"+\",\"\")","v":""}]
["203-090",null,null,"4xBw \n2xTw ","1057 \n2596","J \nJ",{"$nulls":5},{"$f":"IF(Ergebnistabelle[[#This Row],[Signatur]]<>\"\",\"Vorschau\",\"\")","v":""},{"$f":"IF(IFERROR(MATCH(Ergebnistabelle[[#This Row],[Bild-ID]],Merkliste!B:B,0),\"\")<>\"\",CHAR(252),\"\")","v":""},{"$f":"IF(Ergebnistabelle[[#This Row],[Bild-ID]]<>\"\",\"Merken\",\"\")","v":"Merken"},true,true,{"$f":"Ergebnistabelle[[#This Row],[Spalte1]]*Ergebnistabelle[[#This Row],[Spalte2]]","v":1},1,false,true,true,false,false,false,false,false,true,false,false,false,false,false,false,false,false,false,false,false,true,false,false,false,false,false,false,false,false,false,false,false,false,false,false,false,false,false,false,false,false,false,false,false,false,"2020-01-01",{"$f":"IF(Ergebnistabelle[[#This Row],[Spalte50]]>=Meldungen!$J$5,\"+\",\"\")","v":""}]
["203-091",null,"Karlsplatz","2xTw ",null,"63",{"$nulls":3},1944,"Rudolf Klitscher",{"$f":"IF(Ergebnistabelle[[#This Row],[Signatur]]<>\"\",\"Vorschau\",\"\")","v":""},{"$f":"IF(IFERROR(MATCH(Ergebnistabelle[[#This Row],[Bild-ID]],Merkliste!B:B,0),\"\")<>\"\",CHAR(252),\"\")","v":""},{"$f":"IF(Ergebnistabelle[[#This Row],[Bild-ID]]<>\"\",\"Merken\",\"\")","v":"Merken"},true,true,{"$f":"Ergebnistabelle[[#This Row],[Spalte1]]*Ergebnistabelle[[#This Row],[Spalte2]]","v":1},1,false,true,false,false,false,false,false,false,true,false,false,false,false,false,false,false,false,false,false,false,false,false,false,false,false,false,false,false,false,false,false,false,false,false,false,false,false,false,false,false,false,false,false,false,false,"2020-01-01",{"$f":"IF(Ergebnistabelle[[#This Row],[Spalte50]]>=Meldungen!$J$5,\"+\",\"\")","v":""}]
["203-092",null,null,"2xTw \n2xBw "," \n ","WD \n ","Stadtbahn",null,null,1944,"Rudolf Klitscher",{"$f":"IF(Ergebnistabelle[[#This Row],[Signatur]]<>\"\",\"Vorschau\",\"\")","v":""},{"$f":"IF(IFERROR(MATCH(Ergebnistabelle[[#This Row],[Bild-ID]],Merkliste!B:B,0),\"\")<>\"\",CHAR(252),\"\")","v":""},{"$f":"IF(Ergebnistabelle[[#This Row],[Bild-ID]]<>\"\",\"Merken\",\"\")","v":"Merken"},true,true,{"$f":"Ergebnistabelle[[#This Row],[Spalte1]]*Ergebnistabelle[[#This Row],[Spalte2]]","v":1},1,false,false,false,false,false,false,false,true,false,false,false,false,false,false,false,false,false,false,false,false,false,false,false,false,false,false,false,false,false,false,false,false,false,false,false,false,false,false,false,false,false,false,true,false,false,"2020-01-01",{"$f":"IF(Ergebnistabelle[[#This Row],[Spalte50]]>=Meldungen!$J$5,\"+\",\"\")","v":""}]
["203-093",null,null,"4xGelTw \n4xBw ","4301 \n "," \n ",{"$nulls":4},"Harald Herrmann",{"$f":"IF(Ergebnistabelle[[#This Row],[Signatur]]<>\"\",\"Vorschau\",\"\")","v":""},{"$f":"IF(IFERROR(MATCH(Ergebnistabelle[[#This Row],[Bild-ID]],Merkliste!B:B,0),\"\")<>\"\",CHAR(252),\"\")","v":""},{"$f":"IF(Ergebnistabelle[[#This Row],[Bild-ID]]<>\"\",\"Merken\",\"\")","v":"Merken"},true,true,{"$f":"Ergebnistabelle[[#This Row],[Spalte1]]*Ergebnistabelle[[#This Row],[Spalte2]]","v":1},1,false,true,true,false,false,false,false,false,false,false,false,true,false,false,false,false,false,false,false,true,false,false,false,false,false,false,false,false,false,false,false,false,false,false,false,false,false,false,false,false,false,false,false,false,false,"2020-01-01",{"$f":"IF(Ergebnistabelle[[#This Row],[Spalte50]]>=Meldungen!$J$5,\"+\",\"\")","v":""}]
["203-094",null,null,"4xBw ",1008,{"$nulls":5},"Harald Herrmann",{"$f":"IF(Ergebnistabelle[[#This Row],[Signatur]]<>\"\",\"Vorschau\",\"\")","v":""},{"$f":"IF(IFERROR(MATCH(Ergebnistabelle[[#This Row],[Bild-ID]],Merkliste!B:B,0),\"\")<>\"\",CHAR(252),\"\")","v":""},{"$f":"IF(Ergebnistabelle[[#This Row],[Bild-ID]]<>\"\",\"Merken\",\"\")","v":"Merken"},{"$f":"IF(IFERROR(MATCH(R98,$BL$3:$UP$3,0),FALSE)<>FALSE,TRUE)","v":true},{"$f":"OR(S98=S$3, W98=W$3, AA98=AA$3, AB98=AB$3, AC98=AC$3, AD98=AD$3, AE98=AE$3, AF98=AF$3, AG98=AG$3, AH98=AH$3, AI98=AI$3, AJ98=AJ$3, AK98=AK$3, AL98=AL$3, AM98=AM$3, AN98=AN$3, AO98=AO$3, AP98=AP$3, AQ98=AQ$3, AR98=AR$3, AS98=AS$3, AT98=AT$3, AU98=AU$3, AV98=AV$3, AW98=AW$3, AX98=AX$3, AY98=AY$3, AZ98=AZ$3, BA98=BA$3, BB98=BB$3, BC98=BC$3, BD98=BD$3, BE98=BE$3, BF98=BF$3, BG98=BG$3, BH98=BH$3, BI98=BI$3, BJ98=BJ$3, BK98=BK$3)","v":true},{"$f":"Ergebnistabelle[[#This Row],[Spalte1]]*Ergebnistabelle[[#This Row],[Spalte2]]","v":1},1,false,false,true,false,false,false,false,false,false,false,false,false,false,false,false,false,false,false,false,true,false,false,false,false,false,false,false,false,false,false,false,false,false,false,false,false,false,false,false,false,false,false,false,false,false,"2020-01-01",{"$f":"IF(Ergebnistabelle[[#This Row],[Spalte50]]>=Meldungen!$J$5,\"+\",\"\")","v":""}]
["203-095",null,"Hauptzollamt","2xTw \n2xBw "," \n "," \n ","Stadtbahn",null,null,1944,"Rudolf Klitscher",{"$f":"IF(Ergebnistabelle[[#This Row],[Signatur]]<>\"\",\"Vorschau\",\"\")","v":""},{"$f":"IF(IFERROR(MATCH(Ergebnistabelle[[#This Row],[Bild-ID]],Merkliste!B:B,0),\"\")<>\"\",CHAR(252),\"\")","v":""},{"$f":"IF(Ergebnistabelle[[#This Row],[Bild-ID]]<>\"\",\"Merken\",\"\")","v":"Merken"},true,true,{"$f":"Ergebnistabelle[[#This Row],[Spalte1]]*Ergebnistabelle[[#This Row],[Spalte2]]","v":1},1,false,false,false,false,false,false,false,true,false,false,false,false,false,false,false,false,false,false,false,false,false,false,false,false,false,false,false,false,false,false,false,false,false,false,false,false,false,false,false,false,false,false,true,false,false,"2020-01-01",{"$f":"IF(Ergebnistabelle[[#This Row],[Spalte50]]>=Meldungen!$J$5,\"+\",\"\")","v":""}]
["203-096",null,null,"4xGrwBw \n4xGrwTw ","1202 \n102"," \n ",{"$nulls":4},"Harald Herrmann",{"$f":"IF(Ergebnistabelle[[#This Row],[Signatur]]<>\"\",\"Vorschau\",\"\")","v":""},{"$f":"IF(IFERROR(MATCH(Ergebnistabelle[[#This Row],[Bild-ID]],Merkliste!B:B,0),\"\")<>\"\",CHAR(252),\"\")","v":""},{"$f":"IF(Ergebnistabelle[[#This Row],[Bild-ID]]<>\"\",\"Merken\",\"\")","v":"Merken"},true,true,{"$f":"Ergebnistabelle[[#This Row],[Spalte1]]*Ergebnistabelle[[#This Row],[Spalte2]]","v":1},1,false,true,true,false,false,false,false,false,false,false,true,false,false,false,false,false,false,false,false,false,true,false,false,false,false,false,false,false,false,false,false,false,false,false,false,false,false,false,false,false,false,false,false,false,false,"2020-01-01",{"$f":"IF(Ergebnistabelle[[#This Row],[Spalte50]]>=Meldungen!$J$5,\"+\",\"\")","v":""}]
["203-097",null,null,"2xTw ",4122,"167",{"$nulls":5},{"$f":"IF(Ergebnistabelle[[#This Row],[Signatur]]<>\"\",\"Vorschau\",\"\")","v":""},{"$f":"IF(IFERROR(MATCH(Ergebnistabelle[[#This Row],[Bild-ID]],Merkliste!B:B,0),\"\")<>\"\",CHAR(252),\"\")","v":""},{"$f":"IF(Ergebnistabelle[[#This Row],[Bild-ID]]<>\"\",\"Merken\",\"\")","v":"Merken"},true,true,{"$f":"Ergebnistabelle[[#This Row],[Spalte1]]*Ergebnistabelle[[#This Row],[Spalte2]]","v":1},1,false,true,false,false,false,false,false,false,true,false,false,false,false,false,false,false,false,false,false,false,false,false,false,false,false,false,false,false,false,false,false,false,false,false,false,false,false,false,false,false,false,false,false,false,false,"2020-01-01",{"$f":"IF(Ergebnistabelle[[#This Row],[Spalte50]]>=Meldungen!$J$5,\"+\",\"\")","v":""}]
["203-098",null,null,"2xTw ",2726,"60","Stadtbahnwagen als Straßenbahn",null,null,1944,"Rudolf Klitscher",{"$f":"IF(Ergebnistabelle[[#This Row],[Signatur]]<>\"\",\"Vorschau\",\"\")","v":""},{"$f":"IF(IFERROR(MATCH(Ergebnistabelle[[#This Row],[Bild-ID]],Merkliste!B:B,0),\"\")<>\"\",CHAR(252),\"\")","v":""},{"$f":"IF(Ergebnistabelle[[#This Row],[Bild-ID]]<>\"\",\"Merken\",\"\")","v":"Merken"},true,true,{"$f":"Ergebnistabelle[[#This Row],[Spalte1]]*Ergebnistabelle[[#This Row],[Spalte2]]","v":1},1,false,true,false,false,false,false,false,false,true,false,false,false,false,false,false,false,false,false,false,false,false,false,false,false,false,false,false,false,false,false,false,false,false,false,false,false,false,false,false,false,false,false,false,false,false,"2020-01-01",{"$f":"IF(Ergebnistabelle[[#This Row],[Spalte50]]>=Meldungen!$J$5,\"+\",\"\")","v":""}]
["203-099",null,"Karlsplatz","2xTw ",2338,"H",{"$nulls":3},1944,"Rudolf Klitscher",{"$f":"IF(Ergebnistabelle[[#This Row],[Signatur]]<>\"\",\"Vorschau\",\"\")","v":""},{"$f":"IF(IFERROR(MATCH(Ergebnistabelle[[#This Row],[Bild-ID]],Merkliste!B:B,0),\"\")<>\"\",CHAR(252),\"\")","v":""},{"$f":"IF(Ergebnistabelle[[#This Row],[Bild-ID]]<>\"\",\"Merken\",\"\")","v":"Merken"},true,true,{"$f":"Ergebnistabelle[[#This Row],[Spalte1]]*Ergebnistabelle[[#This Row],[Spalte2]]","v":1},1,false,true,false,false,false,false,false,false,true,false,false,false,false,false,false,false,false,false,false,false,false,false,false,false,false,false,false,false,false,false,false,false,false,false,false,false,false,false,false,false,false,false,false,false,false,"2020-01-01",{"$f":"IF(Ergebnistabelle[[#This Row],[Spalte50]]>=Meldungen!$J$5,\"+\",\"\")","v":""}]
["203-100",null,null,"2xBw \n2xTw "," \n440","117 \n117",{"$nulls":5},{"$f":"IF(Ergebnistabelle[[#This Row],[Signatur]]<>\"\",\"Vorschau\",\"\")","v":""},{"$f":"IF(IFERROR(MATCH(Ergebnistabelle[[#This Row],[Bild-ID]],Merkliste!B:B,0),\"\")<>\"\",CHAR(252),\"\")","v":""},{"$f":"IF(Ergebnistabelle[[#This Row],[Bild-ID]]<>\"\",\"Merken\",\"\")","v":"Merken"},true,true,{"$f":"Ergebnistabelle[[#This Row],[Spalte1]]*Ergebnistabelle[[#This Row],[Spalte2]]","v":1},1,false,true,true,false,false,false,false,false,true,false,false,false,false,false,false,false,false,false,true,false,false,false,false,false,false,false,false,false,false,false,false,false,false,false,false,false,false,false,false,false,false,false,false,false,false,"2020-01-01",{"$f":"IF(Ergebnistabelle[[#This Row],[Spalte50]]>=Meldungen!$J$5,\"+\",\"\")","v":""}]
["203-101",null,"Karlsplatz","2xTw ",2572,{"$nulls":4},1944,"Rudolf Klitscher",{"$f":"IF(Ergebnistabelle[[#This Row],[Signatur]]<>\"\",\"Vorschau\",\"\")","v":""},{"$f":"IF(IFERROR(MATCH(Ergebnistabelle[[#This Row],[Bild-ID]],Merkliste!B:B,0),\"\")<>\"\",CHAR(252),\"\")","v":""},{"$f":"IF(Ergebnistabelle[[#This Row],[Bild-ID]]<>\"\",\"Merken\",\"\")","v":"Merken"},true,true,{"$f":"Ergebnistabelle[[#This Row],[Spalte1]]*Ergebnistabelle[[#This Row],[Spalte2]]","v":1},1,false,true,false,false,false,false,false,false,true,false,false,false,false,false,false,false,false,false,false,false,false,false,false,false,false,false,false,false,false,false,false,false,false,false,false,false,false,false,false,false,false,false,false,false,false,"2020-01-01",{"$f":"IF(Ergebnistabelle[[#This Row],[Spalte50]]>=Meldungen!$J$5,\"+\",\"\")","v":""}]
["203-102",null,"Schwechat","2xTw ",2342,"72",{"$nulls":3},1944,"Rudolf Klitscher",{"$f":"IF(Ergebnistabelle[[#This Row],[Signatur]]<>\"\",\"Vorschau\",\"\")","v":""},{"$f":"IF(IFERROR(MATCH(Ergebnistabelle[[#This Row],[Bild-ID]],Merkliste!B:B,0),\"\")<>\"\",CHAR(252),\"\")","v":""},{"$f":"IF(Ergebnistabelle[[#This Row],[Bild-ID]]<>\"\",\"Merken\",\"\")","v":"Merken"},true,true,{"$f":"Ergebnistabelle[[#This Row],[Spalte1]]*Ergebnistabelle[[#This Row],[Spalte2]]","v":1},1,false,true,false,false,false,false,false,false,true,false,false,false,false,false,false,false,false,false,false,false,false,false,false,false,false,false,false,false,false,false,false,false,false,false,false,false,false,false,false,false,false,false,false,false,false,"2020-01-01",{"$f":"IF(Ergebnistabelle[[#This Row],[Spalte50]]>=Meldungen!$J$5,\"+\",\"\")","v":""}]
["203-103",null,null,"2xTw (Typ G) ",924,{"$nulls":4},1944,"Rudolf Klitscher",{"$f":"IF(Ergebnistabelle[[#This Row],[Signatur]]<>\"\",\"Vorschau\",\"\")","v":""},{"$f":"IF(IFERROR(MATCH(Ergebnistabelle[[#This Row],[Bild-ID]],Merkliste!B:B,0),\"\")<>\"\",CHAR(252),\"\")","v":""},{"$f":"IF(Ergebnistabelle[[#This Row],[Bild-ID]]<>\"\",\"Merken\",\"\")","v":"Merken"},true,true,{"$f":"Ergebnistabelle[[#This Row],[Spalte1]]*Ergebnistabelle[[#This Row],[Spalte2]]","v":1},1,false,true,false,false,false,false,false,false,true,false,false,false,false,false,false,false,false,false,false,false,false,false,false,false,false,false,false,false,false,false,false,false,false,false,false,false,false,false,false,false,false,false,false,false,false,"2020-01-01",{"$f":"IF(Ergebnistabelle[[#This Row],[Spalte50]]>=Meldungen!$J$5,\"+\",\"\")","v":""}]
["203-104",null,"Floridsdorf","2xTw ",420,"117",{"$nulls":3},1944,"Rudolf Klitscher",{"$f":"IF(Ergebnistabelle[[#This Row],[Signatur]]<>\"\",\"Vorschau\",\"\")","v":""},{"$f":"IF(IFERROR(MATCH(Ergebnistabelle[[#This Row],[Bild-ID]],Merkliste!B:B,0),\"\")<>\"\",CHAR(252),\"\")","v":""},{"$f":"IF(Ergebnistabelle[[#This Row],[Bild-ID]]<>\"\",\"Merken\",\"\")","v":"Merken"},true,true,{"$f":"Ergebnistabelle[[#This Row],[Spalte1]]*Ergebnistabelle[[#This Row],[Spalte2]]","v":1},1,false,true,false,false,false,false,false,false,true,false,false,false,false,false,false,false,false,false,false,false,false,false,false,false,false,false,false,false,false,false,false,false,false,false,false,false,false,false,false,false,false,false,false,false,false,"2020-01-01",{"$f":"IF(Ergebnistabelle[[#This Row],[Spalte50]]>=Meldungen!$J$5,\"+\",\"\")","v":""}]
["203-105",null,"Floridsdorf \"Aquarium\"","2xTw ",406,{"$nulls":4},1944,"Rudolf Klitscher",{"$f":"IF(Ergebnistabelle[[#This Row],[Signatur]]<>\"\",\"Vorschau\",\"\")","v":""},{"$f":"IF(IFERROR(MATCH(Ergebnistabelle[[#This Row],[Bild-ID]],Merkliste!B:B,0),\"\")<>\"\",CHAR(252),\"\")","v":""},{"$f":"IF(Ergebnistabelle[[#This Row],[Bild-ID]]<>\"\",\"Merken\",\"\")","v":"Merken"},true,true,{"$f":"Ergebnistabelle[[#This Row],[Spalte1]]*Ergebnistabelle[[#This Row],[Spalte2]]","v":1},1,false,true,false,false,false,false,false,false,true,false,false,false,false,false,false,false,false,false,false,false,false,false,false,false,false,false,false,false,false,false,false,false,false,false,false,false,false,false,false,false,false,false,false,false,false,"2020-01-01",{"$f":"IF(Ergebnistabelle[[#This Row],[Spalte50]]>=Meldungen!$J$5,\"+\",\"\")","v":""}]
["203-106",null,"Naschmarkt","Güter-Bw \nGüter-Tw "," \n6028"," \n ",{"$nulls":3},1944,"Rudolf Klitscher",{"$f":"IF(Ergebnistabelle[[#This Row],[Signatur]]<>\"\",\"Vorschau\",\"\")","v":""},{"$f":"IF(IFERROR(MATCH(Ergebnistabelle[[#This Row],[Bild-ID]],Merkliste!B:B,0),\"\")<>\"\",CHAR(252),\"\")","v":""},{"$f":"IF(Ergebnistabelle[[#This Row],[Bild-ID]]<>\"\",\"Merken\",\"\")","v":"Merken"},true,true,{"$f":"Ergebnistabelle[[#This Row],[Spalte1]]*Ergebnistabelle[[#This Row],[Spalte2]]","v":1},1,false,true,true,false,false,false,false,false,false,false,false,false,false,false,false,false,true,false,false,false,false,false,false,false,false,false,true,false,false,false,false,false,false,false,false,false,false,false,false,false,false,false,false,false,false,"2020-01-01",{"$f":"IF(Ergebnistabelle[[#This Row],[Spalte50]]>=Meldungen!$J$5,\"+\",\"\")","v":""}]
["203-107",null,"am Ring","Güter-Tw \nGüter-Bw \nGüter-Bw ","6045 \n  \n "," \n  \n ","beladen mit Kartoffeln für die Wiener Märkte",null,null,1944,"Rudolf Klitscher",{"$f":"IF(Ergebnistabelle[[#This Row],[Signatur]]<>\"\",\"Vorschau\",\"\")","v":""},{"$f":"IF(IFERROR(MATCH(Ergebnistabelle[[#This Row],[Bild-ID]],Merkliste!B:B,0),\"\")<>\"\",CHAR(252),\"\")","v":""},{"$f":"IF(Ergebnistabelle[[#This Row],[Bild-ID]]<>\"\",\"Merken\",\"\")","v":"Merken"},true,true,{"$f":"Ergebnistabelle[[#This Row],[Spalte1]]*Ergebnistabelle[[#This Row],[Spalte2]]","v":1},1,false,true,true,false,false,false,false,false,false,false,false,false,false,false,false,false,true,false,false,false,false,false,false,false,false,false,true,false,false,false,false,false,false,false,false,false,false,false,false,false,false,false,false,false,false,"2020-01-01",{"$f":"IF(Ergebnistabelle[[#This Row],[Spalte50]]>=Meldungen!$J$5,\"+\",\"\")","v":""}]
["203-108",null,null,"Güter-Tw ",6101,{"$nulls":4},1944,"Rudolf Klitscher",{"$f":"IF(Ergebnistabelle[[#This Row],[Signatur]]<>\"\",\"Vorschau\",\"\")","v":""},{"$f":"IF(IFERROR(MATCH(Ergebnistabelle[[#This Row],[Bild-ID]],Merkliste!B:B,0),\"\")<>\"\",CHAR(252),\"\")","v":""},{"$f":"IF(Ergebnistabelle[[#This Row],[Bild-ID]]<>\"\",\"Merken\",\"\")","v":"Merken"},true,true,{"$f":"Ergebnistabelle[[#This Row],[Spalte1]]*Ergebnistabelle[[#This Row],[Spalte2]]","v":1},1,false,true,false,false,false,false,false,false,false,false,false,false,false,false,false,false,true,false,false,false,false,false,false,false,false,false,false,false,false,false,false,false,false,false,false,false,false,false,false,false,false,false,false,false,false,"2020-01-01",{"$f":"IF(Ergebnistabelle[[#This Row],[Spalte50]]>=Meldungen!$J$5,\"+\",\"\")","v":""}]
["203-109",null,null,"2xBw \n2xBw \n2xTw "," \n  \n414"," \n  \n ",{"$nulls":5},{"$f":"IF(Ergebnistabelle[[#This Row],[Signatur]]<>\"\",\"Vorschau\",\"\")","v":""},{"$f":"IF(IFERROR(MATCH(Ergebnistabelle[[#This Row],[Bild-ID]],Merkliste!B:B,0),\"\")<>\"\",CHAR(252),\"\")","v":""},{"$f":"IF(Ergebnistabelle[[#This Row],[Bild-ID]]<>\"\",\"Merken\",\"\")","v":"Merken"},true,true,{"$f":"Ergebnistabelle[[#This Row],[Spalte1]]*Ergebnistabelle[[#This Row],[Spalte2]]","v":1},1,false,true,true,false,false,false,false,false,true,false,false,false,false,false,false,false,false,false,true,false,false,false,false,false,false,false,false,false,false,false,false,false,false,false,false,false,false,false,false,false,false,false,false,false,false,"2020-01-01",{"$f":"IF(Ergebnistabelle[[#This Row],[Spalte50]]>=Meldungen!$J$5,\"+\",\"\")","v":""}]
["203-110",null,null,"2xTw ",310,{"$nulls":4},1944,null,{"$f":"IF(Ergebnistabelle[[#This Row],[Signatur]]<>\"\",\"Vorschau\",\"\")","v":""},{"$f":"IF(IFERROR(MATCH(Ergebnistabelle[[#This Row],[Bild-ID]],Merkliste!B:B,0),\"\")<>\"\",CHAR(252),\"\")","v":""},{"$f":"IF(Ergebnistabelle[[#This Row],[Bild-ID]]<>\"\",\"Merken\",\"\")","v":"Merken"},true,true,{"$f":"Ergebnistabelle[[#This Row],[Spalte1]]*Ergebnistabelle[[#This Row],[Spalte2]]","v":1},1,false,true,false,false,false,false,false,false,true,false,false,false,false,false,false,false,false,false,false,false,false,false,false,false,false,false,false,false,false,false,false,false,false,false,false,false,false,false,false,false,false,false,false,false,false,"2020-01-01",{"$f":"IF(Ergebnistabelle[[#This Row],[Spalte50]]>=Meldungen!$J$5,\"+\",\"\")","v":""}]
["203-111",null,null,"4xGrwBw ",1202,{"$nulls":6},{"$f":"IF(Ergebnistabelle[[#This Row],[Signatur]]<>\"\",\"Vorschau\",\"\")","v":""},{"$f":"IF(IFERROR(MATCH(Ergebnistabelle[[#This Row],[Bild-ID]],Merkliste!B:B,0),\"\")<>\"\",CHAR(252),\"\")","v":""},{"$f":"IF(Ergebnistabelle[[#This Row],[Bild-ID]]<>\"\",\"Merken\",\"\")","v":"Merken"},true,true,{"$f":"Ergebnistabelle[[#This Row],[Spalte1]]*Ergebnistabelle[[#This Row],[Spalte2]]","v":1},1,false,false,true,false,false,false,false,false,false,false,false,false,false,false,false,false,false,false,false,false,true,false,false,false,false,false,false,false,false,false,false,false,false,false,false,false,false,false,false,false,false,false,false,false,false,"2020-01-01",{"$f":"IF(Ergebnistabelle[[#This Row],[Spalte50]]>=Meldungen!$J$5,\"+\",\"\")","v":""}]
["203-112",null,null,"2xTw ",2102,"158",{"$nulls":5},{"$f":"IF(Ergebnistabelle[[#This Row],[Signatur]]<>\"\",\"Vorschau\",\"\")","v":""},{"$f":"IF(IFERROR(MATCH(Ergebnistabelle[[#This Row],[Bild-ID]],Merkliste!B:B,0),\"\")<>\"\",CHAR(252),\"\")","v":""},{"$f":"IF(Ergebnistabelle[[#This Row],[Bild-ID]]<>\"\",\"Merken\",\"\")","v":"Merken"},true,true,{"$f":"Ergebnistabelle[[#This Row],[Spalte1]]*Ergebnistabelle[[#This Row],[Spalte2]]","v":1},1,false,true,false,false,false,false,false,false,true,false,false,false,false,false,false,false,false,false,false,false,false,false,false,false,false,false,false,false,false,false,false,false,false,false,false,false,false,false,false,false,false,false,false,false,false,"2020-01-01",{"$f":"IF(Ergebnistabelle[[#This Row],[Spalte50]]>=Meldungen!$J$5,\"+\",\"\")","v":""}]
["203-113",null,null,"2xTw \n2xBw ","461 \n ","59 \n59",{"$nulls":5},{"$f":"IF(Ergebnistabelle[[#This Row],[Signatur]]<>\"\",\"Vorschau\",\"\")","v":""},{"$f":"IF(IFERROR(MATCH(Ergebnistabelle[[#This Row],[Bild-ID]],Merkliste!B:B,0),\"\")<>\"\",CHAR(252),\"\")","v":""},{"$f":"IF(Ergebnistabelle[[#This Row],[Bild-ID]]<>\"\",\"Merken\",\"\")","v":"Merken"},true,true,{"$f":"Ergebnistabelle[[#This Row],[Spalte1]]*Ergebnistabelle[[#This Row],[Spalte2]]","v":1},1,false,true,true,false,false,false,false,false,true,false,false,false,false,false,false,false,false,false,true,false,false,false,false,false,false,false,false,false,false,false,false,false,false,false,false,false,false,false,false,false,false,false,false,false,false,"2020-01-01",{"$f":"IF(Ergebnistabelle[[#This Row],[Spalte50]]>=Meldungen!$J$5,\"+\",\"\")","v":""}]
["203-114",null,null,"2xTw ",463,"16",{"$nulls":3},1944,"Wolfgang Kramer",{"$f":"IF(Ergebnistabelle[[#This Row],[Signatur]]<>\"\",\"Vorschau\",\"\")","v":""},{"$f":"IF(IFERROR(MATCH(Ergebnistabelle[[#This Row],[Bild-ID]],Merkliste!B:B,0),\"\")<>\"\",CHAR(252),\"\")","v":""},{"$f":"IF(Ergebnistabelle[[#This Row],[Bild-ID]]<>\"\",\"Merken\",\"\")","v":"Merken"},true,true,{"$f":"Ergebnistabelle[[#This Row],[Spalte1]]*Ergebnistabelle[[#This Row],[Spalte2]]","v":1},1,false,true,false,false,false,false,false,false,true,false,false,false,false,false,false,false,false,false,false,false,false,false,false,false,false,false,false,false,false,false,false,false,false,false,false,false,false,false,false,false,false,false,false,false,false,"2020-01-01",{"$f":"IF(Ergebnistabelle[[#This Row],[Spalte50]]>=Meldungen!$J$5,\"+\",\"\")","v":""}]
["203-115",null,null,"Doppelstock-Tw ",452,{"$nulls":6},{"$f":"IF(Ergebnistabelle[[#This Row],[Signatur]]<>\"\",\"Vorschau\",\"\")","v":""},{"$f":"IF(IFERROR(MATCH(Ergebnistabelle[[#This Row],[Bild-ID]],Merkliste!B:B,0),\"\")<>\"\",CHAR(252),\"\")","v":""},{"$f":"IF(Ergebnistabelle[[#This Row],[Bild-ID]]<>\"\",\"Merken\",\"\")","v":"Merken"},true,true,{"$f":"Ergebnistabelle[[#This Row],[Spalte1]]*Ergebnistabelle[[#This Row],[Spalte2]]","v":1},1,false,true,false,false,false,false,false,false,false,false,false,false,false,false,false,false,false,true,false,false,false,false,false,false,false,false,false,false,false,false,false,false,false,false,false,false,false,false,false,false,false,false,false,false,false,"2020-01-01",{"$f":"IF(Ergebnistabelle[[#This Row],[Spalte50]]>=Meldungen!$J$5,\"+\",\"\")","v":""}]
["203-116",null,null,"Obus ",null,"S",{"$nulls":3},1947,null,{"$f":"IF(Ergebnistabelle[[#This Row],[Signatur]]<>\"\",\"Vorschau\",\"\")","v":""},{"$f":"IF(IFERROR(MATCH(Ergebnistabelle[[#This Row],[Bild-ID]],Merkliste!B:B,0),\"\")<>\"\",CHAR(252),\"\")","v":""},{"$f":"IF(Ergebnistabelle[[#This Row],[Bild-ID]]<>\"\",\"Merken\",\"\")","v":"Merken"},true,true,{"$f":"Ergebnistabelle[[#This Row],[Spalte1]]*Ergebnistabelle[[#This Row],[Spalte2]]","v":1},1,false,false,false,false,false,true,false,false,false,false,false,false,false,false,false,false,false,false,false,false,false,false,false,false,false,false,false,false,false,false,false,false,true,false,false,false,false,false,false,false,false,false,false,false,false,"2020-01-01",{"$f":"IF(Ergebnistabelle[[#This Row],[Spalte50]]>=Meldungen!$J$5,\"+\",\"\")","v":""}]
["203-117",null,"Kaiserlich Königliche Schiessstätte","2xBw \n2xTw "," \n3"," \n ","historisch",{"$nulls":4},{"$f":"IF(Ergebnistabelle[[#This Row],[Signatur]]<>\"\",\"Vorschau\",\"\")","v":""},{"$f":"IF(IFERROR(MATCH(Ergebnistabelle[[#This Row],[Bild-ID]],Merkliste!B:B,0),\"\")<>\"\",CHAR(252),\"\")","v":""},{"$f":"IF(Ergebnistabelle[[#This Row],[Bild-ID]]<>\"\",\"Merken\",\"\")","v":"Merken"},true,true,{"$f":"Ergebnistabelle[[#This Row],[Spalte1]]*Ergebnistabelle[[#This Row],[Spalte2]]","v":1},1,false,true,true,false,false,false,false,false,true,false,false,false,false,false,false,false,false,false,true,false,false,false,false,false,false,false,false,false,false,false,false,false,false,false,false,false,false,false,false,false,false,false,false,false,false,"2020-01-01",{"$f":"IF(Ergebnistabelle[[#This Row],[Spalte50]]>=Meldungen!$J$5,\"+\",\"\")","v":""}]
["203-118",null,"Erzherzog-Karl-Platz, Brückenrampe","2xTw ",null,null,"historisch",{"$nulls":4},{"$f":"IF(Ergebnistabelle[[#This Row],[Signatur]]<>\"\",\"Vorschau\",\"\")","v":""},{"$f":"IF(IFERROR(MATCH(Ergebnistabelle[[#This Row],[Bild-ID]],Merkliste!B:B,0),\"\")<>\"\",CHAR(252),\"\")","v":""},{"$f":"IF(Ergebnistabelle[[#This Row],[Bild-ID]]<>\"\",\"Merken\",\"\")","v":"Merken"},true,true,{"$f":"Ergebnistabelle[[#This Row],[Spalte1]]*Ergebnistabelle[[#This Row],[Spalte2]]","v":1},1,false,true,false,false,false,false,false,false,true,false,false,false,false,false,false,false,false,false,false,false,false,false,false,false,false,false,false,false,false,false,false,false,false,false,false,false,false,false,false,false,false,false,false,false,false,"2020-01-01",{"$f":"IF(Ergebnistabelle[[#This Row],[Spalte50]]>=Meldungen!$J$5,\"+\",\"\")","v":""}]
["203-119",null,null,"2xTw ",null,null,"KSW",{"$nulls":3},"Wolfgang Tatra",{"$f":"IF(Ergebnistabelle[[#This Row],[Signatur]]<>\"\",\"Vorschau\",\"\")","v":""},{"$f":"IF(IFERROR(MATCH(Ergebnistabelle[[#This Row],[Bild-ID]],Merkliste!B:B,0),\"\")<>\"\",CHAR(252),\"\")","v":""},{"$f":"IF(Ergebnistabelle[[#This Row],[Bild-ID]]<>\"\",\"Merken\",\"\")","v":"Merken"},true,true,{"$f":"Ergebnistabelle[[#This Row],[Spalte1]]*Ergebnistabelle[[#This Row],[Spalte2]]","v":1},1,false,true,false,false,false,false,false,false,true,false,false,false,false,false,false,false,false,false,false,false,false,false,false,false,false,false,false,false,false,false,false,false,false,false,false,false,false,false,false,false,false,false,false,false,false,"2020-01-01",{"$f":"IF(Ergebnistabelle[[#This Row],[Spalte50]]>=Meldungen!$J$5,\"+\",\"\")","v":""}]
["203-120",null,null,"2xTw \n2xBw ","301 \n ","5 \n5",{"$nulls":4},"Wolfgang Tatra",{"$f":"IF(Ergebnistabelle[[#This Row],[Signatur]]<>\"\",\"Vorschau\",\"\")","v":""},{"$f":"IF(IFERROR(MATCH(Ergebnistabelle[[#This Row],[Bild-ID]],Merkliste!B:B,0),\"\")<>\"\",CHAR(252),\"\")","v":""},{"$f":"IF(Ergebnistabelle[[#This Row],[Bild-ID]]<>\"\",\"Merken\",\"\")","v":"Merken"},true,true,{"$f":"Ergebnistabelle[[#This Row],[Spalte1]]*Ergebnistabelle[[#This Row],[Spalte2]]","v":1},1,false,true,true,false,false,false,false,false,true,false,false,false,false,false,false,false,false,false,true,false,false,false,false,false,false,false,false,false,false,false,false,false,false,false,false,false,false,false,false,false,false,false,false,false,false,"2020-01-01",{"$f":"IF(Ergebnistabelle[[#This Row],[Spalte50]]>=Meldungen!$J$5,\"+\",\"\")","v":""}]
["203-121",null,null,"2xBw \n2xBw \n2xTw "," \n  \n15","58 \n58 \n58","Tw 15: KSW",{"$nulls":3},"Wolfgang Tatra",{"$f":"IF(Ergebnistabelle[[#This Row],[Signatur]]<>\"\",\"Vorschau\",\"\")","v":""},{"$f":"IF(IFERROR(MATCH(Ergebnistabelle[[#This Row],[Bild-ID]],Merkliste!B:B,0),\"\")<>\"\",CHAR(252),\"\")","v":""},{"$f":"IF(Ergebnistabelle[[#This Row],[Bild-ID]]<>\"\",\"Merken\",\"\")","v":"Merken"},true,true,{"$f":"Ergebnistabelle[[#This Row],[Spalte1]]*Ergebnistabelle[[#This Row],[Spalte2]]","v":1},1,false,true,true,false,false,false,false,false,true,false,false,false,false,false,false,false,false,false,true,false,false,false,false,false,false,false,false,false,false,false,false,false,false,false,false,false,false,false,false,false,false,false,false,false,false,"2020-01-01",{"$f":"IF(Ergebnistabelle[[#This Row],[Spalte50]]>=Meldungen!$J$5,\"+\",\"\")","v":""}]
["203-122",null,null,"2xTw ",28,"58","KSW",{"$nulls":3},"Wolfgang Tatra",{"$f":"IF(Ergebnistabelle[[#This Row],[Signatur]]<>\"\",\"Vorschau\",\"\")","v":""},{"$f":"IF(IFERROR(MATCH(Ergebnistabelle[[#This Row],[Bild-ID]],Merkliste!B:B,0),\"\")<>\"\",CHAR(252),\"\")","v":""},{"$f":"IF(Ergebnistabelle[[#This Row],[Bild-ID]]<>\"\",\"Merken\",\"\")","v":"Merken"},true,true,{"$f":"Ergebnistabelle[[#This Row],[Spalte1]]*Ergebnistabelle[[#This Row],[Spalte2]]","v":1},1,false,true,false,false,false,false,false,false,true,false,false,false,false,false,false,false,false,false,false,false,false,false,false,false,false,false,false,false,false,false,false,false,false,false,false,false,false,false,false,false,false,false,false,false,false,"2020-01-01",{"$f":"IF(Ergebnistabelle[[#This Row],[Spalte50]]>=Meldungen!$J$5,\"+\",\"\")","v":""}]
["203-123",null,null,"Obus ",null,null,"historisch",null,null,1908,null,{"$f":"IF(Ergebnistabelle[[#This Row],[Signatur]]<>\"\",\"Vorschau\",\"\")","v":""},{"$f":"IF(IFERROR(MATCH(Ergebnistabelle[[#This Row],[Bild-ID]],Merkliste!B:B,0),\"\")<>\"\",CHAR(252),\"\")","v":""},{"$f":"IF(Ergebnistabelle[[#This Row],[Bild-ID]]<>\"\",\"Merken\",\"\")","v":"Merken"},true,true,{"$f":"Ergebnistabelle[[#This Row],[Spalte1]]*Ergebnistabelle[[#This Row],[Spalte2]]","v":1},1,false,false,false,false,false,true,false,false,false,false,false,false,false,false,false,false,false,false,false,false,false,false,false,false,false,false,false,false,false,false,false,false,true,false,false,false,false,false,false,false,false,false,false,false,false,"2020-01-01",{"$f":"IF(Ergebnistabelle[[#This Row],[Spalte50]]>=Meldungen!$J$5,\"+\",\"\")","v":""}]
["203-124",null,null,"2xBw \n2xTw "," \n2528","317 \n ",{"$nulls":5},{"$f":"IF(Ergebnistabelle[[#This Row],[Signatur]]<>\"\",\"Vorschau\",\"\")","v":""},{"$f":"IF(IFERROR(MATCH(Ergebnistabelle[[#This Row],[Bild-ID]],Merkliste!B:B,0),\"\")<>\"\",CHAR(252),\"\")","v":""},{"$f":"IF(Ergebnistabelle[[#This Row],[Bild-ID]]<>\"\",\"Merken\",\"\")","v":"Merken"},true,true,{"$f":"Ergebnistabelle[[#This Row],[Spalte1]]*Ergebnistabelle[[#This Row],[Spalte2]]","v":1},1,false,true,true,false,false,false,false,false,true,false,false,false,false,false,false,false,false,false,true,false,false,false,false,false,false,false,false,false,false,false,false,false,false,false,false,false,false,false,false,false,false,false,false,false,false,"2020-01-01",{"$f":"IF(Ergebnistabelle[[#This Row],[Spalte50]]>=Meldungen!$J$5,\"+\",\"\")","v":""}]
["203-125",null,null,"2xTw ",2424,"360",{"$nulls":3},1973,null,{"$f":"IF(Ergebnistabelle[[#This Row],[Signatur]]<>\"\",\"Vorschau\",\"\")","v":""},{"$f":"IF(IFERROR(MATCH(Ergebnistabelle[[#This Row],[Bild-ID]],Merkliste!B:B,0),\"\")<>\"\",CHAR(252),\"\")","v":""},{"$f":"IF(Ergebnistabelle[[#This Row],[Bild-ID]]<>\"\",\"Merken\",\"\")","v":"Merken"},true,true,{"$f":"Ergebnistabelle[[#This Row],[Spalte1]]*Ergebnistabelle[[#This Row],[Spalte2]]","v":1},1,false,true,false,false,false,false,false,false,true,false,false,false,false,false,false,false,false,false,false,false,false,false,false,false,false,false,false,false,false,false,false,false,false,false,false,false,false,false,false,false,false,false,false,false,false,"2020-01-01",{"$f":"IF(Ergebnistabelle[[#This Row],[Spalte50]]>=Meldungen!$J$5,\"+\",\"\")","v":""}]
["203-126",null,"Johannesgasse/Heumarkt","2xBw \n2xTw \n2xBw ","1821 \n502 \n1714"," \n  \n ",null,10,5,1977,"Dr. Heinrich Dillmann",{"$f":"IF(Ergebnistabelle[[#This Row],[Signatur]]<>\"\",\"Vorschau\",\"\")","v":""},{"$f":"IF(IFERROR(MATCH(Ergebnistabelle[[#This Row],[Bild-ID]],Merkliste!B:B,0),\"\")<>\"\",CHAR(252),\"\")","v":""},{"$f":"IF(Ergebnistabelle[[#This Row],[Bild-ID]]<>\"\",\"Merken\",\"\")","v":"Merken"},true,true,{"$f":"Ergebnistabelle[[#This Row],[Spalte1]]*Ergebnistabelle[[#This Row],[Spalte2]]","v":1},1,false,true,true,false,false,false,false,false,true,false,false,false,false,false,false,false,false,false,true,false,false,false,false,false,false,false,false,false,false,false,false,false,false,false,false,false,false,false,false,false,false,false,false,false,false,"2020-01-01",{"$f":"IF(Ergebnistabelle[[#This Row],[Spalte50]]>=Meldungen!$J$5,\"+\",\"\")","v":""}]
["203-127","VDVA-0203-127","Endschleife Ottakring","4xGrwTw \n+4xGrwBw ","105 \n1205","46 \n46",null,26,7,1956,"John H. Price",{"$f":"IF(Ergebnistabelle[[#This Row],[Signatur]]<>\"\",\"Vorschau\",\"\")","v":"Vorschau"},{"$f":"IF(IFERROR(MATCH(Ergebnistabelle[[#This Row],[Bild-ID]],Merkliste!B:B,0),\"\")<>\"\",CHAR(252),\"\")","v":""},{"$f":"IF(Ergebnistabelle[[#This Row],[Bild-ID]]<>\"\",\"Merken\",\"\")","v":"Merken"},true,true,{"$f":"Ergebnistabelle[[#This Row],[Spalte1]]*Ergebnistabelle[[#This Row],[Spalte2]]","v":1},1,false,true,true,false,false,false,false,false,false,false,true,false,false,false,false,false,false,false,false,false,true,false,false,false,false,false,false,false,false,false,false,false,false,false,false,false,false,false,false,false,false,false,false,false,false,"2020-01-01",{"$f":"IF(Ergebnistabelle[[#This Row],[Spalte50]]>=Meldungen!$J$5,\"+\",\"\")","v":""}]
["203-128",null,null,"ArbBw ",1851,{"$nulls":6},{"$f":"IF(Ergebnistabelle[[#This Row],[Signatur]]<>\"\",\"Vorschau\",\"\")","v":""},{"$f":"IF(IFERROR(MATCH(Ergebnistabelle[[#This Row],[Bild-ID]],Merkliste!B:B,0),\"\")<>\"\",CHAR(252),\"\")","v":""},{"$f":"IF(Ergebnistabelle[[#This Row],[Bild-ID]]<>\"\",\"Merken\",\"\")","v":"Merken"},true,true,{"$f":"Ergebnistabelle[[#This Row],[Spalte1]]*Ergebnistabelle[[#This Row],[Spalte2]]","v":1},1,false,false,false,true,false,false,false,false,false,false,false,false,false,false,false,false,false,false,false,false,false,false,false,false,false,false,false,false,false,true,false,false,false,false,false,false,false,false,false,false,false,false,false,false,false,"2020-01-01",{"$f":"IF(Ergebnistabelle[[#This Row],[Spalte50]]>=Meldungen!$J$5,\"+\",\"\")","v":""}]
["203-129",null,null,"2xTw ",455,"8",{"$nulls":5},{"$f":"IF(Ergebnistabelle[[#This Row],[Signatur]]<>\"\",\"Vorschau\",\"\")","v":""},{"$f":"IF(IFERROR(MATCH(Ergebnistabelle[[#This Row],[Bild-ID]],Merkliste!B:B,0),\"\")<>\"\",CHAR(252),\"\")","v":""},{"$f":"IF(Ergebnistabelle[[#This Row],[Bild-ID]]<>\"\",\"Merken\",\"\")","v":"Merken"},true,true,{"$f":"Ergebnistabelle[[#This Row],[Spalte1]]*Ergebnistabelle[[#This Row],[Spalte2]]","v":1},1,false,true,false,false,false,false,false,false,true,false,false,false,false,false,false,false,false,false,false,false,false,false,false,false,false,false,false,false,false,false,false,false,false,false,false,false,false,false,false,false,false,false,false,false,false,"2020-01-01",{"$f":"IF(Ergebnistabelle[[#This Row],[Spalte50]]>=Meldungen!$J$5,\"+\",\"\")","v":""}]
["203-130",null,null,"2xTw ",2235,"L",{"$nulls":5},{"$f":"IF(Ergebnistabelle[[#This Row],[Signatur]]<>\"\",\"Vorschau\",\"\")","v":""},{"$f":"IF(IFERROR(MATCH(Ergebnistabelle[[#This Row],[Bild-ID]],Merkliste!B:B,0),\"\")<>\"\",CHAR(252),\"\")","v":""},{"$f":"IF(Ergebnistabelle[[#This Row],[Bild-ID]]<>\"\",\"Merken\",\"\")","v":"Merken"},true,true,{"$f":"Ergebnistabelle[[#This Row],[Spalte1]]*Ergebnistabelle[[#This Row],[Spalte2]]","v":1},1,false,true,false,false,false,false,false,false,true,false,false,false,false,false,false,false,false,false,false,false,false,false,false,false,false,false,false,false,false,false,false,false,false,false,false,false,false,false,false,false,false,false,false,false,false,"2020-01-01",{"$f":"IF(Ergebnistabelle[[#This Row],[Spalte50]]>=Meldungen!$J$5,\"+\",\"\")","v":""}]
["203-131",null,null,"2xTw ",400,null,"Ursprungsausführung, historisch",{"$nulls":3},"Werkfoto",{"$f":"IF(Ergebnistabelle[[#This Row],[Signatur]]<>\"\",\"Vorschau\",\"\")","v":""},{"$f":"IF(IFERROR(MATCH(Ergebnistabelle[[#This Row],[Bild-ID]],Merkliste!B:B,0),\"\")<>\"\",CHAR(252),\"\")","v":""},{"$f":"IF(Ergebnistabelle[[#This Row],[Bild-ID]]<>\"\",\"Merken\",\"\")","v":"Merken"},true,true,{"$f":"Ergebnistabelle[[#This Row],[Spalte1]]*Ergebnistabelle[[#This Row],[Spalte2]]","v":1},1,false,true,false,false,false,false,false,false,true,false,false,false,false,false,false,false,false,false,false,false,false,false,false,false,false,false,false,false,false,false,false,false,false,false,false,false,false,false,false,false,false,false,false,false,false,"2020-01-01",{"$f":"IF(Ergebnistabelle[[#This Row],[Spalte50]]>=Meldungen!$J$5,\"+\",\"\")","v":""}]
["203-132",null,null,"2xBw \n2xBw ","1962 \n ","71 \n71",{"$nulls":4},"Othmar Bamer",{"$f":"IF(Ergebnistabelle[[#This Row],[Signatur]]<>\"\",\"Vorschau\",\"\")","v":""},{"$f":"IF(IFERROR(MATCH(Ergebnistabelle[[#This Row],[Bild-ID]],Merkliste!B:B,0),\"\")<>\"\",CHAR(252),\"\")","v":""},{"$f":"IF(Ergebnistabelle[[#This Row],[Bild-ID]]<>\"\",\"Merken\",\"\")","v":"Merken"},true,true,{"$f":"Ergebnistabelle[[#This Row],[Spalte1]]*Ergebnistabelle[[#This Row],[Spalte2]]","v":1},1,false,false,true,false,false,false,false,false,false,false,false,false,false,false,false,false,false,false,true,false,false,false,false,false,false,false,false,false,false,false,false,false,false,false,false,false,false,false,false,false,false,false,false,false,false,"2020-01-01",{"$f":"IF(Ergebnistabelle[[#This Row],[Spalte50]]>=Meldungen!$J$5,\"+\",\"\")","v":""}]
["203-133","VDVA-0203-133","Friedrich-Engels-Platz","4xGrwTw \n+4xGrwBw ","435 \n1011","0 \n0",null,26,7,1956,"John H. Price",{"$f":"IF(Ergebnistabelle[[#This Row],[Signatur]]<>\"\",\"Vorschau\",\"\")","v":"Vorschau"},{"$f":"IF(IFERROR(MATCH(Ergebnistabelle[[#This Row],[Bild-ID]],Merkliste!B:B,0),\"\")<>\"\",CHAR(252),\"\")","v":""},{"$f":"IF(Ergebnistabelle[[#This Row],[Bild-ID]]<>\"\",\"Merken\",\"\")","v":"Merken"},true,true,{"$f":"Ergebnistabelle[[#This Row],[Spalte1]]*Ergebnistabelle[[#This Row],[Spalte2]]","v":1},1,false,true,true,false,false,false,false,false,false,false,true,false,false,false,false,false,false,false,false,false,true,false,false,false,false,false,false,false,false,false,false,false,false,false,false,false,false,false,false,false,false,false,false,false,false,"2020-01-01",{"$f":"IF(Ergebnistabelle[[#This Row],[Spalte50]]>=Meldungen!$J$5,\"+\",\"\")","v":""}]
["203-134","VDVA-0203-134","Betriebshof Meidling","2xTw ",{"$nulls":3},27,7,1956,"John H. Price",{"$f":"IF(Ergebnistabelle[[#This Row],[Signatur]]<>\"\",\"Vorschau\",\"\")","v":"Vorschau"},{"$f":"IF(IFERROR(MATCH(Ergebnistabelle[[#This Row],[Bild-ID]],Merkliste!B:B,0),\"\")<>\"\",CHAR(252),\"\")","v":""},{"$f":"IF(Ergebnistabelle[[#This Row],[Bild-ID]]<>\"\",\"Merken\",\"\")","v":"Merken"},true,true,{"$f":"Ergebnistabelle[[#This Row],[Spalte1]]*Ergebnistabelle[[#This Row],[Spalte2]]","v":1},1,false,true,false,false,false,false,false,false,true,false,false,false,false,false,false,false,false,false,false,false,false,false,false,false,false,false,false,false,false,false,false,false,false,false,false,false,false,false,false,false,false,false,false,false,false,"2020-01-01",{"$f":"IF(Ergebnistabelle[[#This Row],[Spalte50]]>=Meldungen!$J$5,\"+\",\"\")","v":""}]
["203-135",null,null,"Bus ",null,null,"Saurer Bus",{"$nulls":4},{"$f":"IF(Ergebnistabelle[[#This Row],[Signatur]]<>\"\",\"Vorschau\",\"\")","v":""},{"$f":"IF(IFERROR(MATCH(Ergebnistabelle[[#This Row],[Bild-ID]],Merkliste!B:B,0),\"\")<>\"\",CHAR(252),\"\")","v":""},{"$f":"IF(Ergebnistabelle[[#This Row],[Bild-ID]]<>\"\",\"Merken\",\"\")","v":"Merken"},true,true,{"$f":"Ergebnistabelle[[#This Row],[Spalte1]]*Ergebnistabelle[[#This Row],[Spalte2]]","v":1},1,false,false,false,false,false,false,true,false,false,false,false,false,false,false,false,false,false,false,false,false,false,false,false,false,false,false,false,false,false,false,false,false,false,false,false,false,false,true,false,false,false,false,false,false,false,"2020-01-01",{"$f":"IF(Ergebnistabelle[[#This Row],[Spalte50]]>=Meldungen!$J$5,\"+\",\"\")","v":""}]
["203-136",null,null,"2xTw ",2151,null,"Rückkehr aus Deutschland",{"$nulls":4},{"$f":"IF(Ergebnistabelle[[#This Row],[Signatur]]<>\"\",\"Vorschau\",\"\")","v":""},{"$f":"IF(IFERROR(MATCH(Ergebnistabelle[[#This Row],[Bild-ID]],Merkliste!B:B,0),\"\")<>\"\",CHAR(252),\"\")","v":""},{"$f":"IF(Ergebnistabelle[[#This Row],[Bild-ID]]<>\"\",\"Merken\",\"\")","v":"Merken"},true,true,{"$f":"Ergebnistabelle[[#This Row],[Spalte1]]*Ergebnistabelle[[#This Row],[Spalte2]]","v":1},1,false,true,false,false,false,false,false,false,true,false,false,false,false,false,false,false,false,false,false,false,false,false,false,false,false,false,false,false,false,false,false,false,false,false,false,false,false,false,false,false,false,false,false,false,false,"2020-01-01",{"$f":"IF(Ergebnistabelle[[#This Row],[Spalte50]]>=Meldungen!$J$5,\"+\",\"\")","v":""}]
["203-137",null,null,"4xTw ",null,null,"ex USA",{"$nulls":3},"Wolfgang Tatra",{"$f":"IF(Ergebnistabelle[[#This Row],[Signatur]]<>\"\",\"Vorschau\",\"\")","v":""},{"$f":"IF(IFERROR(MATCH(Ergebnistabelle[[#This Row],[Bild-ID]],Merkliste!B:B,0),\"\")<>\"\",CHAR(252),\"\")","v":""},{"$f":"IF(Ergebnistabelle[[#This Row],[Bild-ID]]<>\"\",\"Merken\",\"\")","v":"Merken"},true,true,{"$f":"Ergebnistabelle[[#This Row],[Spalte1]]*Ergebnistabelle[[#This Row],[Spalte2]]","v":1},1,false,true,false,false,false,false,false,false,false,true,false,false,false,false,false,false,false,false,false,false,false,false,false,false,false,false,false,false,false,false,false,false,false,false,false,false,false,false,false,false,false,false,false,false,false,"2020-01-01",{"$f":"IF(Ergebnistabelle[[#This Row],[Spalte50]]>=Meldungen!$J$5,\"+\",\"\")","v":""}]
["203-138",null,null,"4xTw ",null,null,"exTATS NY",{"$nulls":3},"Spiridion Jovovic",{"$f":"IF(Ergebnistabelle[[#This Row],[Signatur]]<>\"\",\"Vorschau\",\"\")","v":""},{"$f":"IF(IFERROR(MATCH(Ergebnistabelle[[#This Row],[Bild-ID]],Merkliste!B:B,0),\"\")<>\"\",CHAR(252),\"\")","v":""},{"$f":"IF(Ergebnistabelle[[#This Row],[Bild-ID]]<>\"\",\"Merken\",\"\")","v":"Merken"},true,true,{"$f":"Ergebnistabelle[[#This Row],[Spalte1]]*Ergebnistabelle[[#This Row],[Spalte2]]","v":1},1,false,true,false,false,false,false,false,false,false,true,false,false,false,false,false,false,false,false,false,false,false,false,false,false,false,false,false,false,false,false,false,false,false,false,false,false,false,false,false,false,false,false,false,false,false,"2020-01-01",{"$f":"IF(Ergebnistabelle[[#This Row],[Spalte50]]>=Meldungen!$J$5,\"+\",\"\")","v":""}]
["203-139",null,null,"2xTw ",null,"118",{"$nulls":4},"Gießler",{"$f":"IF(Ergebnistabelle[[#This Row],[Signatur]]<>\"\",\"Vorschau\",\"\")","v":""},{"$f":"IF(IFERROR(MATCH(Ergebnistabelle[[#This Row],[Bild-ID]],Merkliste!B:B,0),\"\")<>\"\",CHAR(252),\"\")","v":""},{"$f":"IF(Ergebnistabelle[[#This Row],[Bild-ID]]<>\"\",\"Merken\",\"\")","v":"Merken"},true,true,{"$f":"Ergebnistabelle[[#This Row],[Spalte1]]*Ergebnistabelle[[#This Row],[Spalte2]]","v":1},1,false,true,false,false,false,false,false,false,true,false,false,false,false,false,false,false,false,false,false,false,false,false,false,false,false,false,false,false,false,false,false,false,false,false,false,false,false,false,false,false,false,false,false,false,false,"2020-01-01",{"$f":"IF(Ergebnistabelle[[#This Row],[Spalte50]]>=Meldungen!$J$5,\"+\",\"\")","v":""}]
["203-140",null,null,"4xTw ",500,null,"Ursprungsausführung, historisch",{"$nulls":3},"Werkfoto",{"$f":"IF(Ergebnistabelle[[#This Row],[Signatur]]<>\"\",\"Vorschau\",\"\")","v":""},{"$f":"IF(IFERROR(MATCH(Ergebnistabelle[[#This Row],[Bild-ID]],Merkliste!B:B,0),\"\")<>\"\",CHAR(252),\"\")","v":""},{"$f":"IF(Ergebnistabelle[[#This Row],[Bild-ID]]<>\"\",\"Merken\",\"\")","v":"Merken"},true,true,{"$f":"Ergebnistabelle[[#This Row],[Spalte1]]*Ergebnistabelle[[#This Row],[Spalte2]]","v":1},1,false,true,false,false,false,false,false,false,false,true,false,false,false,false,false,false,false,false,false,false,false,false,false,false,false,false,false,false,false,false,false,false,false,false,false,false,false,false,false,false,false,false,false,false,false,"2020-01-01",{"$f":"IF(Ergebnistabelle[[#This Row],[Spalte50]]>=Meldungen!$J$5,\"+\",\"\")","v":""}]
["203-141",null,null,"4xTw ",4202,null,"ex New York",{"$nulls":4},{"$f":"IF(Ergebnistabelle[[#This Row],[Signatur]]<>\"\",\"Vorschau\",\"\")","v":""},{"$f":"IF(IFERROR(MATCH(Ergebnistabelle[[#This Row],[Bild-ID]],Merkliste!B:B,0),\"\")<>\"\",CHAR(252),\"\")","v":""},{"$f":"IF(Ergebnistabelle[[#This Row],[Bild-ID]]<>\"\",\"Merken\",\"\")","v":"Merken"},true,true,{"$f":"Ergebnistabelle[[#This Row],[Spalte1]]*Ergebnistabelle[[#This Row],[Spalte2]]","v":1},1,false,true,false,false,false,false,false,false,false,true,false,false,false,false,false,false,false,false,false,false,false,false,false,false,false,false,false,false,false,false,false,false,false,false,false,false,false,false,false,false,false,false,false,false,false,"2020-01-01",{"$f":"IF(Ergebnistabelle[[#This Row],[Spalte50]]>=Meldungen!$J$5,\"+\",\"\")","v":""}]
["203-142",null,null,"2xTw ",{"$nulls":4},11,1950,null,{"$f":"IF(Ergebnistabelle[[#This Row],[Signatur]]<>\"\",\"Vorschau\",\"\")","v":""},{"$f":"IF(IFERROR(MATCH(Ergebnistabelle[[#This Row],[Bild-ID]],Merkliste!B:B,0),\"\")<>\"\",CHAR(252),\"\")","v":""},{"$f":"IF(Ergebnistabelle[[#This Row],[Bild-ID]]<>\"\",\"Merken\",\"\")","v":"Merken"},true,true,{"$f":"Ergebnistabelle[[#This Row],[Spalte1]]*Ergebnistabelle[[#This Row],[Spalte2]]","v":1},1,false,true,false,false,false,false,false,false,true,false,false,false,false,false,false,false,false,false,false,false,false,false,false,false,false,false,false,false,false,false,false,false,false,false,false,false,false,false,false,false,false,false,false,false,false,"2020-01-01",{"$f":"IF(Ergebnistabelle[[#This Row],[Spalte50]]>=Meldungen!$J$5,\"+\",\"\")","v":""}]
["203-143",null,"Schottenring","4xTw ",4224,{"$nulls":3},3,1950,null,{"$f":"IF(Ergebnistabelle[[#This Row],[Signatur]]<>\"\",\"Vorschau\",\"\")","v":""},{"$f":"IF(IFERROR(MATCH(Ergebnistabelle[[#This Row],[Bild-ID]],Merkliste!B:B,0),\"\")<>\"\",CHAR(252),\"\")","v":""},{"$f":"IF(Ergebnistabelle[[#This Row],[Bild-ID]]<>\"\",\"Merken\",\"\")","v":"Merken"},true,true,{"$f":"Ergebnistabelle[[#This Row],[Spalte1]]*Ergebnistabelle[[#This Row],[Spalte2]]","v":1},1,false,true,false,false,false,false,false,false,false,true,false,false,false,false,false,false,false,false,false,false,false,false,false,false,false,false,false,false,false,false,false,false,false,false,false,false,false,false,false,false,false,false,false,false,false,"2020-01-01",{"$f":"IF(Ergebnistabelle[[#This Row],[Spalte50]]>=Meldungen!$J$5,\"+\",\"\")","v":""}]
["203-144",null,null,"2xTw ",2151,"GD","Stadtbahn",{"$nulls":4},{"$f":"IF(Ergebnistabelle[[#This Row],[Signatur]]<>\"\",\"Vorschau\",\"\")","v":""},{"$f":"IF(IFERROR(MATCH(Ergebnistabelle[[#This Row],[Bild-ID]],Merkliste!B:B,0),\"\")<>\"\",CHAR(252),\"\")","v":""},{"$f":"IF(Ergebnistabelle[[#This Row],[Bild-ID]]<>\"\",\"Merken\",\"\")","v":"Merken"},true,true,{"$f":"Ergebnistabelle[[#This Row],[Spalte1]]*Ergebnistabelle[[#This Row],[Spalte2]]","v":1},1,false,false,false,false,false,false,false,true,false,false,false,false,false,false,false,false,false,false,false,false,false,false,false,false,false,false,false,false,false,false,false,false,false,false,false,false,false,false,false,false,false,false,true,false,false,"2020-01-01",{"$f":"IF(Ergebnistabelle[[#This Row],[Spalte50]]>=Meldungen!$J$5,\"+\",\"\")","v":""}]
["203-145",null,null,"2xTw ",null,"58","KSW",{"$nulls":4},{"$f":"IF(Ergebnistabelle[[#This Row],[Signatur]]<>\"\",\"Vorschau\",\"\")","v":""},{"$f":"IF(IFERROR(MATCH(Ergebnistabelle[[#This Row],[Bild-ID]],Merkliste!B:B,0),\"\")<>\"\",CHAR(252),\"\")","v":""},{"$f":"IF(Ergebnistabelle[[#This Row],[Bild-ID]]<>\"\",\"Merken\",\"\")","v":"Merken"},true,true,{"$f":"Ergebnistabelle[[#This Row],[Spalte1]]*Ergebnistabelle[[#This Row],[Spalte2]]","v":1},1,false,true,false,false,false,false,false,false,true,false,false,false,false,false,false,false,false,false,false,false,false,false,false,false,false,false,false,false,false,false,false,false,false,false,false,false,false,false,false,false,false,false,false,false,false,"2020-01-01",{"$f":"IF(Ergebnistabelle[[#This Row],[Spalte50]]>=Meldungen!$J$5,\"+\",\"\")","v":""}]
["203-146",null,"Schottenring","2xTw \n2xBw \n2xBw ","4036 \n  \n ","T \nT \nT",null,27,5,1951,"Josef Otto Slezak",{"$f":"IF(Ergebnistabelle[[#This Row],[Signatur]]<>\"\",\"Vorschau\",\"\")","v":""},{"$f":"IF(IFERROR(MATCH(Ergebnistabelle[[#This Row],[Bild-ID]],Merkliste!B:B,0),\"\")<>\"\",CHAR(252),\"\")","v":""},{"$f":"IF(Ergebnistabelle[[#This Row],[Bild-ID]]<>\"\",\"Merken\",\"\")","v":"Merken"},true,true,{"$f":"Ergebnistabelle[[#This Row],[Spalte1]]*Ergebnistabelle[[#This Row],[Spalte2]]","v":1},1,false,true,true,false,false,false,false,false,true,false,false,false,false,false,false,false,false,false,true,false,false,false,false,false,false,false,false,false,false,false,false,false,false,false,false,false,false,false,false,false,false,false,false,false,false,"2020-01-01",{"$f":"IF(Ergebnistabelle[[#This Row],[Spalte50]]>=Meldungen!$J$5,\"+\",\"\")","v":""}]
["203-147",null,null,"2xBw \n4xTw \n2xBw "," \n6101 \n ","31 \n31 \n31",null,8,3,1947,null,{"$f":"IF(Ergebnistabelle[[#This Row],[Signatur]]<>\"\",\"Vorschau\",\"\")","v":""},{"$f":"IF(IFERROR(MATCH(Ergebnistabelle[[#This Row],[Bild-ID]],Merkliste!B:B,0),\"\")<>\"\",CHAR(252),\"\")","v":""},{"$f":"IF(Ergebnistabelle[[#This Row],[Bild-ID]]<>\"\",\"Merken\",\"\")","v":"Merken"},true,true,{"$f":"Ergebnistabelle[[#This Row],[Spalte1]]*Ergebnistabelle[[#This Row],[Spalte2]]","v":1},1,false,true,true,false,false,false,false,false,true,false,false,false,false,false,false,false,false,false,true,false,false,false,false,false,false,false,false,false,false,false,false,false,false,false,false,false,false,false,false,false,false,false,false,false,false,"2020-01-01",{"$f":"IF(Ergebnistabelle[[#This Row],[Spalte50]]>=Meldungen!$J$5,\"+\",\"\")","v":""}]
["203-148",null,null,"ArbTw \n2xBw \n2xBw ","6044 \n  \n "," \n  \n ",null,11,3,1947,null,{"$f":"IF(Ergebnistabelle[[#This Row],[Signatur]]<>\"\",\"Vorschau\",\"\")","v":""},{"$f":"IF(IFERROR(MATCH(Ergebnistabelle[[#This Row],[Bild-ID]],Merkliste!B:B,0),\"\")<>\"\",CHAR(252),\"\")","v":""},{"$f":"IF(Ergebnistabelle[[#This Row],[Bild-ID]]<>\"\",\"Merken\",\"\")","v":"Merken"},true,true,{"$f":"Ergebnistabelle[[#This Row],[Spalte1]]*Ergebnistabelle[[#This Row],[Spalte2]]","v":1},1,false,false,false,true,false,false,false,false,false,false,false,false,false,false,false,false,false,false,false,false,false,false,false,false,false,false,false,false,true,false,false,false,false,false,false,false,false,false,false,false,false,false,false,false,false,"2020-01-01",{"$f":"IF(Ergebnistabelle[[#This Row],[Spalte50]]>=Meldungen!$J$5,\"+\",\"\")","v":""}]
["203-149",null,null,"2xTw \n2xBw \n2xBw ","54 \n  \n ","B \nB \nB",{"$nulls":4},"Wolfgang Tatra",{"$f":"IF(Ergebnistabelle[[#This Row],[Signatur]]<>\"\",\"Vorschau\",\"\")","v":""},{"$f":"IF(IFERROR(MATCH(Ergebnistabelle[[#This Row],[Bild-ID]],Merkliste!B:B,0),\"\")<>\"\",CHAR(252),\"\")","v":""},{"$f":"IF(Ergebnistabelle[[#This Row],[Bild-ID]]<>\"\",\"Merken\",\"\")","v":"Merken"},true,true,{"$f":"Ergebnistabelle[[#This Row],[Spalte1]]*Ergebnistabelle[[#This Row],[Spalte2]]","v":1},1,false,true,true,false,false,false,false,false,true,false,false,false,false,false,false,false,false,false,true,false,false,false,false,false,false,false,false,false,false,false,false,false,false,false,false,false,false,false,false,false,false,false,false,false,false,"2020-01-01",{"$f":"IF(Ergebnistabelle[[#This Row],[Spalte50]]>=Meldungen!$J$5,\"+\",\"\")","v":""}]
["203-150",null,null,"2xTw ",2490,"42",{"$nulls":5},{"$f":"IF(Ergebnistabelle[[#This Row],[Signatur]]<>\"\",\"Vorschau\",\"\")","v":""},{"$f":"IF(IFERROR(MATCH(Ergebnistabelle[[#This Row],[Bild-ID]],Merkliste!B:B,0),\"\")<>\"\",CHAR(252),\"\")","v":""},{"$f":"IF(Ergebnistabelle[[#This Row],[Bild-ID]]<>\"\",\"Merken\",\"\")","v":"Merken"},true,true,{"$f":"Ergebnistabelle[[#This Row],[Spalte1]]*Ergebnistabelle[[#This Row],[Spalte2]]","v":1},1,false,true,false,false,false,false,false,false,true,false,false,false,false,false,false,false,false,false,false,false,false,false,false,false,false,false,false,false,false,false,false,false,false,false,false,false,false,false,false,false,false,false,false,false,false,"2020-01-01",{"$f":"IF(Ergebnistabelle[[#This Row],[Spalte50]]>=Meldungen!$J$5,\"+\",\"\")","v":""}]
["203-151",null,null,"2xTw ",462,"62",{"$nulls":5},{"$f":"IF(Ergebnistabelle[[#This Row],[Signatur]]<>\"\",\"Vorschau\",\"\")","v":""},{"$f":"IF(IFERROR(MATCH(Ergebnistabelle[[#This Row],[Bild-ID]],Merkliste!B:B,0),\"\")<>\"\",CHAR(252),\"\")","v":""},{"$f":"IF(Ergebnistabelle[[#This Row],[Bild-ID]]<>\"\",\"Merken\",\"\")","v":"Merken"},true,true,{"$f":"Ergebnistabelle[[#This Row],[Spalte1]]*Ergebnistabelle[[#This Row],[Spalte2]]","v":1},1,false,true,false,false,false,false,false,false,true,false,false,false,false,false,false,false,false,false,false,false,false,false,false,false,false,false,false,false,false,false,false,false,false,false,false,false,false,false,false,false,false,false,false,false,false,"2020-01-01",{"$f":"IF(Ergebnistabelle[[#This Row],[Spalte50]]>=Meldungen!$J$5,\"+\",\"\")","v":""}]
["203-152",null,null,"2xTw ",83,"A",{"$nulls":4},"E. Schmidt",{"$f":"IF(Ergebnistabelle[[#This Row],[Signatur]]<>\"\",\"Vorschau\",\"\")","v":""},{"$f":"IF(IFERROR(MATCH(Ergebnistabelle[[#This Row],[Bild-ID]],Merkliste!B:B,0),\"\")<>\"\",CHAR(252),\"\")","v":""},{"$f":"IF(Ergebnistabelle[[#This Row],[Bild-ID]]<>\"\",\"Merken\",\"\")","v":"Merken"},true,true,{"$f":"Ergebnistabelle[[#This Row],[Spalte1]]*Ergebnistabelle[[#This Row],[Spalte2]]","v":1},1,false,true,false,false,false,false,false,false,true,false,false,false,false,false,false,false,false,false,false,false,false,false,false,false,false,false,false,false,false,false,false,false,false,false,false,false,false,false,false,false,false,false,false,false,false,"2020-01-01",{"$f":"IF(Ergebnistabelle[[#This Row],[Spalte50]]>=Meldungen!$J$5,\"+\",\"\")","v":""}]
["203-153",null,null,"2xBw \nDampflok \n2xBw "," \n  \n31"," \n  \n ","Dampfstraßenbahn, historisch",{"$nulls":4},{"$f":"IF(Ergebnistabelle[[#This Row],[Signatur]]<>\"\",\"Vorschau\",\"\")","v":""},{"$f":"IF(IFERROR(MATCH(Ergebnistabelle[[#This Row],[Bild-ID]],Merkliste!B:B,0),\"\")<>\"\",CHAR(252),\"\")","v":""},{"$f":"IF(Ergebnistabelle[[#This Row],[Bild-ID]]<>\"\",\"Merken\",\"\")","v":"Merken"},true,true,{"$f":"Ergebnistabelle[[#This Row],[Spalte1]]*Ergebnistabelle[[#This Row],[Spalte2]]","v":1},1,false,true,true,false,false,false,false,false,false,false,false,false,false,false,false,false,false,true,true,false,false,false,false,false,false,false,false,false,false,false,false,false,false,false,false,false,false,false,false,false,false,false,false,false,false,"2020-01-01",{"$f":"IF(Ergebnistabelle[[#This Row],[Spalte50]]>=Meldungen!$J$5,\"+\",\"\")","v":""}]
["203-154",null,null,"2xBw \n2xTw ","135i \n426","231 \n231",{"$nulls":5},{"$f":"IF(Ergebnistabelle[[#This Row],[Signatur]]<>\"\",\"Vorschau\",\"\")","v":""},{"$f":"IF(IFERROR(MATCH(Ergebnistabelle[[#This Row],[Bild-ID]],Merkliste!B:B,0),\"\")<>\"\",CHAR(252),\"\")","v":""},{"$f":"IF(Ergebnistabelle[[#This Row],[Bild-ID]]<>\"\",\"Merken\",\"\")","v":"Merken"},true,true,{"$f":"Ergebnistabelle[[#This Row],[Spalte1]]*Ergebnistabelle[[#This Row],[Spalte2]]","v":1},1,false,true,true,false,false,false,false,false,true,false,false,false,false,false,false,false,false,false,true,false,false,false,false,false,false,false,false,false,false,false,false,false,false,false,false,false,false,false,false,false,false,false,false,false,false,"2020-01-01",{"$f":"IF(Ergebnistabelle[[#This Row],[Spalte50]]>=Meldungen!$J$5,\"+\",\"\")","v":""}]
["203-155",null,null,"2xTw ",415,"40",{"$nulls":5},{"$f":"IF(Ergebnistabelle[[#This Row],[Signatur]]<>\"\",\"Vorschau\",\"\")","v":""},{"$f":"IF(IFERROR(MATCH(Ergebnistabelle[[#This Row],[Bild-ID]],Merkliste!B:B,0),\"\")<>\"\",CHAR(252),\"\")","v":""},{"$f":"IF(Ergebnistabelle[[#This Row],[Bild-ID]]<>\"\",\"Merken\",\"\")","v":"Merken"},true,true,{"$f":"Ergebnistabelle[[#This Row],[Spalte1]]*Ergebnistabelle[[#This Row],[Spalte2]]","v":1},1,false,true,false,false,false,false,false,false,true,false,false,false,false,false,false,false,false,false,false,false,false,false,false,false,false,false,false,false,false,false,false,false,false,false,false,false,false,false,false,false,false,false,false,false,false,"2020-01-01",{"$f":"IF(Ergebnistabelle[[#This Row],[Spalte50]]>=Meldungen!$J$5,\"+\",\"\")","v":""}]
["203-156",null,null,"2xTw \n2xBw ","459 \n ","52 \n52",{"$nulls":5},{"$f":"IF(Ergebnistabelle[[#This Row],[Signatur]]<>\"\",\"Vorschau\",\"\")","v":""},{"$f":"IF(IFERROR(MATCH(Ergebnistabelle[[#This Row],[Bild-ID]],Merkliste!B:B,0),\"\")<>\"\",CHAR(252),\"\")","v":""},{"$f":"IF(Ergebnistabelle[[#This Row],[Bild-ID]]<>\"\",\"Merken\",\"\")","v":"Merken"},true,true,{"$f":"Ergebnistabelle[[#This Row],[Spalte1]]*Ergebnistabelle[[#This Row],[Spalte2]]","v":1},1,false,true,true,false,false,false,false,false,true,false,false,false,false,false,false,false,false,false,true,false,false,false,false,false,false,false,false,false,false,false,false,false,false,false,false,false,false,false,false,false,false,false,false,false,false,"2020-01-01",{"$f":"IF(Ergebnistabelle[[#This Row],[Spalte50]]>=Meldungen!$J$5,\"+\",\"\")","v":""}]
["203-157",null,null,"2xTw (Typ G) ",489,"13",{"$nulls":5},{"$f":"IF(Ergebnistabelle[[#This Row],[Signatur]]<>\"\",\"Vorschau\",\"\")","v":""},{"$f":"IF(IFERROR(MATCH(Ergebnistabelle[[#This Row],[Bild-ID]],Merkliste!B:B,0),\"\")<>\"\",CHAR(252),\"\")","v":""},{"$f":"IF(Ergebnistabelle[[#This Row],[Bild-ID]]<>\"\",\"Merken\",\"\")","v":"Merken"},true,true,{"$f":"Ergebnistabelle[[#This Row],[Spalte1]]*Ergebnistabelle[[#This Row],[Spalte2]]","v":1},1,false,true,false,false,false,false,false,false,true,false,false,false,false,false,false,false,false,false,false,false,false,false,false,false,false,false,false,false,false,false,false,false,false,false,false,false,false,false,false,false,false,false,false,false,false,"2020-01-01",{"$f":"IF(Ergebnistabelle[[#This Row],[Spalte50]]>=Meldungen!$J$5,\"+\",\"\")","v":""}]
["203-158",null,"Margaretengürtel","2xTw (Typ G3) ",997,"6",null,21,7,1953,null,{"$f":"IF(Ergebnistabelle[[#This Row],[Signatur]]<>\"\",\"Vorschau\",\"\")","v":""},{"$f":"IF(IFERROR(MATCH(Ergebnistabelle[[#This Row],[Bild-ID]],Merkliste!B:B,0),\"\")<>\"\",CHAR(252),\"\")","v":""},{"$f":"IF(Ergebnistabelle[[#This Row],[Bild-ID]]<>\"\",\"Merken\",\"\")","v":"Merken"},{"$f":"IF(IFERROR(MATCH(R162,$BL$3:$UP$3,0),FALSE)<>FALSE,TRUE)","v":true},{"$f":"OR(S162=S$3, W162=W$3, AA162=AA$3, AB162=AB$3, AC162=AC$3, AD162=AD$3, AE162=AE$3, AF162=AF$3, AG162=AG$3, AH162=AH$3, AI162=AI$3, AJ162=AJ$3, AK162=AK$3, AL162=AL$3, AM162=AM$3, AN162=AN$3, AO162=AO$3, AP162=AP$3, AQ162=AQ$3, AR162=AR$3, AS162=AS$3, AT162=AT$3, AU162=AU$3, AV162=AV$3, AW162=AW$3, AX162=AX$3, AY162=AY$3, AZ162=AZ$3, BA162=BA$3, BB162=BB$3, BC162=BC$3, BD162=BD$3, BE162=BE$3, BF162=BF$3, BG162=BG$3, BH162=BH$3, BI162=BI$3, BJ162=BJ$3, BK162=BK$3)","v":true},{"$f":"Ergebnistabelle[[#This Row],[Spalte1]]*Ergebnistabelle[[#This Row],[Spalte2]]","v":1},1,false,true,false,false,false,false,false,false,true,false,false,false,false,false,false,false,false,false,false,false,false,false,false,false,false,false,false,false,false,false,false,false,false,false,false,false,false,false,false,false,false,false,false,false,false,"2020-01-01",{"$f":"IF(Ergebnistabelle[[#This Row],[Spalte50]]>=Meldungen!$J$5,\"+\",\"\")","v":""}]
["203-159",null,null,"2xTw ",2101,"118",{"$nulls":5},{"$f":"IF(Ergebnistabelle[[#This Row],[Signatur]]<>\"\",\"Vorschau\",\"\")","v":""},{"$f":"IF(IFERROR(MATCH(Ergebnistabelle[[#This Row],[Bild-ID]],Merkliste!B:B,0),\"\")<>\"\",CHAR(252),\"\")","v":""},{"$f":"IF(Ergebnistabelle[[#This Row],[Bild-ID]]<>\"\",\"Merken\",\"\")","v":"Merken"},true,true,{"$f":"Ergebnistabelle[[#This Row],[Spalte1]]*Ergebnistabelle[[#This Row],[Spalte2]]","v":1},1,false,true,false,false,false,false,false,false,true,false,false,false,false,false,false,false,false,false,false,false,false,false,false,false,false,false,false,false,false,false,false,false,false,false,false,false,false,false,false,false,false,false,false,false,false,"2020-01-01",{"$f":"IF(Ergebnistabelle[[#This Row],[Spalte50]]>=Meldungen!$J$5,\"+\",\"\")","v":""}]
["203-160",null,"Schüttelstraße bei Rotundenbrücke","2xTw \n2xBw ","5198 \n ","L \nL",{"$nulls":5},{"$f":"IF(Ergebnistabelle[[#This Row],[Signatur]]<>\"\",\"Vorschau\",\"\")","v":""},{"$f":"IF(IFERROR(MATCH(Ergebnistabelle[[#This Row],[Bild-ID]],Merkliste!B:B,0),\"\")<>\"\",CHAR(252),\"\")","v":""},{"$f":"IF(Ergebnistabelle[[#This Row],[Bild-ID]]<>\"\",\"Merken\",\"\")","v":"Merken"},true,true,{"$f":"Ergebnistabelle[[#This Row],[Spalte1]]*Ergebnistabelle[[#This Row],[Spalte2]]","v":1},1,false,true,true,false,false,false,false,false,true,false,false,false,false,false,false,false,false,false,true,false,false,false,false,false,false,false,false,false,false,false,false,false,false,false,false,false,false,false,false,false,false,false,false,false,false,"2020-01-01",{"$f":"IF(Ergebnistabelle[[#This Row],[Spalte50]]>=Meldungen!$J$5,\"+\",\"\")","v":""}]
["203-161",null,"Landstraßer Gürtel vor Südbahnhof","2xTw (Typ L2) \n2xBw ","2585 \n ","O \nO",{"$nulls":5},{"$f":"IF(Ergebnistabelle[[#This Row],[Signatur]]<>\"\",\"Vorschau\",\"\")","v":""},{"$f":"IF(IFERROR(MATCH(Ergebnistabelle[[#This Row],[Bild-ID]],Merkliste!B:B,0),\"\")<>\"\",CHAR(252),\"\")","v":""},{"$f":"IF(Ergebnistabelle[[#This Row],[Bild-ID]]<>\"\",\"Merken\",\"\")","v":"Merken"},true,true,{"$f":"Ergebnistabelle[[#This Row],[Spalte1]]*Ergebnistabelle[[#This Row],[Spalte2]]","v":1},1,false,true,false,false,false,false,false,false,true,false,false,false,false,false,false,false,false,false,false,false,false,false,false,false,false,false,false,false,false,false,false,false,false,false,false,false,false,false,false,false,false,false,false,false,false,"2020-01-01",{"$f":"IF(Ergebnistabelle[[#This Row],[Spalte50]]>=Meldungen!$J$5,\"+\",\"\")","v":""}]
["203-162",null,null,"2xBw \n2xBw \n2xTw "," \n  \n2607","62 \n62 \n62",{"$nulls":5},{"$f":"IF(Ergebnistabelle[[#This Row],[Signatur]]<>\"\",\"Vorschau\",\"\")","v":""},{"$f":"IF(IFERROR(MATCH(Ergebnistabelle[[#This Row],[Bild-ID]],Merkliste!B:B,0),\"\")<>\"\",CHAR(252),\"\")","v":""},{"$f":"IF(Ergebnistabelle[[#This Row],[Bild-ID]]<>\"\",\"Merken\",\"\")","v":"Merken"},true,true,{"$f":"Ergebnistabelle[[#This Row],[Spalte1]]*Ergebnistabelle[[#This Row],[Spalte2]]","v":1},1,false,true,true,false,false,false,false,false,true,false,false,false,false,false,false,false,false,false,true,false,false,false,false,false,false,false,false,false,false,false,false,false,false,false,false,false,false,false,false,false,false,false,false,false,false,"2020-01-01",{"$f":"IF(Ergebnistabelle[[#This Row],[Spalte50]]>=Meldungen!$J$5,\"+\",\"\")","v":""}]
["203-163",null,null,"2xTw ",2615,"118",{"$nulls":5},{"$f":"IF(Ergebnistabelle[[#This Row],[Signatur]]<>\"\",\"Vorschau\",\"\")","v":""},{"$f":"IF(IFERROR(MATCH(Ergebnistabelle[[#This Row],[Bild-ID]],Merkliste!B:B,0),\"\")<>\"\",CHAR(252),\"\")","v":""},{"$f":"IF(Ergebnistabelle[[#This Row],[Bild-ID]]<>\"\",\"Merken\",\"\")","v":"Merken"},true,true,{"$f":"Ergebnistabelle[[#This Row],[Spalte1]]*Ergebnistabelle[[#This Row],[Spalte2]]","v":1},1,false,true,false,false,false,false,false,false,true,false,false,false,false,false,false,false,false,false,false,false,false,false,false,false,false,false,false,false,false,false,false,false,false,false,false,false,false,false,false,false,false,false,false,false,false,"2020-01-01",{"$f":"IF(Ergebnistabelle[[#This Row],[Spalte50]]>=Meldungen!$J$5,\"+\",\"\")","v":""}]
["203-164",null,null,"2xTw ",2726,"60",{"$nulls":5},{"$f":"IF(Ergebnistabelle[[#This Row],[Signatur]]<>\"\",\"Vorschau\",\"\")","v":""},{"$f":"IF(IFERROR(MATCH(Ergebnistabelle[[#This Row],[Bild-ID]],Merkliste!B:B,0),\"\")<>\"\",CHAR(252),\"\")","v":""},{"$f":"IF(Ergebnistabelle[[#This Row],[Bild-ID]]<>\"\",\"Merken\",\"\")","v":"Merken"},true,true,{"$f":"Ergebnistabelle[[#This Row],[Spalte1]]*Ergebnistabelle[[#This Row],[Spalte2]]","v":1},1,false,true,false,false,false,false,false,false,true,false,false,false,false,false,false,false,false,false,false,false,false,false,false,false,false,false,false,false,false,false,false,false,false,false,false,false,false,false,false,false,false,false,false,false,false,"2020-01-01",{"$f":"IF(Ergebnistabelle[[#This Row],[Spalte50]]>=Meldungen!$J$5,\"+\",\"\")","v":""}]
["203-165",null,"Remise","2xTw \n2xTw \n2xTw ","4027 \n4122 \n456","S \n62 \n8",{"$nulls":5},{"$f":"IF(Ergebnistabelle[[#This Row],[Signatur]]<>\"\",\"Vorschau\",\"\")","v":""},{"$f":"IF(IFERROR(MATCH(Ergebnistabelle[[#This Row],[Bild-ID]],Merkliste!B:B,0),\"\")<>\"\",CHAR(252),\"\")","v":""},{"$f":"IF(Ergebnistabelle[[#This Row],[Bild-ID]]<>\"\",\"Merken\",\"\")","v":"Merken"},true,true,{"$f":"Ergebnistabelle[[#This Row],[Spalte1]]*Ergebnistabelle[[#This Row],[Spalte2]]","v":1},1,false,true,true,false,false,false,false,false,true,false,false,false,false,false,false,false,false,false,true,false,false,false,false,false,false,false,false,false,false,false,false,false,false,false,false,false,false,false,false,false,false,false,false,false,false,"2020-01-01",{"$f":"IF(Ergebnistabelle[[#This Row],[Spalte50]]>=Meldungen!$J$5,\"+\",\"\")","v":""}]
["203-166",null,null,"2xBw \n2xTw \n2xBw "," \n5 \n ","60 \n60 \n60","Tw 5: KSW",{"$nulls":4},{"$f":"IF(Ergebnistabelle[[#This Row],[Signatur]]<>\"\",\"Vorschau\",\"\")","v":""},{"$f":"IF(IFERROR(MATCH(Ergebnistabelle[[#This Row],[Bild-ID]],Merkliste!B:B,0),\"\")<>\"\",CHAR(252),\"\")","v":""},{"$f":"IF(Ergebnistabelle[[#This Row],[Bild-ID]]<>\"\",\"Merken\",\"\")","v":"Merken"},true,true,{"$f":"Ergebnistabelle[[#This Row],[Spalte1]]*Ergebnistabelle[[#This Row],[Spalte2]]","v":1},1,false,true,true,false,false,false,false,false,true,false,false,false,false,false,false,false,false,false,true,false,false,false,false,false,false,false,false,false,false,false,false,false,false,false,false,false,false,false,false,false,false,false,false,false,false,"2020-01-01",{"$f":"IF(Ergebnistabelle[[#This Row],[Spalte50]]>=Meldungen!$J$5,\"+\",\"\")","v":""}]
["203-167",null,null,"2xBw \n2xTw ","1460 \n87","11 \n11",{"$nulls":5},{"$f":"IF(Ergebnistabelle[[#This Row],[Signatur]]<>\"\",\"Vorschau\",\"\")","v":""},{"$f":"IF(IFERROR(MATCH(Ergebnistabelle[[#This Row],[Bild-ID]],Merkliste!B:B,0),\"\")<>\"\",CHAR(252),\"\")","v":""},{"$f":"IF(Ergebnistabelle[[#This Row],[Bild-ID]]<>\"\",\"Merken\",\"\")","v":"Merken"},true,true,{"$f":"Ergebnistabelle[[#This Row],[Spalte1]]*Ergebnistabelle[[#This Row],[Spalte2]]","v":1},1,false,true,true,false,false,false,false,false,true,false,false,false,false,false,false,false,false,false,true,false,false,false,false,false,false,false,false,false,false,false,false,false,false,false,false,false,false,false,false,false,false,false,false,false,false,"2020-01-01",{"$f":"IF(Ergebnistabelle[[#This Row],[Spalte50]]>=Meldungen!$J$5,\"+\",\"\")","v":""}]
["203-168",null,null,"2xTw ",100,"11",{"$nulls":5},{"$f":"IF(Ergebnistabelle[[#This Row],[Signatur]]<>\"\",\"Vorschau\",\"\")","v":""},{"$f":"IF(IFERROR(MATCH(Ergebnistabelle[[#This Row],[Bild-ID]],Merkliste!B:B,0),\"\")<>\"\",CHAR(252),\"\")","v":""},{"$f":"IF(Ergebnistabelle[[#This Row],[Bild-ID]]<>\"\",\"Merken\",\"\")","v":"Merken"},true,true,{"$f":"Ergebnistabelle[[#This Row],[Spalte1]]*Ergebnistabelle[[#This Row],[Spalte2]]","v":1},1,false,true,false,false,false,false,false,false,true,false,false,false,false,false,false,false,false,false,false,false,false,false,false,false,false,false,false,false,false,false,false,false,false,false,false,false,false,false,false,false,false,false,false,false,false,"2020-01-01",{"$f":"IF(Ergebnistabelle[[#This Row],[Spalte50]]>=Meldungen!$J$5,\"+\",\"\")","v":""}]
["203-169",null,null,"2xBw \n2xTw ","3010 \n ","72 \n72",{"$nulls":5},{"$f":"IF(Ergebnistabelle[[#This Row],[Signatur]]<>\"\",\"Vorschau\",\"\")","v":""},{"$f":"IF(IFERROR(MATCH(Ergebnistabelle[[#This Row],[Bild-ID]],Merkliste!B:B,0),\"\")<>\"\",CHAR(252),\"\")","v":""},{"$f":"IF(Ergebnistabelle[[#This Row],[Bild-ID]]<>\"\",\"Merken\",\"\")","v":"Merken"},true,true,{"$f":"Ergebnistabelle[[#This Row],[Spalte1]]*Ergebnistabelle[[#This Row],[Spalte2]]","v":1},1,false,true,true,false,false,false,false,false,true,false,false,false,false,false,false,false,false,false,true,false,false,false,false,false,false,false,false,false,false,false,false,false,false,false,false,false,false,false,false,false,false,false,false,false,false,"2020-01-01",{"$f":"IF(Ergebnistabelle[[#This Row],[Spalte50]]>=Meldungen!$J$5,\"+\",\"\")","v":""}]
["203-170",null,null,"2xBw ",3201,"38",{"$nulls":5},{"$f":"IF(Ergebnistabelle[[#This Row],[Signatur]]<>\"\",\"Vorschau\",\"\")","v":""},{"$f":"IF(IFERROR(MATCH(Ergebnistabelle[[#This Row],[Bild-ID]],Merkliste!B:B,0),\"\")<>\"\",CHAR(252),\"\")","v":""},{"$f":"IF(Ergebnistabelle[[#This Row],[Bild-ID]]<>\"\",\"Merken\",\"\")","v":"Merken"},true,true,{"$f":"Ergebnistabelle[[#This Row],[Spalte1]]*Ergebnistabelle[[#This Row],[Spalte2]]","v":1},1,false,false,true,false,false,false,false,false,false,false,false,false,false,false,false,false,false,false,true,false,false,false,false,false,false,false,false,false,false,false,false,false,false,false,false,false,false,false,false,false,false,false,false,false,false,"2020-01-01",{"$f":"IF(Ergebnistabelle[[#This Row],[Spalte50]]>=Meldungen!$J$5,\"+\",\"\")","v":""}]
["203-171",null,null,"2xBw ",3948,"O",{"$nulls":5},{"$f":"IF(Ergebnistabelle[[#This Row],[Signatur]]<>\"\",\"Vorschau\",\"\")","v":""},{"$f":"IF(IFERROR(MATCH(Ergebnistabelle[[#This Row],[Bild-ID]],Merkliste!B:B,0),\"\")<>\"\",CHAR(252),\"\")","v":""},{"$f":"IF(Ergebnistabelle[[#This Row],[Bild-ID]]<>\"\",\"Merken\",\"\")","v":"Merken"},true,true,{"$f":"Ergebnistabelle[[#This Row],[Spalte1]]*Ergebnistabelle[[#This Row],[Spalte2]]","v":1},1,false,false,true,false,false,false,false,false,false,false,false,false,false,false,false,false,false,false,true,false,false,false,false,false,false,false,false,false,false,false,false,false,false,false,false,false,false,false,false,false,false,false,false,false,false,"2020-01-01",{"$f":"IF(Ergebnistabelle[[#This Row],[Spalte50]]>=Meldungen!$J$5,\"+\",\"\")","v":""}]
["203-172",null,null,"2xBw ",5794,"60",{"$nulls":5},{"$f":"IF(Ergebnistabelle[[#This Row],[Signatur]]<>\"\",\"Vorschau\",\"\")","v":""},{"$f":"IF(IFERROR(MATCH(Ergebnistabelle[[#This Row],[Bild-ID]],Merkliste!B:B,0),\"\")<>\"\",CHAR(252),\"\")","v":""},{"$f":"IF(Ergebnistabelle[[#This Row],[Bild-ID]]<>\"\",\"Merken\",\"\")","v":"Merken"},true,true,{"$f":"Ergebnistabelle[[#This Row],[Spalte1]]*Ergebnistabelle[[#This Row],[Spalte2]]","v":1},1,false,false,true,false,false,false,false,false,false,false,false,false,false,false,false,false,false,false,true,false,false,false,false,false,false,false,false,false,false,false,false,false,false,false,false,false,false,false,false,false,false,false,false,false,false,"2020-01-01",{"$f":"IF(Ergebnistabelle[[#This Row],[Spalte50]]>=Meldungen!$J$5,\"+\",\"\")","v":""}]
["203-173",null,null,"2xTw ",405,"37",{"$nulls":5},{"$f":"IF(Ergebnistabelle[[#This Row],[Signatur]]<>\"\",\"Vorschau\",\"\")","v":""},{"$f":"IF(IFERROR(MATCH(Ergebnistabelle[[#This Row],[Bild-ID]],Merkliste!B:B,0),\"\")<>\"\",CHAR(252),\"\")","v":""},{"$f":"IF(Ergebnistabelle[[#This Row],[Bild-ID]]<>\"\",\"Merken\",\"\")","v":"Merken"},true,true,{"$f":"Ergebnistabelle[[#This Row],[Spalte1]]*Ergebnistabelle[[#This Row],[Spalte2]]","v":1},1,false,true,false,false,false,false,false,false,true,false,false,false,false,false,false,false,false,false,false,false,false,false,false,false,false,false,false,false,false,false,false,false,false,false,false,false,false,false,false,false,false,false,false,false,false,"2020-01-01",{"$f":"IF(Ergebnistabelle[[#This Row],[Spalte50]]>=Meldungen!$J$5,\"+\",\"\")","v":""}]
["203-174",null,null,"2xTw \n2xTw \n2xTw "," \n  \n "," \n  \n ",{"$nulls":5},{"$f":"IF(Ergebnistabelle[[#This Row],[Signatur]]<>\"\",\"Vorschau\",\"\")","v":""},{"$f":"IF(IFERROR(MATCH(Ergebnistabelle[[#This Row],[Bild-ID]],Merkliste!B:B,0),\"\")<>\"\",CHAR(252),\"\")","v":""},{"$f":"IF(Ergebnistabelle[[#This Row],[Bild-ID]]<>\"\",\"Merken\",\"\")","v":"Merken"},true,true,{"$f":"Ergebnistabelle[[#This Row],[Spalte1]]*Ergebnistabelle[[#This Row],[Spalte2]]","v":1},1,false,true,true,false,false,false,false,false,true,false,false,false,false,false,false,false,false,false,true,false,false,false,false,false,false,false,false,false,false,false,false,false,false,false,false,false,false,false,false,false,false,false,false,false,false,"2020-01-01",{"$f":"IF(Ergebnistabelle[[#This Row],[Spalte50]]>=Meldungen!$J$5,\"+\",\"\")","v":""}]
["203-175",null,null,"2xTw ",2030,"63",{"$nulls":5},{"$f":"IF(Ergebnistabelle[[#This Row],[Signatur]]<>\"\",\"Vorschau\",\"\")","v":""},{"$f":"IF(IFERROR(MATCH(Ergebnistabelle[[#This Row],[Bild-ID]],Merkliste!B:B,0),\"\")<>\"\",CHAR(252),\"\")","v":""},{"$f":"IF(Ergebnistabelle[[#This Row],[Bild-ID]]<>\"\",\"Merken\",\"\")","v":"Merken"},true,true,{"$f":"Ergebnistabelle[[#This Row],[Spalte1]]*Ergebnistabelle[[#This Row],[Spalte2]]","v":1},1,false,true,false,false,false,false,false,false,true,false,false,false,false,false,false,false,false,false,false,false,false,false,false,false,false,false,false,false,false,false,false,false,false,false,false,false,false,false,false,false,false,false,false,false,false,"2020-01-01",{"$f":"IF(Ergebnistabelle[[#This Row],[Spalte50]]>=Meldungen!$J$5,\"+\",\"\")","v":""}]
["203-176",null,null,"2xTw ",null,"37",{"$nulls":5},{"$f":"IF(Ergebnistabelle[[#This Row],[Signatur]]<>\"\",\"Vorschau\",\"\")","v":""},{"$f":"IF(IFERROR(MATCH(Ergebnistabelle[[#This Row],[Bild-ID]],Merkliste!B:B,0),\"\")<>\"\",CHAR(252),\"\")","v":""},{"$f":"IF(Ergebnistabelle[[#This Row],[Bild-ID]]<>\"\",\"Merken\",\"\")","v":"Merken"},true,true,{"$f":"Ergebnistabelle[[#This Row],[Spalte1]]*Ergebnistabelle[[#This Row],[Spalte2]]","v":1},1,false,true,false,false,false,false,false,false,true,false,false,false,false,false,false,false,false,false,false,false,false,false,false,false,false,false,false,false,false,false,false,false,false,false,false,false,false,false,false,false,false,false,false,false,false,"2020-01-01",{"$f":"IF(Ergebnistabelle[[#This Row],[Spalte50]]>=Meldungen!$J$5,\"+\",\"\")","v":""}]
["203-177",null,null,"2xTw ",null,"66",{"$nulls":5},{"$f":"IF(Ergebnistabelle[[#This Row],[Signatur]]<>\"\",\"Vorschau\",\"\")","v":""},{"$f":"IF(IFERROR(MATCH(Ergebnistabelle[[#This Row],[Bild-ID]],Merkliste!B:B,0),\"\")<>\"\",CHAR(252),\"\")","v":""},{"$f":"IF(Ergebnistabelle[[#This Row],[Bild-ID]]<>\"\",\"Merken\",\"\")","v":"Merken"},true,true,{"$f":"Ergebnistabelle[[#This Row],[Spalte1]]*Ergebnistabelle[[#This Row],[Spalte2]]","v":1},1,false,true,false,false,false,false,false,false,true,false,false,false,false,false,false,false,false,false,false,false,false,false,false,false,false,false,false,false,false,false,false,false,false,false,false,false,false,false,false,false,false,false,false,false,false,"2020-01-01",{"$f":"IF(Ergebnistabelle[[#This Row],[Spalte50]]>=Meldungen!$J$5,\"+\",\"\")","v":""}]
["203-178",null,null,"2xTw ",2175,"72",{"$nulls":5},{"$f":"IF(Ergebnistabelle[[#This Row],[Signatur]]<>\"\",\"Vorschau\",\"\")","v":""},{"$f":"IF(IFERROR(MATCH(Ergebnistabelle[[#This Row],[Bild-ID]],Merkliste!B:B,0),\"\")<>\"\",CHAR(252),\"\")","v":""},{"$f":"IF(Ergebnistabelle[[#This Row],[Bild-ID]]<>\"\",\"Merken\",\"\")","v":"Merken"},true,true,{"$f":"Ergebnistabelle[[#This Row],[Spalte1]]*Ergebnistabelle[[#This Row],[Spalte2]]","v":1},1,false,true,false,false,false,false,false,false,true,false,false,false,false,false,false,false,false,false,false,false,false,false,false,false,false,false,false,false,false,false,false,false,false,false,false,false,false,false,false,false,false,false,false,false,false,"2020-01-01",{"$f":"IF(Ergebnistabelle[[#This Row],[Spalte50]]>=Meldungen!$J$5,\"+\",\"\")","v":""}]
["203-179",null,null,"2xTw \n2xBw "," \n ","6 \n6",{"$nulls":5},{"$f":"IF(Ergebnistabelle[[#This Row],[Signatur]]<>\"\",\"Vorschau\",\"\")","v":""},{"$f":"IF(IFERROR(MATCH(Ergebnistabelle[[#This Row],[Bild-ID]],Merkliste!B:B,0),\"\")<>\"\",CHAR(252),\"\")","v":""},{"$f":"IF(Ergebnistabelle[[#This Row],[Bild-ID]]<>\"\",\"Merken\",\"\")","v":"Merken"},true,true,{"$f":"Ergebnistabelle[[#This Row],[Spalte1]]*Ergebnistabelle[[#This Row],[Spalte2]]","v":1},1,false,true,true,false,false,false,false,false,true,false,false,false,false,false,false,false,false,false,true,false,false,false,false,false,false,false,false,false,false,false,false,false,false,false,false,false,false,false,false,false,false,false,false,false,false,"2020-01-01",{"$f":"IF(Ergebnistabelle[[#This Row],[Spalte50]]>=Meldungen!$J$5,\"+\",\"\")","v":""}]
["203-180",null,null,"2xTw ",2585,"162",{"$nulls":5},{"$f":"IF(Ergebnistabelle[[#This Row],[Signatur]]<>\"\",\"Vorschau\",\"\")","v":""},{"$f":"IF(IFERROR(MATCH(Ergebnistabelle[[#This Row],[Bild-ID]],Merkliste!B:B,0),\"\")<>\"\",CHAR(252),\"\")","v":""},{"$f":"IF(Ergebnistabelle[[#This Row],[Bild-ID]]<>\"\",\"Merken\",\"\")","v":"Merken"},true,true,{"$f":"Ergebnistabelle[[#This Row],[Spalte1]]*Ergebnistabelle[[#This Row],[Spalte2]]","v":1},1,false,true,false,false,false,false,false,false,true,false,false,false,false,false,false,false,false,false,false,false,false,false,false,false,false,false,false,false,false,false,false,false,false,false,false,false,false,false,false,false,false,false,false,false,false,"2020-01-01",{"$f":"IF(Ergebnistabelle[[#This Row],[Spalte50]]>=Meldungen!$J$5,\"+\",\"\")","v":""}]
["203-181",null,null,"2xTw ",4045,"8",{"$nulls":5},{"$f":"IF(Ergebnistabelle[[#This Row],[Signatur]]<>\"\",\"Vorschau\",\"\")","v":""},{"$f":"IF(IFERROR(MATCH(Ergebnistabelle[[#This Row],[Bild-ID]],Merkliste!B:B,0),\"\")<>\"\",CHAR(252),\"\")","v":""},{"$f":"IF(Ergebnistabelle[[#This Row],[Bild-ID]]<>\"\",\"Merken\",\"\")","v":"Merken"},true,true,{"$f":"Ergebnistabelle[[#This Row],[Spalte1]]*Ergebnistabelle[[#This Row],[Spalte2]]","v":1},1,false,true,false,false,false,false,false,false,true,false,false,false,false,false,false,false,false,false,false,false,false,false,false,false,false,false,false,false,false,false,false,false,false,false,false,false,false,false,false,false,false,false,false,false,false,"2020-01-01",{"$f":"IF(Ergebnistabelle[[#This Row],[Spalte50]]>=Meldungen!$J$5,\"+\",\"\")","v":""}]
["203-182",null,null,"4xTw ",null,"331","ex USA",{"$nulls":4},{"$f":"IF(Ergebnistabelle[[#This Row],[Signatur]]<>\"\",\"Vorschau\",\"\")","v":""},{"$f":"IF(IFERROR(MATCH(Ergebnistabelle[[#This Row],[Bild-ID]],Merkliste!B:B,0),\"\")<>\"\",CHAR(252),\"\")","v":""},{"$f":"IF(Ergebnistabelle[[#This Row],[Bild-ID]]<>\"\",\"Merken\",\"\")","v":"Merken"},true,true,{"$f":"Ergebnistabelle[[#This Row],[Spalte1]]*Ergebnistabelle[[#This Row],[Spalte2]]","v":1},1,false,true,false,false,false,false,false,false,false,true,false,false,false,false,false,false,false,false,false,false,false,false,false,false,false,false,false,false,false,false,false,false,false,false,false,false,false,false,false,false,false,false,false,false,false,"2020-01-01",{"$f":"IF(Ergebnistabelle[[#This Row],[Spalte50]]>=Meldungen!$J$5,\"+\",\"\")","v":""}]
["203-183",null,null,"2xBw ",3797,{"$nulls":6},{"$f":"IF(Ergebnistabelle[[#This Row],[Signatur]]<>\"\",\"Vorschau\",\"\")","v":""},{"$f":"IF(IFERROR(MATCH(Ergebnistabelle[[#This Row],[Bild-ID]],Merkliste!B:B,0),\"\")<>\"\",CHAR(252),\"\")","v":""},{"$f":"IF(Ergebnistabelle[[#This Row],[Bild-ID]]<>\"\",\"Merken\",\"\")","v":"Merken"},true,true,{"$f":"Ergebnistabelle[[#This Row],[Spalte1]]*Ergebnistabelle[[#This Row],[Spalte2]]","v":1},1,false,false,true,false,false,false,false,false,false,false,false,false,false,false,false,false,false,false,true,false,false,false,false,false,false,false,false,false,false,false,false,false,false,false,false,false,false,false,false,false,false,false,false,false,false,"2020-01-01",{"$f":"IF(Ergebnistabelle[[#This Row],[Spalte50]]>=Meldungen!$J$5,\"+\",\"\")","v":""}]
["203-184",null,null,"2xBw ",5184,{"$nulls":6},{"$f":"IF(Ergebnistabelle[[#This Row],[Signatur]]<>\"\",\"Vorschau\",\"\")","v":""},{"$f":"IF(IFERROR(MATCH(Ergebnistabelle[[#This Row],[Bild-ID]],Merkliste!B:B,0),\"\")<>\"\",CHAR(252),\"\")","v":""},{"$f":"IF(Ergebnistabelle[[#This Row],[Bild-ID]]<>\"\",\"Merken\",\"\")","v":"Merken"},true,true,{"$f":"Ergebnistabelle[[#This Row],[Spalte1]]*Ergebnistabelle[[#This Row],[Spalte2]]","v":1},1,false,false,true,false,false,false,false,false,false,false,false,false,false,false,false,false,false,false,true,false,false,false,false,false,false,false,false,false,false,false,false,false,false,false,false,false,false,false,false,false,false,false,false,false,false,"2020-01-01",{"$f":"IF(Ergebnistabelle[[#This Row],[Spalte50]]>=Meldungen!$J$5,\"+\",\"\")","v":""}]
["203-185",null,null,"2xTw ",4133,"5",{"$nulls":3},1969,"Ernst Julius Wolff",{"$f":"IF(Ergebnistabelle[[#This Row],[Signatur]]<>\"\",\"Vorschau\",\"\")","v":""},{"$f":"IF(IFERROR(MATCH(Ergebnistabelle[[#This Row],[Bild-ID]],Merkliste!B:B,0),\"\")<>\"\",CHAR(252),\"\")","v":""},{"$f":"IF(Ergebnistabelle[[#This Row],[Bild-ID]]<>\"\",\"Merken\",\"\")","v":"Merken"},true,true,{"$f":"Ergebnistabelle[[#This Row],[Spalte1]]*Ergebnistabelle[[#This Row],[Spalte2]]","v":1},1,false,true,false,false,false,false,false,false,true,false,false,false,false,false,false,false,false,false,false,false,false,false,false,false,false,false,false,false,false,false,false,false,false,false,false,false,false,false,false,false,false,false,false,false,false,"2020-01-01",{"$f":"IF(Ergebnistabelle[[#This Row],[Spalte50]]>=Meldungen!$J$5,\"+\",\"\")","v":""}]
["203-186",null,null,"ArbTw ",6322,{"$nulls":6},{"$f":"IF(Ergebnistabelle[[#This Row],[Signatur]]<>\"\",\"Vorschau\",\"\")","v":""},{"$f":"IF(IFERROR(MATCH(Ergebnistabelle[[#This Row],[Bild-ID]],Merkliste!B:B,0),\"\")<>\"\",CHAR(252),\"\")","v":""},{"$f":"IF(Ergebnistabelle[[#This Row],[Bild-ID]]<>\"\",\"Merken\",\"\")","v":"Merken"},true,true,{"$f":"Ergebnistabelle[[#This Row],[Spalte1]]*Ergebnistabelle[[#This Row],[Spalte2]]","v":1},1,false,false,false,true,false,false,false,false,false,false,false,false,false,false,false,false,false,false,false,false,false,false,false,false,false,false,false,false,true,false,false,false,false,false,false,false,false,false,false,false,false,false,false,false,false,"2020-01-01",{"$f":"IF(Ergebnistabelle[[#This Row],[Spalte50]]>=Meldungen!$J$5,\"+\",\"\")","v":""}]
["203-187",null,null,"2xTw ",2576,"O",{"$nulls":5},{"$f":"IF(Ergebnistabelle[[#This Row],[Signatur]]<>\"\",\"Vorschau\",\"\")","v":""},{"$f":"IF(IFERROR(MATCH(Ergebnistabelle[[#This Row],[Bild-ID]],Merkliste!B:B,0),\"\")<>\"\",CHAR(252),\"\")","v":""},{"$f":"IF(Ergebnistabelle[[#This Row],[Bild-ID]]<>\"\",\"Merken\",\"\")","v":"Merken"},true,true,{"$f":"Ergebnistabelle[[#This Row],[Spalte1]]*Ergebnistabelle[[#This Row],[Spalte2]]","v":1},1,false,true,false,false,false,false,false,false,true,false,false,false,false,false,false,false,false,false,false,false,false,false,false,false,false,false,false,false,false,false,false,false,false,false,false,false,false,false,false,false,false,false,false,false,false,"2020-01-01",{"$f":"IF(Ergebnistabelle[[#This Row],[Spalte50]]>=Meldungen!$J$5,\"+\",\"\")","v":""}]
["203-188",null,null,"2xTw \n2xBw \n2xBw ","2604 \n  \n ","62 \n62 \n62",{"$nulls":5},{"$f":"IF(Ergebnistabelle[[#This Row],[Signatur]]<>\"\",\"Vorschau\",\"\")","v":""},{"$f":"IF(IFERROR(MATCH(Ergebnistabelle[[#This Row],[Bild-ID]],Merkliste!B:B,0),\"\")<>\"\",CHAR(252),\"\")","v":""},{"$f":"IF(Ergebnistabelle[[#This Row],[Bild-ID]]<>\"\",\"Merken\",\"\")","v":"Merken"},true,true,{"$f":"Ergebnistabelle[[#This Row],[Spalte1]]*Ergebnistabelle[[#This Row],[Spalte2]]","v":1},1,false,true,true,false,false,false,false,false,true,false,false,false,false,false,false,false,false,false,true,false,false,false,false,false,false,false,false,false,false,false,false,false,false,false,false,false,false,false,false,false,false,false,false,false,false,"2020-01-01",{"$f":"IF(Ergebnistabelle[[#This Row],[Spalte50]]>=Meldungen!$J$5,\"+\",\"\")","v":""}]
["203-189",null,null,"2xBw \n2xBw \n2xTw "," \n  \n ","6 \n6 \n6",{"$nulls":5},{"$f":"IF(Ergebnistabelle[[#This Row],[Signatur]]<>\"\",\"Vorschau\",\"\")","v":""},{"$f":"IF(IFERROR(MATCH(Ergebnistabelle[[#This Row],[Bild-ID]],Merkliste!B:B,0),\"\")<>\"\",CHAR(252),\"\")","v":""},{"$f":"IF(Ergebnistabelle[[#This Row],[Bild-ID]]<>\"\",\"Merken\",\"\")","v":"Merken"},true,true,{"$f":"Ergebnistabelle[[#This Row],[Spalte1]]*Ergebnistabelle[[#This Row],[Spalte2]]","v":1},1,false,true,true,false,false,false,false,false,true,false,false,false,false,false,false,false,false,false,true,false,false,false,false,false,false,false,false,false,false,false,false,false,false,false,false,false,false,false,false,false,false,false,false,false,false,"2020-01-01",{"$f":"IF(Ergebnistabelle[[#This Row],[Spalte50]]>=Meldungen!$J$5,\"+\",\"\")","v":""}]
["203-190","VDVA-0203-190","Friedrich-Engels-Platz","4xBw \n2xTw ","1025 \n4021"," \n ",null,26,7,1956,"John H. Price",{"$f":"IF(Ergebnistabelle[[#This Row],[Signatur]]<>\"\",\"Vorschau\",\"\")","v":"Vorschau"},{"$f":"IF(IFERROR(MATCH(Ergebnistabelle[[#This Row],[Bild-ID]],Merkliste!B:B,0),\"\")<>\"\",CHAR(252),\"\")","v":""},{"$f":"IF(Ergebnistabelle[[#This Row],[Bild-ID]]<>\"\",\"Merken\",\"\")","v":"Merken"},true,true,{"$f":"Ergebnistabelle[[#This Row],[Spalte1]]*Ergebnistabelle[[#This Row],[Spalte2]]","v":1},1,false,true,true,false,false,false,false,false,true,false,false,false,false,false,false,false,false,false,false,false,true,false,false,false,false,false,false,false,false,false,false,false,false,false,false,false,false,false,false,false,false,false,false,false,false,"2020-01-01",{"$f":"IF(Ergebnistabelle[[#This Row],[Spalte50]]>=Meldungen!$J$5,\"+\",\"\")","v":""}]
["203-191",null,null,"2xBw \n2xTw ","2930 \n4094","62 \n62",{"$nulls":5},{"$f":"IF(Ergebnistabelle[[#This Row],[Signatur]]<>\"\",\"Vorschau\",\"\")","v":""},{"$f":"IF(IFERROR(MATCH(Ergebnistabelle[[#This Row],[Bild-ID]],Merkliste!B:B,0),\"\")<>\"\",CHAR(252),\"\")","v":""},{"$f":"IF(Ergebnistabelle[[#This Row],[Bild-ID]]<>\"\",\"Merken\",\"\")","v":"Merken"},true,true,{"$f":"Ergebnistabelle[[#This Row],[Spalte1]]*Ergebnistabelle[[#This Row],[Spalte2]]","v":1},1,false,true,true,false,false,false,false,false,true,false,false,false,false,false,false,false,false,false,true,false,false,false,false,false,false,false,false,false,false,false,false,false,false,false,false,false,false,false,false,false,false,false,false,false,false,"2020-01-01",{"$f":"IF(Ergebnistabelle[[#This Row],[Spalte50]]>=Meldungen!$J$5,\"+\",\"\")","v":""}]
["203-192",null,null,"2xBw ",3987,"46",{"$nulls":5},{"$f":"IF(Ergebnistabelle[[#This Row],[Signatur]]<>\"\",\"Vorschau\",\"\")","v":""},{"$f":"IF(IFERROR(MATCH(Ergebnistabelle[[#This Row],[Bild-ID]],Merkliste!B:B,0),\"\")<>\"\",CHAR(252),\"\")","v":""},{"$f":"IF(Ergebnistabelle[[#This Row],[Bild-ID]]<>\"\",\"Merken\",\"\")","v":"Merken"},true,true,{"$f":"Ergebnistabelle[[#This Row],[Spalte1]]*Ergebnistabelle[[#This Row],[Spalte2]]","v":1},1,false,false,true,false,false,false,false,false,false,false,false,false,false,false,false,false,false,false,true,false,false,false,false,false,false,false,false,false,false,false,false,false,false,false,false,false,false,false,false,false,false,false,false,false,false,"2020-01-01",{"$f":"IF(Ergebnistabelle[[#This Row],[Spalte50]]>=Meldungen!$J$5,\"+\",\"\")","v":""}]
["203-193",null,null,"2xBw ",5559,{"$nulls":6},{"$f":"IF(Ergebnistabelle[[#This Row],[Signatur]]<>\"\",\"Vorschau\",\"\")","v":""},{"$f":"IF(IFERROR(MATCH(Ergebnistabelle[[#This Row],[Bild-ID]],Merkliste!B:B,0),\"\")<>\"\",CHAR(252),\"\")","v":""},{"$f":"IF(Ergebnistabelle[[#This Row],[Bild-ID]]<>\"\",\"Merken\",\"\")","v":"Merken"},true,true,{"$f":"Ergebnistabelle[[#This Row],[Spalte1]]*Ergebnistabelle[[#This Row],[Spalte2]]","v":1},1,false,false,true,false,false,false,false,false,false,false,false,false,false,false,false,false,false,false,true,false,false,false,false,false,false,false,false,false,false,false,false,false,false,false,false,false,false,false,false,false,false,false,false,false,false,"2020-01-01",{"$f":"IF(Ergebnistabelle[[#This Row],[Spalte50]]>=Meldungen!$J$5,\"+\",\"\")","v":""}]
["203-194",null,null,"2xBw ",5572,{"$nulls":6},{"$f":"IF(Ergebnistabelle[[#This Row],[Signatur]]<>\"\",\"Vorschau\",\"\")","v":""},{"$f":"IF(IFERROR(MATCH(Ergebnistabelle[[#This Row],[Bild-ID]],Merkliste!B:B,0),\"\")<>\"\",CHAR(252),\"\")","v":""},{"$f":"IF(Ergebnistabelle[[#This Row],[Bild-ID]]<>\"\",\"Merken\",\"\")","v":"Merken"},true,true,{"$f":"Ergebnistabelle[[#This Row],[Spalte1]]*Ergebnistabelle[[#This Row],[Spalte2]]","v":1},1,false,false,true,false,false,false,false,false,false,false,false,false,false,false,false,false,false,false,true,false,false,false,false,false,false,false,false,false,false,false,false,false,false,false,false,false,false,false,false,false,false,false,false,false,false,"2020-01-01",{"$f":"IF(Ergebnistabelle[[#This Row],[Spalte50]]>=Meldungen!$J$5,\"+\",\"\")","v":""}]
["203-195",null,null,"ArbBw ",7063,{"$nulls":6},{"$f":"IF(Ergebnistabelle[[#This Row],[Signatur]]<>\"\",\"Vorschau\",\"\")","v":""},{"$f":"IF(IFERROR(MATCH(Ergebnistabelle[[#This Row],[Bild-ID]],Merkliste!B:B,0),\"\")<>\"\",CHAR(252),\"\")","v":""},{"$f":"IF(Ergebnistabelle[[#This Row],[Bild-ID]]<>\"\",\"Merken\",\"\")","v":"Merken"},true,true,{"$f":"Ergebnistabelle[[#This Row],[Spalte1]]*Ergebnistabelle[[#This Row],[Spalte2]]","v":1},1,false,false,false,true,false,false,false,false,false,false,false,false,false,false,false,false,false,false,false,false,false,false,false,false,false,false,false,false,false,true,false,false,false,false,false,false,false,false,false,false,false,false,false,false,false,"2020-01-01",{"$f":"IF(Ergebnistabelle[[#This Row],[Spalte50]]>=Meldungen!$J$5,\"+\",\"\")","v":""}]
["203-196",{"$nulls":5},"Fahrgestell",{"$nulls":4},{"$f":"IF(Ergebnistabelle[[#This Row],[Signatur]]<>\"\",\"Vorschau\",\"\")","v":""},{"$f":"IF(IFERROR(MATCH(Ergebnistabelle[[#This Row],[Bild-ID]],Merkliste!B:B,0),\"\")<>\"\",CHAR(252),\"\")","v":""},{"$f":"IF(Ergebnistabelle[[#This Row],[Bild-ID]]<>\"\",\"Merken\",\"\")","v":"Merken"},true,true,{"$f":"Ergebnistabelle[[#This Row],[Spalte1]]*Ergebnistabelle[[#This Row],[Spalte2]]","v":1},1,false,false,false,false,true,false,false,false,false,false,false,false,false,false,false,false,false,false,false,false,false,false,false,false,false,false,false,false,false,false,false,false,false,false,false,false,false,false,false,false,false,false,false,false,false,"2020-01-01",{"$f":"IF(Ergebnistabelle[[#This Row],[Spalte50]]>=Meldungen!$J$5,\"+\",\"\")","v":""}]
["203-197",null,null,"2xTw ","4m",null,"historisch",{"$nulls":4},{"$f":"IF(Ergebnistabelle[[#This Row],[Signatur]]<>\"\",\"Vorschau\",\"\")","v":""},{"$f":"IF(IFERROR(MATCH(Ergebnistabelle[[#This Row],[Bild-ID]],Merkliste!B:B,0),\"\")<>\"\",CHAR(252),\"\")","v":""},{"$f":"IF(Ergebnistabelle[[#This Row],[Bild-ID]]<>\"\",\"Merken\",\"\")","v":"Merken"},true,true,{"$f":"Ergebnistabelle[[#This Row],[Spalte1]]*Ergebnistabelle[[#This Row],[Spalte2]]","v":1},1,false,true,false,false,false,false,false,false,true,false,false,false,false,false,false,false,false,false,false,false,false,false,false,false,false,false,false,false,false,false,false,false,false,false,false,false,false,false,false,false,false,false,false,false,false,"2020-01-01",{"$f":"IF(Ergebnistabelle[[#This Row],[Spalte50]]>=Meldungen!$J$5,\"+\",\"\")","v":""}]
["203-198","VDVA-0203-198","Heiligenstadt","2xTw ",2932,null,null,26,7,1956,"John H. Price",{"$f":"IF(Ergebnistabelle[[#This Row],[Signatur]]<>\"\",\"Vorschau\",\"\")","v":"Vorschau"},{"$f":"IF(IFERROR(MATCH(Ergebnistabelle[[#This Row],[Bild-ID]],Merkliste!B:B,0),\"\")<>\"\",CHAR(252),\"\")","v":""},{"$f":"IF(Ergebnistabelle[[#This Row],[Bild-ID]]<>\"\",\"Merken\",\"\")","v":"Merken"},true,true,{"$f":"Ergebnistabelle[[#This Row],[Spalte1]]*Ergebnistabelle[[#This Row],[Spalte2]]","v":1},1,false,true,false,false,false,false,false,false,true,false,false,false,false,false,false,false,false,false,false,false,false,false,false,false,false,false,false,false,false,false,false,false,false,false,false,false,false,false,false,false,false,false,false,false,false,"2020-01-01",{"$f":"IF(Ergebnistabelle[[#This Row],[Spalte50]]>=Meldungen!$J$5,\"+\",\"\")","v":""}]
["203-199",null,null,"2xBw \n2xTw \n2xBw "," \n98 \n ","BK \nBK \nBK",{"$nulls":3},1953,null,{"$f":"IF(Ergebnistabelle[[#This Row],[Signatur]]<>\"\",\"Vorschau\",\"\")","v":""},{"$f":"IF(IFERROR(MATCH(Ergebnistabelle[[#This Row],[Bild-ID]],Merkliste!B:B,0),\"\")<>\"\",CHAR(252),\"\")","v":""},{"$f":"IF(Ergebnistabelle[[#This Row],[Bild-ID]]<>\"\",\"Merken\",\"\")","v":"Merken"},true,true,{"$f":"Ergebnistabelle[[#This Row],[Spalte1]]*Ergebnistabelle[[#This Row],[Spalte2]]","v":1},1,false,true,true,false,false,false,false,false,true,false,false,false,false,false,false,false,false,false,true,false,false,false,false,false,false,false,false,false,false,false,false,false,false,false,false,false,false,false,false,false,false,false,false,false,false,"2020-01-01",{"$f":"IF(Ergebnistabelle[[#This Row],[Spalte50]]>=Meldungen!$J$5,\"+\",\"\")","v":""}]
["203-200","VDVA-0203-200","Mödling, Bahnhof","2xBw \n2xTw ","3559 \n2440","36 \n36",null,27,7,1956,"John H. Price",{"$f":"IF(Ergebnistabelle[[#This Row],[Signatur]]<>\"\",\"Vorschau\",\"\")","v":"Vorschau"},{"$f":"IF(IFERROR(MATCH(Ergebnistabelle[[#This Row],[Bild-ID]],Merkliste!B:B,0),\"\")<>\"\",CHAR(252),\"\")","v":""},{"$f":"IF(Ergebnistabelle[[#This Row],[Bild-ID]]<>\"\",\"Merken\",\"\")","v":"Merken"},true,true,{"$f":"Ergebnistabelle[[#This Row],[Spalte1]]*Ergebnistabelle[[#This Row],[Spalte2]]","v":1},1,false,true,true,false,false,false,false,false,true,false,false,false,false,false,false,false,false,false,true,false,false,false,false,false,false,false,false,false,false,false,false,false,false,false,false,false,false,false,false,false,false,false,false,false,false,"2020-01-01",{"$f":"IF(Ergebnistabelle[[#This Row],[Spalte50]]>=Meldungen!$J$5,\"+\",\"\")","v":""}]
["203-201",{"$nulls":5},"Stadtbahnunfall",{"$nulls":3},"Hellmuth Fröhlich",{"$f":"IF(Ergebnistabelle[[#This Row],[Signatur]]<>\"\",\"Vorschau\",\"\")","v":""},{"$f":"IF(IFERROR(MATCH(Ergebnistabelle[[#This Row],[Bild-ID]],Merkliste!B:B,0),\"\")<>\"\",CHAR(252),\"\")","v":""},{"$f":"IF(Ergebnistabelle[[#This Row],[Bild-ID]]<>\"\",\"Merken\",\"\")","v":"Merken"},true,true,{"$f":"Ergebnistabelle[[#This Row],[Spalte1]]*Ergebnistabelle[[#This Row],[Spalte2]]","v":1},9,false,false,false,false,false,false,false,true,false,false,false,false,false,false,false,false,false,false,false,false,false,false,false,false,false,false,false,false,false,false,false,false,false,false,false,false,false,false,false,false,false,false,true,false,false,"2020-01-01",{"$f":"IF(Ergebnistabelle[[#This Row],[Spalte50]]>=Meldungen!$J$5,\"+\",\"\")","v":""}]
["203-202",{"$nulls":5},"Stadtbahnunfall",{"$nulls":3},"Hellmuth Fröhlich",{"$f":"IF(Ergebnistabelle[[#This Row],[Signatur]]<>\"\",\"Vorschau\",\"\")","v":""},{"$f":"IF(IFERROR(MATCH(Ergebnistabelle[[#This Row],[Bild-ID]],Merkliste!B:B,0),\"\")<>\"\",CHAR(252),\"\")","v":""},{"$f":"IF(Ergebnistabelle[[#This Row],[Bild-ID]]<>\"\",\"Merken\",\"\")","v":"Merken"},true,true,{"$f":"Ergebnistabelle[[#This Row],[Spalte1]]*Ergebnistabelle[[#This Row],[Spalte2]]","v":1},9,false,false,false,false,false,false,false,true,false,false,false,false,false,false,false,false,false,false,false,false,false,false,false,false,false,false,false,false,false,false,false,false,false,false,false,false,false,false,false,false,false,false,true,false,false,"2020-01-01",{"$f":"IF(Ergebnistabelle[[#This Row],[Spalte50]]>=Meldungen!$J$5,\"+\",\"\")","v":""}]
["203-203",null,null,"ArbBw \nArbBw ","7009 \n7002"," \n ",{"$nulls":4},"Hellmuth Fröhlich",{"$f":"IF(Ergebnistabelle[[#This Row],[Signatur]]<>\"\",\"Vorschau\",\"\")","v":""},{"$f":"IF(IFERROR(MATCH(Ergebnistabelle[[#This Row],[Bild-ID]],Merkliste!B:B,0),\"\")<>\"\",CHAR(252),\"\")","v":""},{"$f":"IF(Ergebnistabelle[[#This Row],[Bild-ID]]<>\"\",\"Merken\",\"\")","v":"Merken"},true,true,{"$f":"Ergebnistabelle[[#This Row],[Spalte1]]*Ergebnistabelle[[#This Row],[Spalte2]]","v":1},1,false,false,false,true,false,false,false,false,false,false,false,false,false,false,false,false,false,false,false,false,false,false,false,false,false,false,false,false,false,true,false,false,false,false,false,false,false,false,false,false,false,false,false,false,false,"2020-01-01",{"$f":"IF(Ergebnistabelle[[#This Row],[Spalte50]]>=Meldungen!$J$5,\"+\",\"\")","v":""}]
["203-204",null,null,"Dampflok \n2xBw \n2xBw "," \n  \n2434"," \n  \n ",{"$nulls":4},"Hellmuth Fröhlich",{"$f":"IF(Ergebnistabelle[[#This Row],[Signatur]]<>\"\",\"Vorschau\",\"\")","v":""},{"$f":"IF(IFERROR(MATCH(Ergebnistabelle[[#This Row],[Bild-ID]],Merkliste!B:B,0),\"\")<>\"\",CHAR(252),\"\")","v":""},{"$f":"IF(Ergebnistabelle[[#This Row],[Bild-ID]]<>\"\",\"Merken\",\"\")","v":"Merken"},true,true,{"$f":"Ergebnistabelle[[#This Row],[Spalte1]]*Ergebnistabelle[[#This Row],[Spalte2]]","v":1},1,false,true,true,false,false,false,false,false,false,false,false,false,false,false,false,false,false,true,true,false,false,false,false,false,false,false,false,false,false,false,false,false,false,false,false,false,false,false,false,false,false,false,false,false,false,"2020-01-01",{"$f":"IF(Ergebnistabelle[[#This Row],[Spalte50]]>=Meldungen!$J$5,\"+\",\"\")","v":""}]
["203-205",null,null,"2xArbTw ",6858,null,"Neuester Fahrschulwagen von Wien",{"$nulls":4},{"$f":"IF(Ergebnistabelle[[#This Row],[Signatur]]<>\"\",\"Vorschau\",\"\")","v":""},{"$f":"IF(IFERROR(MATCH(Ergebnistabelle[[#This Row],[Bild-ID]],Merkliste!B:B,0),\"\")<>\"\",CHAR(252),\"\")","v":""},{"$f":"IF(Ergebnistabelle[[#This Row],[Bild-ID]]<>\"\",\"Merken\",\"\")","v":"Merken"},true,true,{"$f":"Ergebnistabelle[[#This Row],[Spalte1]]*Ergebnistabelle[[#This Row],[Spalte2]]","v":1},1,false,false,false,true,false,false,false,false,false,false,false,false,false,false,false,false,false,false,false,false,false,false,false,false,false,false,false,false,true,false,false,false,false,false,false,false,false,false,false,false,false,false,false,false,false,"2020-01-01",{"$f":"IF(Ergebnistabelle[[#This Row],[Spalte50]]>=Meldungen!$J$5,\"+\",\"\")","v":""}]
["203-206",null,null,"2xTw ",2812,{"$nulls":6},{"$f":"IF(Ergebnistabelle[[#This Row],[Signatur]]<>\"\",\"Vorschau\",\"\")","v":""},{"$f":"IF(IFERROR(MATCH(Ergebnistabelle[[#This Row],[Bild-ID]],Merkliste!B:B,0),\"\")<>\"\",CHAR(252),\"\")","v":""},{"$f":"IF(Ergebnistabelle[[#This Row],[Bild-ID]]<>\"\",\"Merken\",\"\")","v":"Merken"},true,true,{"$f":"Ergebnistabelle[[#This Row],[Spalte1]]*Ergebnistabelle[[#This Row],[Spalte2]]","v":1},1,false,true,false,false,false,false,false,false,true,false,false,false,false,false,false,false,false,false,false,false,false,false,false,false,false,false,false,false,false,false,false,false,false,false,false,false,false,false,false,false,false,false,false,false,false,"2020-01-01",{"$f":"IF(Ergebnistabelle[[#This Row],[Spalte50]]>=Meldungen!$J$5,\"+\",\"\")","v":""}]
["203-207",null,null,"2xTw \n2xBw \n2xBw \n2xBw \n2xTw ","2890 \n  \n  \n  \n ","GD \nGD \nGD \nGD \nGD","Erster Betriebstag der umgebauten Stadtbahnwagen",12,7,1954,"Harald Herrmann",{"$f":"IF(Ergebnistabelle[[#This Row],[Signatur]]<>\"\",\"Vorschau\",\"\")","v":""},{"$f":"IF(IFERROR(MATCH(Ergebnistabelle[[#This Row],[Bild-ID]],Merkliste!B:B,0),\"\")<>\"\",CHAR(252),\"\")","v":""},{"$f":"IF(Ergebnistabelle[[#This Row],[Bild-ID]]<>\"\",\"Merken\",\"\")","v":"Merken"},true,true,{"$f":"Ergebnistabelle[[#This Row],[Spalte1]]*Ergebnistabelle[[#This Row],[Spalte2]]","v":1},1,false,false,false,false,false,false,false,true,false,false,false,false,false,false,false,false,false,false,false,false,false,false,false,false,false,false,false,false,false,false,false,false,false,false,false,false,false,false,false,false,false,false,true,false,false,"2020-01-01",{"$f":"IF(Ergebnistabelle[[#This Row],[Spalte50]]>=Meldungen!$J$5,\"+\",\"\")","v":""}]
["203-208","VDVA-0203-208",null,"4xTw ",4211,"33",null,26,7,1956,"John H. Price",{"$f":"IF(Ergebnistabelle[[#This Row],[Signatur]]<>\"\",\"Vorschau\",\"\")","v":"Vorschau"},{"$f":"IF(IFERROR(MATCH(Ergebnistabelle[[#This Row],[Bild-ID]],Merkliste!B:B,0),\"\")<>\"\",CHAR(252),\"\")","v":""},{"$f":"IF(Ergebnistabelle[[#This Row],[Bild-ID]]<>\"\",\"Merken\",\"\")","v":"Merken"},true,true,{"$f":"Ergebnistabelle[[#This Row],[Spalte1]]*Ergebnistabelle[[#This Row],[Spalte2]]","v":1},1,false,true,false,false,false,false,false,false,false,true,false,false,false,false,false,false,false,false,false,false,false,false,false,false,false,false,false,false,false,false,false,false,false,false,false,false,false,false,false,false,false,false,false,false,false,"2020-01-01",{"$f":"IF(Ergebnistabelle[[#This Row],[Spalte50]]>=Meldungen!$J$5,\"+\",\"\")","v":""}]
["203-209","VDVA-0203-209",null,"4xTw ",4241,null,null,26,7,1956,"John H. Price",{"$f":"IF(Ergebnistabelle[[#This Row],[Signatur]]<>\"\",\"Vorschau\",\"\")","v":"Vorschau"},{"$f":"IF(IFERROR(MATCH(Ergebnistabelle[[#This Row],[Bild-ID]],Merkliste!B:B,0),\"\")<>\"\",CHAR(252),\"\")","v":""},{"$f":"IF(Ergebnistabelle[[#This Row],[Bild-ID]]<>\"\",\"Merken\",\"\")","v":"Merken"},true,true,{"$f":"Ergebnistabelle[[#This Row],[Spalte1]]*Ergebnistabelle[[#This Row],[Spalte2]]","v":1},1,false,true,false,false,false,false,false,false,false,true,false,false,false,false,false,false,false,false,false,false,false,false,false,false,false,false,false,false,false,false,false,false,false,false,false,false,false,false,false,false,false,false,false,false,false,"2020-01-01",{"$f":"IF(Ergebnistabelle[[#This Row],[Spalte50]]>=Meldungen!$J$5,\"+\",\"\")","v":""}]
["203-210",null,null,"2xTw ",455,"8","Umbau aus Dreiachser",null,null,1949,"Wolfgang Tatra",{"$f":"IF(Ergebnistabelle[[#This Row],[Signatur]]<>\"\",\"Vorschau\",\"\")","v":""},{"$f":"IF(IFERROR(MATCH(Ergebnistabelle[[#This Row],[Bild-ID]],Merkliste!B:B,0),\"\")<>\"\",CHAR(252),\"\")","v":""},{"$f":"IF(Ergebnistabelle[[#This Row],[Bild-ID]]<>\"\",\"Merken\",\"\")","v":"Merken"},true,true,{"$f":"Ergebnistabelle[[#This Row],[Spalte1]]*Ergebnistabelle[[#This Row],[Spalte2]]","v":1},1,false,true,false,false,false,false,false,false,true,false,false,false,false,false,false,false,false,false,false,false,false,false,false,false,false,false,false,false,false,false,false,false,false,false,false,false,false,false,false,false,false,false,false,false,false,"2020-01-01",{"$f":"IF(Ergebnistabelle[[#This Row],[Spalte50]]>=Meldungen!$J$5,\"+\",\"\")","v":""}]
["203-211",null,null,"2xTw ",4045,"8",{"$nulls":5},{"$f":"IF(Ergebnistabelle[[#This Row],[Signatur]]<>\"\",\"Vorschau\",\"\")","v":""},{"$f":"IF(IFERROR(MATCH(Ergebnistabelle[[#This Row],[Bild-ID]],Merkliste!B:B,0),\"\")<>\"\",CHAR(252),\"\")","v":""},{"$f":"IF(Ergebnistabelle[[#This Row],[Bild-ID]]<>\"\",\"Merken\",\"\")","v":"Merken"},true,true,{"$f":"Ergebnistabelle[[#This Row],[Spalte1]]*Ergebnistabelle[[#This Row],[Spalte2]]","v":1},1,false,true,false,false,false,false,false,false,true,false,false,false,false,false,false,false,false,false,false,false,false,false,false,false,false,false,false,false,false,false,false,false,false,false,false,false,false,false,false,false,false,false,false,false,false,"2020-01-01",{"$f":"IF(Ergebnistabelle[[#This Row],[Spalte50]]>=Meldungen!$J$5,\"+\",\"\")","v":""}]
["203-212",null,null,"2xTw \n2xBw \n2xBw "," \n  \n5240","B \nB \nB",{"$nulls":3},1966,"Walter Steinberger",{"$f":"IF(Ergebnistabelle[[#This Row],[Signatur]]<>\"\",\"Vorschau\",\"\")","v":""},{"$f":"IF(IFERROR(MATCH(Ergebnistabelle[[#This Row],[Bild-ID]],Merkliste!B:B,0),\"\")<>\"\",CHAR(252),\"\")","v":""},{"$f":"IF(Ergebnistabelle[[#This Row],[Bild-ID]]<>\"\",\"Merken\",\"\")","v":"Merken"},true,true,{"$f":"Ergebnistabelle[[#This Row],[Spalte1]]*Ergebnistabelle[[#This Row],[Spalte2]]","v":1},1,false,true,true,false,false,false,false,false,true,false,false,false,false,false,false,false,false,false,true,false,false,false,false,false,false,false,false,false,false,false,false,false,false,false,false,false,false,false,false,false,false,false,false,false,false,"2020-01-01",{"$f":"IF(Ergebnistabelle[[#This Row],[Spalte50]]>=Meldungen!$J$5,\"+\",\"\")","v":""}]
["203-213",null,null,"2xTw ",404,"62",{"$nulls":4},"Othmar Bamer",{"$f":"IF(Ergebnistabelle[[#This Row],[Signatur]]<>\"\",\"Vorschau\",\"\")","v":""},{"$f":"IF(IFERROR(MATCH(Ergebnistabelle[[#This Row],[Bild-ID]],Merkliste!B:B,0),\"\")<>\"\",CHAR(252),\"\")","v":""},{"$f":"IF(Ergebnistabelle[[#This Row],[Bild-ID]]<>\"\",\"Merken\",\"\")","v":"Merken"},true,true,{"$f":"Ergebnistabelle[[#This Row],[Spalte1]]*Ergebnistabelle[[#This Row],[Spalte2]]","v":1},1,false,true,false,false,false,false,false,false,true,false,false,false,false,false,false,false,false,false,false,false,false,false,false,false,false,false,false,false,false,false,false,false,false,false,false,false,false,false,false,false,false,false,false,false,false,"2020-01-01",{"$f":"IF(Ergebnistabelle[[#This Row],[Spalte50]]>=Meldungen!$J$5,\"+\",\"\")","v":""}]
["203-214",null,null,"2xTw ",417,"62",{"$nulls":4},"Othmar Bamer",{"$f":"IF(Ergebnistabelle[[#This Row],[Signatur]]<>\"\",\"Vorschau\",\"\")","v":""},{"$f":"IF(IFERROR(MATCH(Ergebnistabelle[[#This Row],[Bild-ID]],Merkliste!B:B,0),\"\")<>\"\",CHAR(252),\"\")","v":""},{"$f":"IF(Ergebnistabelle[[#This Row],[Bild-ID]]<>\"\",\"Merken\",\"\")","v":"Merken"},true,true,{"$f":"Ergebnistabelle[[#This Row],[Spalte1]]*Ergebnistabelle[[#This Row],[Spalte2]]","v":1},1,false,true,false,false,false,false,false,false,true,false,false,false,false,false,false,false,false,false,false,false,false,false,false,false,false,false,false,false,false,false,false,false,false,false,false,false,false,false,false,false,false,false,false,false,false,"2020-01-01",{"$f":"IF(Ergebnistabelle[[#This Row],[Spalte50]]>=Meldungen!$J$5,\"+\",\"\")","v":""}]
["203-215","VDVA-0203-215","Marchfeldstraße","2xTw \n4xGrwBw ","429 \n1012","O \nO",null,26,7,1956,"John H. Price",{"$f":"IF(Ergebnistabelle[[#This Row],[Signatur]]<>\"\",\"Vorschau\",\"\")","v":"Vorschau"},{"$f":"IF(IFERROR(MATCH(Ergebnistabelle[[#This Row],[Bild-ID]],Merkliste!B:B,0),\"\")<>\"\",CHAR(252),\"\")","v":""},{"$f":"IF(Ergebnistabelle[[#This Row],[Bild-ID]]<>\"\",\"Merken\",\"\")","v":"Merken"},true,true,{"$f":"Ergebnistabelle[[#This Row],[Spalte1]]*Ergebnistabelle[[#This Row],[Spalte2]]","v":1},1,false,true,true,false,false,false,false,false,true,false,false,false,false,false,false,false,false,false,false,false,true,false,false,false,false,false,false,false,false,false,false,false,false,false,false,false,false,false,false,false,false,false,false,false,false,"2020-01-01",{"$f":"IF(Ergebnistabelle[[#This Row],[Spalte50]]>=Meldungen!$J$5,\"+\",\"\")","v":""}]
["203-216",null,null,"2xTw \n2xBw \n2xBw "," \n  \n ","66 \n66 \n66",{"$nulls":4},"Othmar Bamer",{"$f":"IF(Ergebnistabelle[[#This Row],[Signatur]]<>\"\",\"Vorschau\",\"\")","v":""},{"$f":"IF(IFERROR(MATCH(Ergebnistabelle[[#This Row],[Bild-ID]],Merkliste!B:B,0),\"\")<>\"\",CHAR(252),\"\")","v":""},{"$f":"IF(Ergebnistabelle[[#This Row],[Bild-ID]]<>\"\",\"Merken\",\"\")","v":"Merken"},true,true,{"$f":"Ergebnistabelle[[#This Row],[Spalte1]]*Ergebnistabelle[[#This Row],[Spalte2]]","v":1},1,false,true,true,false,false,false,false,false,true,false,false,false,false,false,false,false,false,false,true,false,false,false,false,false,false,false,false,false,false,false,false,false,false,false,false,false,false,false,false,false,false,false,false,false,false,"2020-01-01",{"$f":"IF(Ergebnistabelle[[#This Row],[Spalte50]]>=Meldungen!$J$5,\"+\",\"\")","v":""}]
["203-217",null,"Stadtpark","4xBw \n2xTw ","1154 \n2402","J \nJ",{"$nulls":3},1966,null,{"$f":"IF(Ergebnistabelle[[#This Row],[Signatur]]<>\"\",\"Vorschau\",\"\")","v":""},{"$f":"IF(IFERROR(MATCH(Ergebnistabelle[[#This Row],[Bild-ID]],Merkliste!B:B,0),\"\")<>\"\",CHAR(252),\"\")","v":""},{"$f":"IF(Ergebnistabelle[[#This Row],[Bild-ID]]<>\"\",\"Merken\",\"\")","v":"Merken"},true,true,{"$f":"Ergebnistabelle[[#This Row],[Spalte1]]*Ergebnistabelle[[#This Row],[Spalte2]]","v":1},1,false,true,true,false,false,false,false,false,true,false,false,false,false,false,false,false,false,false,false,false,true,false,false,false,false,false,false,false,false,false,false,false,false,false,false,false,false,false,false,false,false,false,false,false,false,"2020-01-01",{"$f":"IF(Ergebnistabelle[[#This Row],[Spalte50]]>=Meldungen!$J$5,\"+\",\"\")","v":""}]
["203-218",null,null,"ArbTw ",6401,{"$nulls":6},{"$f":"IF(Ergebnistabelle[[#This Row],[Signatur]]<>\"\",\"Vorschau\",\"\")","v":""},{"$f":"IF(IFERROR(MATCH(Ergebnistabelle[[#This Row],[Bild-ID]],Merkliste!B:B,0),\"\")<>\"\",CHAR(252),\"\")","v":""},{"$f":"IF(Ergebnistabelle[[#This Row],[Bild-ID]]<>\"\",\"Merken\",\"\")","v":"Merken"},true,true,{"$f":"Ergebnistabelle[[#This Row],[Spalte1]]*Ergebnistabelle[[#This Row],[Spalte2]]","v":1},1,false,false,false,true,false,false,false,false,false,false,false,false,false,false,false,false,false,false,false,false,false,false,false,false,false,false,false,false,true,false,false,false,false,false,false,false,false,false,false,false,false,false,false,false,false,"2020-01-01",{"$f":"IF(Ergebnistabelle[[#This Row],[Spalte50]]>=Meldungen!$J$5,\"+\",\"\")","v":""}]
["203-219",null,null,"2xTw ",20102,null,"Stern und Hafferl",{"$nulls":4},{"$f":"IF(Ergebnistabelle[[#This Row],[Signatur]]<>\"\",\"Vorschau\",\"\")","v":""},{"$f":"IF(IFERROR(MATCH(Ergebnistabelle[[#This Row],[Bild-ID]],Merkliste!B:B,0),\"\")<>\"\",CHAR(252),\"\")","v":""},{"$f":"IF(Ergebnistabelle[[#This Row],[Bild-ID]]<>\"\",\"Merken\",\"\")","v":"Merken"},true,true,{"$f":"Ergebnistabelle[[#This Row],[Spalte1]]*Ergebnistabelle[[#This Row],[Spalte2]]","v":1},1,false,true,false,false,false,false,false,false,true,false,false,false,false,false,false,false,false,false,false,false,false,false,false,false,false,false,false,false,false,false,false,false,false,false,false,false,false,false,false,false,false,false,false,false,false,"2020-01-01",{"$f":"IF(Ergebnistabelle[[#This Row],[Spalte50]]>=Meldungen!$J$5,\"+\",\"\")","v":""}]
["203-220",null,"Betriebshof Rudolfsheim","2xTw ",335,"52",{"$nulls":5},{"$f":"IF(Ergebnistabelle[[#This Row],[Signatur]]<>\"\",\"Vorschau\",\"\")","v":""},{"$f":"IF(IFERROR(MATCH(Ergebnistabelle[[#This Row],[Bild-ID]],Merkliste!B:B,0),\"\")<>\"\",CHAR(252),\"\")","v":""},{"$f":"IF(Ergebnistabelle[[#This Row],[Bild-ID]]<>\"\",\"Merken\",\"\")","v":"Merken"},true,true,{"$f":"Ergebnistabelle[[#This Row],[Spalte1]]*Ergebnistabelle[[#This Row],[Spalte2]]","v":1},1,false,true,false,false,false,false,false,false,true,false,false,false,false,false,false,false,false,false,false,false,false,false,false,false,false,false,false,false,false,false,false,false,false,false,false,false,false,false,false,false,false,false,false,false,false,"2020-01-01",{"$f":"IF(Ergebnistabelle[[#This Row],[Spalte50]]>=Meldungen!$J$5,\"+\",\"\")","v":""}]
["203-221",null,null,"2xTw ",445,"O",{"$nulls":4},"Othmar Bamer",{"$f":"IF(Ergebnistabelle[[#This Row],[Signatur]]<>\"\",\"Vorschau\",\"\")","v":""},{"$f":"IF(IFERROR(MATCH(Ergebnistabelle[[#This Row],[Bild-ID]],Merkliste!B:B,0),\"\")<>\"\",CHAR(252),\"\")","v":""},{"$f":"IF(Ergebnistabelle[[#This Row],[Bild-ID]]<>\"\",\"Merken\",\"\")","v":"Merken"},true,true,{"$f":"Ergebnistabelle[[#This Row],[Spalte1]]*Ergebnistabelle[[#This Row],[Spalte2]]","v":1},1,false,true,false,false,false,false,false,false,true,false,false,false,false,false,false,false,false,false,false,false,false,false,false,false,false,false,false,false,false,false,false,false,false,false,false,false,false,false,false,false,false,false,false,false,false,"2020-01-01",{"$f":"IF(Ergebnistabelle[[#This Row],[Spalte50]]>=Meldungen!$J$5,\"+\",\"\")","v":""}]
["203-222",null,null,"4xGelTw ",4301,{"$nulls":6},{"$f":"IF(Ergebnistabelle[[#This Row],[Signatur]]<>\"\",\"Vorschau\",\"\")","v":""},{"$f":"IF(IFERROR(MATCH(Ergebnistabelle[[#This Row],[Bild-ID]],Merkliste!B:B,0),\"\")<>\"\",CHAR(252),\"\")","v":""},{"$f":"IF(Ergebnistabelle[[#This Row],[Bild-ID]]<>\"\",\"Merken\",\"\")","v":"Merken"},{"$f":"IF(IFERROR(MATCH(R226,$BL$3:$UP$3,0),FALSE)<>FALSE,TRUE)","v":true},{"$f":"OR(S226=S$3, W226=W$3, AA226=AA$3, AB226=AB$3, AC226=AC$3, AD226=AD$3, AE226=AE$3, AF226=AF$3, AG226=AG$3, AH226=AH$3, AI226=AI$3, AJ226=AJ$3, AK226=AK$3, AL226=AL$3, AM226=AM$3, AN226=AN$3, AO226=AO$3, AP226=AP$3, AQ226=AQ$3, AR226=AR$3, AS226=AS$3, AT226=AT$3, AU226=AU$3, AV226=AV$3, AW226=AW$3, AX226=AX$3, AY226=AY$3, AZ226=AZ$3, BA226=BA$3, BB226=BB$3, BC226=BC$3, BD226=BD$3, BE226=BE$3, BF226=BF$3, BG226=BG$3, BH226=BH$3, BI226=BI$3, BJ226=BJ$3, BK226=BK$3)","v":true},{"$f":"Ergebnistabelle[[#This Row],[Spalte1]]*Ergebnistabelle[[#This Row],[Spalte2]]","v":1},1,false,true,false,false,false,false,false,false,false,false,false,true,false,false,false,false,false,false,false,false,false,false,false,false,false,false,false,false,false,false,false,false,false,false,false,false,false,false,false,false,false,false,false,false,false,"2020-01-01",{"$f":"IF(Ergebnistabelle[[#This Row],[Spalte50]]>=Meldungen!$J$5,\"+\",\"\")","v":""}]
["203-223","VDVA-0203-223","Betriebshof Michelbeuren","2xTw ",2900,null,null,26,7,1956,"John H. Price",{"$f":"IF(Ergebnistabelle[[#This Row],[Signatur]]<>\"\",\"Vorschau\",\"\")","v":"Vorschau"},{"$f":"IF(IFERROR(MATCH(Ergebnistabelle[[#This Row],[Bild-ID]],Merkliste!B:B,0),\"\")<>\"\",CHAR(252),\"\")","v":""},{"$f":"IF(Ergebnistabelle[[#This Row],[Bild-ID]]<>\"\",\"Merken\",\"\")","v":"Merken"},true,true,{"$f":"Ergebnistabelle[[#This Row],[Spalte1]]*Ergebnistabelle[[#This Row],[Spalte2]]","v":1},1,false,false,false,false,false,false,false,true,false,false,false,false,false,false,false,false,false,false,false,false,false,false,false,false,false,false,false,false,false,false,false,false,false,false,false,false,false,false,false,false,false,false,true,false,false,"2020-01-01",{"$f":"IF(Ergebnistabelle[[#This Row],[Spalte50]]>=Meldungen!$J$5,\"+\",\"\")","v":""}]
["203-224",null,null,"ArbTw ",6053,null,"Schienenschleifwagen",{"$nulls":3},"Othmar Bamer",{"$f":"IF(Ergebnistabelle[[#This Row],[Signatur]]<>\"\",\"Vorschau\",\"\")","v":""},{"$f":"IF(IFERROR(MATCH(Ergebnistabelle[[#This Row],[Bild-ID]],Merkliste!B:B,0),\"\")<>\"\",CHAR(252),\"\")","v":""},{"$f":"IF(Ergebnistabelle[[#This Row],[Bild-ID]]<>\"\",\"Merken\",\"\")","v":"Merken"},true,true,{"$f":"Ergebnistabelle[[#This Row],[Spalte1]]*Ergebnistabelle[[#This Row],[Spalte2]]","v":1},1,false,false,false,true,false,false,false,false,false,false,false,false,false,false,false,false,false,false,false,false,false,false,false,false,false,false,false,false,true,false,false,false,false,false,false,false,false,false,false,false,false,false,false,false,false,"2020-01-01",{"$f":"IF(Ergebnistabelle[[#This Row],[Spalte50]]>=Meldungen!$J$5,\"+\",\"\")","v":""}]
["203-225",null,null,"2xTw ",1607,null,"Baujahr 1912 Stauding, TW NÖLB",{"$nulls":4},{"$f":"IF(Ergebnistabelle[[#This Row],[Signatur]]<>\"\",\"Vorschau\",\"\")","v":""},{"$f":"IF(IFERROR(MATCH(Ergebnistabelle[[#This Row],[Bild-ID]],Merkliste!B:B,0),\"\")<>\"\",CHAR(252),\"\")","v":""},{"$f":"IF(Ergebnistabelle[[#This Row],[Bild-ID]]<>\"\",\"Merken\",\"\")","v":"Merken"},true,true,{"$f":"Ergebnistabelle[[#This Row],[Spalte1]]*Ergebnistabelle[[#This Row],[Spalte2]]","v":1},1,false,true,false,false,false,false,false,false,true,false,false,false,false,false,false,false,false,false,false,false,false,false,false,false,false,false,false,false,false,false,false,false,false,false,false,false,false,false,false,false,false,false,false,false,false,"2020-01-01",{"$f":"IF(Ergebnistabelle[[#This Row],[Spalte50]]>=Meldungen!$J$5,\"+\",\"\")","v":""}]
["203-226",{"$nulls":5},"Liliputbahn im Prater",{"$nulls":4},{"$f":"IF(Ergebnistabelle[[#This Row],[Signatur]]<>\"\",\"Vorschau\",\"\")","v":""},{"$f":"IF(IFERROR(MATCH(Ergebnistabelle[[#This Row],[Bild-ID]],Merkliste!B:B,0),\"\")<>\"\",CHAR(252),\"\")","v":""},{"$f":"IF(Ergebnistabelle[[#This Row],[Bild-ID]]<>\"\",\"Merken\",\"\")","v":"Merken"},true,true,{"$f":"Ergebnistabelle[[#This Row],[Spalte1]]*Ergebnistabelle[[#This Row],[Spalte2]]","v":1},1,false,false,false,false,false,false,false,true,false,false,false,false,false,false,false,false,false,false,false,false,false,false,false,false,false,false,false,false,false,false,false,false,false,false,false,false,false,false,false,false,false,false,false,false,true,"2020-01-01",{"$f":"IF(Ergebnistabelle[[#This Row],[Spalte50]]>=Meldungen!$J$5,\"+\",\"\")","v":""}]
["203-227",null,null,"2xTw \n2xBw ","16 \n ","52 \n52","Tw 16:KSW",{"$nulls":4},{"$f":"IF(Ergebnistabelle[[#This Row],[Signatur]]<>\"\",\"Vorschau\",\"\")","v":""},{"$f":"IF(IFERROR(MATCH(Ergebnistabelle[[#This Row],[Bild-ID]],Merkliste!B:B,0),\"\")<>\"\",CHAR(252),\"\")","v":""},{"$f":"IF(Ergebnistabelle[[#This Row],[Bild-ID]]<>\"\",\"Merken\",\"\")","v":"Merken"},true,true,{"$f":"Ergebnistabelle[[#This Row],[Spalte1]]*Ergebnistabelle[[#This Row],[Spalte2]]","v":1},1,false,true,true,false,false,false,false,false,true,false,false,false,false,false,false,false,false,false,true,false,false,false,false,false,false,false,false,false,false,false,false,false,false,false,false,false,false,false,false,false,false,false,false,false,false,"2020-01-01",{"$f":"IF(Ergebnistabelle[[#This Row],[Spalte50]]>=Meldungen!$J$5,\"+\",\"\")","v":""}]
["203-228",{"$nulls":5},"Schienenreinigungswagen",{"$nulls":3},"Josef Otto Slezak",{"$f":"IF(Ergebnistabelle[[#This Row],[Signatur]]<>\"\",\"Vorschau\",\"\")","v":""},{"$f":"IF(IFERROR(MATCH(Ergebnistabelle[[#This Row],[Bild-ID]],Merkliste!B:B,0),\"\")<>\"\",CHAR(252),\"\")","v":""},{"$f":"IF(Ergebnistabelle[[#This Row],[Bild-ID]]<>\"\",\"Merken\",\"\")","v":"Merken"},true,true,{"$f":"Ergebnistabelle[[#This Row],[Spalte1]]*Ergebnistabelle[[#This Row],[Spalte2]]","v":1},1,false,false,false,true,false,false,false,false,false,false,false,false,false,false,false,false,false,false,false,false,false,false,false,false,false,false,false,false,true,false,false,false,false,false,false,false,false,false,false,false,false,false,false,false,false,"2020-01-01",{"$f":"IF(Ergebnistabelle[[#This Row],[Spalte50]]>=Meldungen!$J$5,\"+\",\"\")","v":""}]
["203-229",null,null,"2xBw ",1520,{"$nulls":4},1955,null,{"$f":"IF(Ergebnistabelle[[#This Row],[Signatur]]<>\"\",\"Vorschau\",\"\")","v":""},{"$f":"IF(IFERROR(MATCH(Ergebnistabelle[[#This Row],[Bild-ID]],Merkliste!B:B,0),\"\")<>\"\",CHAR(252),\"\")","v":""},{"$f":"IF(Ergebnistabelle[[#This Row],[Bild-ID]]<>\"\",\"Merken\",\"\")","v":"Merken"},true,true,{"$f":"Ergebnistabelle[[#This Row],[Spalte1]]*Ergebnistabelle[[#This Row],[Spalte2]]","v":1},1,false,false,true,false,false,false,false,false,false,false,false,false,false,false,false,false,false,false,true,false,false,false,false,false,false,false,false,false,false,false,false,false,false,false,false,false,false,false,false,false,false,false,false,false,false,"2020-01-01",{"$f":"IF(Ergebnistabelle[[#This Row],[Spalte50]]>=Meldungen!$J$5,\"+\",\"\")","v":""}]
["203-230",null,null,"2xTw ",766,"G","Stolz der Wiener Verkehrsbetriebe",{"$nulls":4},{"$f":"IF(Ergebnistabelle[[#This Row],[Signatur]]<>\"\",\"Vorschau\",\"\")","v":""},{"$f":"IF(IFERROR(MATCH(Ergebnistabelle[[#This Row],[Bild-ID]],Merkliste!B:B,0),\"\")<>\"\",CHAR(252),\"\")","v":""},{"$f":"IF(Ergebnistabelle[[#This Row],[Bild-ID]]<>\"\",\"Merken\",\"\")","v":"Merken"},true,true,{"$f":"Ergebnistabelle[[#This Row],[Spalte1]]*Ergebnistabelle[[#This Row],[Spalte2]]","v":1},1,false,false,false,false,false,false,false,true,false,false,false,false,false,false,false,false,false,false,false,false,false,false,false,false,false,false,false,false,false,false,false,false,false,false,false,false,false,false,false,false,false,false,true,false,false,"2020-01-01",{"$f":"IF(Ergebnistabelle[[#This Row],[Spalte50]]>=Meldungen!$J$5,\"+\",\"\")","v":""}]
["203-231",null,null,"6xGelTw ",4440,null,"Personalwerbewagen",{"$nulls":4},{"$f":"IF(Ergebnistabelle[[#This Row],[Signatur]]<>\"\",\"Vorschau\",\"\")","v":""},{"$f":"IF(IFERROR(MATCH(Ergebnistabelle[[#This Row],[Bild-ID]],Merkliste!B:B,0),\"\")<>\"\",CHAR(252),\"\")","v":""},{"$f":"IF(Ergebnistabelle[[#This Row],[Bild-ID]]<>\"\",\"Merken\",\"\")","v":"Merken"},true,true,{"$f":"Ergebnistabelle[[#This Row],[Spalte1]]*Ergebnistabelle[[#This Row],[Spalte2]]","v":1},1,false,true,false,false,false,false,false,false,false,false,false,false,true,false,false,false,false,false,false,false,false,false,false,false,false,false,false,false,false,false,false,false,false,false,false,false,false,false,false,false,false,false,false,false,false,"2020-01-01",{"$f":"IF(Ergebnistabelle[[#This Row],[Spalte50]]>=Meldungen!$J$5,\"+\",\"\")","v":""}]
["203-232",{"$nulls":5},"Liliputbahn im Prater",{"$nulls":4},{"$f":"IF(Ergebnistabelle[[#This Row],[Signatur]]<>\"\",\"Vorschau\",\"\")","v":""},{"$f":"IF(IFERROR(MATCH(Ergebnistabelle[[#This Row],[Bild-ID]],Merkliste!B:B,0),\"\")<>\"\",CHAR(252),\"\")","v":""},{"$f":"IF(Ergebnistabelle[[#This Row],[Bild-ID]]<>\"\",\"Merken\",\"\")","v":"Merken"},true,true,{"$f":"Ergebnistabelle[[#This Row],[Spalte1]]*Ergebnistabelle[[#This Row],[Spalte2]]","v":1},1,false,false,false,false,false,false,false,true,false,false,false,false,false,false,false,false,false,false,false,false,false,false,false,false,false,false,false,false,false,false,false,false,false,false,false,false,false,false,false,false,false,false,false,false,true,"2020-01-01",{"$f":"IF(Ergebnistabelle[[#This Row],[Spalte50]]>=Meldungen!$J$5,\"+\",\"\")","v":""}]
["203-233","VDVA-0203-233","Margarethengürtel","2xTw ",2929,null,null,26,7,1956,"John H. Price",{"$f":"IF(Ergebnistabelle[[#This Row],[Signatur]]<>\"\",\"Vorschau\",\"\")","v":"Vorschau"},{"$f":"IF(IFERROR(MATCH(Ergebnistabelle[[#This Row],[Bild-ID]],Merkliste!B:B,0),\"\")<>\"\",CHAR(252),\"\")","v":""},{"$f":"IF(Ergebnistabelle[[#This Row],[Bild-ID]]<>\"\",\"Merken\",\"\")","v":"Merken"},true,true,{"$f":"Ergebnistabelle[[#This Row],[Spalte1]]*Ergebnistabelle[[#This Row],[Spalte2]]","v":1},1,false,false,false,false,false,false,false,true,false,false,false,false,false,false,false,false,false,false,false,false,false,false,false,false,false,false,false,false,false,false,false,false,false,false,false,false,false,false,false,false,false,false,true,false,false,"2020-01-01",{"$f":"IF(Ergebnistabelle[[#This Row],[Spalte50]]>=Meldungen!$J$5,\"+\",\"\")","v":""}]
["203-234","VDVA-0203-234","Hütteldorf","2xTw ",2932,null,null,27,6,1956,"John H. Price",{"$f":"IF(Ergebnistabelle[[#This Row],[Signatur]]<>\"\",\"Vorschau\",\"\")","v":"Vorschau"},{"$f":"IF(IFERROR(MATCH(Ergebnistabelle[[#This Row],[Bild-ID]],Merkliste!B:B,0),\"\")<>\"\",CHAR(252),\"\")","v":""},{"$f":"IF(Ergebnistabelle[[#This Row],[Bild-ID]]<>\"\",\"Merken\",\"\")","v":"Merken"},true,true,{"$f":"Ergebnistabelle[[#This Row],[Spalte1]]*Ergebnistabelle[[#This Row],[Spalte2]]","v":1},1,false,false,false,false,false,false,false,true,false,false,false,false,false,false,false,false,false,false,false,false,false,false,false,false,false,false,false,false,false,false,false,false,false,false,false,false,false,false,false,false,false,false,true,false,false,"2020-01-01",{"$f":"IF(Ergebnistabelle[[#This Row],[Spalte50]]>=Meldungen!$J$5,\"+\",\"\")","v":""}]
["203-235","VDVA-0203-235","Josephstädter Straße","2xTw ",2932,null,"Stadtbahn. LRTL Sonderwagen",26,7,1956,"John H. Price",{"$f":"IF(Ergebnistabelle[[#This Row],[Signatur]]<>\"\",\"Vorschau\",\"\")","v":"Vorschau"},{"$f":"IF(IFERROR(MATCH(Ergebnistabelle[[#This Row],[Bild-ID]],Merkliste!B:B,0),\"\")<>\"\",CHAR(252),\"\")","v":""},{"$f":"IF(Ergebnistabelle[[#This Row],[Bild-ID]]<>\"\",\"Merken\",\"\")","v":"Merken"},true,true,{"$f":"Ergebnistabelle[[#This Row],[Spalte1]]*Ergebnistabelle[[#This Row],[Spalte2]]","v":1},3,false,false,false,false,false,false,false,true,false,false,false,false,false,false,false,false,false,false,false,false,false,false,false,false,false,false,false,false,false,false,false,false,false,false,false,false,false,false,false,false,false,false,true,false,false,"2020-01-01",{"$f":"IF(Ergebnistabelle[[#This Row],[Spalte50]]>=Meldungen!$J$5,\"+\",\"\")","v":""}]
["203-236","VDVA-0203-236","Ottakring","4xGrwBw \n+4xGrwTw ","1217 \n117"," \n ",null,26,7,1956,"John H. Price",{"$f":"IF(Ergebnistabelle[[#This Row],[Signatur]]<>\"\",\"Vorschau\",\"\")","v":"Vorschau"},{"$f":"IF(IFERROR(MATCH(Ergebnistabelle[[#This Row],[Bild-ID]],Merkliste!B:B,0),\"\")<>\"\",CHAR(252),\"\")","v":""},{"$f":"IF(Ergebnistabelle[[#This Row],[Bild-ID]]<>\"\",\"Merken\",\"\")","v":"Merken"},true,true,{"$f":"Ergebnistabelle[[#This Row],[Spalte1]]*Ergebnistabelle[[#This Row],[Spalte2]]","v":1},1,false,true,true,false,false,false,false,false,false,false,true,false,false,false,false,false,false,false,false,false,true,false,false,false,false,false,false,false,false,false,false,false,false,false,false,false,false,false,false,false,false,false,false,false,false,"2020-01-01",{"$f":"IF(Ergebnistabelle[[#This Row],[Spalte50]]>=Meldungen!$J$5,\"+\",\"\")","v":""}]
["203-237","VDVA-0203-237","Betriebshof Floridsdorf","2xBw \n2xBw ","271 \n270"," \n ",null,26,7,1956,"John H. Price",{"$f":"IF(Ergebnistabelle[[#This Row],[Signatur]]<>\"\",\"Vorschau\",\"\")","v":"Vorschau"},{"$f":"IF(IFERROR(MATCH(Ergebnistabelle[[#This Row],[Bild-ID]],Merkliste!B:B,0),\"\")<>\"\",CHAR(252),\"\")","v":""},{"$f":"IF(Ergebnistabelle[[#This Row],[Bild-ID]]<>\"\",\"Merken\",\"\")","v":"Merken"},true,true,{"$f":"Ergebnistabelle[[#This Row],[Spalte1]]*Ergebnistabelle[[#This Row],[Spalte2]]","v":1},1,false,false,true,false,false,false,false,false,false,false,false,false,false,false,false,false,false,false,true,false,false,false,false,false,false,false,false,false,false,false,false,false,false,false,false,false,false,false,false,false,false,false,false,false,false,"2020-01-01",{"$f":"IF(Ergebnistabelle[[#This Row],[Spalte50]]>=Meldungen!$J$5,\"+\",\"\")","v":""}]
["203-238","VDVA-0203-238","Friedrich-Engels-Platz","2xTw \n2xBw \n2xBw ","2543 \n250 \n236","132 \n132 \n132",null,26,7,1956,"John H. Price",{"$f":"IF(Ergebnistabelle[[#This Row],[Signatur]]<>\"\",\"Vorschau\",\"\")","v":"Vorschau"},{"$f":"IF(IFERROR(MATCH(Ergebnistabelle[[#This Row],[Bild-ID]],Merkliste!B:B,0),\"\")<>\"\",CHAR(252),\"\")","v":""},{"$f":"IF(Ergebnistabelle[[#This Row],[Bild-ID]]<>\"\",\"Merken\",\"\")","v":"Merken"},true,true,{"$f":"Ergebnistabelle[[#This Row],[Spalte1]]*Ergebnistabelle[[#This Row],[Spalte2]]","v":1},1,false,true,true,false,false,false,false,false,true,false,false,false,false,false,false,false,false,false,true,false,false,false,false,false,false,false,false,false,false,false,false,false,false,false,false,false,false,false,false,false,false,false,false,false,false,"2020-01-01",{"$f":"IF(Ergebnistabelle[[#This Row],[Spalte50]]>=Meldungen!$J$5,\"+\",\"\")","v":""}]
["203-239","VDVA-0203-239","Mauer","2xBw \n2xBw \n2xTw "," \n  \n401","60 \n60 \n60",null,27,7,1956,"John H. Price",{"$f":"IF(Ergebnistabelle[[#This Row],[Signatur]]<>\"\",\"Vorschau\",\"\")","v":"Vorschau"},{"$f":"IF(IFERROR(MATCH(Ergebnistabelle[[#This Row],[Bild-ID]],Merkliste!B:B,0),\"\")<>\"\",CHAR(252),\"\")","v":""},{"$f":"IF(Ergebnistabelle[[#This Row],[Bild-ID]]<>\"\",\"Merken\",\"\")","v":"Merken"},true,true,{"$f":"Ergebnistabelle[[#This Row],[Spalte1]]*Ergebnistabelle[[#This Row],[Spalte2]]","v":1},1,false,true,true,false,false,false,false,false,true,false,false,false,false,false,false,false,false,false,true,false,false,false,false,false,false,false,false,false,false,false,false,false,false,false,false,false,false,false,false,false,false,false,false,false,false,"2020-01-01",{"$f":"IF(Ergebnistabelle[[#This Row],[Spalte50]]>=Meldungen!$J$5,\"+\",\"\")","v":""}]
["203-240","VDVA-0203-240","Oper","2xBw \n2xTw ","5221 \n2628","F \nF",null,27,7,1956,"John H. Price",{"$f":"IF(Ergebnistabelle[[#This Row],[Signatur]]<>\"\",\"Vorschau\",\"\")","v":"Vorschau"},{"$f":"IF(IFERROR(MATCH(Ergebnistabelle[[#This Row],[Bild-ID]],Merkliste!B:B,0),\"\")<>\"\",CHAR(252),\"\")","v":""},{"$f":"IF(Ergebnistabelle[[#This Row],[Bild-ID]]<>\"\",\"Merken\",\"\")","v":"Merken"},true,true,{"$f":"Ergebnistabelle[[#This Row],[Spalte1]]*Ergebnistabelle[[#This Row],[Spalte2]]","v":1},1,false,true,true,false,false,false,false,false,true,false,false,false,false,false,false,false,false,false,true,false,false,false,false,false,false,false,false,false,false,false,false,false,false,false,false,false,false,false,false,false,false,false,false,false,false,"2020-01-01",{"$f":"IF(Ergebnistabelle[[#This Row],[Spalte50]]>=Meldungen!$J$5,\"+\",\"\")","v":""}]
["203-241","VDVA-0203-241","Praterstern","2xBw \n2xTw ","5340 \n4045"," \n ",null,30,7,1956,"John H. Price",{"$f":"IF(Ergebnistabelle[[#This Row],[Signatur]]<>\"\",\"Vorschau\",\"\")","v":"Vorschau"},{"$f":"IF(IFERROR(MATCH(Ergebnistabelle[[#This Row],[Bild-ID]],Merkliste!B:B,0),\"\")<>\"\",CHAR(252),\"\")","v":""},{"$f":"IF(Ergebnistabelle[[#This Row],[Bild-ID]]<>\"\",\"Merken\",\"\")","v":"Merken"},true,true,{"$f":"Ergebnistabelle[[#This Row],[Spalte1]]*Ergebnistabelle[[#This Row],[Spalte2]]","v":1},1,false,true,true,false,false,false,false,false,true,false,false,false,false,false,false,false,false,false,true,false,false,false,false,false,false,false,false,false,false,false,false,false,false,false,false,false,false,false,false,false,false,false,false,false,false,"2020-01-01",{"$f":"IF(Ergebnistabelle[[#This Row],[Spalte50]]>=Meldungen!$J$5,\"+\",\"\")","v":""}]
["203-242","VDVA-0203-242","Friedrich-Engels-Platz","4xGelTw ",734,"132",null,29,7,1966,"John H. Price",{"$f":"IF(Ergebnistabelle[[#This Row],[Signatur]]<>\"\",\"Vorschau\",\"\")","v":"Vorschau"},{"$f":"IF(IFERROR(MATCH(Ergebnistabelle[[#This Row],[Bild-ID]],Merkliste!B:B,0),\"\")<>\"\",CHAR(252),\"\")","v":""},{"$f":"IF(Ergebnistabelle[[#This Row],[Bild-ID]]<>\"\",\"Merken\",\"\")","v":"Merken"},true,true,{"$f":"Ergebnistabelle[[#This Row],[Spalte1]]*Ergebnistabelle[[#This Row],[Spalte2]]","v":1},1,false,true,false,false,false,false,false,false,false,false,false,true,false,false,false,false,false,false,false,false,false,false,false,false,false,false,false,false,false,false,false,false,false,false,false,false,false,false,false,false,false,false,false,false,false,"2020-01-01",{"$f":"IF(Ergebnistabelle[[#This Row],[Spalte50]]>=Meldungen!$J$5,\"+\",\"\")","v":""}]
["203-243","VDVA-0203-243","Friedrich-Engels-Platz","4xGelTw \n+4xGrwBw","716\n  "," \n ",null,29,7,1966,"John H. Price",{"$f":"IF(Ergebnistabelle[[#This Row],[Signatur]]<>\"\",\"Vorschau\",\"\")","v":"Vorschau"},{"$f":"IF(IFERROR(MATCH(Ergebnistabelle[[#This Row],[Bild-ID]],Merkliste!B:B,0),\"\")<>\"\",CHAR(252),\"\")","v":""},{"$f":"IF(Ergebnistabelle[[#This Row],[Bild-ID]]<>\"\",\"Merken\",\"\")","v":"Merken"},true,true,{"$f":"Ergebnistabelle[[#This Row],[Spalte1]]*Ergebnistabelle[[#This Row],[Spalte2]]","v":1},1,false,true,true,false,false,false,false,false,false,false,false,true,false,false,false,false,false,false,false,false,true,false,false,false,false,false,false,false,false,false,false,false,false,false,false,false,false,false,false,false,false,false,false,false,false,"2020-01-01",{"$f":"IF(Ergebnistabelle[[#This Row],[Spalte50]]>=Meldungen!$J$5,\"+\",\"\")","v":""}]
["203-244","VDVA-0203-244","Lammersdorf","4xTw ",4237,null,"ex New York",16,7,1956,"John H. Price",{"$f":"IF(Ergebnistabelle[[#This Row],[Signatur]]<>\"\",\"Vorschau\",\"\")","v":"Vorschau"},{"$f":"IF(IFERROR(MATCH(Ergebnistabelle[[#This Row],[Bild-ID]],Merkliste!B:B,0),\"\")<>\"\",CHAR(252),\"\")","v":""},{"$f":"IF(Ergebnistabelle[[#This Row],[Bild-ID]]<>\"\",\"Merken\",\"\")","v":"Merken"},true,true,{"$f":"Ergebnistabelle[[#This Row],[Spalte1]]*Ergebnistabelle[[#This Row],[Spalte2]]","v":1},1,false,true,false,false,false,false,false,false,false,true,false,false,false,false,false,false,false,false,false,false,false,false,false,false,false,false,false,false,false,false,false,false,false,false,false,false,false,false,false,false,false,false,false,false,false,"2020-01-01",{"$f":"IF(Ergebnistabelle[[#This Row],[Spalte50]]>=Meldungen!$J$5,\"+\",\"\")","v":""}]
["203-245","VDVA-0203-245","Friedrich-Engels-Platz","4xTw ",4210,"11","ex New York",29,7,1966,"John H. Price",{"$f":"IF(Ergebnistabelle[[#This Row],[Signatur]]<>\"\",\"Vorschau\",\"\")","v":"Vorschau"},{"$f":"IF(IFERROR(MATCH(Ergebnistabelle[[#This Row],[Bild-ID]],Merkliste!B:B,0),\"\")<>\"\",CHAR(252),\"\")","v":""},{"$f":"IF(Ergebnistabelle[[#This Row],[Bild-ID]]<>\"\",\"Merken\",\"\")","v":"Merken"},true,true,{"$f":"Ergebnistabelle[[#This Row],[Spalte1]]*Ergebnistabelle[[#This Row],[Spalte2]]","v":1},1,false,true,false,false,false,false,false,false,false,true,false,false,false,false,false,false,false,false,false,false,false,false,false,false,false,false,false,false,false,false,false,false,false,false,false,false,false,false,false,false,false,false,false,false,false,"2020-01-01",{"$f":"IF(Ergebnistabelle[[#This Row],[Spalte50]]>=Meldungen!$J$5,\"+\",\"\")","v":""}]
["203-246","VDVA-0203-246","Oper","2xBw \n2xTw \n2xBw ","5334 \n4054 \n5281","B \nB \nB",null,27,7,1956,"John H. Price",{"$f":"IF(Ergebnistabelle[[#This Row],[Signatur]]<>\"\",\"Vorschau\",\"\")","v":"Vorschau"},{"$f":"IF(IFERROR(MATCH(Ergebnistabelle[[#This Row],[Bild-ID]],Merkliste!B:B,0),\"\")<>\"\",CHAR(252),\"\")","v":""},{"$f":"IF(Ergebnistabelle[[#This Row],[Bild-ID]]<>\"\",\"Merken\",\"\")","v":"Merken"},true,true,{"$f":"Ergebnistabelle[[#This Row],[Spalte1]]*Ergebnistabelle[[#This Row],[Spalte2]]","v":1},1,false,true,true,false,false,false,false,false,true,false,false,false,false,false,false,false,false,false,true,false,false,false,false,false,false,false,false,false,false,false,false,false,false,false,false,false,false,false,false,false,false,false,false,false,false,"2020-01-01",{"$f":"IF(Ergebnistabelle[[#This Row],[Spalte50]]>=Meldungen!$J$5,\"+\",\"\")","v":""}]
["203-247","VDVA-0203-247","Friedrich-Engels-Platz","4xTw ",4210,"11","ex New York",29,7,1966,"John H. Price",{"$f":"IF(Ergebnistabelle[[#This Row],[Signatur]]<>\"\",\"Vorschau\",\"\")","v":"Vorschau"},{"$f":"IF(IFERROR(MATCH(Ergebnistabelle[[#This Row],[Bild-ID]],Merkliste!B:B,0),\"\")<>\"\",CHAR(252),\"\")","v":""},{"$f":"IF(Ergebnistabelle[[#This Row],[Bild-ID]]<>\"\",\"Merken\",\"\")","v":"Merken"},true,true,{"$f":"Ergebnistabelle[[#This Row],[Spalte1]]*Ergebnistabelle[[#This Row],[Spalte2]]","v":1},1,false,true,false,false,false,false,false,false,false,true,false,false,false,false,false,false,false,false,false,false,false,false,false,false,false,false,false,false,false,false,false,false,false,false,false,false,false,false,false,false,false,false,false,false,false,"2020-01-01",{"$f":"IF(Ergebnistabelle[[#This Row],[Spalte50]]>=Meldungen!$J$5,\"+\",\"\")","v":""}]
["203-248","VDVA-0203-248","Betriebshof Floridsdorf","4xTw ",4241,"331","ex New York",26,7,1956,"John H. Price",{"$f":"IF(Ergebnistabelle[[#This Row],[Signatur]]<>\"\",\"Vorschau\",\"\")","v":"Vorschau"},{"$f":"IF(IFERROR(MATCH(Ergebnistabelle[[#This Row],[Bild-ID]],Merkliste!B:B,0),\"\")<>\"\",CHAR(252),\"\")","v":""},{"$f":"IF(Ergebnistabelle[[#This Row],[Bild-ID]]<>\"\",\"Merken\",\"\")","v":"Merken"},true,true,{"$f":"Ergebnistabelle[[#This Row],[Spalte1]]*Ergebnistabelle[[#This Row],[Spalte2]]","v":1},1,false,true,false,false,false,false,false,false,false,true,false,false,false,false,false,false,false,false,false,false,false,false,false,false,false,false,false,false,false,false,false,false,false,false,false,false,false,false,false,false,false,false,false,false,false,"2020-01-01",{"$f":"IF(Ergebnistabelle[[#This Row],[Spalte50]]>=Meldungen!$J$5,\"+\",\"\")","v":""}]
["203-249","VDVA-0203-249","Ottakring","4xGrwTw \n+4xGrwBw ","105 \n1205","46 \n46","mit Personal",26,7,1956,"John H. Price",{"$f":"IF(Ergebnistabelle[[#This Row],[Signatur]]<>\"\",\"Vorschau\",\"\")","v":"Vorschau"},{"$f":"IF(IFERROR(MATCH(Ergebnistabelle[[#This Row],[Bild-ID]],Merkliste!B:B,0),\"\")<>\"\",CHAR(252),\"\")","v":""},{"$f":"IF(Ergebnistabelle[[#This Row],[Bild-ID]]<>\"\",\"Merken\",\"\")","v":"Merken"},true,true,{"$f":"Ergebnistabelle[[#This Row],[Spalte1]]*Ergebnistabelle[[#This Row],[Spalte2]]","v":1},1,false,true,true,false,false,false,false,false,false,false,true,false,false,false,false,false,false,false,false,false,true,false,false,false,false,false,false,false,false,false,false,false,false,false,false,false,false,false,false,false,false,false,false,false,false,"2020-01-01",{"$f":"IF(Ergebnistabelle[[#This Row],[Spalte50]]>=Meldungen!$J$5,\"+\",\"\")","v":""}]
["203-250","VDVA-0203-250","Friedrich-Engels-Platz","4xTw ",4207,"331","ex New York",26,7,1956,"John H. Price",{"$f":"IF(Ergebnistabelle[[#This Row],[Signatur]]<>\"\",\"Vorschau\",\"\")","v":"Vorschau"},{"$f":"IF(IFERROR(MATCH(Ergebnistabelle[[#This Row],[Bild-ID]],Merkliste!B:B,0),\"\")<>\"\",CHAR(252),\"\")","v":""},{"$f":"IF(Ergebnistabelle[[#This Row],[Bild-ID]]<>\"\",\"Merken\",\"\")","v":"Merken"},true,true,{"$f":"Ergebnistabelle[[#This Row],[Spalte1]]*Ergebnistabelle[[#This Row],[Spalte2]]","v":1},1,false,true,false,false,false,false,false,false,false,true,false,false,false,false,false,false,false,false,false,false,false,false,false,false,false,false,false,false,false,false,false,false,false,false,false,false,false,false,false,false,false,false,false,false,false,"2020-01-01",{"$f":"IF(Ergebnistabelle[[#This Row],[Spalte50]]>=Meldungen!$J$5,\"+\",\"\")","v":""}]
["203-251",null,"Mariahilfer Straße","2xTw \n2xBw ","23 \n ","58 \n58",null,31,7,1956,"John H. Price",{"$f":"IF(Ergebnistabelle[[#This Row],[Signatur]]<>\"\",\"Vorschau\",\"\")","v":""},{"$f":"IF(IFERROR(MATCH(Ergebnistabelle[[#This Row],[Bild-ID]],Merkliste!B:B,0),\"\")<>\"\",CHAR(252),\"\")","v":""},{"$f":"IF(Ergebnistabelle[[#This Row],[Bild-ID]]<>\"\",\"Merken\",\"\")","v":"Merken"},true,true,{"$f":"Ergebnistabelle[[#This Row],[Spalte1]]*Ergebnistabelle[[#This Row],[Spalte2]]","v":1},1,false,true,true,false,false,false,false,false,true,false,false,false,false,false,false,false,false,false,true,false,false,false,false,false,false,false,false,false,false,false,false,false,false,false,false,false,false,false,false,false,false,false,false,false,false,"2020-01-01",{"$f":"IF(Ergebnistabelle[[#This Row],[Spalte50]]>=Meldungen!$J$5,\"+\",\"\")","v":""}]
["203-252","VDVA-0203-252","Lainz","2xBw \n2xTw "," \n2722"," \n ",null,27,7,1956,"John H. Price",{"$f":"IF(Ergebnistabelle[[#This Row],[Signatur]]<>\"\",\"Vorschau\",\"\")","v":"Vorschau"},{"$f":"IF(IFERROR(MATCH(Ergebnistabelle[[#This Row],[Bild-ID]],Merkliste!B:B,0),\"\")<>\"\",CHAR(252),\"\")","v":""},{"$f":"IF(Ergebnistabelle[[#This Row],[Bild-ID]]<>\"\",\"Merken\",\"\")","v":"Merken"},true,true,{"$f":"Ergebnistabelle[[#This Row],[Spalte1]]*Ergebnistabelle[[#This Row],[Spalte2]]","v":1},1,false,true,true,false,false,false,false,false,true,false,false,false,false,false,false,false,false,false,true,false,false,false,false,false,false,false,false,false,false,false,false,false,false,false,false,false,false,false,false,false,false,false,false,false,false,"2020-01-01",{"$f":"IF(Ergebnistabelle[[#This Row],[Spalte50]]>=Meldungen!$J$5,\"+\",\"\")","v":""}]
["203-253","VDVA-0203-253","nahe Heiligenstadt","2xTw ",2879,null,"Stadtbahn",26,7,1956,"John H. Price",{"$f":"IF(Ergebnistabelle[[#This Row],[Signatur]]<>\"\",\"Vorschau\",\"\")","v":"Vorschau"},{"$f":"IF(IFERROR(MATCH(Ergebnistabelle[[#This Row],[Bild-ID]],Merkliste!B:B,0),\"\")<>\"\",CHAR(252),\"\")","v":""},{"$f":"IF(Ergebnistabelle[[#This Row],[Bild-ID]]<>\"\",\"Merken\",\"\")","v":"Merken"},true,true,{"$f":"Ergebnistabelle[[#This Row],[Spalte1]]*Ergebnistabelle[[#This Row],[Spalte2]]","v":1},1,false,false,false,false,false,false,false,true,false,false,false,false,false,false,false,false,false,false,false,false,false,false,false,false,false,false,false,false,false,false,false,false,false,false,false,false,false,false,false,false,false,false,true,false,false,"2020-01-01",{"$f":"IF(Ergebnistabelle[[#This Row],[Spalte50]]>=Meldungen!$J$5,\"+\",\"\")","v":""}]
["203-254","VDVA-0203-254","nahe Meidlinger Hauptstraße","2xTw ",2900,null,"Stadtbahn",26,7,1956,"John H. Price",{"$f":"IF(Ergebnistabelle[[#This Row],[Signatur]]<>\"\",\"Vorschau\",\"\")","v":"Vorschau"},{"$f":"IF(IFERROR(MATCH(Ergebnistabelle[[#This Row],[Bild-ID]],Merkliste!B:B,0),\"\")<>\"\",CHAR(252),\"\")","v":""},{"$f":"IF(Ergebnistabelle[[#This Row],[Bild-ID]]<>\"\",\"Merken\",\"\")","v":"Merken"},true,true,{"$f":"Ergebnistabelle[[#This Row],[Spalte1]]*Ergebnistabelle[[#This Row],[Spalte2]]","v":1},1,false,false,false,false,false,false,false,true,false,false,false,false,false,false,false,false,false,false,false,false,false,false,false,false,false,false,false,false,false,false,false,false,false,false,false,false,false,false,false,false,false,false,true,false,false,"2020-01-01",{"$f":"IF(Ergebnistabelle[[#This Row],[Spalte50]]>=Meldungen!$J$5,\"+\",\"\")","v":""}]
["203-255",null,"Stadtpark","4xBw \n2xTw ","1147 \n2416"," \n ",{"$nulls":3},1966,"Walter Steinberger",{"$f":"IF(Ergebnistabelle[[#This Row],[Signatur]]<>\"\",\"Vorschau\",\"\")","v":""},{"$f":"IF(IFERROR(MATCH(Ergebnistabelle[[#This Row],[Bild-ID]],Merkliste!B:B,0),\"\")<>\"\",CHAR(252),\"\")","v":""},{"$f":"IF(Ergebnistabelle[[#This Row],[Bild-ID]]<>\"\",\"Merken\",\"\")","v":"Merken"},true,true,{"$f":"Ergebnistabelle[[#This Row],[Spalte1]]*Ergebnistabelle[[#This Row],[Spalte2]]","v":1},1,false,true,true,false,false,false,false,false,true,false,false,false,false,false,false,false,false,false,false,false,true,false,false,false,false,false,false,false,false,false,false,false,false,false,false,false,false,false,false,false,false,false,false,false,false,"2020-01-01",{"$f":"IF(Ergebnistabelle[[#This Row],[Spalte50]]>=Meldungen!$J$5,\"+\",\"\")","v":""}]
["203-256",null,"Betriebshof Rudolfsheim","2xTw ",24,null,"KSW",null,8,1969,"Walter Steinberger",{"$f":"IF(Ergebnistabelle[[#This Row],[Signatur]]<>\"\",\"Vorschau\",\"\")","v":""},{"$f":"IF(IFERROR(MATCH(Ergebnistabelle[[#This Row],[Bild-ID]],Merkliste!B:B,0),\"\")<>\"\",CHAR(252),\"\")","v":""},{"$f":"IF(Ergebnistabelle[[#This Row],[Bild-ID]]<>\"\",\"Merken\",\"\")","v":"Merken"},true,true,{"$f":"Ergebnistabelle[[#This Row],[Spalte1]]*Ergebnistabelle[[#This Row],[Spalte2]]","v":1},1,false,true,false,false,false,false,false,false,true,false,false,false,false,false,false,false,false,false,false,false,false,false,false,false,false,false,false,false,false,false,false,false,false,false,false,false,false,false,false,false,false,false,false,false,false,"2020-01-01",{"$f":"IF(Ergebnistabelle[[#This Row],[Spalte50]]>=Meldungen!$J$5,\"+\",\"\")","v":""}]
["203-257",null,"Betriebshof","2xTw \n2xBw ","70 \n1428","18 \n18",{"$nulls":3},1969,"Walter Steinberger",{"$f":"IF(Ergebnistabelle[[#This Row],[Signatur]]<>\"\",\"Vorschau\",\"\")","v":""},{"$f":"IF(IFERROR(MATCH(Ergebnistabelle[[#This Row],[Bild-ID]],Merkliste!B:B,0),\"\")<>\"\",CHAR(252),\"\")","v":""},{"$f":"IF(Ergebnistabelle[[#This Row],[Bild-ID]]<>\"\",\"Merken\",\"\")","v":"Merken"},true,true,{"$f":"Ergebnistabelle[[#This Row],[Spalte1]]*Ergebnistabelle[[#This Row],[Spalte2]]","v":1},1,false,true,true,false,false,false,false,false,true,false,false,false,false,false,false,false,false,false,true,false,false,false,false,false,false,false,false,false,false,false,false,false,false,false,false,false,false,false,false,false,false,false,false,false,false,"2020-01-01",{"$f":"IF(Ergebnistabelle[[#This Row],[Spalte50]]>=Meldungen!$J$5,\"+\",\"\")","v":""}]
["203-258",null,"Heiligenstadt","2xTw ",6833,{"$nulls":3},8,1969,"Walter Steinberger",{"$f":"IF(Ergebnistabelle[[#This Row],[Signatur]]<>\"\",\"Vorschau\",\"\")","v":""},{"$f":"IF(IFERROR(MATCH(Ergebnistabelle[[#This Row],[Bild-ID]],Merkliste!B:B,0),\"\")<>\"\",CHAR(252),\"\")","v":""},{"$f":"IF(Ergebnistabelle[[#This Row],[Bild-ID]]<>\"\",\"Merken\",\"\")","v":"Merken"},true,true,{"$f":"Ergebnistabelle[[#This Row],[Spalte1]]*Ergebnistabelle[[#This Row],[Spalte2]]","v":1},1,false,true,false,false,false,false,false,false,true,false,false,false,false,false,false,false,false,false,false,false,false,false,false,false,false,false,false,false,false,false,false,false,false,false,false,false,false,false,false,false,false,false,false,false,false,"2020-01-01",{"$f":"IF(Ergebnistabelle[[#This Row],[Spalte50]]>=Meldungen!$J$5,\"+\",\"\")","v":""}]
["203-259",null,"Betriebshof Rudolfsheim","2xTw \n2xTw ","70 \n513","18 \n ",null,null,8,1969,"Walter Steinberger",{"$f":"IF(Ergebnistabelle[[#This Row],[Signatur]]<>\"\",\"Vorschau\",\"\")","v":""},{"$f":"IF(IFERROR(MATCH(Ergebnistabelle[[#This Row],[Bild-ID]],Merkliste!B:B,0),\"\")<>\"\",CHAR(252),\"\")","v":""},{"$f":"IF(Ergebnistabelle[[#This Row],[Bild-ID]]<>\"\",\"Merken\",\"\")","v":"Merken"},true,true,{"$f":"Ergebnistabelle[[#This Row],[Spalte1]]*Ergebnistabelle[[#This Row],[Spalte2]]","v":1},1,false,true,true,false,false,false,false,false,true,false,false,false,false,false,false,false,false,false,true,false,false,false,false,false,false,false,false,false,false,false,false,false,false,false,false,false,false,false,false,false,false,false,false,false,false,"2020-01-01",{"$f":"IF(Ergebnistabelle[[#This Row],[Spalte50]]>=Meldungen!$J$5,\"+\",\"\")","v":""}]
["203-260",null,"Grinzing","2xBw ",5032,{"$nulls":4},1969,"Walter Steinberger",{"$f":"IF(Ergebnistabelle[[#This Row],[Signatur]]<>\"\",\"Vorschau\",\"\")","v":""},{"$f":"IF(IFERROR(MATCH(Ergebnistabelle[[#This Row],[Bild-ID]],Merkliste!B:B,0),\"\")<>\"\",CHAR(252),\"\")","v":""},{"$f":"IF(Ergebnistabelle[[#This Row],[Bild-ID]]<>\"\",\"Merken\",\"\")","v":"Merken"},true,true,{"$f":"Ergebnistabelle[[#This Row],[Spalte1]]*Ergebnistabelle[[#This Row],[Spalte2]]","v":1},1,false,false,true,false,false,false,false,false,false,false,false,false,false,false,false,false,false,false,true,false,false,false,false,false,false,false,false,false,false,false,false,false,false,false,false,false,false,false,false,false,false,false,false,false,false,"2020-01-01",{"$f":"IF(Ergebnistabelle[[#This Row],[Spalte50]]>=Meldungen!$J$5,\"+\",\"\")","v":""}]
["203-261",null,"Betriebshof Heiligenstadt","2xBw \n2xTw \n2xTw \n2xBw "," \n2954 \n2958 \n "," \n  \n  \n ","Stadtbahn",null,null,1969,"Walter Steinberger",{"$f":"IF(Ergebnistabelle[[#This Row],[Signatur]]<>\"\",\"Vorschau\",\"\")","v":""},{"$f":"IF(IFERROR(MATCH(Ergebnistabelle[[#This Row],[Bild-ID]],Merkliste!B:B,0),\"\")<>\"\",CHAR(252),\"\")","v":""},{"$f":"IF(Ergebnistabelle[[#This Row],[Bild-ID]]<>\"\",\"Merken\",\"\")","v":"Merken"},true,true,{"$f":"Ergebnistabelle[[#This Row],[Spalte1]]*Ergebnistabelle[[#This Row],[Spalte2]]","v":1},1,false,false,false,false,false,false,false,true,false,false,false,false,false,false,false,false,false,false,false,false,false,false,false,false,false,false,false,false,false,false,false,false,false,false,false,false,false,false,false,false,false,false,true,false,false,"2020-01-01",{"$f":"IF(Ergebnistabelle[[#This Row],[Spalte50]]>=Meldungen!$J$5,\"+\",\"\")","v":""}]
["203-262",null,null,"2xTw ",2,"58","KSW",{"$nulls":4},{"$f":"IF(Ergebnistabelle[[#This Row],[Signatur]]<>\"\",\"Vorschau\",\"\")","v":""},{"$f":"IF(IFERROR(MATCH(Ergebnistabelle[[#This Row],[Bild-ID]],Merkliste!B:B,0),\"\")<>\"\",CHAR(252),\"\")","v":""},{"$f":"IF(Ergebnistabelle[[#This Row],[Bild-ID]]<>\"\",\"Merken\",\"\")","v":"Merken"},true,true,{"$f":"Ergebnistabelle[[#This Row],[Spalte1]]*Ergebnistabelle[[#This Row],[Spalte2]]","v":1},1,false,true,false,false,false,false,false,false,true,false,false,false,false,false,false,false,false,false,false,false,false,false,false,false,false,false,false,false,false,false,false,false,false,false,false,false,false,false,false,false,false,false,false,false,false,"2020-01-01",{"$f":"IF(Ergebnistabelle[[#This Row],[Spalte50]]>=Meldungen!$J$5,\"+\",\"\")","v":""}]
["203-263","KW-TA-1969-001","Rodaun","6xGelTw",4673,"VA","Sonderzug VDVA-Tagung",21,8,1969,"Karl-Heinz Wagner",{"$f":"IF(Ergebnistabelle[[#This Row],[Signatur]]<>\"\",\"Vorschau\",\"\")","v":"Vorschau"},{"$f":"IF(IFERROR(MATCH(Ergebnistabelle[[#This Row],[Bild-ID]],Merkliste!B:B,0),\"\")<>\"\",CHAR(252),\"\")","v":""},{"$f":"IF(Ergebnistabelle[[#This Row],[Bild-ID]]<>\"\",\"Merken\",\"\")","v":"Merken"},true,true,{"$f":"Ergebnistabelle[[#This Row],[Spalte1]]*Ergebnistabelle[[#This Row],[Spalte2]]","v":1},2,false,true,false,false,false,false,false,false,false,false,false,false,true,false,false,false,false,false,false,false,false,false,false,false,false,false,false,false,false,false,false,false,false,false,false,false,false,false,false,false,false,false,false,false,false,"2020-01-01",{"$f":"IF(Ergebnistabelle[[#This Row],[Spalte50]]>=Meldungen!$J$5,\"+\",\"\")","v":""}]
["203-264","KW-TA-1969-002","Rodaun","6xGelTw",4673,"VA","Sonderzug VDVA-Tagung",21,8,1969,"Karl-Heinz Wagner",{"$f":"IF(Ergebnistabelle[[#This Row],[Signatur]]<>\"\",\"Vorschau\",\"\")","v":"Vorschau"},{"$f":"IF(IFERROR(MATCH(Ergebnistabelle[[#This Row],[Bild-ID]],Merkliste!B:B,0),\"\")<>\"\",CHAR(252),\"\")","v":""},{"$f":"IF(Ergebnistabelle[[#This Row],[Bild-ID]]<>\"\",\"Merken\",\"\")","v":"Merken"},true,true,{"$f":"Ergebnistabelle[[#This Row],[Spalte1]]*Ergebnistabelle[[#This Row],[Spalte2]]","v":1},2,false,true,false,false,false,false,false,false,false,false,false,false,true,false,false,false,false,false,false,false,false,false,false,false,false,false,false,false,false,false,false,false,false,false,false,false,false,false,false,false,false,false,false,false,false,"2020-01-01",{"$f":"IF(Ergebnistabelle[[#This Row],[Spalte50]]>=Meldungen!$J$5,\"+\",\"\")","v":""}]
["203-265","KW-TA-1969-003","(H) Hietzing (Hietzinger Hauptstr)","6xGelTw",4451,"58","",21,8,1969,"Karl-Heinz Wagner",{"$f":"IF(Ergebnistabelle[[#This Row],[Signatur]]<>\"\",\"Vorschau\",\"\")","v":"Vorschau"},{"$f":"IF(IFERROR(MATCH(Ergebnistabelle[[#This Row],[Bild-ID]],Merkliste!B:B,0),\"\")<>\"\",CHAR(252),\"\")","v":""},{"$f":"IF(Ergebnistabelle[[#This Row],[Bild-ID]]<>\"\",\"Merken\",\"\")","v":"Merken"},true,true,{"$f":"Ergebnistabelle[[#This Row],[Spalte1]]*Ergebnistabelle[[#This Row],[Spalte2]]","v":1},1,false,true,false,false,false,false,false,false,false,false,false,false,true,false,false,false,false,false,false,false,false,false,false,false,false,false,false,false,false,false,false,false,false,false,false,false,false,false,false,false,false,false,false,false,false,"2020-01-01",{"$f":"IF(Ergebnistabelle[[#This Row],[Spalte50]]>=Meldungen!$J$5,\"+\",\"\")","v":""}]
["203-266","KW-TA-1969-004","Btf Rudolfsheim","2xTw \n+4xGrwBw","513  \n1809 ","   \n  ","VDVA-Tagung",21,8,1969,"Karl-Heinz Wagner",{"$f":"IF(Ergebnistabelle[[#This Row],[Signatur]]<>\"\",\"Vorschau\",\"\")","v":"Vorschau"},{"$f":"IF(IFERROR(MATCH(Ergebnistabelle[[#This Row],[Bild-ID]],Merkliste!B:B,0),\"\")<>\"\",CHAR(252),\"\")","v":""},{"$f":"IF(Ergebnistabelle[[#This Row],[Bild-ID]]<>\"\",\"Merken\",\"\")","v":"Merken"},true,true,{"$f":"Ergebnistabelle[[#This Row],[Spalte1]]*Ergebnistabelle[[#This Row],[Spalte2]]","v":1},2,false,true,true,false,false,false,false,false,true,false,false,false,false,false,false,false,false,false,false,false,true,false,false,false,false,false,false,false,false,false,false,false,false,false,false,false,false,false,false,false,false,false,false,false,false,"2020-01-01",{"$f":"IF(Ergebnistabelle[[#This Row],[Spalte50]]>=Meldungen!$J$5,\"+\",\"\")","v":""}]
["203-267","KW-TA-1969-005","Btf Rudolfsheim","2xTw \n+2xBw \n  \n2xTw","70  \n1428  \n  \n513 ","   \n   \n  \n  ","VDVA-Tagung",21,8,1969,"Karl-Heinz Wagner",{"$f":"IF(Ergebnistabelle[[#This Row],[Signatur]]<>\"\",\"Vorschau\",\"\")","v":"Vorschau"},{"$f":"IF(IFERROR(MATCH(Ergebnistabelle[[#This Row],[Bild-ID]],Merkliste!B:B,0),\"\")<>\"\",CHAR(252),\"\")","v":""},{"$f":"IF(Ergebnistabelle[[#This Row],[Bild-ID]]<>\"\",\"Merken\",\"\")","v":"Merken"},true,true,{"$f":"Ergebnistabelle[[#This Row],[Spalte1]]*Ergebnistabelle[[#This Row],[Spalte2]]","v":1},2,false,true,true,false,false,false,false,false,true,false,false,false,false,false,false,false,false,false,true,false,false,false,false,false,false,false,false,false,false,false,false,false,false,false,false,false,false,false,false,false,false,false,false,false,false,"2020-01-01",{"$f":"IF(Ergebnistabelle[[#This Row],[Spalte50]]>=Meldungen!$J$5,\"+\",\"\")","v":""}]
["203-268","KW-TA-1969-006","Btf Rudolfsheim","4xGelTw",745," ","VDVA-Tagung",21,8,1969,"Karl-Heinz Wagner",{"$f":"IF(Ergebnistabelle[[#This Row],[Signatur]]<>\"\",\"Vorschau\",\"\")","v":"Vorschau"},{"$f":"IF(IFERROR(MATCH(Ergebnistabelle[[#This Row],[Bild-ID]],Merkliste!B:B,0),\"\")<>\"\",CHAR(252),\"\")","v":""},{"$f":"IF(Ergebnistabelle[[#This Row],[Bild-ID]]<>\"\",\"Merken\",\"\")","v":"Merken"},true,true,{"$f":"Ergebnistabelle[[#This Row],[Spalte1]]*Ergebnistabelle[[#This Row],[Spalte2]]","v":1},2,false,true,false,false,false,false,false,false,false,false,false,true,false,false,false,false,false,false,false,false,false,false,false,false,false,false,false,false,false,false,false,false,false,false,false,false,false,false,false,false,false,false,false,false,false,"2020-01-01",{"$f":"IF(Ergebnistabelle[[#This Row],[Spalte50]]>=Meldungen!$J$5,\"+\",\"\")","v":""}]
["203-269","KW-TA-1969-007","Btf Rudolfsheim","2xTw",24," ","VDVA-Tagung\nKSW",21,8,1969,"Karl-Heinz Wagner",{"$f":"IF(Ergebnistabelle[[#This Row],[Signatur]]<>\"\",\"Vorschau\",\"\")","v":"Vorschau"},{"$f":"IF(IFERROR(MATCH(Ergebnistabelle[[#This Row],[Bild-ID]],Merkliste!B:B,0),\"\")<>\"\",CHAR(252),\"\")","v":""},{"$f":"IF(Ergebnistabelle[[#This Row],[Bild-ID]]<>\"\",\"Merken\",\"\")","v":"Merken"},true,true,{"$f":"Ergebnistabelle[[#This Row],[Spalte1]]*Ergebnistabelle[[#This Row],[Spalte2]]","v":1},2,false,true,false,false,false,false,false,false,true,false,false,false,false,false,false,false,false,false,false,false,false,false,false,false,false,false,false,false,false,false,false,false,false,false,false,false,false,false,false,false,false,false,false,false,false,"2020-01-01",{"$f":"IF(Ergebnistabelle[[#This Row],[Spalte50]]>=Meldungen!$J$5,\"+\",\"\")","v":""}]
["203-270","KW-TA-1969-008","Btf Rudolfsheim","2xTw \n+2xBw","24  \n5368 ","   \n  ","VDVA-Tagung\nTw 24: KSW",21,8,1969,"Karl-Heinz Wagner",{"$f":"IF(Ergebnistabelle[[#This Row],[Signatur]]<>\"\",\"Vorschau\",\"\")","v":"Vorschau"},{"$f":"IF(IFERROR(MATCH(Ergebnistabelle[[#This Row],[Bild-ID]],Merkliste!B:B,0),\"\")<>\"\",CHAR(252),\"\")","v":""},{"$f":"IF(Ergebnistabelle[[#This Row],[Bild-ID]]<>\"\",\"Merken\",\"\")","v":"Merken"},true,true,{"$f":"Ergebnistabelle[[#This Row],[Spalte1]]*Ergebnistabelle[[#This Row],[Spalte2]]","v":1},2,false,true,true,false,false,false,false,false,true,false,false,false,false,false,false,false,false,false,true,false,false,false,false,false,false,false,false,false,false,false,false,false,false,false,false,false,false,false,false,false,false,false,false,false,false,"2020-01-01",{"$f":"IF(Ergebnistabelle[[#This Row],[Spalte50]]>=Meldungen!$J$5,\"+\",\"\")","v":""}]
["203-271","KW-TA-1969-012","","2xTw",2101," ","Sonderzug VDVA-Tagung\nSalonwagen",21,8,1969,"Karl-Heinz Wagner",{"$f":"IF(Ergebnistabelle[[#This Row],[Signatur]]<>\"\",\"Vorschau\",\"\")","v":"Vorschau"},{"$f":"IF(IFERROR(MATCH(Ergebnistabelle[[#This Row],[Bild-ID]],Merkliste!B:B,0),\"\")<>\"\",CHAR(252),\"\")","v":""},{"$f":"IF(Ergebnistabelle[[#This Row],[Bild-ID]]<>\"\",\"Merken\",\"\")","v":"Merken"},true,true,{"$f":"Ergebnistabelle[[#This Row],[Spalte1]]*Ergebnistabelle[[#This Row],[Spalte2]]","v":1},2,false,true,false,false,false,false,false,false,true,false,false,false,false,false,false,false,false,false,false,false,false,false,false,false,false,false,false,false,false,false,false,false,false,false,false,false,false,false,false,false,false,false,false,false,false,"2020-01-01",{"$f":"IF(Ergebnistabelle[[#This Row],[Spalte50]]>=Meldungen!$J$5,\"+\",\"\")","v":""}]
["203-272","KW-TA-1969-013","Btf Vorgarten","4xTw",4225," ","Sonderzug VDVA-Tagung\n\"Amerikaner\"",21,8,1969,"Karl-Heinz Wagner",{"$f":"IF(Ergebnistabelle[[#This Row],[Signatur]]<>\"\",\"Vorschau\",\"\")","v":"Vorschau"},{"$f":"IF(IFERROR(MATCH(Ergebnistabelle[[#This Row],[Bild-ID]],Merkliste!B:B,0),\"\")<>\"\",CHAR(252),\"\")","v":""},{"$f":"IF(Ergebnistabelle[[#This Row],[Bild-ID]]<>\"\",\"Merken\",\"\")","v":"Merken"},true,true,{"$f":"Ergebnistabelle[[#This Row],[Spalte1]]*Ergebnistabelle[[#This Row],[Spalte2]]","v":1},2,false,true,false,false,false,false,false,false,false,true,false,false,false,false,false,false,false,false,false,false,false,false,false,false,false,false,false,false,false,false,false,false,false,false,false,false,false,false,false,false,false,false,false,false,false,"2020-01-01",{"$f":"IF(Ergebnistabelle[[#This Row],[Spalte50]]>=Meldungen!$J$5,\"+\",\"\")","v":""}]
["203-273","KW-TA-1969-025","Btf Michelbeuren","2xTw",6833," ","VDVA-Tagung",23,8,1969,"Karl-Heinz Wagner",{"$f":"IF(Ergebnistabelle[[#This Row],[Signatur]]<>\"\",\"Vorschau\",\"\")","v":"Vorschau"},{"$f":"IF(IFERROR(MATCH(Ergebnistabelle[[#This Row],[Bild-ID]],Merkliste!B:B,0),\"\")<>\"\",CHAR(252),\"\")","v":""},{"$f":"IF(Ergebnistabelle[[#This Row],[Bild-ID]]<>\"\",\"Merken\",\"\")","v":"Merken"},true,true,{"$f":"Ergebnistabelle[[#This Row],[Spalte1]]*Ergebnistabelle[[#This Row],[Spalte2]]","v":1},2,false,false,false,false,false,false,false,true,false,false,false,false,false,false,false,false,false,false,false,false,false,false,false,false,false,false,false,false,false,false,false,false,false,false,false,false,false,false,false,false,false,false,true,false,false,"2020-01-01",{"$f":"IF(Ergebnistabelle[[#This Row],[Spalte50]]>=Meldungen!$J$5,\"+\",\"\")","v":""}]
["203-274","KW-TA-1969-026","Btf Michelbeuren","2xTw \n+2xBw \n+2xBw","6351  \n7854  \n785x ","   \n   \n  ","VDVA-Tagung",23,8,1969,"Karl-Heinz Wagner",{"$f":"IF(Ergebnistabelle[[#This Row],[Signatur]]<>\"\",\"Vorschau\",\"\")","v":"Vorschau"},{"$f":"IF(IFERROR(MATCH(Ergebnistabelle[[#This Row],[Bild-ID]],Merkliste!B:B,0),\"\")<>\"\",CHAR(252),\"\")","v":""},{"$f":"IF(Ergebnistabelle[[#This Row],[Bild-ID]]<>\"\",\"Merken\",\"\")","v":"Merken"},true,true,{"$f":"Ergebnistabelle[[#This Row],[Spalte1]]*Ergebnistabelle[[#This Row],[Spalte2]]","v":1},2,false,false,false,false,false,false,false,true,false,false,false,false,false,false,false,false,false,false,false,false,false,false,false,false,false,false,false,false,false,false,false,false,false,false,false,false,false,false,false,false,false,false,true,false,false,"2020-01-01",{"$f":"IF(Ergebnistabelle[[#This Row],[Spalte50]]>=Meldungen!$J$5,\"+\",\"\")","v":""}]
["203-275","KW-TA-1969-028","Btf Michelbeuren","2xTw \n+2xBw \n+2xTw \n+2xBw \n+2xTw \n+2xBw \n+2xTw","2950  \n   \n   \n   \n   \n   \n  ","G  \nG  \nG  \nG  \nG  \nG  \nG ","VDVA-Tagung",23,8,1969,"Karl-Heinz Wagner",{"$f":"IF(Ergebnistabelle[[#This Row],[Signatur]]<>\"\",\"Vorschau\",\"\")","v":"Vorschau"},{"$f":"IF(IFERROR(MATCH(Ergebnistabelle[[#This Row],[Bild-ID]],Merkliste!B:B,0),\"\")<>\"\",CHAR(252),\"\")","v":""},{"$f":"IF(Ergebnistabelle[[#This Row],[Bild-ID]]<>\"\",\"Merken\",\"\")","v":"Merken"},true,true,{"$f":"Ergebnistabelle[[#This Row],[Spalte1]]*Ergebnistabelle[[#This Row],[Spalte2]]","v":1},2,false,false,false,false,false,false,false,true,false,false,false,false,false,false,false,false,false,false,false,false,false,false,false,false,false,false,false,false,false,false,false,false,false,false,false,false,false,false,false,false,false,false,true,false,false,"2020-01-01",{"$f":"IF(Ergebnistabelle[[#This Row],[Spalte50]]>=Meldungen!$J$5,\"+\",\"\")","v":""}]
["203-276","KW-TA-1969-030","Btf Michelbeuren","2xTw \n+2xBw","2954  \n  ","   \n  ","Sonderzug VDVA-Tagung",23,8,1969,"Karl-Heinz Wagner",{"$f":"IF(Ergebnistabelle[[#This Row],[Signatur]]<>\"\",\"Vorschau\",\"\")","v":"Vorschau"},{"$f":"IF(IFERROR(MATCH(Ergebnistabelle[[#This Row],[Bild-ID]],Merkliste!B:B,0),\"\")<>\"\",CHAR(252),\"\")","v":""},{"$f":"IF(Ergebnistabelle[[#This Row],[Bild-ID]]<>\"\",\"Merken\",\"\")","v":"Merken"},true,true,{"$f":"Ergebnistabelle[[#This Row],[Spalte1]]*Ergebnistabelle[[#This Row],[Spalte2]]","v":1},2,false,false,false,false,false,false,false,true,false,false,false,false,false,false,false,false,false,false,false,false,false,false,false,false,false,false,false,false,false,false,false,false,false,false,false,false,false,false,false,false,false,false,true,false,false,"2020-01-01",{"$f":"IF(Ergebnistabelle[[#This Row],[Spalte50]]>=Meldungen!$J$5,\"+\",\"\")","v":""}]
["203-277","KW-TA-1969-031","Btf Heiligenstadt","2xTw \n  \n2xBw \n  \n2xTw \n  \n2xTw","2933  \n  \n5975  \n  \n2931  \n  \n2877 ","   \n  \n   \n  \n   \n  \n  ","VDVA-Tagung",23,8,1969,"Karl-Heinz Wagner",{"$f":"IF(Ergebnistabelle[[#This Row],[Signatur]]<>\"\",\"Vorschau\",\"\")","v":"Vorschau"},{"$f":"IF(IFERROR(MATCH(Ergebnistabelle[[#This Row],[Bild-ID]],Merkliste!B:B,0),\"\")<>\"\",CHAR(252),\"\")","v":""},{"$f":"IF(Ergebnistabelle[[#This Row],[Bild-ID]]<>\"\",\"Merken\",\"\")","v":"Merken"},true,true,{"$f":"Ergebnistabelle[[#This Row],[Spalte1]]*Ergebnistabelle[[#This Row],[Spalte2]]","v":1},2,false,false,false,false,false,false,false,true,false,false,false,false,false,false,false,false,false,false,false,false,false,false,false,false,false,false,false,false,false,false,false,false,false,false,false,false,false,false,false,false,false,false,true,false,false,"2020-01-01",{"$f":"IF(Ergebnistabelle[[#This Row],[Spalte50]]>=Meldungen!$J$5,\"+\",\"\")","v":""}]
["203-278","KW-TA-1969-050","Btf Leesdorf der WLB","2xTw \n  \n2xTw","6214  \n  \n  ","   \n  \n  ","VDVA-Tagung",24,8,1969,"Karl-Heinz Wagner",{"$f":"IF(Ergebnistabelle[[#This Row],[Signatur]]<>\"\",\"Vorschau\",\"\")","v":"Vorschau"},{"$f":"IF(IFERROR(MATCH(Ergebnistabelle[[#This Row],[Bild-ID]],Merkliste!B:B,0),\"\")<>\"\",CHAR(252),\"\")","v":""},{"$f":"IF(Ergebnistabelle[[#This Row],[Bild-ID]]<>\"\",\"Merken\",\"\")","v":"Merken"},true,true,{"$f":"Ergebnistabelle[[#This Row],[Spalte1]]*Ergebnistabelle[[#This Row],[Spalte2]]","v":1},2,false,true,false,false,false,false,false,false,true,false,false,false,false,false,false,false,false,false,false,false,false,false,false,false,false,false,false,false,false,false,false,false,false,false,false,false,false,false,false,false,false,false,false,false,false,"2020-01-01",{"$f":"IF(Ergebnistabelle[[#This Row],[Spalte50]]>=Meldungen!$J$5,\"+\",\"\")","v":""}]
["203-279","KW-TA-1982-051","Btf Michelbeuern","6xGelTw",4906," ","VDVA-Tagung",4,8,1982,"Karl-Heinz Wagner",{"$f":"IF(Ergebnistabelle[[#This Row],[Signatur]]<>\"\",\"Vorschau\",\"\")","v":"Vorschau"},{"$f":"IF(IFERROR(MATCH(Ergebnistabelle[[#This Row],[Bild-ID]],Merkliste!B:B,0),\"\")<>\"\",CHAR(252),\"\")","v":""},{"$f":"IF(Ergebnistabelle[[#This Row],[Bild-ID]]<>\"\",\"Merken\",\"\")","v":"Merken"},true,true,{"$f":"Ergebnistabelle[[#This Row],[Spalte1]]*Ergebnistabelle[[#This Row],[Spalte2]]","v":1},2,false,false,false,false,false,false,false,true,false,false,false,false,false,false,false,false,false,false,false,false,false,false,false,false,false,false,false,false,false,false,false,false,false,false,false,false,false,false,false,false,false,false,true,false,false,"2020-01-01",{"$f":"IF(Ergebnistabelle[[#This Row],[Spalte50]]>=Meldungen!$J$5,\"+\",\"\")","v":""}]
["203-280","KW-TA-1982-052","Btf Wasserleitungswiese","4xTw \n+4xTw \n+4xTw \n+4xTw \n+4xTw \n+4xTw ","   \n   \n   \n   \n   \n   ","   \n   \n   \n   \n   \n   ","VDVA-Tagung\nU-Bahn",4,8,1982,"Karl-Heinz Wagner",{"$f":"IF(Ergebnistabelle[[#This Row],[Signatur]]<>\"\",\"Vorschau\",\"\")","v":"Vorschau"},{"$f":"IF(IFERROR(MATCH(Ergebnistabelle[[#This Row],[Bild-ID]],Merkliste!B:B,0),\"\")<>\"\",CHAR(252),\"\")","v":""},{"$f":"IF(Ergebnistabelle[[#This Row],[Bild-ID]]<>\"\",\"Merken\",\"\")","v":"Merken"},true,true,{"$f":"Ergebnistabelle[[#This Row],[Spalte1]]*Ergebnistabelle[[#This Row],[Spalte2]]","v":1},2,false,false,false,false,false,false,false,true,false,false,false,false,false,false,false,false,false,false,false,false,false,false,false,false,false,false,false,false,false,false,false,false,false,false,false,false,false,false,false,false,false,false,false,true,false,"2020-01-01",{"$f":"IF(Ergebnistabelle[[#This Row],[Spalte50]]>=Meldungen!$J$5,\"+\",\"\")","v":""}]
["203-281","KW-TA-1982-053","(H) Alt Erlaa","6xGelTw \n+4xGrwBw","4013  \n1413  ","64  \n64 ","",4,8,1982,"Karl-Heinz Wagner",{"$f":"IF(Ergebnistabelle[[#This Row],[Signatur]]<>\"\",\"Vorschau\",\"\")","v":"Vorschau"},{"$f":"IF(IFERROR(MATCH(Ergebnistabelle[[#This Row],[Bild-ID]],Merkliste!B:B,0),\"\")<>\"\",CHAR(252),\"\")","v":""},{"$f":"IF(Ergebnistabelle[[#This Row],[Bild-ID]]<>\"\",\"Merken\",\"\")","v":"Merken"},true,true,{"$f":"Ergebnistabelle[[#This Row],[Spalte1]]*Ergebnistabelle[[#This Row],[Spalte2]]","v":1},1,false,true,true,false,false,false,false,false,false,false,false,false,true,false,false,false,false,false,false,false,true,false,false,false,false,false,false,false,false,false,false,false,false,false,false,false,false,false,false,false,false,false,false,false,false,"2020-01-01",{"$f":"IF(Ergebnistabelle[[#This Row],[Spalte50]]>=Meldungen!$J$5,\"+\",\"\")","v":""}]
["203-282","KW-TA-1982-054","(H) Alt Erlaa","6xGelTw \n+4xGrwBw","4028  \n1428  ","   \n  ","Sonderzug VDVA-Tagung",4,8,1982,"Karl-Heinz Wagner",{"$f":"IF(Ergebnistabelle[[#This Row],[Signatur]]<>\"\",\"Vorschau\",\"\")","v":"Vorschau"},{"$f":"IF(IFERROR(MATCH(Ergebnistabelle[[#This Row],[Bild-ID]],Merkliste!B:B,0),\"\")<>\"\",CHAR(252),\"\")","v":""},{"$f":"IF(Ergebnistabelle[[#This Row],[Bild-ID]]<>\"\",\"Merken\",\"\")","v":"Merken"},true,true,{"$f":"Ergebnistabelle[[#This Row],[Spalte1]]*Ergebnistabelle[[#This Row],[Spalte2]]","v":1},2,false,true,true,false,false,false,false,false,false,false,false,false,true,false,false,false,false,false,false,false,true,false,false,false,false,false,false,false,false,false,false,false,false,false,false,false,false,false,false,false,false,false,false,false,false,"2020-01-01",{"$f":"IF(Ergebnistabelle[[#This Row],[Spalte50]]>=Meldungen!$J$5,\"+\",\"\")","v":""}]
["203-283","KW-TA-1982-056","Btf Favoriten",null,null,"","Komplizierte Gleisbaustelle mit doppelter Kreuzungsweiche",4,8,1982,"Karl-Heinz Wagner",{"$f":"IF(Ergebnistabelle[[#This Row],[Signatur]]<>\"\",\"Vorschau\",\"\")","v":"Vorschau"},{"$f":"IF(IFERROR(MATCH(Ergebnistabelle[[#This Row],[Bild-ID]],Merkliste!B:B,0),\"\")<>\"\",CHAR(252),\"\")","v":""},{"$f":"IF(Ergebnistabelle[[#This Row],[Bild-ID]]<>\"\",\"Merken\",\"\")","v":"Merken"},true,true,{"$f":"Ergebnistabelle[[#This Row],[Spalte1]]*Ergebnistabelle[[#This Row],[Spalte2]]","v":1},1,false,false,false,false,true,false,false,false,false,false,false,false,false,false,false,false,false,false,false,false,false,false,false,false,false,false,false,false,false,false,false,false,false,false,false,false,false,false,false,false,false,false,false,false,false,"2020-01-01",{"$f":"IF(Ergebnistabelle[[#This Row],[Spalte50]]>=Meldungen!$J$5,\"+\",\"\")","v":""}]
["203-284","KW-TA-1982-057","Btf Favoriten","2xArbTw",6393," ","VDVA-Tagung\nHilfswagen",4,8,1982,"Karl-Heinz Wagner",{"$f":"IF(Ergebnistabelle[[#This Row],[Signatur]]<>\"\",\"Vorschau\",\"\")","v":"Vorschau"},{"$f":"IF(IFERROR(MATCH(Ergebnistabelle[[#This Row],[Bild-ID]],Merkliste!B:B,0),\"\")<>\"\",CHAR(252),\"\")","v":""},{"$f":"IF(Ergebnistabelle[[#This Row],[Bild-ID]]<>\"\",\"Merken\",\"\")","v":"Merken"},true,true,{"$f":"Ergebnistabelle[[#This Row],[Spalte1]]*Ergebnistabelle[[#This Row],[Spalte2]]","v":1},2,false,false,false,true,false,false,false,false,false,false,false,false,false,false,false,false,false,false,false,false,false,false,false,false,false,false,false,false,true,false,false,false,false,false,false,false,false,false,false,false,false,false,false,false,false,"2020-01-01",{"$f":"IF(Ergebnistabelle[[#This Row],[Spalte50]]>=Meldungen!$J$5,\"+\",\"\")","v":""}]
["203-285","KW-TA-1982-073","Museum Mariazell","2xTw",2362," ","(Bild auch unter 2106-002 abgelegt)",null,8,1982,"Karl-Heinz Wagner",{"$f":"IF(Ergebnistabelle[[#This Row],[Signatur]]<>\"\",\"Vorschau\",\"\")","v":"Vorschau"},{"$f":"IF(IFERROR(MATCH(Ergebnistabelle[[#This Row],[Bild-ID]],Merkliste!B:B,0),\"\")<>\"\",CHAR(252),\"\")","v":""},{"$f":"IF(Ergebnistabelle[[#This Row],[Bild-ID]]<>\"\",\"Merken\",\"\")","v":"Merken"},true,true,{"$f":"Ergebnistabelle[[#This Row],[Spalte1]]*Ergebnistabelle[[#This Row],[Spalte2]]","v":1},1,false,true,false,false,false,false,false,false,true,false,false,false,false,false,false,false,false,false,false,false,false,false,false,false,false,false,false,false,false,false,false,false,false,false,false,false,false,false,false,false,false,false,false,false,false,"2020-01-01",{"$f":"IF(Ergebnistabelle[[#This Row],[Spalte50]]>=Meldungen!$J$5,\"+\",\"\")","v":""}]
["203-286","KW-TA-1982-074","Museum Mariazell","2xBw",5527," ","(Bild auch unter 2106-003 abgelegt)",null,8,1982,"Karl-Heinz Wagner",{"$f":"IF(Ergebnistabelle[[#This Row],[Signatur]]<>\"\",\"Vorschau\",\"\")","v":"Vorschau"},{"$f":"IF(IFERROR(MATCH(Ergebnistabelle[[#This Row],[Bild-ID]],Merkliste!B:B,0),\"\")<>\"\",CHAR(252),\"\")","v":""},{"$f":"IF(Ergebnistabelle[[#This Row],[Bild-ID]]<>\"\",\"Merken\",\"\")","v":"Merken"},{"$f":"IF(IFERROR(MATCH(R290,$BL$3:$UP$3,0),FALSE)<>FALSE,TRUE)","v":true},{"$f":"OR(S290=S$3, W290=W$3, AA290=AA$3, AB290=AB$3, AC290=AC$3, AD290=AD$3, AE290=AE$3, AF290=AF$3, AG290=AG$3, AH290=AH$3, AI290=AI$3, AJ290=AJ$3, AK290=AK$3, AL290=AL$3, AM290=AM$3, AN290=AN$3, AO290=AO$3, AP290=AP$3, AQ290=AQ$3, AR290=AR$3, AS290=AS$3, AT290=AT$3, AU290=AU$3, AV290=AV$3, AW290=AW$3, AX290=AX$3, AY290=AY$3, AZ290=AZ$3, BA290=BA$3, BB290=BB$3, BC290=BC$3, BD290=BD$3, BE290=BE$3, BF290=BF$3, BG290=BG$3, BH290=BH$3, BI290=BI$3, BJ290=BJ$3, BK290=BK$3)","v":true},{"$f":"Ergebnistabelle[[#This Row],[Spalte1]]*Ergebnistabelle[[#This Row],[Spalte2]]","v":1},1,false,false,true,false,false,false,false,false,false,false,false,false,false,false,false,false,false,false,true,false,false,false,false,false,false,false,false,false,false,false,false,false,false,false,false,false,false,false,false,false,false,false,false,false,false,"2020-01-01",{"$f":"IF(Ergebnistabelle[[#This Row],[Spalte50]]>=Meldungen!$J$5,\"+\",\"\")","v":""}]
["203-287","KW-TA-1984-024","Museums-Straßenbahn Amsterdam Haarlemmermeerstation - Bovenkerk","2xTw",6314," ","VDVA-Tagung\n(Bild auch unter Nr. 165-126 abgelegt)",12,8,1984,"Karl-Heinz Wagner",{"$f":"IF(Ergebnistabelle[[#This Row],[Signatur]]<>\"\",\"Vorschau\",\"\")","v":"Vorschau"},{"$f":"IF(IFERROR(MATCH(Ergebnistabelle[[#This Row],[Bild-ID]],Merkliste!B:B,0),\"\")<>\"\",CHAR(252),\"\")","v":""},{"$f":"IF(Ergebnistabelle[[#This Row],[Bild-ID]]<>\"\",\"Merken\",\"\")","v":"Merken"},true,true,{"$f":"Ergebnistabelle[[#This Row],[Spalte1]]*Ergebnistabelle[[#This Row],[Spalte2]]","v":1},2,false,true,false,false,false,false,false,false,true,false,false,false,false,false,false,false,false,false,false,false,false,false,false,false,false,false,false,false,false,false,false,false,false,false,false,false,false,false,false,false,false,false,false,false,false,"2020-01-01",{"$f":"IF(Ergebnistabelle[[#This Row],[Spalte50]]>=Meldungen!$J$5,\"+\",\"\")","v":""}]
["203-288","KW-TA-1984-025","Museums-Straßenbahn Amsterdam Haarlemmermeerstation - Bovenkerk","2xTw \n+2xBw \n+2xBw","6314  \n531x  \n52xx ","   \n   \n  ","VDVA-Tagung\n(Bild auch unter Nr. 165-127 abgelegt)",12,8,1984,"Karl-Heinz Wagner",{"$f":"IF(Ergebnistabelle[[#This Row],[Signatur]]<>\"\",\"Vorschau\",\"\")","v":"Vorschau"},{"$f":"IF(IFERROR(MATCH(Ergebnistabelle[[#This Row],[Bild-ID]],Merkliste!B:B,0),\"\")<>\"\",CHAR(252),\"\")","v":""},{"$f":"IF(Ergebnistabelle[[#This Row],[Bild-ID]]<>\"\",\"Merken\",\"\")","v":"Merken"},true,true,{"$f":"Ergebnistabelle[[#This Row],[Spalte1]]*Ergebnistabelle[[#This Row],[Spalte2]]","v":1},2,false,true,true,false,false,false,false,false,true,false,false,false,false,false,false,false,false,false,true,false,false,false,false,false,false,false,false,false,false,false,false,false,false,false,false,false,false,false,false,false,false,false,false,false,false,"2020-01-01",{"$f":"IF(Ergebnistabelle[[#This Row],[Spalte50]]>=Meldungen!$J$5,\"+\",\"\")","v":""}]
["203-289","JN-A-W-001",null,"4xBw (Typ c1)"," "," ","Fahrgastraum",12,5,1996,"Jürgen Niemeyer",{"$f":"IF(Ergebnistabelle[[#This Row],[Signatur]]<>\"\",\"Vorschau\",\"\")","v":"Vorschau"},{"$f":"IF(IFERROR(MATCH(Ergebnistabelle[[#This Row],[Bild-ID]],Merkliste!B:B,0),\"\")<>\"\",CHAR(252),\"\")","v":""},{"$f":"IF(Ergebnistabelle[[#This Row],[Bild-ID]]<>\"\",\"Merken\",\"\")","v":"Merken"},true,true,{"$f":"Ergebnistabelle[[#This Row],[Spalte1]]*Ergebnistabelle[[#This Row],[Spalte2]]","v":1},1,false,false,true,false,false,false,false,false,false,false,false,false,false,false,false,false,false,false,false,false,true,false,false,false,false,false,false,false,false,false,false,false,false,false,false,false,false,false,false,false,false,false,false,false,false,"2020-01-01",{"$f":"IF(Ergebnistabelle[[#This Row],[Spalte50]]>=Meldungen!$J$5,\"+\",\"\")","v":""}]
["203-290","JN-A-W-002",null,"4xBw (Typ c1)"," "," ","Fahrgastraum",12,5,1996,"Jürgen Niemeyer",{"$f":"IF(Ergebnistabelle[[#This Row],[Signatur]]<>\"\",\"Vorschau\",\"\")","v":"Vorschau"},{"$f":"IF(IFERROR(MATCH(Ergebnistabelle[[#This Row],[Bild-ID]],Merkliste!B:B,0),\"\")<>\"\",CHAR(252),\"\")","v":""},{"$f":"IF(Ergebnistabelle[[#This Row],[Bild-ID]]<>\"\",\"Merken\",\"\")","v":"Merken"},true,true,{"$f":"Ergebnistabelle[[#This Row],[Spalte1]]*Ergebnistabelle[[#This Row],[Spalte2]]","v":1},1,false,false,true,false,false,false,false,false,false,false,false,false,false,false,false,false,false,false,false,false,true,false,false,false,false,false,false,false,false,false,false,false,false,false,false,false,false,false,false,false,false,false,false,false,false,"2020-01-01",{"$f":"IF(Ergebnistabelle[[#This Row],[Spalte50]]>=Meldungen!$J$5,\"+\",\"\")","v":""}]
["203-291","JN-A-W-003","Burgtheater","6xGelTw\n+4xGrwBw","4478 \n1178 ","D \nD ",null,12,5,1996,"Jürgen Niemeyer",{"$f":"IF(Ergebnistabelle[[#This Row],[Signatur]]<>\"\",\"Vorschau\",\"\")","v":"Vorschau"},{"$f":"IF(IFERROR(MATCH(Ergebnistabelle[[#This Row],[Bild-ID]],Merkliste!B:B,0),\"\")<>\"\",CHAR(252),\"\")","v":""},{"$f":"IF(Ergebnistabelle[[#This Row],[Bild-ID]]<>\"\",\"Merken\",\"\")","v":"Merken"},true,true,{"$f":"Ergebnistabelle[[#This Row],[Spalte1]]*Ergebnistabelle[[#This Row],[Spalte2]]","v":1},1,false,true,true,false,false,false,false,false,false,false,false,false,true,false,false,false,false,false,false,false,true,false,false,false,false,false,false,false,false,false,false,false,false,false,false,false,false,false,false,false,false,false,false,false,false,"2020-01-01",{"$f":"IF(Ergebnistabelle[[#This Row],[Spalte50]]>=Meldungen!$J$5,\"+\",\"\")","v":""}]
["203-292","JN-A-W-004","Karlsplatz","Bus","8437 ","4A ",null,12,5,1996,"Jürgen Niemeyer",{"$f":"IF(Ergebnistabelle[[#This Row],[Signatur]]<>\"\",\"Vorschau\",\"\")","v":"Vorschau"},{"$f":"IF(IFERROR(MATCH(Ergebnistabelle[[#This Row],[Bild-ID]],Merkliste!B:B,0),\"\")<>\"\",CHAR(252),\"\")","v":""},{"$f":"IF(Ergebnistabelle[[#This Row],[Bild-ID]]<>\"\",\"Merken\",\"\")","v":"Merken"},true,true,{"$f":"Ergebnistabelle[[#This Row],[Spalte1]]*Ergebnistabelle[[#This Row],[Spalte2]]","v":1},1,false,false,false,false,false,false,true,false,false,false,false,false,false,false,false,false,false,false,false,false,false,false,false,false,false,false,false,false,false,false,false,false,false,false,false,false,false,true,false,false,false,false,false,false,false,"2020-01-01",{"$f":"IF(Ergebnistabelle[[#This Row],[Spalte50]]>=Meldungen!$J$5,\"+\",\"\")","v":""}]
["203-293","JN-A-W-005","Karlsplatz","Bus","8532 ","4A ",null,13,5,1996,"Jürgen Niemeyer",{"$f":"IF(Ergebnistabelle[[#This Row],[Signatur]]<>\"\",\"Vorschau\",\"\")","v":"Vorschau"},{"$f":"IF(IFERROR(MATCH(Ergebnistabelle[[#This Row],[Bild-ID]],Merkliste!B:B,0),\"\")<>\"\",CHAR(252),\"\")","v":""},{"$f":"IF(Ergebnistabelle[[#This Row],[Bild-ID]]<>\"\",\"Merken\",\"\")","v":"Merken"},true,true,{"$f":"Ergebnistabelle[[#This Row],[Spalte1]]*Ergebnistabelle[[#This Row],[Spalte2]]","v":1},1,false,false,false,false,false,false,true,false,false,false,false,false,false,false,false,false,false,false,false,false,false,false,false,false,false,false,false,false,false,false,false,false,false,false,false,false,false,true,false,false,false,false,false,false,false,"2020-01-01",{"$f":"IF(Ergebnistabelle[[#This Row],[Spalte50]]>=Meldungen!$J$5,\"+\",\"\")","v":""}]
["203-294","JN-A-W-006","(H) Thaliastr","4xGrwTw\n+4xGrwBw","111 \n1811 ","46 \n46 ",null,13,5,1996,"Jürgen Niemeyer",{"$f":"IF(Ergebnistabelle[[#This Row],[Signatur]]<>\"\",\"Vorschau\",\"\")","v":"Vorschau"},{"$f":"IF(IFERROR(MATCH(Ergebnistabelle[[#This Row],[Bild-ID]],Merkliste!B:B,0),\"\")<>\"\",CHAR(252),\"\")","v":""},{"$f":"IF(Ergebnistabelle[[#This Row],[Bild-ID]]<>\"\",\"Merken\",\"\")","v":"Merken"},true,true,{"$f":"Ergebnistabelle[[#This Row],[Spalte1]]*Ergebnistabelle[[#This Row],[Spalte2]]","v":1},1,false,true,true,false,false,false,false,false,false,false,true,false,false,false,false,false,false,false,false,false,true,false,false,false,false,false,false,false,false,false,false,false,false,false,false,false,false,false,false,false,false,false,false,false,false,"2020-01-01",{"$f":"IF(Ergebnistabelle[[#This Row],[Spalte50]]>=Meldungen!$J$5,\"+\",\"\")","v":""}]
["203-295","JN-A-W-007","Joachimsthalerplatz","4xGrwTw\n+4xGrwBw","111 \n1811 ","46 \n46 ",null,13,5,1996,"Jürgen Niemeyer",{"$f":"IF(Ergebnistabelle[[#This Row],[Signatur]]<>\"\",\"Vorschau\",\"\")","v":"Vorschau"},{"$f":"IF(IFERROR(MATCH(Ergebnistabelle[[#This Row],[Bild-ID]],Merkliste!B:B,0),\"\")<>\"\",CHAR(252),\"\")","v":""},{"$f":"IF(Ergebnistabelle[[#This Row],[Bild-ID]]<>\"\",\"Merken\",\"\")","v":"Merken"},true,true,{"$f":"Ergebnistabelle[[#This Row],[Spalte1]]*Ergebnistabelle[[#This Row],[Spalte2]]","v":1},1,false,true,true,false,false,false,false,false,false,false,true,false,false,false,false,false,false,false,false,false,true,false,false,false,false,false,false,false,false,false,false,false,false,false,false,false,false,false,false,false,false,false,false,false,false,"2020-01-01",{"$f":"IF(Ergebnistabelle[[#This Row],[Spalte50]]>=Meldungen!$J$5,\"+\",\"\")","v":""}]
["203-296","JN-A-W-008","Joachimsthalerplatz","4xGrwTw\n+4xGrwBw\n \n6xGelTw","111 \n1811 \n \n4541 ","46 \n46 \n \n46 ",null,13,5,1996,"Jürgen Niemeyer",{"$f":"IF(Ergebnistabelle[[#This Row],[Signatur]]<>\"\",\"Vorschau\",\"\")","v":"Vorschau"},{"$f":"IF(IFERROR(MATCH(Ergebnistabelle[[#This Row],[Bild-ID]],Merkliste!B:B,0),\"\")<>\"\",CHAR(252),\"\")","v":""},{"$f":"IF(Ergebnistabelle[[#This Row],[Bild-ID]]<>\"\",\"Merken\",\"\")","v":"Merken"},true,true,{"$f":"Ergebnistabelle[[#This Row],[Spalte1]]*Ergebnistabelle[[#This Row],[Spalte2]]","v":1},1,false,true,true,false,false,false,false,false,false,false,true,false,true,false,false,false,false,false,false,false,true,false,false,false,false,false,false,false,false,false,false,false,false,false,false,false,false,false,false,false,false,false,false,false,false,"2020-01-01",{"$f":"IF(Ergebnistabelle[[#This Row],[Spalte50]]>=Meldungen!$J$5,\"+\",\"\")","v":""}]
["203-297","JN-A-W-009","Joachimsthalerplatz","4xGrwTw\n+4xGrwBw","114 \n1854 ","46 \n46 ",null,13,5,1996,"Jürgen Niemeyer",{"$f":"IF(Ergebnistabelle[[#This Row],[Signatur]]<>\"\",\"Vorschau\",\"\")","v":"Vorschau"},{"$f":"IF(IFERROR(MATCH(Ergebnistabelle[[#This Row],[Bild-ID]],Merkliste!B:B,0),\"\")<>\"\",CHAR(252),\"\")","v":""},{"$f":"IF(Ergebnistabelle[[#This Row],[Bild-ID]]<>\"\",\"Merken\",\"\")","v":"Merken"},true,true,{"$f":"Ergebnistabelle[[#This Row],[Spalte1]]*Ergebnistabelle[[#This Row],[Spalte2]]","v":1},1,false,true,true,false,false,false,false,false,false,false,true,false,false,false,false,false,false,false,false,false,true,false,false,false,false,false,false,false,false,false,false,false,false,false,false,false,false,false,false,false,false,false,false,false,false,"2020-01-01",{"$f":"IF(Ergebnistabelle[[#This Row],[Spalte50]]>=Meldungen!$J$5,\"+\",\"\")","v":""}]
["203-298","JN-A-W-010","Thaliastr","4xGrwTw\n+4xGrwBw","115 \n1815 ","46 \n46 ",null,13,5,1996,"Jürgen Niemeyer",{"$f":"IF(Ergebnistabelle[[#This Row],[Signatur]]<>\"\",\"Vorschau\",\"\")","v":"Vorschau"},{"$f":"IF(IFERROR(MATCH(Ergebnistabelle[[#This Row],[Bild-ID]],Merkliste!B:B,0),\"\")<>\"\",CHAR(252),\"\")","v":""},{"$f":"IF(Ergebnistabelle[[#This Row],[Bild-ID]]<>\"\",\"Merken\",\"\")","v":"Merken"},true,true,{"$f":"Ergebnistabelle[[#This Row],[Spalte1]]*Ergebnistabelle[[#This Row],[Spalte2]]","v":1},1,false,true,true,false,false,false,false,false,false,false,true,false,false,false,false,false,false,false,false,false,true,false,false,false,false,false,false,false,false,false,false,false,false,false,false,false,false,false,false,false,false,false,false,false,false,"2020-01-01",{"$f":"IF(Ergebnistabelle[[#This Row],[Spalte50]]>=Meldungen!$J$5,\"+\",\"\")","v":""}]
["203-299","JN-A-W-011","Schmerlingplatz","4xGrwTw\n+4xGrwBw","115 \n1815 ","46 \n46 ",null,13,5,1996,"Jürgen Niemeyer",{"$f":"IF(Ergebnistabelle[[#This Row],[Signatur]]<>\"\",\"Vorschau\",\"\")","v":"Vorschau"},{"$f":"IF(IFERROR(MATCH(Ergebnistabelle[[#This Row],[Bild-ID]],Merkliste!B:B,0),\"\")<>\"\",CHAR(252),\"\")","v":""},{"$f":"IF(Ergebnistabelle[[#This Row],[Bild-ID]]<>\"\",\"Merken\",\"\")","v":"Merken"},true,true,{"$f":"Ergebnistabelle[[#This Row],[Spalte1]]*Ergebnistabelle[[#This Row],[Spalte2]]","v":1},1,false,true,true,false,false,false,false,false,false,false,true,false,false,false,false,false,false,false,false,false,true,false,false,false,false,false,false,false,false,false,false,false,false,false,false,false,false,false,false,false,false,false,false,false,false,"2020-01-01",{"$f":"IF(Ergebnistabelle[[#This Row],[Spalte50]]>=Meldungen!$J$5,\"+\",\"\")","v":""}]
["203-300","JN-A-W-012","Joachimsthalerplatz","4xGrwTw\n+4xGrwBw","115 \n1815 ","46 \n46 ",null,13,5,1996,"Jürgen Niemeyer",{"$f":"IF(Ergebnistabelle[[#This Row],[Signatur]]<>\"\",\"Vorschau\",\"\")","v":"Vorschau"},{"$f":"IF(IFERROR(MATCH(Ergebnistabelle[[#This Row],[Bild-ID]],Merkliste!B:B,0),\"\")<>\"\",CHAR(252),\"\")","v":""},{"$f":"IF(Ergebnistabelle[[#This Row],[Bild-ID]]<>\"\",\"Merken\",\"\")","v":"Merken"},true,true,{"$f":"Ergebnistabelle[[#This Row],[Spalte1]]*Ergebnistabelle[[#This Row],[Spalte2]]","v":1},1,false,true,true,false,false,false,false,false,false,false,true,false,false,false,false,false,false,false,false,false,true,false,false,false,false,false,false,false,false,false,false,false,false,false,false,false,false,false,false,false,false,false,false,false,false,"2020-01-01",{"$f":"IF(Ergebnistabelle[[#This Row],[Spalte50]]>=Meldungen!$J$5,\"+\",\"\")","v":""}]
["203-301","JN-A-W-013","Joachimsthalerplatz","4xGrwTw\n+4xGrwBw","115 \n1815 ","46 \n46 ",null,13,5,1996,"Jürgen Niemeyer",{"$f":"IF(Ergebnistabelle[[#This Row],[Signatur]]<>\"\",\"Vorschau\",\"\")","v":"Vorschau"},{"$f":"IF(IFERROR(MATCH(Ergebnistabelle[[#This Row],[Bild-ID]],Merkliste!B:B,0),\"\")<>\"\",CHAR(252),\"\")","v":""},{"$f":"IF(Ergebnistabelle[[#This Row],[Bild-ID]]<>\"\",\"Merken\",\"\")","v":"Merken"},true,true,{"$f":"Ergebnistabelle[[#This Row],[Spalte1]]*Ergebnistabelle[[#This Row],[Spalte2]]","v":1},1,false,true,true,false,false,false,false,false,false,false,true,false,false,false,false,false,false,false,false,false,true,false,false,false,false,false,false,false,false,false,false,false,false,false,false,false,false,false,false,false,false,false,false,false,false,"2020-01-01",{"$f":"IF(Ergebnistabelle[[#This Row],[Spalte50]]>=Meldungen!$J$5,\"+\",\"\")","v":""}]
["203-302","JN-A-W-014","Joachimsthalerplatz","4xGrwTw\n+4xGrwBw","120 \n1812 ","46 \n46 ",null,14,5,1996,"Jürgen Niemeyer",{"$f":"IF(Ergebnistabelle[[#This Row],[Signatur]]<>\"\",\"Vorschau\",\"\")","v":"Vorschau"},{"$f":"IF(IFERROR(MATCH(Ergebnistabelle[[#This Row],[Bild-ID]],Merkliste!B:B,0),\"\")<>\"\",CHAR(252),\"\")","v":""},{"$f":"IF(Ergebnistabelle[[#This Row],[Bild-ID]]<>\"\",\"Merken\",\"\")","v":"Merken"},true,true,{"$f":"Ergebnistabelle[[#This Row],[Spalte1]]*Ergebnistabelle[[#This Row],[Spalte2]]","v":1},1,false,true,true,false,false,false,false,false,false,false,true,false,false,false,false,false,false,false,false,false,true,false,false,false,false,false,false,false,false,false,false,false,false,false,false,false,false,false,false,false,false,false,false,false,false,"2020-01-01",{"$f":"IF(Ergebnistabelle[[#This Row],[Spalte50]]>=Meldungen!$J$5,\"+\",\"\")","v":""}]
["203-303","JN-A-W-015","Lerchenfelder Str./Albertgasse","4xGrwTw\n+4xGrwBw","120 \n1812 ","46 \n46 ",null,14,5,1996,"Jürgen Niemeyer",{"$f":"IF(Ergebnistabelle[[#This Row],[Signatur]]<>\"\",\"Vorschau\",\"\")","v":"Vorschau"},{"$f":"IF(IFERROR(MATCH(Ergebnistabelle[[#This Row],[Bild-ID]],Merkliste!B:B,0),\"\")<>\"\",CHAR(252),\"\")","v":""},{"$f":"IF(Ergebnistabelle[[#This Row],[Bild-ID]]<>\"\",\"Merken\",\"\")","v":"Merken"},true,true,{"$f":"Ergebnistabelle[[#This Row],[Spalte1]]*Ergebnistabelle[[#This Row],[Spalte2]]","v":1},1,false,true,true,false,false,false,false,false,false,false,true,false,false,false,false,false,false,false,false,false,true,false,false,false,false,false,false,false,false,false,false,false,false,false,false,false,false,false,false,false,false,false,false,false,false,"2020-01-01",{"$f":"IF(Ergebnistabelle[[#This Row],[Spalte50]]>=Meldungen!$J$5,\"+\",\"\")","v":""}]
["203-304","JN-A-W-016","Joachimsthalerplatz","4xGrwTw\n+4xGrwBw","120 \n1812 ","46 \n46 ",null,14,5,1996,"Jürgen Niemeyer",{"$f":"IF(Ergebnistabelle[[#This Row],[Signatur]]<>\"\",\"Vorschau\",\"\")","v":"Vorschau"},{"$f":"IF(IFERROR(MATCH(Ergebnistabelle[[#This Row],[Bild-ID]],Merkliste!B:B,0),\"\")<>\"\",CHAR(252),\"\")","v":""},{"$f":"IF(Ergebnistabelle[[#This Row],[Bild-ID]]<>\"\",\"Merken\",\"\")","v":"Merken"},true,true,{"$f":"Ergebnistabelle[[#This Row],[Spalte1]]*Ergebnistabelle[[#This Row],[Spalte2]]","v":1},1,false,true,true,false,false,false,false,false,false,false,true,false,false,false,false,false,false,false,false,false,true,false,false,false,false,false,false,false,false,false,false,false,false,false,false,false,false,false,false,false,false,false,false,false,false,"2020-01-01",{"$f":"IF(Ergebnistabelle[[#This Row],[Spalte50]]>=Meldungen!$J$5,\"+\",\"\")","v":""}]
["203-305","JN-A-W-017","Lainz, Wolkersbergenstraße (Endstelle)","4xGelTw","702 ","62 ",null,13,5,1996,"Jürgen Niemeyer",{"$f":"IF(Ergebnistabelle[[#This Row],[Signatur]]<>\"\",\"Vorschau\",\"\")","v":"Vorschau"},{"$f":"IF(IFERROR(MATCH(Ergebnistabelle[[#This Row],[Bild-ID]],Merkliste!B:B,0),\"\")<>\"\",CHAR(252),\"\")","v":""},{"$f":"IF(Ergebnistabelle[[#This Row],[Bild-ID]]<>\"\",\"Merken\",\"\")","v":"Merken"},true,true,{"$f":"Ergebnistabelle[[#This Row],[Spalte1]]*Ergebnistabelle[[#This Row],[Spalte2]]","v":1},1,false,true,false,false,false,false,false,false,false,false,false,true,false,false,false,false,false,false,false,false,false,false,false,false,false,false,false,false,false,false,false,false,false,false,false,false,false,false,false,false,false,false,false,false,false,"2020-01-01",{"$f":"IF(Ergebnistabelle[[#This Row],[Spalte50]]>=Meldungen!$J$5,\"+\",\"\")","v":""}]
["203-306","JN-A-W-018","Karlsplatz","4xGelTw","739 ","62 ",null,13,5,1996,"Jürgen Niemeyer",{"$f":"IF(Ergebnistabelle[[#This Row],[Signatur]]<>\"\",\"Vorschau\",\"\")","v":"Vorschau"},{"$f":"IF(IFERROR(MATCH(Ergebnistabelle[[#This Row],[Bild-ID]],Merkliste!B:B,0),\"\")<>\"\",CHAR(252),\"\")","v":""},{"$f":"IF(Ergebnistabelle[[#This Row],[Bild-ID]]<>\"\",\"Merken\",\"\")","v":"Merken"},true,true,{"$f":"Ergebnistabelle[[#This Row],[Spalte1]]*Ergebnistabelle[[#This Row],[Spalte2]]","v":1},1,false,true,false,false,false,false,false,false,false,false,false,true,false,false,false,false,false,false,false,false,false,false,false,false,false,false,false,false,false,false,false,false,false,false,false,false,false,false,false,false,false,false,false,false,false,"2020-01-01",{"$f":"IF(Ergebnistabelle[[#This Row],[Spalte50]]>=Meldungen!$J$5,\"+\",\"\")","v":""}]
["203-307","JN-A-W-019",null,"4xGelTw","739 "," ","Fahrerstand",13,5,1996,"Jürgen Niemeyer",{"$f":"IF(Ergebnistabelle[[#This Row],[Signatur]]<>\"\",\"Vorschau\",\"\")","v":"Vorschau"},{"$f":"IF(IFERROR(MATCH(Ergebnistabelle[[#This Row],[Bild-ID]],Merkliste!B:B,0),\"\")<>\"\",CHAR(252),\"\")","v":""},{"$f":"IF(Ergebnistabelle[[#This Row],[Bild-ID]]<>\"\",\"Merken\",\"\")","v":"Merken"},true,true,{"$f":"Ergebnistabelle[[#This Row],[Spalte1]]*Ergebnistabelle[[#This Row],[Spalte2]]","v":1},1,false,true,false,false,false,false,false,false,false,false,false,true,false,false,false,false,false,false,false,false,false,false,false,false,false,false,false,false,false,false,false,false,false,false,false,false,false,false,false,false,false,false,false,false,false,"2020-01-01",{"$f":"IF(Ergebnistabelle[[#This Row],[Spalte50]]>=Meldungen!$J$5,\"+\",\"\")","v":""}]
["203-308","JN-A-W-020",null,"4xGelTw","739 "," ","Fahrgastraum",13,5,1996,"Jürgen Niemeyer",{"$f":"IF(Ergebnistabelle[[#This Row],[Signatur]]<>\"\",\"Vorschau\",\"\")","v":"Vorschau"},{"$f":"IF(IFERROR(MATCH(Ergebnistabelle[[#This Row],[Bild-ID]],Merkliste!B:B,0),\"\")<>\"\",CHAR(252),\"\")","v":""},{"$f":"IF(Ergebnistabelle[[#This Row],[Bild-ID]]<>\"\",\"Merken\",\"\")","v":"Merken"},true,true,{"$f":"Ergebnistabelle[[#This Row],[Spalte1]]*Ergebnistabelle[[#This Row],[Spalte2]]","v":1},1,false,true,false,false,false,false,false,false,false,false,false,true,false,false,false,false,false,false,false,false,false,false,false,false,false,false,false,false,false,false,false,false,false,false,false,false,false,false,false,false,false,false,false,false,false,"2020-01-01",{"$f":"IF(Ergebnistabelle[[#This Row],[Spalte50]]>=Meldungen!$J$5,\"+\",\"\")","v":""}]
["203-309","JN-A-W-021","Lainz, Wolkersbergenstraße (Endstelle)","4xGelTw","739 ","62 ",null,13,5,1996,"Jürgen Niemeyer",{"$f":"IF(Ergebnistabelle[[#This Row],[Signatur]]<>\"\",\"Vorschau\",\"\")","v":"Vorschau"},{"$f":"IF(IFERROR(MATCH(Ergebnistabelle[[#This Row],[Bild-ID]],Merkliste!B:B,0),\"\")<>\"\",CHAR(252),\"\")","v":""},{"$f":"IF(Ergebnistabelle[[#This Row],[Bild-ID]]<>\"\",\"Merken\",\"\")","v":"Merken"},true,true,{"$f":"Ergebnistabelle[[#This Row],[Spalte1]]*Ergebnistabelle[[#This Row],[Spalte2]]","v":1},1,false,true,false,false,false,false,false,false,false,false,false,true,false,false,false,false,false,false,false,false,false,false,false,false,false,false,false,false,false,false,false,false,false,false,false,false,false,false,false,false,false,false,false,false,false,"2020-01-01",{"$f":"IF(Ergebnistabelle[[#This Row],[Spalte50]]>=Meldungen!$J$5,\"+\",\"\")","v":""}]
["203-310","JN-A-W-022","Lainz, Wolkersbergenstraße (Endstelle)","4xGelTw","739 ","62 ",null,13,5,1996,"Jürgen Niemeyer",{"$f":"IF(Ergebnistabelle[[#This Row],[Signatur]]<>\"\",\"Vorschau\",\"\")","v":"Vorschau"},{"$f":"IF(IFERROR(MATCH(Ergebnistabelle[[#This Row],[Bild-ID]],Merkliste!B:B,0),\"\")<>\"\",CHAR(252),\"\")","v":""},{"$f":"IF(Ergebnistabelle[[#This Row],[Bild-ID]]<>\"\",\"Merken\",\"\")","v":"Merken"},true,true,{"$f":"Ergebnistabelle[[#This Row],[Spalte1]]*Ergebnistabelle[[#This Row],[Spalte2]]","v":1},1,false,true,false,false,false,false,false,false,false,false,false,true,false,false,false,false,false,false,false,false,false,false,false,false,false,false,false,false,false,false,false,false,false,false,false,false,false,false,false,false,false,false,false,false,false,"2020-01-01",{"$f":"IF(Ergebnistabelle[[#This Row],[Spalte50]]>=Meldungen!$J$5,\"+\",\"\")","v":""}]
["203-311","JN-A-W-023","Verkehrsmuseum Remise (Fruethstr)","4xGelTw","743 "," ",null,12,5,1996,"Jürgen Niemeyer",{"$f":"IF(Ergebnistabelle[[#This Row],[Signatur]]<>\"\",\"Vorschau\",\"\")","v":"Vorschau"},{"$f":"IF(IFERROR(MATCH(Ergebnistabelle[[#This Row],[Bild-ID]],Merkliste!B:B,0),\"\")<>\"\",CHAR(252),\"\")","v":""},{"$f":"IF(Ergebnistabelle[[#This Row],[Bild-ID]]<>\"\",\"Merken\",\"\")","v":"Merken"},true,true,{"$f":"Ergebnistabelle[[#This Row],[Spalte1]]*Ergebnistabelle[[#This Row],[Spalte2]]","v":1},1,false,true,false,false,false,false,false,false,false,false,false,true,false,false,false,false,false,false,false,false,false,false,false,false,false,false,false,false,false,false,false,false,false,false,false,false,false,false,false,false,false,false,false,false,false,"2020-01-01",{"$f":"IF(Ergebnistabelle[[#This Row],[Spalte50]]>=Meldungen!$J$5,\"+\",\"\")","v":""}]
["203-312","JN-A-W-024","Opernring/Kärntner Str","4xGrwBw\n+6xGelTw","1357 \n4857 ","1 \n1 ",null,12,5,1996,"Jürgen Niemeyer",{"$f":"IF(Ergebnistabelle[[#This Row],[Signatur]]<>\"\",\"Vorschau\",\"\")","v":"Vorschau"},{"$f":"IF(IFERROR(MATCH(Ergebnistabelle[[#This Row],[Bild-ID]],Merkliste!B:B,0),\"\")<>\"\",CHAR(252),\"\")","v":""},{"$f":"IF(Ergebnistabelle[[#This Row],[Bild-ID]]<>\"\",\"Merken\",\"\")","v":"Merken"},true,true,{"$f":"Ergebnistabelle[[#This Row],[Spalte1]]*Ergebnistabelle[[#This Row],[Spalte2]]","v":1},1,false,true,true,false,false,false,false,false,false,false,false,false,true,false,false,false,false,false,false,false,true,false,false,false,false,false,false,false,false,false,false,false,false,false,false,false,false,false,false,false,false,false,false,false,false,"2020-01-01",{"$f":"IF(Ergebnistabelle[[#This Row],[Spalte50]]>=Meldungen!$J$5,\"+\",\"\")","v":""}]
["203-313","JN-A-W-025","(H) Thaliastr","4xGrwBw\n+4xGrwTw","1854 \n114 ","46 \n46 ",null,13,5,1996,"Jürgen Niemeyer",{"$f":"IF(Ergebnistabelle[[#This Row],[Signatur]]<>\"\",\"Vorschau\",\"\")","v":"Vorschau"},{"$f":"IF(IFERROR(MATCH(Ergebnistabelle[[#This Row],[Bild-ID]],Merkliste!B:B,0),\"\")<>\"\",CHAR(252),\"\")","v":""},{"$f":"IF(Ergebnistabelle[[#This Row],[Bild-ID]]<>\"\",\"Merken\",\"\")","v":"Merken"},true,true,{"$f":"Ergebnistabelle[[#This Row],[Spalte1]]*Ergebnistabelle[[#This Row],[Spalte2]]","v":1},1,false,true,true,false,false,false,false,false,false,false,true,false,false,false,false,false,false,false,false,false,true,false,false,false,false,false,false,false,false,false,false,false,false,false,false,false,false,false,false,false,false,false,false,false,false,"2020-01-01",{"$f":"IF(Ergebnistabelle[[#This Row],[Spalte50]]>=Meldungen!$J$5,\"+\",\"\")","v":""}]
["203-314","JN-A-W-026","Thaliastr/Feßtgasse","4xGrwBw\n+4xGrwTw","1854 \n114 ","46 \n46 ",null,13,5,1996,"Jürgen Niemeyer",{"$f":"IF(Ergebnistabelle[[#This Row],[Signatur]]<>\"\",\"Vorschau\",\"\")","v":"Vorschau"},{"$f":"IF(IFERROR(MATCH(Ergebnistabelle[[#This Row],[Bild-ID]],Merkliste!B:B,0),\"\")<>\"\",CHAR(252),\"\")","v":""},{"$f":"IF(Ergebnistabelle[[#This Row],[Bild-ID]]<>\"\",\"Merken\",\"\")","v":"Merken"},true,true,{"$f":"Ergebnistabelle[[#This Row],[Spalte1]]*Ergebnistabelle[[#This Row],[Spalte2]]","v":1},1,false,true,true,false,false,false,false,false,false,false,true,false,false,false,false,false,false,false,false,false,true,false,false,false,false,false,false,false,false,false,false,false,false,false,false,false,false,false,false,false,false,false,false,false,false,"2020-01-01",{"$f":"IF(Ergebnistabelle[[#This Row],[Spalte50]]>=Meldungen!$J$5,\"+\",\"\")","v":""}]
["203-315","JN-A-W-027","Ring ","6xGelTw\n+4xGrwBw","4072 \n1513 ","D \nD ",null,13,5,1996,"Jürgen Niemeyer",{"$f":"IF(Ergebnistabelle[[#This Row],[Signatur]]<>\"\",\"Vorschau\",\"\")","v":"Vorschau"},{"$f":"IF(IFERROR(MATCH(Ergebnistabelle[[#This Row],[Bild-ID]],Merkliste!B:B,0),\"\")<>\"\",CHAR(252),\"\")","v":""},{"$f":"IF(Ergebnistabelle[[#This Row],[Bild-ID]]<>\"\",\"Merken\",\"\")","v":"Merken"},true,true,{"$f":"Ergebnistabelle[[#This Row],[Spalte1]]*Ergebnistabelle[[#This Row],[Spalte2]]","v":1},1,false,true,true,false,false,false,false,false,false,false,false,false,true,false,false,false,false,false,false,false,true,false,false,false,false,false,false,false,false,false,false,false,false,false,false,false,false,false,false,false,false,false,false,false,false,"2020-01-01",{"$f":"IF(Ergebnistabelle[[#This Row],[Spalte50]]>=Meldungen!$J$5,\"+\",\"\")","v":""}]
["203-316","JN-A-W-028","Karlsplatz","6xGelTw","4077 ","65 ",null,12,5,1996,"Jürgen Niemeyer",{"$f":"IF(Ergebnistabelle[[#This Row],[Signatur]]<>\"\",\"Vorschau\",\"\")","v":"Vorschau"},{"$f":"IF(IFERROR(MATCH(Ergebnistabelle[[#This Row],[Bild-ID]],Merkliste!B:B,0),\"\")<>\"\",CHAR(252),\"\")","v":""},{"$f":"IF(Ergebnistabelle[[#This Row],[Bild-ID]]<>\"\",\"Merken\",\"\")","v":"Merken"},true,true,{"$f":"Ergebnistabelle[[#This Row],[Spalte1]]*Ergebnistabelle[[#This Row],[Spalte2]]","v":1},1,false,true,false,false,false,false,false,false,false,false,false,false,true,false,false,false,false,false,false,false,false,false,false,false,false,false,false,false,false,false,false,false,false,false,false,false,false,false,false,false,false,false,false,false,false,"2020-01-01",{"$f":"IF(Ergebnistabelle[[#This Row],[Spalte50]]>=Meldungen!$J$5,\"+\",\"\")","v":""}]
["203-317","JN-A-W-029","Wiedner Hauptstraße in Höhe Resselgasse","6xGelTw","4079 ","65 ",null,12,5,1996,"Jürgen Niemeyer",{"$f":"IF(Ergebnistabelle[[#This Row],[Signatur]]<>\"\",\"Vorschau\",\"\")","v":"Vorschau"},{"$f":"IF(IFERROR(MATCH(Ergebnistabelle[[#This Row],[Bild-ID]],Merkliste!B:B,0),\"\")<>\"\",CHAR(252),\"\")","v":""},{"$f":"IF(Ergebnistabelle[[#This Row],[Bild-ID]]<>\"\",\"Merken\",\"\")","v":"Merken"},true,true,{"$f":"Ergebnistabelle[[#This Row],[Spalte1]]*Ergebnistabelle[[#This Row],[Spalte2]]","v":1},1,false,true,false,false,false,false,false,false,false,false,false,false,true,false,false,false,false,false,false,false,false,false,false,false,false,false,false,false,false,false,false,false,false,false,false,false,false,false,false,false,false,false,false,false,false,"2020-01-01",{"$f":"IF(Ergebnistabelle[[#This Row],[Spalte50]]>=Meldungen!$J$5,\"+\",\"\")","v":""}]
["203-318","JN-A-W-030","Karlsplatz/Wiedner Hauptstr","6xGelTw","4095 ","65 ",null,12,5,1996,"Jürgen Niemeyer",{"$f":"IF(Ergebnistabelle[[#This Row],[Signatur]]<>\"\",\"Vorschau\",\"\")","v":"Vorschau"},{"$f":"IF(IFERROR(MATCH(Ergebnistabelle[[#This Row],[Bild-ID]],Merkliste!B:B,0),\"\")<>\"\",CHAR(252),\"\")","v":""},{"$f":"IF(Ergebnistabelle[[#This Row],[Bild-ID]]<>\"\",\"Merken\",\"\")","v":"Merken"},true,true,{"$f":"Ergebnistabelle[[#This Row],[Spalte1]]*Ergebnistabelle[[#This Row],[Spalte2]]","v":1},1,false,true,false,false,false,false,false,false,false,false,false,false,true,false,false,false,false,false,false,false,false,false,false,false,false,false,false,false,false,false,false,false,false,false,false,false,false,false,false,false,false,false,false,false,false,"2020-01-01",{"$f":"IF(Ergebnistabelle[[#This Row],[Spalte50]]>=Meldungen!$J$5,\"+\",\"\")","v":""}]
["203-319","JN-A-W-031",null,"2xTw","4137 "," ","Fahrgastraum\nMuseumswagen",12,5,1996,"Jürgen Niemeyer",{"$f":"IF(Ergebnistabelle[[#This Row],[Signatur]]<>\"\",\"Vorschau\",\"\")","v":"Vorschau"},{"$f":"IF(IFERROR(MATCH(Ergebnistabelle[[#This Row],[Bild-ID]],Merkliste!B:B,0),\"\")<>\"\",CHAR(252),\"\")","v":""},{"$f":"IF(Ergebnistabelle[[#This Row],[Bild-ID]]<>\"\",\"Merken\",\"\")","v":"Merken"},true,true,{"$f":"Ergebnistabelle[[#This Row],[Spalte1]]*Ergebnistabelle[[#This Row],[Spalte2]]","v":1},3,false,true,false,false,false,false,false,false,true,false,false,false,false,false,false,false,false,false,false,false,false,false,false,false,false,false,false,false,false,false,false,false,false,false,false,false,false,false,false,false,false,false,false,false,false,"2020-01-01",{"$f":"IF(Ergebnistabelle[[#This Row],[Spalte50]]>=Meldungen!$J$5,\"+\",\"\")","v":""}]
["203-320","JN-A-W-032","Karlsplatz","2xTw\n+2xBw","4137 \n5418 "," \n ","Museumswagen",12,5,1996,"Jürgen Niemeyer",{"$f":"IF(Ergebnistabelle[[#This Row],[Signatur]]<>\"\",\"Vorschau\",\"\")","v":"Vorschau"},{"$f":"IF(IFERROR(MATCH(Ergebnistabelle[[#This Row],[Bild-ID]],Merkliste!B:B,0),\"\")<>\"\",CHAR(252),\"\")","v":""},{"$f":"IF(Ergebnistabelle[[#This Row],[Bild-ID]]<>\"\",\"Merken\",\"\")","v":"Merken"},true,true,{"$f":"Ergebnistabelle[[#This Row],[Spalte1]]*Ergebnistabelle[[#This Row],[Spalte2]]","v":1},3,false,true,true,false,false,false,false,false,true,false,false,false,false,false,false,false,false,false,true,false,false,false,false,false,false,false,false,false,false,false,false,false,false,false,false,false,false,false,false,false,false,false,false,false,false,"2020-01-01",{"$f":"IF(Ergebnistabelle[[#This Row],[Spalte50]]>=Meldungen!$J$5,\"+\",\"\")","v":""}]
["203-321","JN-A-W-033","Karlsplatz","2xTw\n+2xBw","4137 \n5418 "," \n ","Museumswagen",12,5,1996,"Jürgen Niemeyer",{"$f":"IF(Ergebnistabelle[[#This Row],[Signatur]]<>\"\",\"Vorschau\",\"\")","v":"Vorschau"},{"$f":"IF(IFERROR(MATCH(Ergebnistabelle[[#This Row],[Bild-ID]],Merkliste!B:B,0),\"\")<>\"\",CHAR(252),\"\")","v":""},{"$f":"IF(Ergebnistabelle[[#This Row],[Bild-ID]]<>\"\",\"Merken\",\"\")","v":"Merken"},true,true,{"$f":"Ergebnistabelle[[#This Row],[Spalte1]]*Ergebnistabelle[[#This Row],[Spalte2]]","v":1},3,false,true,true,false,false,false,false,false,true,false,false,false,false,false,false,false,false,false,true,false,false,false,false,false,false,false,false,false,false,false,false,false,false,false,false,false,false,false,false,false,false,false,false,false,false,"2020-01-01",{"$f":"IF(Ergebnistabelle[[#This Row],[Spalte50]]>=Meldungen!$J$5,\"+\",\"\")","v":""}]
["203-322",{"$nulls":5},"(Bild jetzt Nr- 2104-010)",{"$nulls":4},{"$f":"IF(Ergebnistabelle[[#This Row],[Signatur]]<>\"\",\"Vorschau\",\"\")","v":""},{"$f":"IF(IFERROR(MATCH(Ergebnistabelle[[#This Row],[Bild-ID]],Merkliste!B:B,0),\"\")<>\"\",CHAR(252),\"\")","v":""},{"$f":"IF(Ergebnistabelle[[#This Row],[Bild-ID]]<>\"\",\"Merken\",\"\")","v":"Merken"},false,false,{"$f":"Ergebnistabelle[[#This Row],[Spalte1]]*Ergebnistabelle[[#This Row],[Spalte2]]","v":0},99,false,false,false,false,false,false,false,false,false,false,false,false,false,false,false,false,false,false,false,false,false,false,false,false,false,false,false,false,false,false,false,false,false,false,false,false,false,false,false,false,false,false,false,false,false,"2020-01-01",{"$f":"IF(Ergebnistabelle[[#This Row],[Spalte50]]>=Meldungen!$J$5,\"+\",\"\")","v":""}]
["203-323",{"$nulls":5},"(Bild jetzt Nr- 2104-011)",{"$nulls":4},{"$f":"IF(Ergebnistabelle[[#This Row],[Signatur]]<>\"\",\"Vorschau\",\"\")","v":""},{"$f":"IF(IFERROR(MATCH(Ergebnistabelle[[#This Row],[Bild-ID]],Merkliste!B:B,0),\"\")<>\"\",CHAR(252),\"\")","v":""},{"$f":"IF(Ergebnistabelle[[#This Row],[Bild-ID]]<>\"\",\"Merken\",\"\")","v":"Merken"},false,false,{"$f":"Ergebnistabelle[[#This Row],[Spalte1]]*Ergebnistabelle[[#This Row],[Spalte2]]","v":0},99,false,false,false,false,false,false,false,false,false,false,false,false,false,false,false,false,false,false,false,false,false,false,false,false,false,false,false,false,false,false,false,false,false,false,false,false,false,false,false,false,false,false,false,false,false,"2020-01-01",{"$f":"IF(Ergebnistabelle[[#This Row],[Spalte50]]>=Meldungen!$J$5,\"+\",\"\")","v":""}]
["203-324",{"$nulls":5},"(Bild jetzt Nr- 2104-012)",{"$nulls":4},{"$f":"IF(Ergebnistabelle[[#This Row],[Signatur]]<>\"\",\"Vorschau\",\"\")","v":""},{"$f":"IF(IFERROR(MATCH(Ergebnistabelle[[#This Row],[Bild-ID]],Merkliste!B:B,0),\"\")<>\"\",CHAR(252),\"\")","v":""},{"$f":"IF(Ergebnistabelle[[#This Row],[Bild-ID]]<>\"\",\"Merken\",\"\")","v":"Merken"},false,false,{"$f":"Ergebnistabelle[[#This Row],[Spalte1]]*Ergebnistabelle[[#This Row],[Spalte2]]","v":0},99,false,false,false,false,false,false,false,false,false,false,false,false,false,false,false,false,false,false,false,false,false,false,false,false,false,false,false,false,false,false,false,false,false,false,false,false,false,false,false,false,false,false,false,false,false,"2020-01-01",{"$f":"IF(Ergebnistabelle[[#This Row],[Spalte50]]>=Meldungen!$J$5,\"+\",\"\")","v":""}]
["203-325","JN-A-W-037","Wiedner Hauptstr/Schaurhofgasse","6xGelTw","4440 ","62 ",null,12,5,1996,"Jürgen Niemeyer",{"$f":"IF(Ergebnistabelle[[#This Row],[Signatur]]<>\"\",\"Vorschau\",\"\")","v":"Vorschau"},{"$f":"IF(IFERROR(MATCH(Ergebnistabelle[[#This Row],[Bild-ID]],Merkliste!B:B,0),\"\")<>\"\",CHAR(252),\"\")","v":""},{"$f":"IF(Ergebnistabelle[[#This Row],[Bild-ID]]<>\"\",\"Merken\",\"\")","v":"Merken"},true,true,{"$f":"Ergebnistabelle[[#This Row],[Spalte1]]*Ergebnistabelle[[#This Row],[Spalte2]]","v":1},1,false,true,false,false,false,false,false,false,false,false,false,false,true,false,false,false,false,false,false,false,false,false,false,false,false,false,false,false,false,false,false,false,false,false,false,false,false,false,false,false,false,false,false,false,false,"2020-01-01",{"$f":"IF(Ergebnistabelle[[#This Row],[Spalte50]]>=Meldungen!$J$5,\"+\",\"\")","v":""}]
["203-326","JN-A-W-038","Karlsplatz","6xGelTw","4441 ","62 ",null,12,5,1996,"Jürgen Niemeyer",{"$f":"IF(Ergebnistabelle[[#This Row],[Signatur]]<>\"\",\"Vorschau\",\"\")","v":"Vorschau"},{"$f":"IF(IFERROR(MATCH(Ergebnistabelle[[#This Row],[Bild-ID]],Merkliste!B:B,0),\"\")<>\"\",CHAR(252),\"\")","v":""},{"$f":"IF(Ergebnistabelle[[#This Row],[Bild-ID]]<>\"\",\"Merken\",\"\")","v":"Merken"},true,true,{"$f":"Ergebnistabelle[[#This Row],[Spalte1]]*Ergebnistabelle[[#This Row],[Spalte2]]","v":1},1,false,true,false,false,false,false,false,false,false,false,false,false,true,false,false,false,false,false,false,false,false,false,false,false,false,false,false,false,false,false,false,false,false,false,false,false,false,false,false,false,false,false,false,false,false,"2020-01-01",{"$f":"IF(Ergebnistabelle[[#This Row],[Spalte50]]>=Meldungen!$J$5,\"+\",\"\")","v":""}]
["203-327","JN-A-W-039","Kärntner Ring/Oper","6xGelTw",4444,"62 ",null,12,5,1996,"Jürgen Niemeyer",{"$f":"IF(Ergebnistabelle[[#This Row],[Signatur]]<>\"\",\"Vorschau\",\"\")","v":"Vorschau"},{"$f":"IF(IFERROR(MATCH(Ergebnistabelle[[#This Row],[Bild-ID]],Merkliste!B:B,0),\"\")<>\"\",CHAR(252),\"\")","v":""},{"$f":"IF(Ergebnistabelle[[#This Row],[Bild-ID]]<>\"\",\"Merken\",\"\")","v":"Merken"},true,true,{"$f":"Ergebnistabelle[[#This Row],[Spalte1]]*Ergebnistabelle[[#This Row],[Spalte2]]","v":1},1,false,true,false,false,false,false,false,false,false,false,false,false,true,false,false,false,false,false,false,false,false,false,false,false,false,false,false,false,false,false,false,false,false,false,false,false,false,false,false,false,false,false,false,false,false,"2020-01-01",{"$f":"IF(Ergebnistabelle[[#This Row],[Spalte50]]>=Meldungen!$J$5,\"+\",\"\")","v":""}]
["203-328","JN-A-W-040","Dr. Karl Renner-Ring/Parlament ","6xGelTw\n+4xGrwBw","4474 \n ","D \nD ",null,12,5,1996,"Jürgen Niemeyer",{"$f":"IF(Ergebnistabelle[[#This Row],[Signatur]]<>\"\",\"Vorschau\",\"\")","v":"Vorschau"},{"$f":"IF(IFERROR(MATCH(Ergebnistabelle[[#This Row],[Bild-ID]],Merkliste!B:B,0),\"\")<>\"\",CHAR(252),\"\")","v":""},{"$f":"IF(Ergebnistabelle[[#This Row],[Bild-ID]]<>\"\",\"Merken\",\"\")","v":"Merken"},true,true,{"$f":"Ergebnistabelle[[#This Row],[Spalte1]]*Ergebnistabelle[[#This Row],[Spalte2]]","v":1},1,false,true,true,false,false,false,false,false,false,false,false,false,true,false,false,false,false,false,false,false,true,false,false,false,false,false,false,false,false,false,false,false,false,false,false,false,false,false,false,false,false,false,false,false,false,"2020-01-01",{"$f":"IF(Ergebnistabelle[[#This Row],[Spalte50]]>=Meldungen!$J$5,\"+\",\"\")","v":""}]
["203-329","JN-A-W-041","Nußdorf (Endstelle)","6xGelTw","4475 ","D ",null,12,5,1996,"Jürgen Niemeyer",{"$f":"IF(Ergebnistabelle[[#This Row],[Signatur]]<>\"\",\"Vorschau\",\"\")","v":"Vorschau"},{"$f":"IF(IFERROR(MATCH(Ergebnistabelle[[#This Row],[Bild-ID]],Merkliste!B:B,0),\"\")<>\"\",CHAR(252),\"\")","v":""},{"$f":"IF(Ergebnistabelle[[#This Row],[Bild-ID]]<>\"\",\"Merken\",\"\")","v":"Merken"},true,true,{"$f":"Ergebnistabelle[[#This Row],[Spalte1]]*Ergebnistabelle[[#This Row],[Spalte2]]","v":1},1,false,true,false,false,false,false,false,false,false,false,false,false,true,false,false,false,false,false,false,false,false,false,false,false,false,false,false,false,false,false,false,false,false,false,false,false,false,false,false,false,false,false,false,false,false,"2020-01-01",{"$f":"IF(Ergebnistabelle[[#This Row],[Spalte50]]>=Meldungen!$J$5,\"+\",\"\")","v":""}]
["203-330","JN-A-W-042","Nußdorf (Endstelle)","6xGelTw","4515 ","D ",null,12,5,1996,"Jürgen Niemeyer",{"$f":"IF(Ergebnistabelle[[#This Row],[Signatur]]<>\"\",\"Vorschau\",\"\")","v":"Vorschau"},{"$f":"IF(IFERROR(MATCH(Ergebnistabelle[[#This Row],[Bild-ID]],Merkliste!B:B,0),\"\")<>\"\",CHAR(252),\"\")","v":""},{"$f":"IF(Ergebnistabelle[[#This Row],[Bild-ID]]<>\"\",\"Merken\",\"\")","v":"Merken"},true,true,{"$f":"Ergebnistabelle[[#This Row],[Spalte1]]*Ergebnistabelle[[#This Row],[Spalte2]]","v":1},1,false,true,false,false,false,false,false,false,false,false,false,false,true,false,false,false,false,false,false,false,false,false,false,false,false,false,false,false,false,false,false,false,false,false,false,false,false,false,false,false,false,false,false,false,false,"2020-01-01",{"$f":"IF(Ergebnistabelle[[#This Row],[Spalte50]]>=Meldungen!$J$5,\"+\",\"\")","v":""}]
["203-331","JN-A-W-043","Opernring/Operngasse","6xGelTw\n+4xGrwBw","4521 \n1077 ","J \nJ ",null,12,5,1996,"Jürgen Niemeyer",{"$f":"IF(Ergebnistabelle[[#This Row],[Signatur]]<>\"\",\"Vorschau\",\"\")","v":"Vorschau"},{"$f":"IF(IFERROR(MATCH(Ergebnistabelle[[#This Row],[Bild-ID]],Merkliste!B:B,0),\"\")<>\"\",CHAR(252),\"\")","v":""},{"$f":"IF(Ergebnistabelle[[#This Row],[Bild-ID]]<>\"\",\"Merken\",\"\")","v":"Merken"},true,true,{"$f":"Ergebnistabelle[[#This Row],[Spalte1]]*Ergebnistabelle[[#This Row],[Spalte2]]","v":1},1,false,true,true,false,false,false,false,false,false,false,false,false,true,false,false,false,false,false,false,false,true,false,false,false,false,false,false,false,false,false,false,false,false,false,false,false,false,false,false,false,false,false,false,false,false,"2020-01-01",{"$f":"IF(Ergebnistabelle[[#This Row],[Spalte50]]>=Meldungen!$J$5,\"+\",\"\")","v":""}]
["203-332","JN-A-W-044","Thaliastr/Feßtgasse","6xGelTw\n+4xGrwBw","4527 \n1203 ","46 \n46 ",null,13,5,1996,"Jürgen Niemeyer",{"$f":"IF(Ergebnistabelle[[#This Row],[Signatur]]<>\"\",\"Vorschau\",\"\")","v":"Vorschau"},{"$f":"IF(IFERROR(MATCH(Ergebnistabelle[[#This Row],[Bild-ID]],Merkliste!B:B,0),\"\")<>\"\",CHAR(252),\"\")","v":""},{"$f":"IF(Ergebnistabelle[[#This Row],[Bild-ID]]<>\"\",\"Merken\",\"\")","v":"Merken"},true,true,{"$f":"Ergebnistabelle[[#This Row],[Spalte1]]*Ergebnistabelle[[#This Row],[Spalte2]]","v":1},1,false,true,true,false,false,false,false,false,false,false,false,false,true,false,false,false,false,false,false,false,true,false,false,false,false,false,false,false,false,false,false,false,false,false,false,false,false,false,false,false,false,false,false,false,false,"2020-01-01",{"$f":"IF(Ergebnistabelle[[#This Row],[Spalte50]]>=Meldungen!$J$5,\"+\",\"\")","v":""}]
["203-333","JN-A-W-045","Schmerlingplatz","6xGelTw\n+4xGrwBw","4537 \n1089 ","46 \n46 ",null,13,5,1996,"Jürgen Niemeyer",{"$f":"IF(Ergebnistabelle[[#This Row],[Signatur]]<>\"\",\"Vorschau\",\"\")","v":"Vorschau"},{"$f":"IF(IFERROR(MATCH(Ergebnistabelle[[#This Row],[Bild-ID]],Merkliste!B:B,0),\"\")<>\"\",CHAR(252),\"\")","v":""},{"$f":"IF(Ergebnistabelle[[#This Row],[Bild-ID]]<>\"\",\"Merken\",\"\")","v":"Merken"},true,true,{"$f":"Ergebnistabelle[[#This Row],[Spalte1]]*Ergebnistabelle[[#This Row],[Spalte2]]","v":1},1,false,true,true,false,false,false,false,false,false,false,false,false,true,false,false,false,false,false,false,false,true,false,false,false,false,false,false,false,false,false,false,false,false,false,false,false,false,false,false,false,false,false,false,false,false,"2020-01-01",{"$f":"IF(Ergebnistabelle[[#This Row],[Spalte50]]>=Meldungen!$J$5,\"+\",\"\")","v":""}]
["203-334","JN-A-W-046","Schmerlingplatz","6xGelTw\n+4xGrwBw","4537 \n1089 ","46 \n46 ",null,13,5,1996,"Jürgen Niemeyer",{"$f":"IF(Ergebnistabelle[[#This Row],[Signatur]]<>\"\",\"Vorschau\",\"\")","v":"Vorschau"},{"$f":"IF(IFERROR(MATCH(Ergebnistabelle[[#This Row],[Bild-ID]],Merkliste!B:B,0),\"\")<>\"\",CHAR(252),\"\")","v":""},{"$f":"IF(Ergebnistabelle[[#This Row],[Bild-ID]]<>\"\",\"Merken\",\"\")","v":"Merken"},true,true,{"$f":"Ergebnistabelle[[#This Row],[Spalte1]]*Ergebnistabelle[[#This Row],[Spalte2]]","v":1},1,false,true,true,false,false,false,false,false,false,false,false,false,true,false,false,false,false,false,false,false,true,false,false,false,false,false,false,false,false,false,false,false,false,false,false,false,false,false,false,false,false,false,false,false,false,"2020-01-01",{"$f":"IF(Ergebnistabelle[[#This Row],[Spalte50]]>=Meldungen!$J$5,\"+\",\"\")","v":""}]
["203-335","JN-A-W-047","Opernring/Kärntner Str","6xGelTw\n+4xGrwBw","4539 \n ","J \nJ ",null,12,5,1996,"Jürgen Niemeyer",{"$f":"IF(Ergebnistabelle[[#This Row],[Signatur]]<>\"\",\"Vorschau\",\"\")","v":"Vorschau"},{"$f":"IF(IFERROR(MATCH(Ergebnistabelle[[#This Row],[Bild-ID]],Merkliste!B:B,0),\"\")<>\"\",CHAR(252),\"\")","v":""},{"$f":"IF(Ergebnistabelle[[#This Row],[Bild-ID]]<>\"\",\"Merken\",\"\")","v":"Merken"},true,true,{"$f":"Ergebnistabelle[[#This Row],[Spalte1]]*Ergebnistabelle[[#This Row],[Spalte2]]","v":1},1,false,true,true,false,false,false,false,false,false,false,false,false,true,false,false,false,false,false,false,false,true,false,false,false,false,false,false,false,false,false,false,false,false,false,false,false,false,false,false,false,false,false,false,false,false,"2020-01-01",{"$f":"IF(Ergebnistabelle[[#This Row],[Spalte50]]>=Meldungen!$J$5,\"+\",\"\")","v":""}]
["203-336","JN-A-W-048","Maroltingergasse/Joachimsthaler Str","6xGelTw\n+4xGrwBw","4542 \n1102 ","46 \n46 ",null,13,5,1996,"Jürgen Niemeyer",{"$f":"IF(Ergebnistabelle[[#This Row],[Signatur]]<>\"\",\"Vorschau\",\"\")","v":"Vorschau"},{"$f":"IF(IFERROR(MATCH(Ergebnistabelle[[#This Row],[Bild-ID]],Merkliste!B:B,0),\"\")<>\"\",CHAR(252),\"\")","v":""},{"$f":"IF(Ergebnistabelle[[#This Row],[Bild-ID]]<>\"\",\"Merken\",\"\")","v":"Merken"},true,true,{"$f":"Ergebnistabelle[[#This Row],[Spalte1]]*Ergebnistabelle[[#This Row],[Spalte2]]","v":1},1,false,true,true,false,false,false,false,false,false,false,false,false,true,false,false,false,false,false,false,false,true,false,false,false,false,false,false,false,false,false,false,false,false,false,false,false,false,false,false,false,false,false,false,false,false,"2020-01-01",{"$f":"IF(Ergebnistabelle[[#This Row],[Spalte50]]>=Meldungen!$J$5,\"+\",\"\")","v":""}]
["203-337","JN-A-W-049","Feßtgasse/Thaliastr","6xGelTw","4629 ","9 ",null,13,5,1996,"Jürgen Niemeyer",{"$f":"IF(Ergebnistabelle[[#This Row],[Signatur]]<>\"\",\"Vorschau\",\"\")","v":"Vorschau"},{"$f":"IF(IFERROR(MATCH(Ergebnistabelle[[#This Row],[Bild-ID]],Merkliste!B:B,0),\"\")<>\"\",CHAR(252),\"\")","v":""},{"$f":"IF(Ergebnistabelle[[#This Row],[Bild-ID]]<>\"\",\"Merken\",\"\")","v":"Merken"},true,true,{"$f":"Ergebnistabelle[[#This Row],[Spalte1]]*Ergebnistabelle[[#This Row],[Spalte2]]","v":1},1,false,true,false,false,false,false,false,false,false,false,false,false,true,false,false,false,false,false,false,false,false,false,false,false,false,false,false,false,false,false,false,false,false,false,false,false,false,false,false,false,false,false,false,false,false,"2020-01-01",{"$f":"IF(Ergebnistabelle[[#This Row],[Spalte50]]>=Meldungen!$J$5,\"+\",\"\")","v":""}]
["203-338","JN-A-W-050","Nußdorf ","6xGelTw\n+4xGrwBw","4633 \n1177 ","D \nD ",null,12,5,1996,"Jürgen Niemeyer",{"$f":"IF(Ergebnistabelle[[#This Row],[Signatur]]<>\"\",\"Vorschau\",\"\")","v":"Vorschau"},{"$f":"IF(IFERROR(MATCH(Ergebnistabelle[[#This Row],[Bild-ID]],Merkliste!B:B,0),\"\")<>\"\",CHAR(252),\"\")","v":""},{"$f":"IF(Ergebnistabelle[[#This Row],[Bild-ID]]<>\"\",\"Merken\",\"\")","v":"Merken"},true,true,{"$f":"Ergebnistabelle[[#This Row],[Spalte1]]*Ergebnistabelle[[#This Row],[Spalte2]]","v":1},1,false,true,true,false,false,false,false,false,false,false,false,false,true,false,false,false,false,false,false,false,true,false,false,false,false,false,false,false,false,false,false,false,false,false,false,false,false,false,false,false,false,false,false,false,false,"2020-01-01",{"$f":"IF(Ergebnistabelle[[#This Row],[Spalte50]]>=Meldungen!$J$5,\"+\",\"\")","v":""}]
["203-339","JN-A-W-051","Schwedenplatz","6xGelTw\n+4xGrwBw","4699 \n1219 ","21 \n21 ",null,12,5,1996,"Jürgen Niemeyer",{"$f":"IF(Ergebnistabelle[[#This Row],[Signatur]]<>\"\",\"Vorschau\",\"\")","v":"Vorschau"},{"$f":"IF(IFERROR(MATCH(Ergebnistabelle[[#This Row],[Bild-ID]],Merkliste!B:B,0),\"\")<>\"\",CHAR(252),\"\")","v":""},{"$f":"IF(Ergebnistabelle[[#This Row],[Bild-ID]]<>\"\",\"Merken\",\"\")","v":"Merken"},true,true,{"$f":"Ergebnistabelle[[#This Row],[Spalte1]]*Ergebnistabelle[[#This Row],[Spalte2]]","v":1},1,false,true,true,false,false,false,false,false,false,false,false,false,true,false,false,false,false,false,false,false,true,false,false,false,false,false,false,false,false,false,false,false,false,false,false,false,false,false,false,false,false,false,false,false,false,"2020-01-01",{"$f":"IF(Ergebnistabelle[[#This Row],[Spalte50]]>=Meldungen!$J$5,\"+\",\"\")","v":""}]
["203-340","JN-A-W-052","Westbahnhof","6xGelTw\n+4xGrwBw","4718 \n1244 ","58 \n58 ",null,14,5,1996,"Jürgen Niemeyer",{"$f":"IF(Ergebnistabelle[[#This Row],[Signatur]]<>\"\",\"Vorschau\",\"\")","v":"Vorschau"},{"$f":"IF(IFERROR(MATCH(Ergebnistabelle[[#This Row],[Bild-ID]],Merkliste!B:B,0),\"\")<>\"\",CHAR(252),\"\")","v":""},{"$f":"IF(Ergebnistabelle[[#This Row],[Bild-ID]]<>\"\",\"Merken\",\"\")","v":"Merken"},true,true,{"$f":"Ergebnistabelle[[#This Row],[Spalte1]]*Ergebnistabelle[[#This Row],[Spalte2]]","v":1},1,false,true,true,false,false,false,false,false,false,false,false,false,true,false,false,false,false,false,false,false,true,false,false,false,false,false,false,false,false,false,false,false,false,false,false,false,false,false,false,false,false,false,false,false,false,"2020-01-01",{"$f":"IF(Ergebnistabelle[[#This Row],[Spalte50]]>=Meldungen!$J$5,\"+\",\"\")","v":""}]
["203-341","JN-A-W-053","Praterstern","6xGelTw\n+4xGrwBw","4732 \n1261 ","5 \n5 ",null,12,5,1996,"Jürgen Niemeyer",{"$f":"IF(Ergebnistabelle[[#This Row],[Signatur]]<>\"\",\"Vorschau\",\"\")","v":"Vorschau"},{"$f":"IF(IFERROR(MATCH(Ergebnistabelle[[#This Row],[Bild-ID]],Merkliste!B:B,0),\"\")<>\"\",CHAR(252),\"\")","v":""},{"$f":"IF(Ergebnistabelle[[#This Row],[Bild-ID]]<>\"\",\"Merken\",\"\")","v":"Merken"},true,true,{"$f":"Ergebnistabelle[[#This Row],[Spalte1]]*Ergebnistabelle[[#This Row],[Spalte2]]","v":1},1,false,true,true,false,false,false,false,false,false,false,false,false,true,false,false,false,false,false,false,false,true,false,false,false,false,false,false,false,false,false,false,false,false,false,false,false,false,false,false,false,false,false,false,false,false,"2020-01-01",{"$f":"IF(Ergebnistabelle[[#This Row],[Spalte50]]>=Meldungen!$J$5,\"+\",\"\")","v":""}]
["203-342","JN-A-W-054","Schottenring","6xGelTw\n+4xGrwBw","4802 \n13xx ","31 \n31 ",null,12,5,1996,"Jürgen Niemeyer",{"$f":"IF(Ergebnistabelle[[#This Row],[Signatur]]<>\"\",\"Vorschau\",\"\")","v":"Vorschau"},{"$f":"IF(IFERROR(MATCH(Ergebnistabelle[[#This Row],[Bild-ID]],Merkliste!B:B,0),\"\")<>\"\",CHAR(252),\"\")","v":""},{"$f":"IF(Ergebnistabelle[[#This Row],[Bild-ID]]<>\"\",\"Merken\",\"\")","v":"Merken"},true,true,{"$f":"Ergebnistabelle[[#This Row],[Spalte1]]*Ergebnistabelle[[#This Row],[Spalte2]]","v":1},1,false,true,true,false,false,false,false,false,false,false,false,false,true,false,false,false,false,false,false,false,true,false,false,false,false,false,false,false,false,false,false,false,false,false,false,false,false,false,false,false,false,false,false,false,false,"2020-01-01",{"$f":"IF(Ergebnistabelle[[#This Row],[Spalte50]]>=Meldungen!$J$5,\"+\",\"\")","v":""}]
["203-343","JN-A-W-055","Schwedenplatz","6xGelTw\n \n4xGrwBw\n \n4xGrwBw","4833 \n \n1225 \n \n1357 ","2 \n \n21 \n \n1 ",null,12,5,1996,"Jürgen Niemeyer",{"$f":"IF(Ergebnistabelle[[#This Row],[Signatur]]<>\"\",\"Vorschau\",\"\")","v":"Vorschau"},{"$f":"IF(IFERROR(MATCH(Ergebnistabelle[[#This Row],[Bild-ID]],Merkliste!B:B,0),\"\")<>\"\",CHAR(252),\"\")","v":""},{"$f":"IF(Ergebnistabelle[[#This Row],[Bild-ID]]<>\"\",\"Merken\",\"\")","v":"Merken"},true,true,{"$f":"Ergebnistabelle[[#This Row],[Spalte1]]*Ergebnistabelle[[#This Row],[Spalte2]]","v":1},1,false,true,true,false,false,false,false,false,false,false,false,false,true,false,false,false,false,false,false,false,true,false,false,false,false,false,false,false,false,false,false,false,false,false,false,false,false,false,false,false,false,false,false,false,false,"2020-01-01",{"$f":"IF(Ergebnistabelle[[#This Row],[Spalte50]]>=Meldungen!$J$5,\"+\",\"\")","v":""}]
["203-344","JN-A-W-056","Dr. Karl Renner-Ring","6xGelTw","4834 ","1 ",null,12,5,1996,"Jürgen Niemeyer",{"$f":"IF(Ergebnistabelle[[#This Row],[Signatur]]<>\"\",\"Vorschau\",\"\")","v":"Vorschau"},{"$f":"IF(IFERROR(MATCH(Ergebnistabelle[[#This Row],[Bild-ID]],Merkliste!B:B,0),\"\")<>\"\",CHAR(252),\"\")","v":""},{"$f":"IF(Ergebnistabelle[[#This Row],[Bild-ID]]<>\"\",\"Merken\",\"\")","v":"Merken"},true,true,{"$f":"Ergebnistabelle[[#This Row],[Spalte1]]*Ergebnistabelle[[#This Row],[Spalte2]]","v":1},1,false,true,false,false,false,false,false,false,false,false,false,false,true,false,false,false,false,false,false,false,false,false,false,false,false,false,false,false,false,false,false,false,false,false,false,false,false,false,false,false,false,false,false,false,false,"2020-01-01",{"$f":"IF(Ergebnistabelle[[#This Row],[Spalte50]]>=Meldungen!$J$5,\"+\",\"\")","v":""}]
["203-345","JN-A-W-057","Schwedenplatz","6xGelTw\n \n6xGelTw","4834 \n \n4699 ","1 \n \n21 ",null,12,5,1996,"Jürgen Niemeyer",{"$f":"IF(Ergebnistabelle[[#This Row],[Signatur]]<>\"\",\"Vorschau\",\"\")","v":"Vorschau"},{"$f":"IF(IFERROR(MATCH(Ergebnistabelle[[#This Row],[Bild-ID]],Merkliste!B:B,0),\"\")<>\"\",CHAR(252),\"\")","v":""},{"$f":"IF(Ergebnistabelle[[#This Row],[Bild-ID]]<>\"\",\"Merken\",\"\")","v":"Merken"},true,true,{"$f":"Ergebnistabelle[[#This Row],[Spalte1]]*Ergebnistabelle[[#This Row],[Spalte2]]","v":1},1,false,true,false,false,false,false,false,false,false,false,false,false,true,false,false,false,false,false,false,false,false,false,false,false,false,false,false,false,false,false,false,false,false,false,false,false,false,false,false,false,false,false,false,false,false,"2020-01-01",{"$f":"IF(Ergebnistabelle[[#This Row],[Spalte50]]>=Meldungen!$J$5,\"+\",\"\")","v":""}]
["203-346","JN-A-W-058","Dr. Karl Renner-Ring","6xGelTw","4842 ","2 ",null,12,5,1996,"Jürgen Niemeyer",{"$f":"IF(Ergebnistabelle[[#This Row],[Signatur]]<>\"\",\"Vorschau\",\"\")","v":"Vorschau"},{"$f":"IF(IFERROR(MATCH(Ergebnistabelle[[#This Row],[Bild-ID]],Merkliste!B:B,0),\"\")<>\"\",CHAR(252),\"\")","v":""},{"$f":"IF(Ergebnistabelle[[#This Row],[Bild-ID]]<>\"\",\"Merken\",\"\")","v":"Merken"},true,true,{"$f":"Ergebnistabelle[[#This Row],[Spalte1]]*Ergebnistabelle[[#This Row],[Spalte2]]","v":1},1,false,true,false,false,false,false,false,false,false,false,false,false,true,false,false,false,false,false,false,false,false,false,false,false,false,false,false,false,false,false,false,false,false,false,false,false,false,false,false,false,false,false,false,false,false,"2020-01-01",{"$f":"IF(Ergebnistabelle[[#This Row],[Spalte50]]>=Meldungen!$J$5,\"+\",\"\")","v":""}]
["203-347","JN-A-W-059","Schwedenplatz","6xGelTw\n+4xGrwBw","4846 \n1346 ","2 \n2 ",null,12,5,1996,"Jürgen Niemeyer",{"$f":"IF(Ergebnistabelle[[#This Row],[Signatur]]<>\"\",\"Vorschau\",\"\")","v":"Vorschau"},{"$f":"IF(IFERROR(MATCH(Ergebnistabelle[[#This Row],[Bild-ID]],Merkliste!B:B,0),\"\")<>\"\",CHAR(252),\"\")","v":""},{"$f":"IF(Ergebnistabelle[[#This Row],[Bild-ID]]<>\"\",\"Merken\",\"\")","v":"Merken"},true,true,{"$f":"Ergebnistabelle[[#This Row],[Spalte1]]*Ergebnistabelle[[#This Row],[Spalte2]]","v":1},1,false,true,true,false,false,false,false,false,false,false,false,false,true,false,false,false,false,false,false,false,true,false,false,false,false,false,false,false,false,false,false,false,false,false,false,false,false,false,false,false,false,false,false,false,false,"2020-01-01",{"$f":"IF(Ergebnistabelle[[#This Row],[Spalte50]]>=Meldungen!$J$5,\"+\",\"\")","v":""}]
["203-348","JN-A-W-060","Universitätsring (Rathausplatz/Burgtheater)","6xGelTw\n+4xGrwBw","4857 \n1357 ","1 \n1 ",null,12,5,1996,"Jürgen Niemeyer",{"$f":"IF(Ergebnistabelle[[#This Row],[Signatur]]<>\"\",\"Vorschau\",\"\")","v":"Vorschau"},{"$f":"IF(IFERROR(MATCH(Ergebnistabelle[[#This Row],[Bild-ID]],Merkliste!B:B,0),\"\")<>\"\",CHAR(252),\"\")","v":""},{"$f":"IF(Ergebnistabelle[[#This Row],[Bild-ID]]<>\"\",\"Merken\",\"\")","v":"Merken"},true,true,{"$f":"Ergebnistabelle[[#This Row],[Spalte1]]*Ergebnistabelle[[#This Row],[Spalte2]]","v":1},1,false,true,true,false,false,false,false,false,false,false,false,false,true,false,false,false,false,false,false,false,true,false,false,false,false,false,false,false,false,false,false,false,false,false,false,false,false,false,false,false,false,false,false,false,false,"2020-01-01",{"$f":"IF(Ergebnistabelle[[#This Row],[Spalte50]]>=Meldungen!$J$5,\"+\",\"\")","v":""}]
["203-349","JN-A-W-061","Burgring/Heldenplatz","6xGelTw","4864 "," ",null,12,5,1996,"Jürgen Niemeyer",{"$f":"IF(Ergebnistabelle[[#This Row],[Signatur]]<>\"\",\"Vorschau\",\"\")","v":"Vorschau"},{"$f":"IF(IFERROR(MATCH(Ergebnistabelle[[#This Row],[Bild-ID]],Merkliste!B:B,0),\"\")<>\"\",CHAR(252),\"\")","v":""},{"$f":"IF(Ergebnistabelle[[#This Row],[Bild-ID]]<>\"\",\"Merken\",\"\")","v":"Merken"},true,true,{"$f":"Ergebnistabelle[[#This Row],[Spalte1]]*Ergebnistabelle[[#This Row],[Spalte2]]","v":1},1,false,true,false,false,false,false,false,false,false,false,false,false,true,false,false,false,false,false,false,false,false,false,false,false,false,false,false,false,false,false,false,false,false,false,false,false,false,false,false,false,false,false,false,false,false,"2020-01-01",{"$f":"IF(Ergebnistabelle[[#This Row],[Spalte50]]>=Meldungen!$J$5,\"+\",\"\")","v":""}]
["203-350","JN-A-W-062","Karlsplatz/Akademiestr","2xBw\n+2xTw","5418 \n4137 "," \n ","Museumswagen",12,5,1996,"Jürgen Niemeyer",{"$f":"IF(Ergebnistabelle[[#This Row],[Signatur]]<>\"\",\"Vorschau\",\"\")","v":"Vorschau"},{"$f":"IF(IFERROR(MATCH(Ergebnistabelle[[#This Row],[Bild-ID]],Merkliste!B:B,0),\"\")<>\"\",CHAR(252),\"\")","v":""},{"$f":"IF(Ergebnistabelle[[#This Row],[Bild-ID]]<>\"\",\"Merken\",\"\")","v":"Merken"},{"$f":"IF(IFERROR(MATCH(R354,$BL$3:$UP$3,0),FALSE)<>FALSE,TRUE)","v":true},{"$f":"OR(S354=S$3, W354=W$3, AA354=AA$3, AB354=AB$3, AC354=AC$3, AD354=AD$3, AE354=AE$3, AF354=AF$3, AG354=AG$3, AH354=AH$3, AI354=AI$3, AJ354=AJ$3, AK354=AK$3, AL354=AL$3, AM354=AM$3, AN354=AN$3, AO354=AO$3, AP354=AP$3, AQ354=AQ$3, AR354=AR$3, AS354=AS$3, AT354=AT$3, AU354=AU$3, AV354=AV$3, AW354=AW$3, AX354=AX$3, AY354=AY$3, AZ354=AZ$3, BA354=BA$3, BB354=BB$3, BC354=BC$3, BD354=BD$3, BE354=BE$3, BF354=BF$3, BG354=BG$3, BH354=BH$3, BI354=BI$3, BJ354=BJ$3, BK354=BK$3)","v":true},{"$f":"Ergebnistabelle[[#This Row],[Spalte1]]*Ergebnistabelle[[#This Row],[Spalte2]]","v":1},3,false,true,true,false,false,false,false,false,true,false,false,false,false,false,false,false,false,false,true,false,false,false,false,false,false,false,false,false,false,false,false,false,false,false,false,false,false,false,false,false,false,false,false,false,false,"2020-01-01",{"$f":"IF(Ergebnistabelle[[#This Row],[Spalte50]]>=Meldungen!$J$5,\"+\",\"\")","v":""}]
["203-351","HV-A1-10-43",null,"2xTw\n+2xBw","426 \n ","315 \n315 ",null,12,12,1953,"Slg. Horst Völkel",{"$f":"IF(Ergebnistabelle[[#This Row],[Signatur]]<>\"\",\"Vorschau\",\"\")","v":"Vorschau"},{"$f":"IF(IFERROR(MATCH(Ergebnistabelle[[#This Row],[Bild-ID]],Merkliste!B:B,0),\"\")<>\"\",CHAR(252),\"\")","v":""},{"$f":"IF(Ergebnistabelle[[#This Row],[Bild-ID]]<>\"\",\"Merken\",\"\")","v":"Merken"},true,true,{"$f":"Ergebnistabelle[[#This Row],[Spalte1]]*Ergebnistabelle[[#This Row],[Spalte2]]","v":1},1,false,true,true,false,false,false,false,false,true,false,false,false,false,false,false,false,false,false,true,false,false,false,false,false,false,false,false,false,false,false,false,false,false,false,false,false,false,false,false,false,false,false,false,false,false,"2023-03-30",{"$f":"IF(Ergebnistabelle[[#This Row],[Spalte50]]>=Meldungen!$J$5,\"+\",\"\")","v":"+"}]
["203-352","HV-A1-10-44",null,"2xTw","430 ","117 ",null,21,8,1955,"Slg. Horst Völkel",{"$f":"IF(Ergebnistabelle[[#This Row],[Signatur]]<>\"\",\"Vorschau\",\"\")","v":"Vorschau"},{"$f":"IF(IFERROR(MATCH(Ergebnistabelle[[#This Row],[Bild-ID]],Merkliste!B:B,0),\"\")<>\"\",CHAR(252),\"\")","v":""},{"$f":"IF(Ergebnistabelle[[#This Row],[Bild-ID]]<>\"\",\"Merken\",\"\")","v":"Merken"},true,true,{"$f":"Ergebnistabelle[[#This Row],[Spalte1]]*Ergebnistabelle[[#This Row],[Spalte2]]","v":1},1,false,true,false,false,false,false,false,false,true,false,false,false,false,false,false,false,false,false,false,false,false,false,false,false,false,false,false,false,false,false,false,false,false,false,false,false,false,false,false,false,false,false,false,false,false,"2023-03-30",{"$f":"IF(Ergebnistabelle[[#This Row],[Spalte50]]>=Meldungen!$J$5,\"+\",\"\")","v":"+"}]
["203-353","HV-A1-10-45",null,"2xTw","587 "," ",null,1,6,1954,"Slg. Horst Völkel",{"$f":"IF(Ergebnistabelle[[#This Row],[Signatur]]<>\"\",\"Vorschau\",\"\")","v":"Vorschau"},{"$f":"IF(IFERROR(MATCH(Ergebnistabelle[[#This Row],[Bild-ID]],Merkliste!B:B,0),\"\")<>\"\",CHAR(252),\"\")","v":""},{"$f":"IF(Ergebnistabelle[[#This Row],[Bild-ID]]<>\"\",\"Merken\",\"\")","v":"Merken"},true,true,{"$f":"Ergebnistabelle[[#This Row],[Spalte1]]*Ergebnistabelle[[#This Row],[Spalte2]]","v":1},1,false,true,false,false,false,false,false,false,true,false,false,false,false,false,false,false,false,false,false,false,false,false,false,false,false,false,false,false,false,false,false,false,false,false,false,false,false,false,false,false,false,false,false,false,false,"2023-03-30",{"$f":"IF(Ergebnistabelle[[#This Row],[Spalte50]]>=Meldungen!$J$5,\"+\",\"\")","v":"+"}]
["203-354","HV-A1-10-47",null,"2xTw\n+2xBw","879 \n ","132 \n132 ",{"$nulls":4},"Slg. Horst Völkel",{"$f":"IF(Ergebnistabelle[[#This Row],[Signatur]]<>\"\",\"Vorschau\",\"\")","v":"Vorschau"},{"$f":"IF(IFERROR(MATCH(Ergebnistabelle[[#This Row],[Bild-ID]],Merkliste!B:B,0),\"\")<>\"\",CHAR(252),\"\")","v":""},{"$f":"IF(Ergebnistabelle[[#This Row],[Bild-ID]]<>\"\",\"Merken\",\"\")","v":"Merken"},true,true,{"$f":"Ergebnistabelle[[#This Row],[Spalte1]]*Ergebnistabelle[[#This Row],[Spalte2]]","v":1},1,false,true,true,false,false,false,false,false,true,false,false,false,false,false,false,false,false,false,true,false,false,false,false,false,false,false,false,false,false,false,false,false,false,false,false,false,false,false,false,false,false,false,false,false,false,"2023-03-30",{"$f":"IF(Ergebnistabelle[[#This Row],[Spalte50]]>=Meldungen!$J$5,\"+\",\"\")","v":"+"}]
["203-355","HV-A1-11-01",null,"2xTw\n+2xBw","922 \n ","13 \n13 ",null,6,7,1954,"Slg. Horst Völkel",{"$f":"IF(Ergebnistabelle[[#This Row],[Signatur]]<>\"\",\"Vorschau\",\"\")","v":"Vorschau"},{"$f":"IF(IFERROR(MATCH(Ergebnistabelle[[#This Row],[Bild-ID]],Merkliste!B:B,0),\"\")<>\"\",CHAR(252),\"\")","v":""},{"$f":"IF(Ergebnistabelle[[#This Row],[Bild-ID]]<>\"\",\"Merken\",\"\")","v":"Merken"},true,true,{"$f":"Ergebnistabelle[[#This Row],[Spalte1]]*Ergebnistabelle[[#This Row],[Spalte2]]","v":1},1,false,true,true,false,false,false,false,false,true,false,false,false,false,false,false,false,false,false,true,false,false,false,false,false,false,false,false,false,false,false,false,false,false,false,false,false,false,false,false,false,false,false,false,false,false,"2023-03-30",{"$f":"IF(Ergebnistabelle[[#This Row],[Spalte50]]>=Meldungen!$J$5,\"+\",\"\")","v":"+"}]
["203-356","HV-A1-11-05","Praterstern","2xTw","2032 "," ",null,12,10,1962,"Horst Völkel",{"$f":"IF(Ergebnistabelle[[#This Row],[Signatur]]<>\"\",\"Vorschau\",\"\")","v":"Vorschau"},{"$f":"IF(IFERROR(MATCH(Ergebnistabelle[[#This Row],[Bild-ID]],Merkliste!B:B,0),\"\")<>\"\",CHAR(252),\"\")","v":""},{"$f":"IF(Ergebnistabelle[[#This Row],[Bild-ID]]<>\"\",\"Merken\",\"\")","v":"Merken"},true,true,{"$f":"Ergebnistabelle[[#This Row],[Spalte1]]*Ergebnistabelle[[#This Row],[Spalte2]]","v":1},1,false,true,false,false,false,false,false,false,true,false,false,false,false,false,false,false,false,false,false,false,false,false,false,false,false,false,false,false,false,false,false,false,false,false,false,false,false,false,false,false,false,false,false,false,false,"2023-03-30",{"$f":"IF(Ergebnistabelle[[#This Row],[Spalte50]]>=Meldungen!$J$5,\"+\",\"\")","v":"+"}]
["203-357","HV-A1-11-06","Franz-Josef-Kai","2xTw\n+2xBw","2065 \n7500 ","78 \n78 ",null,12,10,1962,"Horst Völkel",{"$f":"IF(Ergebnistabelle[[#This Row],[Signatur]]<>\"\",\"Vorschau\",\"\")","v":"Vorschau"},{"$f":"IF(IFERROR(MATCH(Ergebnistabelle[[#This Row],[Bild-ID]],Merkliste!B:B,0),\"\")<>\"\",CHAR(252),\"\")","v":""},{"$f":"IF(Ergebnistabelle[[#This Row],[Bild-ID]]<>\"\",\"Merken\",\"\")","v":"Merken"},true,true,{"$f":"Ergebnistabelle[[#This Row],[Spalte1]]*Ergebnistabelle[[#This Row],[Spalte2]]","v":1},1,false,true,true,false,false,false,false,false,true,false,false,false,false,false,false,false,false,false,true,false,false,false,false,false,false,false,false,false,false,false,false,false,false,false,false,false,false,false,false,false,false,false,false,false,false,"2023-03-30",{"$f":"IF(Ergebnistabelle[[#This Row],[Spalte50]]>=Meldungen!$J$5,\"+\",\"\")","v":"+"}]
["203-358","HV-A1-11-07","Südbahnhof","2xTw","2101 "," ",null,10,8,1975,"Horst Völkel",{"$f":"IF(Ergebnistabelle[[#This Row],[Signatur]]<>\"\",\"Vorschau\",\"\")","v":"Vorschau"},{"$f":"IF(IFERROR(MATCH(Ergebnistabelle[[#This Row],[Bild-ID]],Merkliste!B:B,0),\"\")<>\"\",CHAR(252),\"\")","v":""},{"$f":"IF(Ergebnistabelle[[#This Row],[Bild-ID]]<>\"\",\"Merken\",\"\")","v":"Merken"},true,true,{"$f":"Ergebnistabelle[[#This Row],[Spalte1]]*Ergebnistabelle[[#This Row],[Spalte2]]","v":1},1,false,true,false,false,false,false,false,false,true,false,false,false,false,false,false,false,false,false,false,false,false,false,false,false,false,false,false,false,false,false,false,false,false,false,false,false,false,false,false,false,false,false,false,false,false,"2023-03-30",{"$f":"IF(Ergebnistabelle[[#This Row],[Spalte50]]>=Meldungen!$J$5,\"+\",\"\")","v":"+"}]
["203-359","HV-A1-11-08",null,"2xTw","2101 "," ","Fahrgastraum",{"$nulls":3},"Horst Völkel",{"$f":"IF(Ergebnistabelle[[#This Row],[Signatur]]<>\"\",\"Vorschau\",\"\")","v":"Vorschau"},{"$f":"IF(IFERROR(MATCH(Ergebnistabelle[[#This Row],[Bild-ID]],Merkliste!B:B,0),\"\")<>\"\",CHAR(252),\"\")","v":""},{"$f":"IF(Ergebnistabelle[[#This Row],[Bild-ID]]<>\"\",\"Merken\",\"\")","v":"Merken"},true,true,{"$f":"Ergebnistabelle[[#This Row],[Spalte1]]*Ergebnistabelle[[#This Row],[Spalte2]]","v":1},1,false,true,false,false,false,false,false,false,true,false,false,false,false,false,false,false,false,false,false,false,false,false,false,false,false,false,false,false,false,false,false,false,false,false,false,false,false,false,false,false,false,false,false,false,false,"2023-03-30",{"$f":"IF(Ergebnistabelle[[#This Row],[Spalte50]]>=Meldungen!$J$5,\"+\",\"\")","v":"+"}]
["203-360","HV-A1-11-09","Südbahnhof","2xBw\n+2xTw","564 \n2102 "," \n ",null,10,8,1975,"Horst Völkel",{"$f":"IF(Ergebnistabelle[[#This Row],[Signatur]]<>\"\",\"Vorschau\",\"\")","v":"Vorschau"},{"$f":"IF(IFERROR(MATCH(Ergebnistabelle[[#This Row],[Bild-ID]],Merkliste!B:B,0),\"\")<>\"\",CHAR(252),\"\")","v":""},{"$f":"IF(Ergebnistabelle[[#This Row],[Bild-ID]]<>\"\",\"Merken\",\"\")","v":"Merken"},true,true,{"$f":"Ergebnistabelle[[#This Row],[Spalte1]]*Ergebnistabelle[[#This Row],[Spalte2]]","v":1},1,false,true,true,false,false,false,false,false,true,false,false,false,false,false,false,false,false,false,true,false,false,false,false,false,false,false,false,false,false,false,false,false,false,false,false,false,false,false,false,false,false,false,false,false,false,"2023-03-30",{"$f":"IF(Ergebnistabelle[[#This Row],[Spalte50]]>=Meldungen!$J$5,\"+\",\"\")","v":"+"}]
["203-361","HV-A1-11-10","Praterstern","2xTw\n+2xBw","2114 \n3605 ","25 \n25 ",null,12,10,1962,"Horst Völkel",{"$f":"IF(Ergebnistabelle[[#This Row],[Signatur]]<>\"\",\"Vorschau\",\"\")","v":"Vorschau"},{"$f":"IF(IFERROR(MATCH(Ergebnistabelle[[#This Row],[Bild-ID]],Merkliste!B:B,0),\"\")<>\"\",CHAR(252),\"\")","v":""},{"$f":"IF(Ergebnistabelle[[#This Row],[Bild-ID]]<>\"\",\"Merken\",\"\")","v":"Merken"},true,true,{"$f":"Ergebnistabelle[[#This Row],[Spalte1]]*Ergebnistabelle[[#This Row],[Spalte2]]","v":1},1,false,true,true,false,false,false,false,false,true,false,false,false,false,false,false,false,false,false,true,false,false,false,false,false,false,false,false,false,false,false,false,false,false,false,false,false,false,false,false,false,false,false,false,false,false,"2023-03-30",{"$f":"IF(Ergebnistabelle[[#This Row],[Spalte50]]>=Meldungen!$J$5,\"+\",\"\")","v":"+"}]
["203-362","HV-A1-11-12",null,"2xTw","322 ","33 ",null,12,10,1962,"Horst Völkel",{"$f":"IF(Ergebnistabelle[[#This Row],[Signatur]]<>\"\",\"Vorschau\",\"\")","v":"Vorschau"},{"$f":"IF(IFERROR(MATCH(Ergebnistabelle[[#This Row],[Bild-ID]],Merkliste!B:B,0),\"\")<>\"\",CHAR(252),\"\")","v":""},{"$f":"IF(Ergebnistabelle[[#This Row],[Bild-ID]]<>\"\",\"Merken\",\"\")","v":"Merken"},true,true,{"$f":"Ergebnistabelle[[#This Row],[Spalte1]]*Ergebnistabelle[[#This Row],[Spalte2]]","v":1},1,false,true,false,false,false,false,false,false,true,false,false,false,false,false,false,false,false,false,false,false,false,false,false,false,false,false,false,false,false,false,false,false,false,false,false,false,false,false,false,false,false,false,false,false,false,"2023-03-30",{"$f":"IF(Ergebnistabelle[[#This Row],[Spalte50]]>=Meldungen!$J$5,\"+\",\"\")","v":"+"}]
["203-363","HV-A1-11-13","Praterstern","2xTw","2186 "," ",null,12,10,1962,"Horst Völkel",{"$f":"IF(Ergebnistabelle[[#This Row],[Signatur]]<>\"\",\"Vorschau\",\"\")","v":"Vorschau"},{"$f":"IF(IFERROR(MATCH(Ergebnistabelle[[#This Row],[Bild-ID]],Merkliste!B:B,0),\"\")<>\"\",CHAR(252),\"\")","v":""},{"$f":"IF(Ergebnistabelle[[#This Row],[Bild-ID]]<>\"\",\"Merken\",\"\")","v":"Merken"},true,true,{"$f":"Ergebnistabelle[[#This Row],[Spalte1]]*Ergebnistabelle[[#This Row],[Spalte2]]","v":1},1,false,true,false,false,false,false,false,false,true,false,false,false,false,false,false,false,false,false,false,false,false,false,false,false,false,false,false,false,false,false,false,false,false,false,false,false,false,false,false,false,false,false,false,false,false,"2023-03-30",{"$f":"IF(Ergebnistabelle[[#This Row],[Spalte50]]>=Meldungen!$J$5,\"+\",\"\")","v":"+"}]
["203-364","HV-A1-11-16",null,"2xTw","2278 ","39 ",null,26,7,1970,"Horst Völkel",{"$f":"IF(Ergebnistabelle[[#This Row],[Signatur]]<>\"\",\"Vorschau\",\"\")","v":"Vorschau"},{"$f":"IF(IFERROR(MATCH(Ergebnistabelle[[#This Row],[Bild-ID]],Merkliste!B:B,0),\"\")<>\"\",CHAR(252),\"\")","v":""},{"$f":"IF(Ergebnistabelle[[#This Row],[Bild-ID]]<>\"\",\"Merken\",\"\")","v":"Merken"},true,true,{"$f":"Ergebnistabelle[[#This Row],[Spalte1]]*Ergebnistabelle[[#This Row],[Spalte2]]","v":1},1,false,true,false,false,false,false,false,false,true,false,false,false,false,false,false,false,false,false,false,false,false,false,false,false,false,false,false,false,false,false,false,false,false,false,false,false,false,false,false,false,false,false,false,false,false,"2023-03-30",{"$f":"IF(Ergebnistabelle[[#This Row],[Spalte50]]>=Meldungen!$J$5,\"+\",\"\")","v":"+"}]
["203-365","HV-A1-11-18",null,"2xTw","2445 ","13 ",null,15,2,1961,"Slg. Horst Völkel",{"$f":"IF(Ergebnistabelle[[#This Row],[Signatur]]<>\"\",\"Vorschau\",\"\")","v":"Vorschau"},{"$f":"IF(IFERROR(MATCH(Ergebnistabelle[[#This Row],[Bild-ID]],Merkliste!B:B,0),\"\")<>\"\",CHAR(252),\"\")","v":""},{"$f":"IF(Ergebnistabelle[[#This Row],[Bild-ID]]<>\"\",\"Merken\",\"\")","v":"Merken"},true,true,{"$f":"Ergebnistabelle[[#This Row],[Spalte1]]*Ergebnistabelle[[#This Row],[Spalte2]]","v":1},1,false,true,false,false,false,false,false,false,true,false,false,false,false,false,false,false,false,false,false,false,false,false,false,false,false,false,false,false,false,false,false,false,false,false,false,false,false,false,false,false,false,false,false,false,false,"2023-03-30",{"$f":"IF(Ergebnistabelle[[#This Row],[Spalte50]]>=Meldungen!$J$5,\"+\",\"\")","v":"+"}]
["203-366","HV-A1-11-21","Ring","2xTw","4013 "," ","Sonderfahrt",8,6,1979,"Horst Völkel",{"$f":"IF(Ergebnistabelle[[#This Row],[Signatur]]<>\"\",\"Vorschau\",\"\")","v":"Vorschau"},{"$f":"IF(IFERROR(MATCH(Ergebnistabelle[[#This Row],[Bild-ID]],Merkliste!B:B,0),\"\")<>\"\",CHAR(252),\"\")","v":""},{"$f":"IF(Ergebnistabelle[[#This Row],[Bild-ID]]<>\"\",\"Merken\",\"\")","v":"Merken"},true,true,{"$f":"Ergebnistabelle[[#This Row],[Spalte1]]*Ergebnistabelle[[#This Row],[Spalte2]]","v":1},3,false,true,false,false,false,false,false,false,true,false,false,false,false,false,false,false,false,false,false,false,false,false,false,false,false,false,false,false,false,false,false,false,false,false,false,false,false,false,false,false,false,false,false,false,false,"2023-03-30",{"$f":"IF(Ergebnistabelle[[#This Row],[Spalte50]]>=Meldungen!$J$5,\"+\",\"\")","v":"+"}]
["203-367","HV-A1-11-26","Btf Vorgarten","2xTw\n+2xBw","4041 \n52xx "," \n ",null,10,8,1975,"Horst Völkel",{"$f":"IF(Ergebnistabelle[[#This Row],[Signatur]]<>\"\",\"Vorschau\",\"\")","v":"Vorschau"},{"$f":"IF(IFERROR(MATCH(Ergebnistabelle[[#This Row],[Bild-ID]],Merkliste!B:B,0),\"\")<>\"\",CHAR(252),\"\")","v":""},{"$f":"IF(Ergebnistabelle[[#This Row],[Bild-ID]]<>\"\",\"Merken\",\"\")","v":"Merken"},true,true,{"$f":"Ergebnistabelle[[#This Row],[Spalte1]]*Ergebnistabelle[[#This Row],[Spalte2]]","v":1},1,false,true,true,false,false,false,false,false,true,false,false,false,false,false,false,false,false,false,true,false,false,false,false,false,false,false,false,false,false,false,false,false,false,false,false,false,false,false,false,false,false,false,false,false,false,"2023-03-30",{"$f":"IF(Ergebnistabelle[[#This Row],[Spalte50]]>=Meldungen!$J$5,\"+\",\"\")","v":"+"}]
["203-368","HV-A1-11-28",null,"2xTw","4048 ","52 ",null,17,6,1976,"Horst Völkel",{"$f":"IF(Ergebnistabelle[[#This Row],[Signatur]]<>\"\",\"Vorschau\",\"\")","v":"Vorschau"},{"$f":"IF(IFERROR(MATCH(Ergebnistabelle[[#This Row],[Bild-ID]],Merkliste!B:B,0),\"\")<>\"\",CHAR(252),\"\")","v":""},{"$f":"IF(Ergebnistabelle[[#This Row],[Bild-ID]]<>\"\",\"Merken\",\"\")","v":"Merken"},true,true,{"$f":"Ergebnistabelle[[#This Row],[Spalte1]]*Ergebnistabelle[[#This Row],[Spalte2]]","v":1},1,false,true,false,false,false,false,false,false,true,false,false,false,false,false,false,false,false,false,false,false,false,false,false,false,false,false,false,false,false,false,false,false,false,false,false,false,false,false,false,false,false,false,false,false,false,"2023-03-30",{"$f":"IF(Ergebnistabelle[[#This Row],[Spalte50]]>=Meldungen!$J$5,\"+\",\"\")","v":"+"}]
["203-369","HV-A1-11-36","Ring","2xTw\n+2xBw","4134 \n5235 "," \n ","Sonderzug VDVA-Tagung\nMuseumswagen",20,7,1990,"Horst Völkel",{"$f":"IF(Ergebnistabelle[[#This Row],[Signatur]]<>\"\",\"Vorschau\",\"\")","v":"Vorschau"},{"$f":"IF(IFERROR(MATCH(Ergebnistabelle[[#This Row],[Bild-ID]],Merkliste!B:B,0),\"\")<>\"\",CHAR(252),\"\")","v":""},{"$f":"IF(Ergebnistabelle[[#This Row],[Bild-ID]]<>\"\",\"Merken\",\"\")","v":"Merken"},true,true,{"$f":"Ergebnistabelle[[#This Row],[Spalte1]]*Ergebnistabelle[[#This Row],[Spalte2]]","v":1},2,false,true,true,false,false,false,false,false,true,false,false,false,false,false,false,false,false,false,true,false,false,false,false,false,false,false,false,false,false,false,false,false,false,false,false,false,false,false,false,false,false,false,false,false,false,"2023-03-30",{"$f":"IF(Ergebnistabelle[[#This Row],[Spalte50]]>=Meldungen!$J$5,\"+\",\"\")","v":"+"}]
["203-370","HV-A1-11-37","Zentralfriedhof","2xTw\n+2xBw","4134 \n5235 "," \n ","Sonderzug VDVA-Tagung\nMuseumswagen",20,7,1990,"Horst Völkel",{"$f":"IF(Ergebnistabelle[[#This Row],[Signatur]]<>\"\",\"Vorschau\",\"\")","v":"Vorschau"},{"$f":"IF(IFERROR(MATCH(Ergebnistabelle[[#This Row],[Bild-ID]],Merkliste!B:B,0),\"\")<>\"\",CHAR(252),\"\")","v":""},{"$f":"IF(Ergebnistabelle[[#This Row],[Bild-ID]]<>\"\",\"Merken\",\"\")","v":"Merken"},true,true,{"$f":"Ergebnistabelle[[#This Row],[Spalte1]]*Ergebnistabelle[[#This Row],[Spalte2]]","v":1},2,false,true,true,false,false,false,false,false,true,false,false,false,false,false,false,false,false,false,true,false,false,false,false,false,false,false,false,false,false,false,false,false,false,false,false,false,false,false,false,false,false,false,false,false,false,"2023-03-30",{"$f":"IF(Ergebnistabelle[[#This Row],[Spalte50]]>=Meldungen!$J$5,\"+\",\"\")","v":"+"}]
["203-371","HV-A1-11-38","Karlsplatz","2xTw\n+2xBw","4137 \n5418 "," \n ","Stadtrundfahrt",21,7,1990,"Horst Völkel",{"$f":"IF(Ergebnistabelle[[#This Row],[Signatur]]<>\"\",\"Vorschau\",\"\")","v":"Vorschau"},{"$f":"IF(IFERROR(MATCH(Ergebnistabelle[[#This Row],[Bild-ID]],Merkliste!B:B,0),\"\")<>\"\",CHAR(252),\"\")","v":""},{"$f":"IF(Ergebnistabelle[[#This Row],[Bild-ID]]<>\"\",\"Merken\",\"\")","v":"Merken"},true,true,{"$f":"Ergebnistabelle[[#This Row],[Spalte1]]*Ergebnistabelle[[#This Row],[Spalte2]]","v":1},1,false,true,true,false,false,false,false,false,true,false,false,false,false,false,false,false,false,false,true,false,false,false,false,false,false,false,false,false,false,false,false,false,false,false,false,false,false,false,false,false,false,false,false,false,false,"2023-03-30",{"$f":"IF(Ergebnistabelle[[#This Row],[Spalte50]]>=Meldungen!$J$5,\"+\",\"\")","v":"+"}]
["203-372","HV-A1-11-40","Amsterdam","2xTw\n+2xBw\n+2xBw","4143 \n \n "," \n \n ","Museumswagen\nSonderfahrt Tram 81",17,5,1981,"Slg. Horst Völkel",{"$f":"IF(Ergebnistabelle[[#This Row],[Signatur]]<>\"\",\"Vorschau\",\"\")","v":"Vorschau"},{"$f":"IF(IFERROR(MATCH(Ergebnistabelle[[#This Row],[Bild-ID]],Merkliste!B:B,0),\"\")<>\"\",CHAR(252),\"\")","v":""},{"$f":"IF(Ergebnistabelle[[#This Row],[Bild-ID]]<>\"\",\"Merken\",\"\")","v":"Merken"},true,true,{"$f":"Ergebnistabelle[[#This Row],[Spalte1]]*Ergebnistabelle[[#This Row],[Spalte2]]","v":1},3,false,true,true,false,false,false,false,false,true,false,false,false,false,false,false,false,false,false,true,false,false,false,false,false,false,false,false,false,false,false,false,false,false,false,false,false,false,false,false,false,false,false,false,false,false,"2023-03-30",{"$f":"IF(Ergebnistabelle[[#This Row],[Spalte50]]>=Meldungen!$J$5,\"+\",\"\")","v":"+"}]
["203-373","HV-A1-11-41","Ring","2xTw\n+2xBw","4144 \n1571 ","D \nD ",null,12,10,1962,"Horst Völkel",{"$f":"IF(Ergebnistabelle[[#This Row],[Signatur]]<>\"\",\"Vorschau\",\"\")","v":"Vorschau"},{"$f":"IF(IFERROR(MATCH(Ergebnistabelle[[#This Row],[Bild-ID]],Merkliste!B:B,0),\"\")<>\"\",CHAR(252),\"\")","v":""},{"$f":"IF(Ergebnistabelle[[#This Row],[Bild-ID]]<>\"\",\"Merken\",\"\")","v":"Merken"},true,true,{"$f":"Ergebnistabelle[[#This Row],[Spalte1]]*Ergebnistabelle[[#This Row],[Spalte2]]","v":1},1,false,true,true,false,false,false,false,false,true,false,false,false,false,false,false,false,false,false,true,false,false,false,false,false,false,false,false,false,false,false,false,false,false,false,false,false,false,false,false,false,false,false,false,false,false,"2023-03-30",{"$f":"IF(Ergebnistabelle[[#This Row],[Spalte50]]>=Meldungen!$J$5,\"+\",\"\")","v":"+"}]
["203-374","HV-A1-11-43","Schottenring","4xTw","4205 ","331 ",null,12,10,1962,"Horst Völkel",{"$f":"IF(Ergebnistabelle[[#This Row],[Signatur]]<>\"\",\"Vorschau\",\"\")","v":"Vorschau"},{"$f":"IF(IFERROR(MATCH(Ergebnistabelle[[#This Row],[Bild-ID]],Merkliste!B:B,0),\"\")<>\"\",CHAR(252),\"\")","v":""},{"$f":"IF(Ergebnistabelle[[#This Row],[Bild-ID]]<>\"\",\"Merken\",\"\")","v":"Merken"},true,true,{"$f":"Ergebnistabelle[[#This Row],[Spalte1]]*Ergebnistabelle[[#This Row],[Spalte2]]","v":1},1,false,true,false,false,false,false,false,false,false,true,false,false,false,false,false,false,false,false,false,false,false,false,false,false,false,false,false,false,false,false,false,false,false,false,false,false,false,false,false,false,false,false,false,false,false,"2023-03-30",{"$f":"IF(Ergebnistabelle[[#This Row],[Spalte50]]>=Meldungen!$J$5,\"+\",\"\")","v":"+"}]
["203-375","HV-A1-11-44",null,"4xTw","42xx ","331 ",null,12,10,1962,"Horst Völkel",{"$f":"IF(Ergebnistabelle[[#This Row],[Signatur]]<>\"\",\"Vorschau\",\"\")","v":"Vorschau"},{"$f":"IF(IFERROR(MATCH(Ergebnistabelle[[#This Row],[Bild-ID]],Merkliste!B:B,0),\"\")<>\"\",CHAR(252),\"\")","v":""},{"$f":"IF(Ergebnistabelle[[#This Row],[Bild-ID]]<>\"\",\"Merken\",\"\")","v":"Merken"},true,true,{"$f":"Ergebnistabelle[[#This Row],[Spalte1]]*Ergebnistabelle[[#This Row],[Spalte2]]","v":1},1,false,true,false,false,false,false,false,false,false,true,false,false,false,false,false,false,false,false,false,false,false,false,false,false,false,false,false,false,false,false,false,false,false,false,false,false,false,false,false,false,false,false,false,false,false,"2023-03-30",{"$f":"IF(Ergebnistabelle[[#This Row],[Spalte50]]>=Meldungen!$J$5,\"+\",\"\")","v":"+"}]
["203-376","HV-A1-11-45","Mariahilfer Str","2xTw","1 ","52 ","KSW",12,10,1962,"Horst Völkel",{"$f":"IF(Ergebnistabelle[[#This Row],[Signatur]]<>\"\",\"Vorschau\",\"\")","v":"Vorschau"},{"$f":"IF(IFERROR(MATCH(Ergebnistabelle[[#This Row],[Bild-ID]],Merkliste!B:B,0),\"\")<>\"\",CHAR(252),\"\")","v":""},{"$f":"IF(Ergebnistabelle[[#This Row],[Bild-ID]]<>\"\",\"Merken\",\"\")","v":"Merken"},true,true,{"$f":"Ergebnistabelle[[#This Row],[Spalte1]]*Ergebnistabelle[[#This Row],[Spalte2]]","v":1},1,false,true,false,false,false,false,false,false,true,false,false,false,false,false,false,false,false,false,false,false,false,false,false,false,false,false,false,false,false,false,false,false,false,false,false,false,false,false,false,false,false,false,false,false,false,"2023-03-30",{"$f":"IF(Ergebnistabelle[[#This Row],[Spalte50]]>=Meldungen!$J$5,\"+\",\"\")","v":"+"}]
["203-377","HV-A1-11-46",null,"2xTw\n+2xBw\n+2xBw","1 \n7158 \n "," \n \n ","Sonderfahrt\nKSW",11,11,1967,"Horst Völkel",{"$f":"IF(Ergebnistabelle[[#This Row],[Signatur]]<>\"\",\"Vorschau\",\"\")","v":"Vorschau"},{"$f":"IF(IFERROR(MATCH(Ergebnistabelle[[#This Row],[Bild-ID]],Merkliste!B:B,0),\"\")<>\"\",CHAR(252),\"\")","v":""},{"$f":"IF(Ergebnistabelle[[#This Row],[Bild-ID]]<>\"\",\"Merken\",\"\")","v":"Merken"},true,true,{"$f":"Ergebnistabelle[[#This Row],[Spalte1]]*Ergebnistabelle[[#This Row],[Spalte2]]","v":1},3,false,true,true,false,false,false,false,false,true,false,false,false,false,false,false,false,false,false,true,false,false,false,false,false,false,false,false,false,false,false,false,false,false,false,false,false,false,false,false,false,false,false,false,false,false,"2023-03-30",{"$f":"IF(Ergebnistabelle[[#This Row],[Spalte50]]>=Meldungen!$J$5,\"+\",\"\")","v":"+"}]
["203-378","HV-A1-11-47",null,"2xTw\n+2xBw","2 \n5365 ","52 \n52 ","Tw 2: KSW",6,10,1975,"Horst Völkel",{"$f":"IF(Ergebnistabelle[[#This Row],[Signatur]]<>\"\",\"Vorschau\",\"\")","v":"Vorschau"},{"$f":"IF(IFERROR(MATCH(Ergebnistabelle[[#This Row],[Bild-ID]],Merkliste!B:B,0),\"\")<>\"\",CHAR(252),\"\")","v":""},{"$f":"IF(Ergebnistabelle[[#This Row],[Bild-ID]]<>\"\",\"Merken\",\"\")","v":"Merken"},true,true,{"$f":"Ergebnistabelle[[#This Row],[Spalte1]]*Ergebnistabelle[[#This Row],[Spalte2]]","v":1},1,false,true,true,false,false,false,false,false,true,false,false,false,false,false,false,false,false,false,true,false,false,false,false,false,false,false,false,false,false,false,false,false,false,false,false,false,false,false,false,false,false,false,false,false,false,"2023-03-30",{"$f":"IF(Ergebnistabelle[[#This Row],[Spalte50]]>=Meldungen!$J$5,\"+\",\"\")","v":"+"}]
["203-379","HV-A1-11-48","Burgring","2xTw\n+2xBw","7 \n5365 ","52 \n52 ","Tw 7: KSW",13,6,1972,"Horst Völkel",{"$f":"IF(Ergebnistabelle[[#This Row],[Signatur]]<>\"\",\"Vorschau\",\"\")","v":"Vorschau"},{"$f":"IF(IFERROR(MATCH(Ergebnistabelle[[#This Row],[Bild-ID]],Merkliste!B:B,0),\"\")<>\"\",CHAR(252),\"\")","v":""},{"$f":"IF(Ergebnistabelle[[#This Row],[Bild-ID]]<>\"\",\"Merken\",\"\")","v":"Merken"},true,true,{"$f":"Ergebnistabelle[[#This Row],[Spalte1]]*Ergebnistabelle[[#This Row],[Spalte2]]","v":1},1,false,true,true,false,false,false,false,false,true,false,false,false,false,false,false,false,false,false,true,false,false,false,false,false,false,false,false,false,false,false,false,false,false,false,false,false,false,false,false,false,false,false,false,false,false,"2023-03-30",{"$f":"IF(Ergebnistabelle[[#This Row],[Spalte50]]>=Meldungen!$J$5,\"+\",\"\")","v":"+"}]
["203-380","HV-A1-11-49","Mariahilfer Str","2xTw","9 ","52 ","KSW",12,10,1962,"Horst Völkel",{"$f":"IF(Ergebnistabelle[[#This Row],[Signatur]]<>\"\",\"Vorschau\",\"\")","v":"Vorschau"},{"$f":"IF(IFERROR(MATCH(Ergebnistabelle[[#This Row],[Bild-ID]],Merkliste!B:B,0),\"\")<>\"\",CHAR(252),\"\")","v":""},{"$f":"IF(Ergebnistabelle[[#This Row],[Bild-ID]]<>\"\",\"Merken\",\"\")","v":"Merken"},true,true,{"$f":"Ergebnistabelle[[#This Row],[Spalte1]]*Ergebnistabelle[[#This Row],[Spalte2]]","v":1},1,false,true,false,false,false,false,false,false,true,false,false,false,false,false,false,false,false,false,false,false,false,false,false,false,false,false,false,false,false,false,false,false,false,false,false,false,false,false,false,false,false,false,false,false,false,"2023-03-30",{"$f":"IF(Ergebnistabelle[[#This Row],[Spalte50]]>=Meldungen!$J$5,\"+\",\"\")","v":"+"}]
["203-381","HV-A1-12-01","Karlsplatz","4xNflTw","2 ","65 ",null,10,8,2000,"Horst Völkel",{"$f":"IF(Ergebnistabelle[[#This Row],[Signatur]]<>\"\",\"Vorschau\",\"\")","v":"Vorschau"},{"$f":"IF(IFERROR(MATCH(Ergebnistabelle[[#This Row],[Bild-ID]],Merkliste!B:B,0),\"\")<>\"\",CHAR(252),\"\")","v":""},{"$f":"IF(Ergebnistabelle[[#This Row],[Bild-ID]]<>\"\",\"Merken\",\"\")","v":"Merken"},true,true,{"$f":"Ergebnistabelle[[#This Row],[Spalte1]]*Ergebnistabelle[[#This Row],[Spalte2]]","v":1},1,false,true,false,false,false,false,false,false,false,false,false,false,false,true,false,false,false,false,false,false,false,false,false,false,false,false,false,false,false,false,false,false,false,false,false,false,false,false,false,false,false,false,false,false,false,"2023-03-30",{"$f":"IF(Ergebnistabelle[[#This Row],[Spalte50]]>=Meldungen!$J$5,\"+\",\"\")","v":"+"}]
["203-382","HV-A1-12-02","Karlsplatz","4xNflTw","2 ","65 ",null,10,8,2000,"Horst Völkel",{"$f":"IF(Ergebnistabelle[[#This Row],[Signatur]]<>\"\",\"Vorschau\",\"\")","v":"Vorschau"},{"$f":"IF(IFERROR(MATCH(Ergebnistabelle[[#This Row],[Bild-ID]],Merkliste!B:B,0),\"\")<>\"\",CHAR(252),\"\")","v":""},{"$f":"IF(Ergebnistabelle[[#This Row],[Bild-ID]]<>\"\",\"Merken\",\"\")","v":"Merken"},true,true,{"$f":"Ergebnistabelle[[#This Row],[Spalte1]]*Ergebnistabelle[[#This Row],[Spalte2]]","v":1},1,false,true,false,false,false,false,false,false,false,false,false,false,false,true,false,false,false,false,false,false,false,false,false,false,false,false,false,false,false,false,false,false,false,false,false,false,false,false,false,false,false,false,false,false,false,"2023-03-30",{"$f":"IF(Ergebnistabelle[[#This Row],[Spalte50]]>=Meldungen!$J$5,\"+\",\"\")","v":"+"}]
["203-383","HV-A1-12-04","Btf Favoriten","4xNflTw","8 "," ",null,10,8,2000,"Horst Völkel",{"$f":"IF(Ergebnistabelle[[#This Row],[Signatur]]<>\"\",\"Vorschau\",\"\")","v":"Vorschau"},{"$f":"IF(IFERROR(MATCH(Ergebnistabelle[[#This Row],[Bild-ID]],Merkliste!B:B,0),\"\")<>\"\",CHAR(252),\"\")","v":""},{"$f":"IF(Ergebnistabelle[[#This Row],[Bild-ID]]<>\"\",\"Merken\",\"\")","v":"Merken"},true,true,{"$f":"Ergebnistabelle[[#This Row],[Spalte1]]*Ergebnistabelle[[#This Row],[Spalte2]]","v":1},1,false,true,false,false,false,false,false,false,false,false,false,false,false,true,false,false,false,false,false,false,false,false,false,false,false,false,false,false,false,false,false,false,false,false,false,false,false,false,false,false,false,false,false,false,false,"2023-03-30",{"$f":"IF(Ergebnistabelle[[#This Row],[Spalte50]]>=Meldungen!$J$5,\"+\",\"\")","v":"+"}]
["203-384","HV-A1-12-05","Wiedner Hauptstr","4xNflTw","10 ","65 ",null,10,8,2000,"Horst Völkel",{"$f":"IF(Ergebnistabelle[[#This Row],[Signatur]]<>\"\",\"Vorschau\",\"\")","v":"Vorschau"},{"$f":"IF(IFERROR(MATCH(Ergebnistabelle[[#This Row],[Bild-ID]],Merkliste!B:B,0),\"\")<>\"\",CHAR(252),\"\")","v":""},{"$f":"IF(Ergebnistabelle[[#This Row],[Bild-ID]]<>\"\",\"Merken\",\"\")","v":"Merken"},true,true,{"$f":"Ergebnistabelle[[#This Row],[Spalte1]]*Ergebnistabelle[[#This Row],[Spalte2]]","v":1},1,false,true,false,false,false,false,false,false,false,false,false,false,false,true,false,false,false,false,false,false,false,false,false,false,false,false,false,false,false,false,false,false,false,false,false,false,false,false,false,false,false,false,false,false,false,"2023-03-30",{"$f":"IF(Ergebnistabelle[[#This Row],[Spalte50]]>=Meldungen!$J$5,\"+\",\"\")","v":"+"}]
["203-385","HV-A1-12-06","Dresden","4xNflTw","50 "," ","Ausgestellt anl. 7th UITP Light Rail Conference",21,4,2004,"Horst Völkel",{"$f":"IF(Ergebnistabelle[[#This Row],[Signatur]]<>\"\",\"Vorschau\",\"\")","v":"Vorschau"},{"$f":"IF(IFERROR(MATCH(Ergebnistabelle[[#This Row],[Bild-ID]],Merkliste!B:B,0),\"\")<>\"\",CHAR(252),\"\")","v":""},{"$f":"IF(Ergebnistabelle[[#This Row],[Bild-ID]]<>\"\",\"Merken\",\"\")","v":"Merken"},true,true,{"$f":"Ergebnistabelle[[#This Row],[Spalte1]]*Ergebnistabelle[[#This Row],[Spalte2]]","v":1},3,false,true,false,false,false,false,false,false,false,false,false,false,false,true,false,false,false,false,false,false,false,false,false,false,false,false,false,false,false,false,false,false,false,false,false,false,false,false,false,false,false,false,false,false,false,"2023-03-30",{"$f":"IF(Ergebnistabelle[[#This Row],[Spalte50]]>=Meldungen!$J$5,\"+\",\"\")","v":"+"}]
["203-386","HV-A1-12-07",null,"2xTw\n+2xBw\n+2xBw","59 \n1419 \n1412 ","T \nT \nT ",{"$nulls":4},"Horst Völkel",{"$f":"IF(Ergebnistabelle[[#This Row],[Signatur]]<>\"\",\"Vorschau\",\"\")","v":"Vorschau"},{"$f":"IF(IFERROR(MATCH(Ergebnistabelle[[#This Row],[Bild-ID]],Merkliste!B:B,0),\"\")<>\"\",CHAR(252),\"\")","v":""},{"$f":"IF(Ergebnistabelle[[#This Row],[Bild-ID]]<>\"\",\"Merken\",\"\")","v":"Merken"},true,true,{"$f":"Ergebnistabelle[[#This Row],[Spalte1]]*Ergebnistabelle[[#This Row],[Spalte2]]","v":1},1,false,true,true,false,false,false,false,false,true,false,false,false,false,false,false,false,false,false,true,false,false,false,false,false,false,false,false,false,false,false,false,false,false,false,false,false,false,false,false,false,false,false,false,false,false,"2023-03-30",{"$f":"IF(Ergebnistabelle[[#This Row],[Spalte50]]>=Meldungen!$J$5,\"+\",\"\")","v":"+"}]
["203-387","HV-A1-12-11","Btf Vorgarten","2xTw","80 "," ",null,10,8,1975,"Horst Völkel",{"$f":"IF(Ergebnistabelle[[#This Row],[Signatur]]<>\"\",\"Vorschau\",\"\")","v":"Vorschau"},{"$f":"IF(IFERROR(MATCH(Ergebnistabelle[[#This Row],[Bild-ID]],Merkliste!B:B,0),\"\")<>\"\",CHAR(252),\"\")","v":""},{"$f":"IF(Ergebnistabelle[[#This Row],[Bild-ID]]<>\"\",\"Merken\",\"\")","v":"Merken"},true,true,{"$f":"Ergebnistabelle[[#This Row],[Spalte1]]*Ergebnistabelle[[#This Row],[Spalte2]]","v":1},1,false,true,false,false,false,false,false,false,true,false,false,false,false,false,false,false,false,false,false,false,false,false,false,false,false,false,false,false,false,false,false,false,false,false,false,false,false,false,false,false,false,false,false,false,false,"2023-03-30",{"$f":"IF(Ergebnistabelle[[#This Row],[Spalte50]]>=Meldungen!$J$5,\"+\",\"\")","v":"+"}]
["203-388","HV-A1-12-13","Quellenplatz","6xNflTw","622 ","6 ",null,10,8,2000,"Horst Völkel",{"$f":"IF(Ergebnistabelle[[#This Row],[Signatur]]<>\"\",\"Vorschau\",\"\")","v":"Vorschau"},{"$f":"IF(IFERROR(MATCH(Ergebnistabelle[[#This Row],[Bild-ID]],Merkliste!B:B,0),\"\")<>\"\",CHAR(252),\"\")","v":""},{"$f":"IF(Ergebnistabelle[[#This Row],[Bild-ID]]<>\"\",\"Merken\",\"\")","v":"Merken"},true,true,{"$f":"Ergebnistabelle[[#This Row],[Spalte1]]*Ergebnistabelle[[#This Row],[Spalte2]]","v":1},1,false,true,false,false,false,false,false,false,false,false,false,false,false,true,false,false,false,false,false,false,false,false,false,false,false,false,false,false,false,false,false,false,false,false,false,false,false,false,false,false,false,false,false,false,false,"2023-03-30",{"$f":"IF(Ergebnistabelle[[#This Row],[Spalte50]]>=Meldungen!$J$5,\"+\",\"\")","v":"+"}]
["203-389","HV-A1-12-14","(H) Gumpendorfer Str","6xNflTw","625 ","6 ",null,11,8,2000,"Horst Völkel",{"$f":"IF(Ergebnistabelle[[#This Row],[Signatur]]<>\"\",\"Vorschau\",\"\")","v":"Vorschau"},{"$f":"IF(IFERROR(MATCH(Ergebnistabelle[[#This Row],[Bild-ID]],Merkliste!B:B,0),\"\")<>\"\",CHAR(252),\"\")","v":""},{"$f":"IF(Ergebnistabelle[[#This Row],[Bild-ID]]<>\"\",\"Merken\",\"\")","v":"Merken"},true,true,{"$f":"Ergebnistabelle[[#This Row],[Spalte1]]*Ergebnistabelle[[#This Row],[Spalte2]]","v":1},1,false,true,false,false,false,false,false,false,false,false,false,false,false,true,false,false,false,false,false,false,false,false,false,false,false,false,false,false,false,false,false,false,false,false,false,false,false,false,false,false,false,false,false,false,false,"2023-03-30",{"$f":"IF(Ergebnistabelle[[#This Row],[Spalte50]]>=Meldungen!$J$5,\"+\",\"\")","v":"+"}]
["203-390","HV-A1-12-15","(H) Gellertplatz","6xNflTw","629 ","6 ",null,10,8,2000,"Horst Völkel",{"$f":"IF(Ergebnistabelle[[#This Row],[Signatur]]<>\"\",\"Vorschau\",\"\")","v":"Vorschau"},{"$f":"IF(IFERROR(MATCH(Ergebnistabelle[[#This Row],[Bild-ID]],Merkliste!B:B,0),\"\")<>\"\",CHAR(252),\"\")","v":""},{"$f":"IF(Ergebnistabelle[[#This Row],[Bild-ID]]<>\"\",\"Merken\",\"\")","v":"Merken"},true,true,{"$f":"Ergebnistabelle[[#This Row],[Spalte1]]*Ergebnistabelle[[#This Row],[Spalte2]]","v":1},1,false,true,false,false,false,false,false,false,false,false,false,false,false,true,false,false,false,false,false,false,false,false,false,false,false,false,false,false,false,false,false,false,false,false,false,false,false,false,false,false,false,false,false,false,false,"2023-03-30",{"$f":"IF(Ergebnistabelle[[#This Row],[Spalte50]]>=Meldungen!$J$5,\"+\",\"\")","v":"+"}]
["203-391","HV-A1-12-17","Btf Favoriten","6xGelTw\n \n6xGelTw\n \n6xGelTw\n \n6xGelTw\n \n6xGelTw\n \n6xGelTw\n \n6xGelTw\n \n6xGelTw","4315 \n \n4049 \n \n4009 \n \n4064 \n \n4066 \n \n4526 \n \n4415 \n \n4411 "," \n \n \n \n \n \n \n \n \n \n \n \n \n \n ","Parade von geschmückten Fahrzeugen anläßlich des 1. Mai",1,5,1988,"Horst Völkel",{"$f":"IF(Ergebnistabelle[[#This Row],[Signatur]]<>\"\",\"Vorschau\",\"\")","v":"Vorschau"},{"$f":"IF(IFERROR(MATCH(Ergebnistabelle[[#This Row],[Bild-ID]],Merkliste!B:B,0),\"\")<>\"\",CHAR(252),\"\")","v":""},{"$f":"IF(Ergebnistabelle[[#This Row],[Bild-ID]]<>\"\",\"Merken\",\"\")","v":"Merken"},true,true,{"$f":"Ergebnistabelle[[#This Row],[Spalte1]]*Ergebnistabelle[[#This Row],[Spalte2]]","v":1},1,false,true,false,false,false,false,false,false,false,false,false,false,true,false,false,false,false,false,false,false,false,false,false,false,false,false,false,false,false,false,false,false,false,false,false,false,false,false,false,false,false,false,false,false,false,"2023-03-30",{"$f":"IF(Ergebnistabelle[[#This Row],[Spalte50]]>=Meldungen!$J$5,\"+\",\"\")","v":"+"}]
["203-392","HV-A1-12-18","Btf Favoriten",null," "," ","Antrieb ULF",10,8,2000,"Horst Völkel",{"$f":"IF(Ergebnistabelle[[#This Row],[Signatur]]<>\"\",\"Vorschau\",\"\")","v":"Vorschau"},{"$f":"IF(IFERROR(MATCH(Ergebnistabelle[[#This Row],[Bild-ID]],Merkliste!B:B,0),\"\")<>\"\",CHAR(252),\"\")","v":""},{"$f":"IF(Ergebnistabelle[[#This Row],[Bild-ID]]<>\"\",\"Merken\",\"\")","v":"Merken"},true,true,{"$f":"Ergebnistabelle[[#This Row],[Spalte1]]*Ergebnistabelle[[#This Row],[Spalte2]]","v":1},1,false,true,false,false,false,false,false,false,false,false,false,false,false,true,false,false,false,false,false,false,false,false,false,false,false,false,false,false,false,false,false,false,false,false,false,false,false,false,false,false,false,false,false,false,false,"2023-03-30",{"$f":"IF(Ergebnistabelle[[#This Row],[Spalte50]]>=Meldungen!$J$5,\"+\",\"\")","v":"+"}]
["203-393","HV-A1-12-19","Btf Favoriten",null," "," ","Antrieb ULF",10,8,2000,"Horst Völkel",{"$f":"IF(Ergebnistabelle[[#This Row],[Signatur]]<>\"\",\"Vorschau\",\"\")","v":"Vorschau"},{"$f":"IF(IFERROR(MATCH(Ergebnistabelle[[#This Row],[Bild-ID]],Merkliste!B:B,0),\"\")<>\"\",CHAR(252),\"\")","v":""},{"$f":"IF(Ergebnistabelle[[#This Row],[Bild-ID]]<>\"\",\"Merken\",\"\")","v":"Merken"},true,true,{"$f":"Ergebnistabelle[[#This Row],[Spalte1]]*Ergebnistabelle[[#This Row],[Spalte2]]","v":1},1,false,true,false,false,false,false,false,false,false,false,false,false,false,true,false,false,false,false,false,false,false,false,false,false,false,false,false,false,false,false,false,false,false,false,false,false,false,false,false,false,false,false,false,false,false,"2023-03-30",{"$f":"IF(Ergebnistabelle[[#This Row],[Spalte50]]>=Meldungen!$J$5,\"+\",\"\")","v":"+"}]
["203-394","HV-A1-12-21","Ring","2xTw\n+2xBw","404 \n5406 ","T \nT ",{"$nulls":4},"Horst Völkel",{"$f":"IF(Ergebnistabelle[[#This Row],[Signatur]]<>\"\",\"Vorschau\",\"\")","v":"Vorschau"},{"$f":"IF(IFERROR(MATCH(Ergebnistabelle[[#This Row],[Bild-ID]],Merkliste!B:B,0),\"\")<>\"\",CHAR(252),\"\")","v":""},{"$f":"IF(Ergebnistabelle[[#This Row],[Bild-ID]]<>\"\",\"Merken\",\"\")","v":"Merken"},true,true,{"$f":"Ergebnistabelle[[#This Row],[Spalte1]]*Ergebnistabelle[[#This Row],[Spalte2]]","v":1},1,false,true,true,false,false,false,false,false,true,false,false,false,false,false,false,false,false,false,true,false,false,false,false,false,false,false,false,false,false,false,false,false,false,false,false,false,false,false,false,false,false,false,false,false,false,"2023-03-30",{"$f":"IF(Ergebnistabelle[[#This Row],[Spalte50]]>=Meldungen!$J$5,\"+\",\"\")","v":"+"}]
["203-395","HV-A1-12-23","Gaußplatz","2xTw","408 "," ","Sonderzug VDVA-Tagung",19,7,1990,"Horst Völkel",{"$f":"IF(Ergebnistabelle[[#This Row],[Signatur]]<>\"\",\"Vorschau\",\"\")","v":"Vorschau"},{"$f":"IF(IFERROR(MATCH(Ergebnistabelle[[#This Row],[Bild-ID]],Merkliste!B:B,0),\"\")<>\"\",CHAR(252),\"\")","v":""},{"$f":"IF(Ergebnistabelle[[#This Row],[Bild-ID]]<>\"\",\"Merken\",\"\")","v":"Merken"},true,true,{"$f":"Ergebnistabelle[[#This Row],[Spalte1]]*Ergebnistabelle[[#This Row],[Spalte2]]","v":1},2,false,true,false,false,false,false,false,false,true,false,false,false,false,false,false,false,false,false,false,false,false,false,false,false,false,false,false,false,false,false,false,false,false,false,false,false,false,false,false,false,false,false,false,false,false,"2023-03-30",{"$f":"IF(Ergebnistabelle[[#This Row],[Spalte50]]>=Meldungen!$J$5,\"+\",\"\")","v":"+"}]
["203-396","HV-A1-12-25","Börsengasse","2xTw","408 "," ","Sonderzug VDVA-Tagung",19,7,1990,"Horst Völkel",{"$f":"IF(Ergebnistabelle[[#This Row],[Signatur]]<>\"\",\"Vorschau\",\"\")","v":"Vorschau"},{"$f":"IF(IFERROR(MATCH(Ergebnistabelle[[#This Row],[Bild-ID]],Merkliste!B:B,0),\"\")<>\"\",CHAR(252),\"\")","v":""},{"$f":"IF(Ergebnistabelle[[#This Row],[Bild-ID]]<>\"\",\"Merken\",\"\")","v":"Merken"},true,true,{"$f":"Ergebnistabelle[[#This Row],[Spalte1]]*Ergebnistabelle[[#This Row],[Spalte2]]","v":1},2,false,true,false,false,false,false,false,false,true,false,false,false,false,false,false,false,false,false,false,false,false,false,false,false,false,false,false,false,false,false,false,false,false,false,false,false,false,false,false,false,false,false,false,false,false,"2023-03-30",{"$f":"IF(Ergebnistabelle[[#This Row],[Spalte50]]>=Meldungen!$J$5,\"+\",\"\")","v":"+"}]
["203-397","HV-A1-12-26","Schottenring","2xTw","408 "," ","Sonderzug VDVA-Tagung",19,7,1990,"Horst Völkel",{"$f":"IF(Ergebnistabelle[[#This Row],[Signatur]]<>\"\",\"Vorschau\",\"\")","v":"Vorschau"},{"$f":"IF(IFERROR(MATCH(Ergebnistabelle[[#This Row],[Bild-ID]],Merkliste!B:B,0),\"\")<>\"\",CHAR(252),\"\")","v":""},{"$f":"IF(Ergebnistabelle[[#This Row],[Bild-ID]]<>\"\",\"Merken\",\"\")","v":"Merken"},true,true,{"$f":"Ergebnistabelle[[#This Row],[Spalte1]]*Ergebnistabelle[[#This Row],[Spalte2]]","v":1},2,false,true,false,false,false,false,false,false,true,false,false,false,false,false,false,false,false,false,false,false,false,false,false,false,false,false,false,false,false,false,false,false,false,false,false,false,false,false,false,false,false,false,false,false,false,"2023-03-30",{"$f":"IF(Ergebnistabelle[[#This Row],[Spalte50]]>=Meldungen!$J$5,\"+\",\"\")","v":"+"}]
["203-398","HV-A1-12-30",null,"2xTw\n+4xGrwBw","428 \n ","65 \n65 ",{"$nulls":4},"Horst Völkel",{"$f":"IF(Ergebnistabelle[[#This Row],[Signatur]]<>\"\",\"Vorschau\",\"\")","v":"Vorschau"},{"$f":"IF(IFERROR(MATCH(Ergebnistabelle[[#This Row],[Bild-ID]],Merkliste!B:B,0),\"\")<>\"\",CHAR(252),\"\")","v":""},{"$f":"IF(Ergebnistabelle[[#This Row],[Bild-ID]]<>\"\",\"Merken\",\"\")","v":"Merken"},true,true,{"$f":"Ergebnistabelle[[#This Row],[Spalte1]]*Ergebnistabelle[[#This Row],[Spalte2]]","v":1},1,false,true,true,false,false,false,false,false,true,false,false,false,false,false,false,false,false,false,false,false,true,false,false,false,false,false,false,false,false,false,false,false,false,false,false,false,false,false,false,false,false,false,false,false,false,"2023-03-30",{"$f":"IF(Ergebnistabelle[[#This Row],[Spalte50]]>=Meldungen!$J$5,\"+\",\"\")","v":"+"}]
["203-399","HV-A1-12-31","Ring/Burg","2xTw\n+4xGrwBw","434 \n1113 ","T \nT ",null,10,8,1975,"Horst Völkel",{"$f":"IF(Ergebnistabelle[[#This Row],[Signatur]]<>\"\",\"Vorschau\",\"\")","v":"Vorschau"},{"$f":"IF(IFERROR(MATCH(Ergebnistabelle[[#This Row],[Bild-ID]],Merkliste!B:B,0),\"\")<>\"\",CHAR(252),\"\")","v":""},{"$f":"IF(Ergebnistabelle[[#This Row],[Bild-ID]]<>\"\",\"Merken\",\"\")","v":"Merken"},true,true,{"$f":"Ergebnistabelle[[#This Row],[Spalte1]]*Ergebnistabelle[[#This Row],[Spalte2]]","v":1},1,false,true,true,false,false,false,false,false,true,false,false,false,false,false,false,false,false,false,false,false,true,false,false,false,false,false,false,false,false,false,false,false,false,false,false,false,false,false,false,false,false,false,false,false,false,"2023-03-30",{"$f":"IF(Ergebnistabelle[[#This Row],[Spalte50]]>=Meldungen!$J$5,\"+\",\"\")","v":"+"}]
["203-400","HV-A1-12-32",null,"2xTw","439 ","O ",null,12,10,1962,"Horst Völkel",{"$f":"IF(Ergebnistabelle[[#This Row],[Signatur]]<>\"\",\"Vorschau\",\"\")","v":"Vorschau"},{"$f":"IF(IFERROR(MATCH(Ergebnistabelle[[#This Row],[Bild-ID]],Merkliste!B:B,0),\"\")<>\"\",CHAR(252),\"\")","v":""},{"$f":"IF(Ergebnistabelle[[#This Row],[Bild-ID]]<>\"\",\"Merken\",\"\")","v":"Merken"},true,true,{"$f":"Ergebnistabelle[[#This Row],[Spalte1]]*Ergebnistabelle[[#This Row],[Spalte2]]","v":1},1,false,true,false,false,false,false,false,false,true,false,false,false,false,false,false,false,false,false,false,false,false,false,false,false,false,false,false,false,false,false,false,false,false,false,false,false,false,false,false,false,false,false,false,false,false,"2023-03-30",{"$f":"IF(Ergebnistabelle[[#This Row],[Spalte50]]>=Meldungen!$J$5,\"+\",\"\")","v":"+"}]
["203-401","HV-A1-12-34","HW Simmering","4xGrwTw","108 "," ",null,30,7,1990,"Horst Völkel",{"$f":"IF(Ergebnistabelle[[#This Row],[Signatur]]<>\"\",\"Vorschau\",\"\")","v":"Vorschau"},{"$f":"IF(IFERROR(MATCH(Ergebnistabelle[[#This Row],[Bild-ID]],Merkliste!B:B,0),\"\")<>\"\",CHAR(252),\"\")","v":""},{"$f":"IF(Ergebnistabelle[[#This Row],[Bild-ID]]<>\"\",\"Merken\",\"\")","v":"Merken"},true,true,{"$f":"Ergebnistabelle[[#This Row],[Spalte1]]*Ergebnistabelle[[#This Row],[Spalte2]]","v":1},1,false,true,false,false,false,false,false,false,false,false,true,false,false,false,false,false,false,false,false,false,false,false,false,false,false,false,false,false,false,false,false,false,false,false,false,false,false,false,false,false,false,false,false,false,false,"2023-03-30",{"$f":"IF(Ergebnistabelle[[#This Row],[Spalte50]]>=Meldungen!$J$5,\"+\",\"\")","v":"+"}]
["203-402","HV-A1-12-40","Btf Ottakring","4xGrwTw","135 "," ",null,9,8,1975,"Horst Völkel",{"$f":"IF(Ergebnistabelle[[#This Row],[Signatur]]<>\"\",\"Vorschau\",\"\")","v":"Vorschau"},{"$f":"IF(IFERROR(MATCH(Ergebnistabelle[[#This Row],[Bild-ID]],Merkliste!B:B,0),\"\")<>\"\",CHAR(252),\"\")","v":""},{"$f":"IF(Ergebnistabelle[[#This Row],[Bild-ID]]<>\"\",\"Merken\",\"\")","v":"Merken"},true,true,{"$f":"Ergebnistabelle[[#This Row],[Spalte1]]*Ergebnistabelle[[#This Row],[Spalte2]]","v":1},1,false,true,false,false,false,false,false,false,false,false,true,false,false,false,false,false,false,false,false,false,false,false,false,false,false,false,false,false,false,false,false,false,false,false,false,false,false,false,false,false,false,false,false,false,false,"2023-03-30",{"$f":"IF(Ergebnistabelle[[#This Row],[Spalte50]]>=Meldungen!$J$5,\"+\",\"\")","v":"+"}]
["203-403","HV-A1-12-45","Schwarzenbergplatz","4xGrwTw\n+4xGrwBw","148 \n ","71 \n71 ",null,12,10,1962,"Horst Völkel",{"$f":"IF(Ergebnistabelle[[#This Row],[Signatur]]<>\"\",\"Vorschau\",\"\")","v":"Vorschau"},{"$f":"IF(IFERROR(MATCH(Ergebnistabelle[[#This Row],[Bild-ID]],Merkliste!B:B,0),\"\")<>\"\",CHAR(252),\"\")","v":""},{"$f":"IF(Ergebnistabelle[[#This Row],[Bild-ID]]<>\"\",\"Merken\",\"\")","v":"Merken"},true,true,{"$f":"Ergebnistabelle[[#This Row],[Spalte1]]*Ergebnistabelle[[#This Row],[Spalte2]]","v":1},1,false,true,true,false,false,false,false,false,false,false,true,false,false,false,false,false,false,false,false,false,true,false,false,false,false,false,false,false,false,false,false,false,false,false,false,false,false,false,false,false,false,false,false,false,false,"2023-03-30",{"$f":"IF(Ergebnistabelle[[#This Row],[Spalte50]]>=Meldungen!$J$5,\"+\",\"\")","v":"+"}]
["203-404","HV-A1-12-49",null,"2xTw\n+4xGrwBw","446 \n ","D \nD ",{"$nulls":3},1976,"Horst Völkel",{"$f":"IF(Ergebnistabelle[[#This Row],[Signatur]]<>\"\",\"Vorschau\",\"\")","v":"Vorschau"},{"$f":"IF(IFERROR(MATCH(Ergebnistabelle[[#This Row],[Bild-ID]],Merkliste!B:B,0),\"\")<>\"\",CHAR(252),\"\")","v":""},{"$f":"IF(Ergebnistabelle[[#This Row],[Bild-ID]]<>\"\",\"Merken\",\"\")","v":"Merken"},true,true,{"$f":"Ergebnistabelle[[#This Row],[Spalte1]]*Ergebnistabelle[[#This Row],[Spalte2]]","v":1},1,false,true,true,false,false,false,false,false,true,false,false,false,false,false,false,false,false,false,false,false,true,false,false,false,false,false,false,false,false,false,false,false,false,false,false,false,false,false,false,false,false,false,false,false,false,"2023-03-30",{"$f":"IF(Ergebnistabelle[[#This Row],[Spalte50]]>=Meldungen!$J$5,\"+\",\"\")","v":"+"}]
["203-405","HV-A1-12-52","Parlament","2xTw\n+4xGrwBw","471 \n1240 ","T \nT ",null,22,9,1973,"Horst Völkel",{"$f":"IF(Ergebnistabelle[[#This Row],[Signatur]]<>\"\",\"Vorschau\",\"\")","v":"Vorschau"},{"$f":"IF(IFERROR(MATCH(Ergebnistabelle[[#This Row],[Bild-ID]],Merkliste!B:B,0),\"\")<>\"\",CHAR(252),\"\")","v":""},{"$f":"IF(Ergebnistabelle[[#This Row],[Bild-ID]]<>\"\",\"Merken\",\"\")","v":"Merken"},true,true,{"$f":"Ergebnistabelle[[#This Row],[Spalte1]]*Ergebnistabelle[[#This Row],[Spalte2]]","v":1},1,false,true,true,false,false,false,false,false,true,false,false,false,false,false,false,false,false,false,false,false,true,false,false,false,false,false,false,false,false,false,false,false,false,false,false,false,false,false,false,false,false,false,false,false,false,"2023-03-30",{"$f":"IF(Ergebnistabelle[[#This Row],[Spalte50]]>=Meldungen!$J$5,\"+\",\"\")","v":"+"}]
["203-406","HV-A1-12-53","Praterstern","2xTw","467 ","5 ",null,8,8,1975,"Horst Völkel",{"$f":"IF(Ergebnistabelle[[#This Row],[Signatur]]<>\"\",\"Vorschau\",\"\")","v":"Vorschau"},{"$f":"IF(IFERROR(MATCH(Ergebnistabelle[[#This Row],[Bild-ID]],Merkliste!B:B,0),\"\")<>\"\",CHAR(252),\"\")","v":""},{"$f":"IF(Ergebnistabelle[[#This Row],[Bild-ID]]<>\"\",\"Merken\",\"\")","v":"Merken"},true,true,{"$f":"Ergebnistabelle[[#This Row],[Spalte1]]*Ergebnistabelle[[#This Row],[Spalte2]]","v":1},1,false,true,false,false,false,false,false,false,true,false,false,false,false,false,false,false,false,false,false,false,false,false,false,false,false,false,false,false,false,false,false,false,false,false,false,false,false,false,false,false,false,false,false,false,false,"2023-03-30",{"$f":"IF(Ergebnistabelle[[#This Row],[Spalte50]]>=Meldungen!$J$5,\"+\",\"\")","v":"+"}]
["203-407","HV-A1-12-54","Europaplatz","2xTw\n+4xGrwBw","478 \n1258 ","5 \n5 ",null,9,6,1979,"Horst Völkel",{"$f":"IF(Ergebnistabelle[[#This Row],[Signatur]]<>\"\",\"Vorschau\",\"\")","v":"Vorschau"},{"$f":"IF(IFERROR(MATCH(Ergebnistabelle[[#This Row],[Bild-ID]],Merkliste!B:B,0),\"\")<>\"\",CHAR(252),\"\")","v":""},{"$f":"IF(Ergebnistabelle[[#This Row],[Bild-ID]]<>\"\",\"Merken\",\"\")","v":"Merken"},true,true,{"$f":"Ergebnistabelle[[#This Row],[Spalte1]]*Ergebnistabelle[[#This Row],[Spalte2]]","v":1},1,false,true,true,false,false,false,false,false,true,false,false,false,false,false,false,false,false,false,false,false,true,false,false,false,false,false,false,false,false,false,false,false,false,false,false,false,false,false,false,false,false,false,false,false,false,"2023-03-30",{"$f":"IF(Ergebnistabelle[[#This Row],[Spalte50]]>=Meldungen!$J$5,\"+\",\"\")","v":"+"}]
["203-408","HV-A1-12-55",null,"2xTw\n+4xGrwBw","485 \n ","O \nO ",{"$nulls":3},1984,"Slg. Horst Völkel",{"$f":"IF(Ergebnistabelle[[#This Row],[Signatur]]<>\"\",\"Vorschau\",\"\")","v":"Vorschau"},{"$f":"IF(IFERROR(MATCH(Ergebnistabelle[[#This Row],[Bild-ID]],Merkliste!B:B,0),\"\")<>\"\",CHAR(252),\"\")","v":""},{"$f":"IF(Ergebnistabelle[[#This Row],[Bild-ID]]<>\"\",\"Merken\",\"\")","v":"Merken"},true,true,{"$f":"Ergebnistabelle[[#This Row],[Spalte1]]*Ergebnistabelle[[#This Row],[Spalte2]]","v":1},1,false,true,true,false,false,false,false,false,true,false,false,false,false,false,false,false,false,false,false,false,true,false,false,false,false,false,false,false,false,false,false,false,false,false,false,false,false,false,false,false,false,false,false,false,false,"2023-03-30",{"$f":"IF(Ergebnistabelle[[#This Row],[Spalte50]]>=Meldungen!$J$5,\"+\",\"\")","v":"+"}]
["203-409","HV-A1-13-01","HW Simmering","2xTw","501 "," ","abgestellt",20,7,1990,"Horst Völkel",{"$f":"IF(Ergebnistabelle[[#This Row],[Signatur]]<>\"\",\"Vorschau\",\"\")","v":"Vorschau"},{"$f":"IF(IFERROR(MATCH(Ergebnistabelle[[#This Row],[Bild-ID]],Merkliste!B:B,0),\"\")<>\"\",CHAR(252),\"\")","v":""},{"$f":"IF(Ergebnistabelle[[#This Row],[Bild-ID]]<>\"\",\"Merken\",\"\")","v":"Merken"},true,true,{"$f":"Ergebnistabelle[[#This Row],[Spalte1]]*Ergebnistabelle[[#This Row],[Spalte2]]","v":1},1,false,true,false,false,false,false,false,false,true,false,false,false,false,false,false,false,false,false,false,false,false,false,false,false,false,false,false,false,false,false,false,false,false,false,false,false,false,false,false,false,false,false,false,false,false,"2023-03-30",{"$f":"IF(Ergebnistabelle[[#This Row],[Spalte50]]>=Meldungen!$J$5,\"+\",\"\")","v":"+"}]
["203-410","HV-A1-13-02",null,"2xTw\n+4xGrwBw\n+4xGrwBw","502 \n \n ","H2 \nH2 \nH2 ",{"$nulls":4},"Horst Völkel",{"$f":"IF(Ergebnistabelle[[#This Row],[Signatur]]<>\"\",\"Vorschau\",\"\")","v":"Vorschau"},{"$f":"IF(IFERROR(MATCH(Ergebnistabelle[[#This Row],[Bild-ID]],Merkliste!B:B,0),\"\")<>\"\",CHAR(252),\"\")","v":""},{"$f":"IF(Ergebnistabelle[[#This Row],[Bild-ID]]<>\"\",\"Merken\",\"\")","v":"Merken"},true,true,{"$f":"Ergebnistabelle[[#This Row],[Spalte1]]*Ergebnistabelle[[#This Row],[Spalte2]]","v":1},1,false,true,true,false,false,false,false,false,true,false,false,false,false,false,false,false,false,false,false,false,true,false,false,false,false,false,false,false,false,false,false,false,false,false,false,false,false,false,false,false,false,false,false,false,false,"2023-03-30",{"$f":"IF(Ergebnistabelle[[#This Row],[Spalte50]]>=Meldungen!$J$5,\"+\",\"\")","v":"+"}]
["203-411","HV-A1-13-03","HW Simmering","2xTw","522 "," ",null,20,7,1990,"Horst Völkel",{"$f":"IF(Ergebnistabelle[[#This Row],[Signatur]]<>\"\",\"Vorschau\",\"\")","v":"Vorschau"},{"$f":"IF(IFERROR(MATCH(Ergebnistabelle[[#This Row],[Bild-ID]],Merkliste!B:B,0),\"\")<>\"\",CHAR(252),\"\")","v":""},{"$f":"IF(Ergebnistabelle[[#This Row],[Bild-ID]]<>\"\",\"Merken\",\"\")","v":"Merken"},true,true,{"$f":"Ergebnistabelle[[#This Row],[Spalte1]]*Ergebnistabelle[[#This Row],[Spalte2]]","v":1},1,false,true,false,false,false,false,false,false,true,false,false,false,false,false,false,false,false,false,false,false,false,false,false,false,false,false,false,false,false,false,false,false,false,false,false,false,false,false,false,false,false,false,false,false,false,"2023-03-30",{"$f":"IF(Ergebnistabelle[[#This Row],[Spalte50]]>=Meldungen!$J$5,\"+\",\"\")","v":"+"}]
["203-412","HV-A1-13-04","Philadelphiabrücke","2xTw\n+4xGrwBw\n+4xGrwBw","515 \n1789 \n1729 ","62 \n62 \n62 ",null,18,4,1983,"Slg. Horst Völkel",{"$f":"IF(Ergebnistabelle[[#This Row],[Signatur]]<>\"\",\"Vorschau\",\"\")","v":"Vorschau"},{"$f":"IF(IFERROR(MATCH(Ergebnistabelle[[#This Row],[Bild-ID]],Merkliste!B:B,0),\"\")<>\"\",CHAR(252),\"\")","v":""},{"$f":"IF(Ergebnistabelle[[#This Row],[Bild-ID]]<>\"\",\"Merken\",\"\")","v":"Merken"},true,true,{"$f":"Ergebnistabelle[[#This Row],[Spalte1]]*Ergebnistabelle[[#This Row],[Spalte2]]","v":1},1,false,true,true,false,false,false,false,false,true,false,false,false,false,false,false,false,false,false,false,false,true,false,false,false,false,false,false,false,false,false,false,false,false,false,false,false,false,false,false,false,false,false,false,false,false,"2023-03-30",{"$f":"IF(Ergebnistabelle[[#This Row],[Spalte50]]>=Meldungen!$J$5,\"+\",\"\")","v":"+"}]
["203-413","HV-A1-13-06","HW Simmering","2xTw","550 "," ","abgestellt",20,7,1990,"Horst Völkel",{"$f":"IF(Ergebnistabelle[[#This Row],[Signatur]]<>\"\",\"Vorschau\",\"\")","v":"Vorschau"},{"$f":"IF(IFERROR(MATCH(Ergebnistabelle[[#This Row],[Bild-ID]],Merkliste!B:B,0),\"\")<>\"\",CHAR(252),\"\")","v":""},{"$f":"IF(Ergebnistabelle[[#This Row],[Bild-ID]]<>\"\",\"Merken\",\"\")","v":"Merken"},true,true,{"$f":"Ergebnistabelle[[#This Row],[Spalte1]]*Ergebnistabelle[[#This Row],[Spalte2]]","v":1},1,false,true,false,false,false,false,false,false,true,false,false,false,false,false,false,false,false,false,false,false,false,false,false,false,false,false,false,false,false,false,false,false,false,false,false,false,false,false,false,false,false,false,false,false,false,"2023-03-30",{"$f":"IF(Ergebnistabelle[[#This Row],[Spalte50]]>=Meldungen!$J$5,\"+\",\"\")","v":"+"}]
["203-414","HV-A1-13-11","Maurer Hauptplatz","2xTw\n+4xGrwBw\n+4xGrwBw","559 \n1804 \n1813 ","60 \n60 \n60 ",null,10,9,1978,"Slg. Horst Völkel",{"$f":"IF(Ergebnistabelle[[#This Row],[Signatur]]<>\"\",\"Vorschau\",\"\")","v":"Vorschau"},{"$f":"IF(IFERROR(MATCH(Ergebnistabelle[[#This Row],[Bild-ID]],Merkliste!B:B,0),\"\")<>\"\",CHAR(252),\"\")","v":""},{"$f":"IF(Ergebnistabelle[[#This Row],[Bild-ID]]<>\"\",\"Merken\",\"\")","v":"Merken"},{"$f":"IF(IFERROR(MATCH(R418,$BL$3:$UP$3,0),FALSE)<>FALSE,TRUE)","v":true},{"$f":"OR(S418=S$3, W418=W$3, AA418=AA$3, AB418=AB$3, AC418=AC$3, AD418=AD$3, AE418=AE$3, AF418=AF$3, AG418=AG$3, AH418=AH$3, AI418=AI$3, AJ418=AJ$3, AK418=AK$3, AL418=AL$3, AM418=AM$3, AN418=AN$3, AO418=AO$3, AP418=AP$3, AQ418=AQ$3, AR418=AR$3, AS418=AS$3, AT418=AT$3, AU418=AU$3, AV418=AV$3, AW418=AW$3, AX418=AX$3, AY418=AY$3, AZ418=AZ$3, BA418=BA$3, BB418=BB$3, BC418=BC$3, BD418=BD$3, BE418=BE$3, BF418=BF$3, BG418=BG$3, BH418=BH$3, BI418=BI$3, BJ418=BJ$3, BK418=BK$3)","v":true},{"$f":"Ergebnistabelle[[#This Row],[Spalte1]]*Ergebnistabelle[[#This Row],[Spalte2]]","v":1},1,false,true,true,false,false,false,false,false,true,false,false,false,false,false,false,false,false,false,false,false,true,false,false,false,false,false,false,false,false,false,false,false,false,false,false,false,false,false,false,false,false,false,false,false,false,"2023-03-30",{"$f":"IF(Ergebnistabelle[[#This Row],[Spalte50]]>=Meldungen!$J$5,\"+\",\"\")","v":"+"}]
["203-415","HV-A1-13-12","Rosenhügel","2xTw\n+4xGrwBw\n+4xGrwBw","568 \n1298 \n1789 ","60 \n60 \n60 ",null,10,9,1978,"Slg. Horst Völkel",{"$f":"IF(Ergebnistabelle[[#This Row],[Signatur]]<>\"\",\"Vorschau\",\"\")","v":"Vorschau"},{"$f":"IF(IFERROR(MATCH(Ergebnistabelle[[#This Row],[Bild-ID]],Merkliste!B:B,0),\"\")<>\"\",CHAR(252),\"\")","v":""},{"$f":"IF(Ergebnistabelle[[#This Row],[Bild-ID]]<>\"\",\"Merken\",\"\")","v":"Merken"},true,true,{"$f":"Ergebnistabelle[[#This Row],[Spalte1]]*Ergebnistabelle[[#This Row],[Spalte2]]","v":1},1,false,true,true,false,false,false,false,false,true,false,false,false,false,false,false,false,false,false,false,false,true,false,false,false,false,false,false,false,false,false,false,false,false,false,false,false,false,false,false,false,false,false,false,false,false,"2023-03-30",{"$f":"IF(Ergebnistabelle[[#This Row],[Spalte50]]>=Meldungen!$J$5,\"+\",\"\")","v":"+"}]
["203-416","HV-A1-13-15","Praterstern","2xTw\n+4xGrwBw\n+4xGrwBw","604 \n1840 \n1873 ","29 \n29 \n29 ",null,1,11,1976,"Slg. Horst Völkel",{"$f":"IF(Ergebnistabelle[[#This Row],[Signatur]]<>\"\",\"Vorschau\",\"\")","v":"Vorschau"},{"$f":"IF(IFERROR(MATCH(Ergebnistabelle[[#This Row],[Bild-ID]],Merkliste!B:B,0),\"\")<>\"\",CHAR(252),\"\")","v":""},{"$f":"IF(Ergebnistabelle[[#This Row],[Bild-ID]]<>\"\",\"Merken\",\"\")","v":"Merken"},true,true,{"$f":"Ergebnistabelle[[#This Row],[Spalte1]]*Ergebnistabelle[[#This Row],[Spalte2]]","v":1},1,false,true,true,false,false,false,false,false,true,false,false,false,false,false,false,false,false,false,false,false,true,false,false,false,false,false,false,false,false,false,false,false,false,false,false,false,false,false,false,false,false,false,false,false,false,"2023-03-30",{"$f":"IF(Ergebnistabelle[[#This Row],[Spalte50]]>=Meldungen!$J$5,\"+\",\"\")","v":"+"}]
["203-417","HV-A1-13-17","Nußdorfer Str","2xTw\n+4xGrwBw","605 \n1832 ","37 \n37 ",null,2,null,1980,"Slg. Horst Völkel",{"$f":"IF(Ergebnistabelle[[#This Row],[Signatur]]<>\"\",\"Vorschau\",\"\")","v":"Vorschau"},{"$f":"IF(IFERROR(MATCH(Ergebnistabelle[[#This Row],[Bild-ID]],Merkliste!B:B,0),\"\")<>\"\",CHAR(252),\"\")","v":""},{"$f":"IF(Ergebnistabelle[[#This Row],[Bild-ID]]<>\"\",\"Merken\",\"\")","v":"Merken"},true,true,{"$f":"Ergebnistabelle[[#This Row],[Spalte1]]*Ergebnistabelle[[#This Row],[Spalte2]]","v":1},1,false,true,true,false,false,false,false,false,true,false,false,false,false,false,false,false,false,false,false,false,true,false,false,false,false,false,false,false,false,false,false,false,false,false,false,false,false,false,false,false,false,false,false,false,false,"2023-03-30",{"$f":"IF(Ergebnistabelle[[#This Row],[Spalte50]]>=Meldungen!$J$5,\"+\",\"\")","v":"+"}]
["203-418","HV-A1-13-19","HW Simmering","4xGelTw","707 "," ",null,20,7,1990,"Horst Völkel",{"$f":"IF(Ergebnistabelle[[#This Row],[Signatur]]<>\"\",\"Vorschau\",\"\")","v":"Vorschau"},{"$f":"IF(IFERROR(MATCH(Ergebnistabelle[[#This Row],[Bild-ID]],Merkliste!B:B,0),\"\")<>\"\",CHAR(252),\"\")","v":""},{"$f":"IF(Ergebnistabelle[[#This Row],[Bild-ID]]<>\"\",\"Merken\",\"\")","v":"Merken"},true,true,{"$f":"Ergebnistabelle[[#This Row],[Spalte1]]*Ergebnistabelle[[#This Row],[Spalte2]]","v":1},1,false,true,false,false,false,false,false,false,false,false,false,true,false,false,false,false,false,false,false,false,false,false,false,false,false,false,false,false,false,false,false,false,false,false,false,false,false,false,false,false,false,false,false,false,false,"2023-03-30",{"$f":"IF(Ergebnistabelle[[#This Row],[Spalte50]]>=Meldungen!$J$5,\"+\",\"\")","v":"+"}]
["203-419","HV-A1-13-23","Btf Brigittenau","4xGelTw","720 "," ",null,20,7,1990,"Horst Völkel",{"$f":"IF(Ergebnistabelle[[#This Row],[Signatur]]<>\"\",\"Vorschau\",\"\")","v":"Vorschau"},{"$f":"IF(IFERROR(MATCH(Ergebnistabelle[[#This Row],[Bild-ID]],Merkliste!B:B,0),\"\")<>\"\",CHAR(252),\"\")","v":""},{"$f":"IF(Ergebnistabelle[[#This Row],[Bild-ID]]<>\"\",\"Merken\",\"\")","v":"Merken"},true,true,{"$f":"Ergebnistabelle[[#This Row],[Spalte1]]*Ergebnistabelle[[#This Row],[Spalte2]]","v":1},1,false,true,false,false,false,false,false,false,false,false,false,true,false,false,false,false,false,false,false,false,false,false,false,false,false,false,false,false,false,false,false,false,false,false,false,false,false,false,false,false,false,false,false,false,false,"2023-03-30",{"$f":"IF(Ergebnistabelle[[#This Row],[Spalte50]]>=Meldungen!$J$5,\"+\",\"\")","v":"+"}]
["203-420","HV-A1-13-27","HW Simmering","4xGelTw","733 "," ",null,20,7,1990,"Horst Völkel",{"$f":"IF(Ergebnistabelle[[#This Row],[Signatur]]<>\"\",\"Vorschau\",\"\")","v":"Vorschau"},{"$f":"IF(IFERROR(MATCH(Ergebnistabelle[[#This Row],[Bild-ID]],Merkliste!B:B,0),\"\")<>\"\",CHAR(252),\"\")","v":""},{"$f":"IF(Ergebnistabelle[[#This Row],[Bild-ID]]<>\"\",\"Merken\",\"\")","v":"Merken"},true,true,{"$f":"Ergebnistabelle[[#This Row],[Spalte1]]*Ergebnistabelle[[#This Row],[Spalte2]]","v":1},1,false,true,false,false,false,false,false,false,false,false,false,true,false,false,false,false,false,false,false,false,false,false,false,false,false,false,false,false,false,false,false,false,false,false,false,false,false,false,false,false,false,false,false,false,false,"2023-03-30",{"$f":"IF(Ergebnistabelle[[#This Row],[Spalte50]]>=Meldungen!$J$5,\"+\",\"\")","v":"+"}]
["203-421","HV-A1-13-29","Hubertusdamm","4xGelTw\n+4xGrwBw","742 \n ","132 \n132 ",null,10,9,1990,"Slg. Horst Völkel",{"$f":"IF(Ergebnistabelle[[#This Row],[Signatur]]<>\"\",\"Vorschau\",\"\")","v":"Vorschau"},{"$f":"IF(IFERROR(MATCH(Ergebnistabelle[[#This Row],[Bild-ID]],Merkliste!B:B,0),\"\")<>\"\",CHAR(252),\"\")","v":""},{"$f":"IF(Ergebnistabelle[[#This Row],[Bild-ID]]<>\"\",\"Merken\",\"\")","v":"Merken"},true,true,{"$f":"Ergebnistabelle[[#This Row],[Spalte1]]*Ergebnistabelle[[#This Row],[Spalte2]]","v":1},1,false,true,true,false,false,false,false,false,false,false,false,true,false,false,false,false,false,false,false,false,true,false,false,false,false,false,false,false,false,false,false,false,false,false,false,false,false,false,false,false,false,false,false,false,false,"2023-03-30",{"$f":"IF(Ergebnistabelle[[#This Row],[Spalte50]]>=Meldungen!$J$5,\"+\",\"\")","v":"+"}]
["203-422","HV-A1-13-30","Schottenring","4xGelTw\n+4xGrwBw","744 \n1896 ","331 \n331 ",null,9,8,1975,"Horst Völkel",{"$f":"IF(Ergebnistabelle[[#This Row],[Signatur]]<>\"\",\"Vorschau\",\"\")","v":"Vorschau"},{"$f":"IF(IFERROR(MATCH(Ergebnistabelle[[#This Row],[Bild-ID]],Merkliste!B:B,0),\"\")<>\"\",CHAR(252),\"\")","v":""},{"$f":"IF(Ergebnistabelle[[#This Row],[Bild-ID]]<>\"\",\"Merken\",\"\")","v":"Merken"},true,true,{"$f":"Ergebnistabelle[[#This Row],[Spalte1]]*Ergebnistabelle[[#This Row],[Spalte2]]","v":1},1,false,true,true,false,false,false,false,false,false,false,false,true,false,false,false,false,false,false,false,false,true,false,false,false,false,false,false,false,false,false,false,false,false,false,false,false,false,false,false,false,false,false,false,false,false,"2023-03-30",{"$f":"IF(Ergebnistabelle[[#This Row],[Spalte50]]>=Meldungen!$J$5,\"+\",\"\")","v":"+"}]
["203-423","HV-A1-13-32","Währinger Str","4xGelTw","4309 ","41 ",null,12,10,1962,"Horst Völkel",{"$f":"IF(Ergebnistabelle[[#This Row],[Signatur]]<>\"\",\"Vorschau\",\"\")","v":"Vorschau"},{"$f":"IF(IFERROR(MATCH(Ergebnistabelle[[#This Row],[Bild-ID]],Merkliste!B:B,0),\"\")<>\"\",CHAR(252),\"\")","v":""},{"$f":"IF(Ergebnistabelle[[#This Row],[Bild-ID]]<>\"\",\"Merken\",\"\")","v":"Merken"},true,true,{"$f":"Ergebnistabelle[[#This Row],[Spalte1]]*Ergebnistabelle[[#This Row],[Spalte2]]","v":1},1,false,true,false,false,false,false,false,false,false,false,false,true,false,false,false,false,false,false,false,false,false,false,false,false,false,false,false,false,false,false,false,false,false,false,false,false,false,false,false,false,false,false,false,false,false,"2023-03-30",{"$f":"IF(Ergebnistabelle[[#This Row],[Spalte50]]>=Meldungen!$J$5,\"+\",\"\")","v":"+"}]
["203-424","HV-A1-13-34","Laxemburger Str","6xGelTw","4406 ","O ",null,10,8,2000,"Horst Völkel",{"$f":"IF(Ergebnistabelle[[#This Row],[Signatur]]<>\"\",\"Vorschau\",\"\")","v":"Vorschau"},{"$f":"IF(IFERROR(MATCH(Ergebnistabelle[[#This Row],[Bild-ID]],Merkliste!B:B,0),\"\")<>\"\",CHAR(252),\"\")","v":""},{"$f":"IF(Ergebnistabelle[[#This Row],[Bild-ID]]<>\"\",\"Merken\",\"\")","v":"Merken"},true,true,{"$f":"Ergebnistabelle[[#This Row],[Spalte1]]*Ergebnistabelle[[#This Row],[Spalte2]]","v":1},1,false,true,false,false,false,false,false,false,false,false,false,false,true,false,false,false,false,false,false,false,false,false,false,false,false,false,false,false,false,false,false,false,false,false,false,false,false,false,false,false,false,false,false,false,false,"2023-03-30",{"$f":"IF(Ergebnistabelle[[#This Row],[Spalte50]]>=Meldungen!$J$5,\"+\",\"\")","v":"+"}]
["203-425","HV-A1-13-37",null,"6xGelTw","4412 ","132 ",null,12,10,1962,"Horst Völkel",{"$f":"IF(Ergebnistabelle[[#This Row],[Signatur]]<>\"\",\"Vorschau\",\"\")","v":"Vorschau"},{"$f":"IF(IFERROR(MATCH(Ergebnistabelle[[#This Row],[Bild-ID]],Merkliste!B:B,0),\"\")<>\"\",CHAR(252),\"\")","v":""},{"$f":"IF(Ergebnistabelle[[#This Row],[Bild-ID]]<>\"\",\"Merken\",\"\")","v":"Merken"},true,true,{"$f":"Ergebnistabelle[[#This Row],[Spalte1]]*Ergebnistabelle[[#This Row],[Spalte2]]","v":1},1,false,true,false,false,false,false,false,false,false,false,false,false,true,false,false,false,false,false,false,false,false,false,false,false,false,false,false,false,false,false,false,false,false,false,false,false,false,false,false,false,false,false,false,false,false,"2023-03-30",{"$f":"IF(Ergebnistabelle[[#This Row],[Spalte50]]>=Meldungen!$J$5,\"+\",\"\")","v":"+"}]
["203-426","HV-A1-13-39","am Btf Brigittenau","6xGelTw","4432 ","N ",null,19,7,1990,"Horst Völkel",{"$f":"IF(Ergebnistabelle[[#This Row],[Signatur]]<>\"\",\"Vorschau\",\"\")","v":"Vorschau"},{"$f":"IF(IFERROR(MATCH(Ergebnistabelle[[#This Row],[Bild-ID]],Merkliste!B:B,0),\"\")<>\"\",CHAR(252),\"\")","v":""},{"$f":"IF(Ergebnistabelle[[#This Row],[Bild-ID]]<>\"\",\"Merken\",\"\")","v":"Merken"},true,true,{"$f":"Ergebnistabelle[[#This Row],[Spalte1]]*Ergebnistabelle[[#This Row],[Spalte2]]","v":1},1,false,true,false,false,false,false,false,false,false,false,false,false,true,false,false,false,false,false,false,false,false,false,false,false,false,false,false,false,false,false,false,false,false,false,false,false,false,false,false,false,false,false,false,false,false,"2023-03-30",{"$f":"IF(Ergebnistabelle[[#This Row],[Spalte50]]>=Meldungen!$J$5,\"+\",\"\")","v":"+"}]
["203-427","HV-A1-13-40","Wiedner Hauptstr","6xGelTw","4435 ","62 ",null,10,8,2000,"Horst Völkel",{"$f":"IF(Ergebnistabelle[[#This Row],[Signatur]]<>\"\",\"Vorschau\",\"\")","v":"Vorschau"},{"$f":"IF(IFERROR(MATCH(Ergebnistabelle[[#This Row],[Bild-ID]],Merkliste!B:B,0),\"\")<>\"\",CHAR(252),\"\")","v":""},{"$f":"IF(Ergebnistabelle[[#This Row],[Bild-ID]]<>\"\",\"Merken\",\"\")","v":"Merken"},true,true,{"$f":"Ergebnistabelle[[#This Row],[Spalte1]]*Ergebnistabelle[[#This Row],[Spalte2]]","v":1},1,false,true,false,false,false,false,false,false,false,false,false,false,true,false,false,false,false,false,false,false,false,false,false,false,false,false,false,false,false,false,false,false,false,false,false,false,false,false,false,false,false,false,false,false,false,"2023-03-30",{"$f":"IF(Ergebnistabelle[[#This Row],[Spalte50]]>=Meldungen!$J$5,\"+\",\"\")","v":"+"}]
["203-428","HV-A1-13-43","Philadelphiabrücke","6xGelTw","4446 ","62 ",null,21,7,1990,"Horst Völkel",{"$f":"IF(Ergebnistabelle[[#This Row],[Signatur]]<>\"\",\"Vorschau\",\"\")","v":"Vorschau"},{"$f":"IF(IFERROR(MATCH(Ergebnistabelle[[#This Row],[Bild-ID]],Merkliste!B:B,0),\"\")<>\"\",CHAR(252),\"\")","v":""},{"$f":"IF(Ergebnistabelle[[#This Row],[Bild-ID]]<>\"\",\"Merken\",\"\")","v":"Merken"},true,true,{"$f":"Ergebnistabelle[[#This Row],[Spalte1]]*Ergebnistabelle[[#This Row],[Spalte2]]","v":1},1,false,true,false,false,false,false,false,false,false,false,false,false,true,false,false,false,false,false,false,false,false,false,false,false,false,false,false,false,false,false,false,false,false,false,false,false,false,false,false,false,false,false,false,false,false,"2023-03-30",{"$f":"IF(Ergebnistabelle[[#This Row],[Spalte50]]>=Meldungen!$J$5,\"+\",\"\")","v":"+"}]
["203-429","HV-A1-13-45","Karlsplatz","6xGelTw","4449 ","62 ",null,10,8,2000,"Horst Völkel",{"$f":"IF(Ergebnistabelle[[#This Row],[Signatur]]<>\"\",\"Vorschau\",\"\")","v":"Vorschau"},{"$f":"IF(IFERROR(MATCH(Ergebnistabelle[[#This Row],[Bild-ID]],Merkliste!B:B,0),\"\")<>\"\",CHAR(252),\"\")","v":""},{"$f":"IF(Ergebnistabelle[[#This Row],[Bild-ID]]<>\"\",\"Merken\",\"\")","v":"Merken"},true,true,{"$f":"Ergebnistabelle[[#This Row],[Spalte1]]*Ergebnistabelle[[#This Row],[Spalte2]]","v":1},1,false,true,false,false,false,false,false,false,false,false,false,false,true,false,false,false,false,false,false,false,false,false,false,false,false,false,false,false,false,false,false,false,false,false,false,false,false,false,false,false,false,false,false,false,false,"2023-03-30",{"$f":"IF(Ergebnistabelle[[#This Row],[Spalte50]]>=Meldungen!$J$5,\"+\",\"\")","v":"+"}]
["203-430","HV-A1-13-46","HW Simmering","6xGelTw","4495 "," ","auf der Schiebebühne",20,7,1990,"Horst Völkel",{"$f":"IF(Ergebnistabelle[[#This Row],[Signatur]]<>\"\",\"Vorschau\",\"\")","v":"Vorschau"},{"$f":"IF(IFERROR(MATCH(Ergebnistabelle[[#This Row],[Bild-ID]],Merkliste!B:B,0),\"\")<>\"\",CHAR(252),\"\")","v":""},{"$f":"IF(Ergebnistabelle[[#This Row],[Bild-ID]]<>\"\",\"Merken\",\"\")","v":"Merken"},true,true,{"$f":"Ergebnistabelle[[#This Row],[Spalte1]]*Ergebnistabelle[[#This Row],[Spalte2]]","v":1},1,false,true,false,false,false,false,false,false,false,false,false,false,true,false,false,false,false,false,false,false,false,false,false,false,false,false,false,false,false,false,false,false,false,false,false,false,false,false,false,false,false,false,false,false,false,"2023-03-30",{"$f":"IF(Ergebnistabelle[[#This Row],[Spalte50]]>=Meldungen!$J$5,\"+\",\"\")","v":"+"}]
["203-431","HV-A1-13-47","HW Simmering","6xGelTw","4495 "," ","wird auf die Schiebebühne gezogen",20,7,1990,"Horst Völkel",{"$f":"IF(Ergebnistabelle[[#This Row],[Signatur]]<>\"\",\"Vorschau\",\"\")","v":"Vorschau"},{"$f":"IF(IFERROR(MATCH(Ergebnistabelle[[#This Row],[Bild-ID]],Merkliste!B:B,0),\"\")<>\"\",CHAR(252),\"\")","v":""},{"$f":"IF(Ergebnistabelle[[#This Row],[Bild-ID]]<>\"\",\"Merken\",\"\")","v":"Merken"},true,true,{"$f":"Ergebnistabelle[[#This Row],[Spalte1]]*Ergebnistabelle[[#This Row],[Spalte2]]","v":1},1,false,true,false,false,false,false,false,false,false,false,false,false,true,false,false,false,false,false,false,false,false,false,false,false,false,false,false,false,false,false,false,false,false,false,false,false,false,false,false,false,false,false,false,false,false,"2023-03-30",{"$f":"IF(Ergebnistabelle[[#This Row],[Spalte50]]>=Meldungen!$J$5,\"+\",\"\")","v":"+"}]
["203-432","HV-A1-13-56","Mariahilfer Str","2xTw\n+2xBw"," \n ","52 \n52 ",null,12,10,1962,"Horst Völkel",{"$f":"IF(Ergebnistabelle[[#This Row],[Signatur]]<>\"\",\"Vorschau\",\"\")","v":"Vorschau"},{"$f":"IF(IFERROR(MATCH(Ergebnistabelle[[#This Row],[Bild-ID]],Merkliste!B:B,0),\"\")<>\"\",CHAR(252),\"\")","v":""},{"$f":"IF(Ergebnistabelle[[#This Row],[Bild-ID]]<>\"\",\"Merken\",\"\")","v":"Merken"},true,true,{"$f":"Ergebnistabelle[[#This Row],[Spalte1]]*Ergebnistabelle[[#This Row],[Spalte2]]","v":1},1,false,true,true,false,false,false,false,false,true,false,false,false,false,false,false,false,false,false,true,false,false,false,false,false,false,false,false,false,false,false,false,false,false,false,false,false,false,false,false,false,false,false,false,false,false,"2023-03-30",{"$f":"IF(Ergebnistabelle[[#This Row],[Spalte50]]>=Meldungen!$J$5,\"+\",\"\")","v":"+"}]
["203-433","HV-A1-13-62","am Btf Brigittenau","6xGelTw","4696 ","N ",null,20,7,1990,"Horst Völkel",{"$f":"IF(Ergebnistabelle[[#This Row],[Signatur]]<>\"\",\"Vorschau\",\"\")","v":"Vorschau"},{"$f":"IF(IFERROR(MATCH(Ergebnistabelle[[#This Row],[Bild-ID]],Merkliste!B:B,0),\"\")<>\"\",CHAR(252),\"\")","v":""},{"$f":"IF(Ergebnistabelle[[#This Row],[Bild-ID]]<>\"\",\"Merken\",\"\")","v":"Merken"},true,true,{"$f":"Ergebnistabelle[[#This Row],[Spalte1]]*Ergebnistabelle[[#This Row],[Spalte2]]","v":1},1,false,true,false,false,false,false,false,false,false,false,false,false,true,false,false,false,false,false,false,false,false,false,false,false,false,false,false,false,false,false,false,false,false,false,false,false,false,false,false,false,false,false,false,false,false,"2023-03-30",{"$f":"IF(Ergebnistabelle[[#This Row],[Spalte50]]>=Meldungen!$J$5,\"+\",\"\")","v":"+"}]
["203-434","HV-A1-13-66",null,"6xGelTw\n+4xGrwBw","4698 \n ","10 \n10 ",{"$nulls":3},1984,"Slg. Horst Völkel",{"$f":"IF(Ergebnistabelle[[#This Row],[Signatur]]<>\"\",\"Vorschau\",\"\")","v":"Vorschau"},{"$f":"IF(IFERROR(MATCH(Ergebnistabelle[[#This Row],[Bild-ID]],Merkliste!B:B,0),\"\")<>\"\",CHAR(252),\"\")","v":""},{"$f":"IF(Ergebnistabelle[[#This Row],[Bild-ID]]<>\"\",\"Merken\",\"\")","v":"Merken"},true,true,{"$f":"Ergebnistabelle[[#This Row],[Spalte1]]*Ergebnistabelle[[#This Row],[Spalte2]]","v":1},1,false,true,true,false,false,false,false,false,false,false,false,false,true,false,false,false,false,false,false,false,true,false,false,false,false,false,false,false,false,false,false,false,false,false,false,false,false,false,false,false,false,false,false,false,false,"2023-03-30",{"$f":"IF(Ergebnistabelle[[#This Row],[Spalte50]]>=Meldungen!$J$5,\"+\",\"\")","v":"+"}]
["203-435","HV-A1-13-67","(H) Gumpendorfer Str","6xGelTw\n+4xGrwBw","4706 \n1267 ","18 \n18 ",null,11,8,2000,"Horst Völkel",{"$f":"IF(Ergebnistabelle[[#This Row],[Signatur]]<>\"\",\"Vorschau\",\"\")","v":"Vorschau"},{"$f":"IF(IFERROR(MATCH(Ergebnistabelle[[#This Row],[Bild-ID]],Merkliste!B:B,0),\"\")<>\"\",CHAR(252),\"\")","v":""},{"$f":"IF(Ergebnistabelle[[#This Row],[Bild-ID]]<>\"\",\"Merken\",\"\")","v":"Merken"},true,true,{"$f":"Ergebnistabelle[[#This Row],[Spalte1]]*Ergebnistabelle[[#This Row],[Spalte2]]","v":1},1,false,true,true,false,false,false,false,false,false,false,false,false,true,false,false,false,false,false,false,false,true,false,false,false,false,false,false,false,false,false,false,false,false,false,false,false,false,false,false,false,false,false,false,false,false,"2023-03-30",{"$f":"IF(Ergebnistabelle[[#This Row],[Spalte50]]>=Meldungen!$J$5,\"+\",\"\")","v":"+"}]
["203-436","HV-A1-14-09","Floridsdorf","6xGelTw\n+4xGrwBw","4747 \n1275 ","26 \n26 ",null,11,8,2000,"Horst Völkel",{"$f":"IF(Ergebnistabelle[[#This Row],[Signatur]]<>\"\",\"Vorschau\",\"\")","v":"Vorschau"},{"$f":"IF(IFERROR(MATCH(Ergebnistabelle[[#This Row],[Bild-ID]],Merkliste!B:B,0),\"\")<>\"\",CHAR(252),\"\")","v":""},{"$f":"IF(Ergebnistabelle[[#This Row],[Bild-ID]]<>\"\",\"Merken\",\"\")","v":"Merken"},true,true,{"$f":"Ergebnistabelle[[#This Row],[Spalte1]]*Ergebnistabelle[[#This Row],[Spalte2]]","v":1},1,false,true,true,false,false,false,false,false,false,false,false,false,true,false,false,false,false,false,false,false,true,false,false,false,false,false,false,false,false,false,false,false,false,false,false,false,false,false,false,false,false,false,false,false,false,"2023-03-30",{"$f":"IF(Ergebnistabelle[[#This Row],[Spalte50]]>=Meldungen!$J$5,\"+\",\"\")","v":"+"}]
["203-437","HV-A1-14-12","Ring","6xGelTw","4784 ","D ",{"$nulls":3},1983,"Slg. Horst Völkel",{"$f":"IF(Ergebnistabelle[[#This Row],[Signatur]]<>\"\",\"Vorschau\",\"\")","v":"Vorschau"},{"$f":"IF(IFERROR(MATCH(Ergebnistabelle[[#This Row],[Bild-ID]],Merkliste!B:B,0),\"\")<>\"\",CHAR(252),\"\")","v":""},{"$f":"IF(Ergebnistabelle[[#This Row],[Bild-ID]]<>\"\",\"Merken\",\"\")","v":"Merken"},true,true,{"$f":"Ergebnistabelle[[#This Row],[Spalte1]]*Ergebnistabelle[[#This Row],[Spalte2]]","v":1},1,false,true,false,false,false,false,false,false,false,false,false,false,true,false,false,false,false,false,false,false,false,false,false,false,false,false,false,false,false,false,false,false,false,false,false,false,false,false,false,false,false,false,false,false,false,"2023-03-30",{"$f":"IF(Ergebnistabelle[[#This Row],[Spalte50]]>=Meldungen!$J$5,\"+\",\"\")","v":"+"}]
["203-438","HV-A1-14-19","Floridsdorf","6xGelTw\n+4xGrwBw","4818 \n1314 ","31 \n31 ",null,11,8,2000,"Horst Völkel",{"$f":"IF(Ergebnistabelle[[#This Row],[Signatur]]<>\"\",\"Vorschau\",\"\")","v":"Vorschau"},{"$f":"IF(IFERROR(MATCH(Ergebnistabelle[[#This Row],[Bild-ID]],Merkliste!B:B,0),\"\")<>\"\",CHAR(252),\"\")","v":""},{"$f":"IF(Ergebnistabelle[[#This Row],[Bild-ID]]<>\"\",\"Merken\",\"\")","v":"Merken"},true,true,{"$f":"Ergebnistabelle[[#This Row],[Spalte1]]*Ergebnistabelle[[#This Row],[Spalte2]]","v":1},1,false,true,true,false,false,false,false,false,false,false,false,false,true,false,false,false,false,false,false,false,true,false,false,false,false,false,false,false,false,false,false,false,false,false,false,false,false,false,false,false,false,false,false,false,false,"2023-03-30",{"$f":"IF(Ergebnistabelle[[#This Row],[Spalte50]]>=Meldungen!$J$5,\"+\",\"\")","v":"+"}]
["203-439","HV-A1-14-20","Hermesstr","6xGelTw\n+4xGrwBw","4821 \n1077 ","60/62 \n60/62 ",null,19,10,1980,"Slg. Horst Völkel",{"$f":"IF(Ergebnistabelle[[#This Row],[Signatur]]<>\"\",\"Vorschau\",\"\")","v":"Vorschau"},{"$f":"IF(IFERROR(MATCH(Ergebnistabelle[[#This Row],[Bild-ID]],Merkliste!B:B,0),\"\")<>\"\",CHAR(252),\"\")","v":""},{"$f":"IF(Ergebnistabelle[[#This Row],[Bild-ID]]<>\"\",\"Merken\",\"\")","v":"Merken"},true,true,{"$f":"Ergebnistabelle[[#This Row],[Spalte1]]*Ergebnistabelle[[#This Row],[Spalte2]]","v":1},1,false,true,true,false,false,false,false,false,false,false,false,false,true,false,false,false,false,false,false,false,true,false,false,false,false,false,false,false,false,false,false,false,false,false,false,false,false,false,false,false,false,false,false,false,false,"2023-03-30",{"$f":"IF(Ergebnistabelle[[#This Row],[Spalte50]]>=Meldungen!$J$5,\"+\",\"\")","v":"+"}]
["203-440","HV-A1-14-24","HW Simmering","6xGelTw","4833 "," ",null,20,7,1990,"Horst Völkel",{"$f":"IF(Ergebnistabelle[[#This Row],[Signatur]]<>\"\",\"Vorschau\",\"\")","v":"Vorschau"},{"$f":"IF(IFERROR(MATCH(Ergebnistabelle[[#This Row],[Bild-ID]],Merkliste!B:B,0),\"\")<>\"\",CHAR(252),\"\")","v":""},{"$f":"IF(Ergebnistabelle[[#This Row],[Bild-ID]]<>\"\",\"Merken\",\"\")","v":"Merken"},true,true,{"$f":"Ergebnistabelle[[#This Row],[Spalte1]]*Ergebnistabelle[[#This Row],[Spalte2]]","v":1},1,false,true,false,false,false,false,false,false,false,false,false,false,true,false,false,false,false,false,false,false,false,false,false,false,false,false,false,false,false,false,false,false,false,false,false,false,false,false,false,false,false,false,false,false,false,"2023-03-30",{"$f":"IF(Ergebnistabelle[[#This Row],[Spalte50]]>=Meldungen!$J$5,\"+\",\"\")","v":"+"}]
["203-441","HV-A1-14-25","HW Simmering","6xGelTw\n \nU-Bahn","4844 \n \n3209 "," \n \n ",null,20,7,1990,"Horst Völkel",{"$f":"IF(Ergebnistabelle[[#This Row],[Signatur]]<>\"\",\"Vorschau\",\"\")","v":"Vorschau"},{"$f":"IF(IFERROR(MATCH(Ergebnistabelle[[#This Row],[Bild-ID]],Merkliste!B:B,0),\"\")<>\"\",CHAR(252),\"\")","v":""},{"$f":"IF(Ergebnistabelle[[#This Row],[Bild-ID]]<>\"\",\"Merken\",\"\")","v":"Merken"},true,true,{"$f":"Ergebnistabelle[[#This Row],[Spalte1]]*Ergebnistabelle[[#This Row],[Spalte2]]","v":1},1,false,true,false,false,false,false,false,true,false,false,false,false,true,false,false,false,false,false,false,false,false,false,false,false,false,false,false,false,false,false,false,false,false,false,false,false,false,false,false,false,false,false,false,true,false,"2023-03-30",{"$f":"IF(Ergebnistabelle[[#This Row],[Spalte50]]>=Meldungen!$J$5,\"+\",\"\")","v":"+"}]
["203-442","HV-A1-14-32",null,"6xGelTw\n+4xGrwBw","4005 \n1405 ","8 \n8 ",null,15,4,1985,"Slg. Horst Völkel",{"$f":"IF(Ergebnistabelle[[#This Row],[Signatur]]<>\"\",\"Vorschau\",\"\")","v":"Vorschau"},{"$f":"IF(IFERROR(MATCH(Ergebnistabelle[[#This Row],[Bild-ID]],Merkliste!B:B,0),\"\")<>\"\",CHAR(252),\"\")","v":""},{"$f":"IF(Ergebnistabelle[[#This Row],[Bild-ID]]<>\"\",\"Merken\",\"\")","v":"Merken"},true,true,{"$f":"Ergebnistabelle[[#This Row],[Spalte1]]*Ergebnistabelle[[#This Row],[Spalte2]]","v":1},1,false,true,true,false,false,false,false,false,false,false,false,false,true,false,false,false,false,false,false,false,true,false,false,false,false,false,false,false,false,false,false,false,false,false,false,false,false,false,false,false,false,false,false,false,false,"2023-03-30",{"$f":"IF(Ergebnistabelle[[#This Row],[Spalte50]]>=Meldungen!$J$5,\"+\",\"\")","v":"+"}]
["203-443","HV-A1-14-36","Philadelphiabrücke","6xGelTw\n+4xGrwBw","4020 \n1420 ","64 \n64 ",null,21,7,1990,"Horst Völkel",{"$f":"IF(Ergebnistabelle[[#This Row],[Signatur]]<>\"\",\"Vorschau\",\"\")","v":"Vorschau"},{"$f":"IF(IFERROR(MATCH(Ergebnistabelle[[#This Row],[Bild-ID]],Merkliste!B:B,0),\"\")<>\"\",CHAR(252),\"\")","v":""},{"$f":"IF(Ergebnistabelle[[#This Row],[Bild-ID]]<>\"\",\"Merken\",\"\")","v":"Merken"},true,true,{"$f":"Ergebnistabelle[[#This Row],[Spalte1]]*Ergebnistabelle[[#This Row],[Spalte2]]","v":1},1,false,true,true,false,false,false,false,false,false,false,false,false,true,false,false,false,false,false,false,false,true,false,false,false,false,false,false,false,false,false,false,false,false,false,false,false,false,false,false,false,false,false,false,false,false,"2023-03-30",{"$f":"IF(Ergebnistabelle[[#This Row],[Spalte50]]>=Meldungen!$J$5,\"+\",\"\")","v":"+"}]
["203-444","HV-A1-14-40","HW Simmering","6xGelTw","4086 "," ",null,20,7,1990,"Horst Völkel",{"$f":"IF(Ergebnistabelle[[#This Row],[Signatur]]<>\"\",\"Vorschau\",\"\")","v":"Vorschau"},{"$f":"IF(IFERROR(MATCH(Ergebnistabelle[[#This Row],[Bild-ID]],Merkliste!B:B,0),\"\")<>\"\",CHAR(252),\"\")","v":""},{"$f":"IF(Ergebnistabelle[[#This Row],[Bild-ID]]<>\"\",\"Merken\",\"\")","v":"Merken"},true,true,{"$f":"Ergebnistabelle[[#This Row],[Spalte1]]*Ergebnistabelle[[#This Row],[Spalte2]]","v":1},1,false,true,false,false,false,false,false,false,false,false,false,false,true,false,false,false,false,false,false,false,false,false,false,false,false,false,false,false,false,false,false,false,false,false,false,false,false,false,false,false,false,false,false,false,false,"2023-03-30",{"$f":"IF(Ergebnistabelle[[#This Row],[Spalte50]]>=Meldungen!$J$5,\"+\",\"\")","v":"+"}]
["203-445","HV-A1-14-43",null,"2xBw","63 "," ","ex Dampfbahn",{"$nulls":3},"Slg. Horst Völkel",{"$f":"IF(Ergebnistabelle[[#This Row],[Signatur]]<>\"\",\"Vorschau\",\"\")","v":"Vorschau"},{"$f":"IF(IFERROR(MATCH(Ergebnistabelle[[#This Row],[Bild-ID]],Merkliste!B:B,0),\"\")<>\"\",CHAR(252),\"\")","v":""},{"$f":"IF(Ergebnistabelle[[#This Row],[Bild-ID]]<>\"\",\"Merken\",\"\")","v":"Merken"},true,true,{"$f":"Ergebnistabelle[[#This Row],[Spalte1]]*Ergebnistabelle[[#This Row],[Spalte2]]","v":1},1,false,false,true,false,false,false,false,false,false,false,false,false,false,false,false,false,false,false,true,false,false,false,false,false,false,false,false,false,false,false,false,false,false,false,false,false,false,false,false,false,false,false,false,false,false,"2023-03-30",{"$f":"IF(Ergebnistabelle[[#This Row],[Spalte50]]>=Meldungen!$J$5,\"+\",\"\")","v":"+"}]
["203-446","HV-A1-14-44",null,"2xBw","235 "," ",null,13,12,1953,"Slg. Horst Völkel",{"$f":"IF(Ergebnistabelle[[#This Row],[Signatur]]<>\"\",\"Vorschau\",\"\")","v":"Vorschau"},{"$f":"IF(IFERROR(MATCH(Ergebnistabelle[[#This Row],[Bild-ID]],Merkliste!B:B,0),\"\")<>\"\",CHAR(252),\"\")","v":""},{"$f":"IF(Ergebnistabelle[[#This Row],[Bild-ID]]<>\"\",\"Merken\",\"\")","v":"Merken"},true,true,{"$f":"Ergebnistabelle[[#This Row],[Spalte1]]*Ergebnistabelle[[#This Row],[Spalte2]]","v":1},1,false,false,true,false,false,false,false,false,false,false,false,false,false,false,false,false,false,false,true,false,false,false,false,false,false,false,false,false,false,false,false,false,false,false,false,false,false,false,false,false,false,false,false,false,false,"2023-03-30",{"$f":"IF(Ergebnistabelle[[#This Row],[Spalte50]]>=Meldungen!$J$5,\"+\",\"\")","v":"+"}]
["203-447","HV-A1-14-45",null,"2xBw","1367 ","31/5 ",{"$nulls":4},"Slg. Horst Völkel",{"$f":"IF(Ergebnistabelle[[#This Row],[Signatur]]<>\"\",\"Vorschau\",\"\")","v":"Vorschau"},{"$f":"IF(IFERROR(MATCH(Ergebnistabelle[[#This Row],[Bild-ID]],Merkliste!B:B,0),\"\")<>\"\",CHAR(252),\"\")","v":""},{"$f":"IF(Ergebnistabelle[[#This Row],[Bild-ID]]<>\"\",\"Merken\",\"\")","v":"Merken"},true,true,{"$f":"Ergebnistabelle[[#This Row],[Spalte1]]*Ergebnistabelle[[#This Row],[Spalte2]]","v":1},1,false,false,true,false,false,false,false,false,false,false,false,false,false,false,false,false,false,false,true,false,false,false,false,false,false,false,false,false,false,false,false,false,false,false,false,false,false,false,false,false,false,false,false,false,false,"2023-03-30",{"$f":"IF(Ergebnistabelle[[#This Row],[Spalte50]]>=Meldungen!$J$5,\"+\",\"\")","v":"+"}]
["203-448","HV-A1-14-46",null,"2xBw\n+2xBw\n+2xTw","1155 \n1019 \n707 ","39 \n39 \n39 ",null,5,9,1954,"Slg. Horst Völkel",{"$f":"IF(Ergebnistabelle[[#This Row],[Signatur]]<>\"\",\"Vorschau\",\"\")","v":"Vorschau"},{"$f":"IF(IFERROR(MATCH(Ergebnistabelle[[#This Row],[Bild-ID]],Merkliste!B:B,0),\"\")<>\"\",CHAR(252),\"\")","v":""},{"$f":"IF(Ergebnistabelle[[#This Row],[Bild-ID]]<>\"\",\"Merken\",\"\")","v":"Merken"},true,true,{"$f":"Ergebnistabelle[[#This Row],[Spalte1]]*Ergebnistabelle[[#This Row],[Spalte2]]","v":1},1,false,true,true,false,false,false,false,false,true,false,false,false,false,false,false,false,false,false,true,false,false,false,false,false,false,false,false,false,false,false,false,false,false,false,false,false,false,false,false,false,false,false,false,false,false,"2023-03-30",{"$f":"IF(Ergebnistabelle[[#This Row],[Spalte50]]>=Meldungen!$J$5,\"+\",\"\")","v":"+"}]
["203-449","HV-A1-14-47",null,"2xBw\n+2xBw\n+2xTw","1018 \n1136 \n890 "," \n \n ",null,29,8,1954,"Slg. Horst Völkel",{"$f":"IF(Ergebnistabelle[[#This Row],[Signatur]]<>\"\",\"Vorschau\",\"\")","v":"Vorschau"},{"$f":"IF(IFERROR(MATCH(Ergebnistabelle[[#This Row],[Bild-ID]],Merkliste!B:B,0),\"\")<>\"\",CHAR(252),\"\")","v":""},{"$f":"IF(Ergebnistabelle[[#This Row],[Bild-ID]]<>\"\",\"Merken\",\"\")","v":"Merken"},true,true,{"$f":"Ergebnistabelle[[#This Row],[Spalte1]]*Ergebnistabelle[[#This Row],[Spalte2]]","v":1},1,false,true,true,false,false,false,false,false,true,false,false,false,false,false,false,false,false,false,true,false,false,false,false,false,false,false,false,false,false,false,false,false,false,false,false,false,false,false,false,false,false,false,false,false,false,"2023-03-30",{"$f":"IF(Ergebnistabelle[[#This Row],[Spalte50]]>=Meldungen!$J$5,\"+\",\"\")","v":"+"}]
["203-450","HV-A1-14-48",null,"2xBw","1951 "," ",null,8,7,1955,"Slg. Horst Völkel",{"$f":"IF(Ergebnistabelle[[#This Row],[Signatur]]<>\"\",\"Vorschau\",\"\")","v":"Vorschau"},{"$f":"IF(IFERROR(MATCH(Ergebnistabelle[[#This Row],[Bild-ID]],Merkliste!B:B,0),\"\")<>\"\",CHAR(252),\"\")","v":""},{"$f":"IF(Ergebnistabelle[[#This Row],[Bild-ID]]<>\"\",\"Merken\",\"\")","v":"Merken"},true,true,{"$f":"Ergebnistabelle[[#This Row],[Spalte1]]*Ergebnistabelle[[#This Row],[Spalte2]]","v":1},1,false,false,true,false,false,false,false,false,false,false,false,false,false,false,false,false,false,false,true,false,false,false,false,false,false,false,false,false,false,false,false,false,false,false,false,false,false,false,false,false,false,false,false,false,false,"2023-03-30",{"$f":"IF(Ergebnistabelle[[#This Row],[Spalte50]]>=Meldungen!$J$5,\"+\",\"\")","v":"+"}]
["203-451","HV-A1-14-49",null,"2xBw","1980 ","71 ",null,10,6,1954,"Slg. Horst Völkel",{"$f":"IF(Ergebnistabelle[[#This Row],[Signatur]]<>\"\",\"Vorschau\",\"\")","v":"Vorschau"},{"$f":"IF(IFERROR(MATCH(Ergebnistabelle[[#This Row],[Bild-ID]],Merkliste!B:B,0),\"\")<>\"\",CHAR(252),\"\")","v":""},{"$f":"IF(Ergebnistabelle[[#This Row],[Bild-ID]]<>\"\",\"Merken\",\"\")","v":"Merken"},true,true,{"$f":"Ergebnistabelle[[#This Row],[Spalte1]]*Ergebnistabelle[[#This Row],[Spalte2]]","v":1},1,false,false,true,false,false,false,false,false,false,false,false,false,false,false,false,false,false,false,true,false,false,false,false,false,false,false,false,false,false,false,false,false,false,false,false,false,false,false,false,false,false,false,false,false,false,"2023-03-30",{"$f":"IF(Ergebnistabelle[[#This Row],[Spalte50]]>=Meldungen!$J$5,\"+\",\"\")","v":"+"}]
["203-452","HV-A1-14-50",null,"2xBw","3001 ","72 ",null,8,7,1955,"Slg. Horst Völkel",{"$f":"IF(Ergebnistabelle[[#This Row],[Signatur]]<>\"\",\"Vorschau\",\"\")","v":"Vorschau"},{"$f":"IF(IFERROR(MATCH(Ergebnistabelle[[#This Row],[Bild-ID]],Merkliste!B:B,0),\"\")<>\"\",CHAR(252),\"\")","v":""},{"$f":"IF(Ergebnistabelle[[#This Row],[Bild-ID]]<>\"\",\"Merken\",\"\")","v":"Merken"},true,true,{"$f":"Ergebnistabelle[[#This Row],[Spalte1]]*Ergebnistabelle[[#This Row],[Spalte2]]","v":1},1,false,false,true,false,false,false,false,false,false,false,false,false,false,false,false,false,false,false,true,false,false,false,false,false,false,false,false,false,false,false,false,false,false,false,false,false,false,false,false,false,false,false,false,false,false,"2023-03-30",{"$f":"IF(Ergebnistabelle[[#This Row],[Spalte50]]>=Meldungen!$J$5,\"+\",\"\")","v":"+"}]
["203-453","HV-A1-14-51",null,"2xBw","3099 ","25 ",null,4,7,1952,"Slg. Horst Völkel",{"$f":"IF(Ergebnistabelle[[#This Row],[Signatur]]<>\"\",\"Vorschau\",\"\")","v":"Vorschau"},{"$f":"IF(IFERROR(MATCH(Ergebnistabelle[[#This Row],[Bild-ID]],Merkliste!B:B,0),\"\")<>\"\",CHAR(252),\"\")","v":""},{"$f":"IF(Ergebnistabelle[[#This Row],[Bild-ID]]<>\"\",\"Merken\",\"\")","v":"Merken"},true,true,{"$f":"Ergebnistabelle[[#This Row],[Spalte1]]*Ergebnistabelle[[#This Row],[Spalte2]]","v":1},1,false,false,true,false,false,false,false,false,false,false,false,false,false,false,false,false,false,false,true,false,false,false,false,false,false,false,false,false,false,false,false,false,false,false,false,false,false,false,false,false,false,false,false,false,false,"2023-03-30",{"$f":"IF(Ergebnistabelle[[#This Row],[Spalte50]]>=Meldungen!$J$5,\"+\",\"\")","v":"+"}]
["203-454","HV-A1-14-52",null,"2xBw","3796 ","59 ",null,12,7,1956,"Slg. Horst Völkel",{"$f":"IF(Ergebnistabelle[[#This Row],[Signatur]]<>\"\",\"Vorschau\",\"\")","v":"Vorschau"},{"$f":"IF(IFERROR(MATCH(Ergebnistabelle[[#This Row],[Bild-ID]],Merkliste!B:B,0),\"\")<>\"\",CHAR(252),\"\")","v":""},{"$f":"IF(Ergebnistabelle[[#This Row],[Bild-ID]]<>\"\",\"Merken\",\"\")","v":"Merken"},true,true,{"$f":"Ergebnistabelle[[#This Row],[Spalte1]]*Ergebnistabelle[[#This Row],[Spalte2]]","v":1},1,false,false,true,false,false,false,false,false,false,false,false,false,false,false,false,false,false,false,true,false,false,false,false,false,false,false,false,false,false,false,false,false,false,false,false,false,false,false,false,false,false,false,false,false,false,"2023-03-30",{"$f":"IF(Ergebnistabelle[[#This Row],[Spalte50]]>=Meldungen!$J$5,\"+\",\"\")","v":"+"}]
["203-455","HV-A1-14-53",null,"2xBw","3198 ","59 ",null,14,4,1956,"Slg. Horst Völkel",{"$f":"IF(Ergebnistabelle[[#This Row],[Signatur]]<>\"\",\"Vorschau\",\"\")","v":"Vorschau"},{"$f":"IF(IFERROR(MATCH(Ergebnistabelle[[#This Row],[Bild-ID]],Merkliste!B:B,0),\"\")<>\"\",CHAR(252),\"\")","v":""},{"$f":"IF(Ergebnistabelle[[#This Row],[Bild-ID]]<>\"\",\"Merken\",\"\")","v":"Merken"},true,true,{"$f":"Ergebnistabelle[[#This Row],[Spalte1]]*Ergebnistabelle[[#This Row],[Spalte2]]","v":1},1,false,false,true,false,false,false,false,false,false,false,false,false,false,false,false,false,false,false,true,false,false,false,false,false,false,false,false,false,false,false,false,false,false,false,false,false,false,false,false,false,false,false,false,false,false,"2023-03-30",{"$f":"IF(Ergebnistabelle[[#This Row],[Spalte50]]>=Meldungen!$J$5,\"+\",\"\")","v":"+"}]
["203-456","HV-A1-14-54",null,"2xBw","3500 ","78 ",null,12,10,1962,"Horst Völkel",{"$f":"IF(Ergebnistabelle[[#This Row],[Signatur]]<>\"\",\"Vorschau\",\"\")","v":"Vorschau"},{"$f":"IF(IFERROR(MATCH(Ergebnistabelle[[#This Row],[Bild-ID]],Merkliste!B:B,0),\"\")<>\"\",CHAR(252),\"\")","v":""},{"$f":"IF(Ergebnistabelle[[#This Row],[Bild-ID]]<>\"\",\"Merken\",\"\")","v":"Merken"},true,true,{"$f":"Ergebnistabelle[[#This Row],[Spalte1]]*Ergebnistabelle[[#This Row],[Spalte2]]","v":1},1,false,false,true,false,false,false,false,false,false,false,false,false,false,false,false,false,false,false,true,false,false,false,false,false,false,false,false,false,false,false,false,false,false,false,false,false,false,false,false,false,false,false,false,false,false,"2023-03-30",{"$f":"IF(Ergebnistabelle[[#This Row],[Spalte50]]>=Meldungen!$J$5,\"+\",\"\")","v":"+"}]
["203-457","HV-A1-14-55","Praterstern","2xBw","3605 ","25 ",null,12,10,1962,"Horst Völkel",{"$f":"IF(Ergebnistabelle[[#This Row],[Signatur]]<>\"\",\"Vorschau\",\"\")","v":"Vorschau"},{"$f":"IF(IFERROR(MATCH(Ergebnistabelle[[#This Row],[Bild-ID]],Merkliste!B:B,0),\"\")<>\"\",CHAR(252),\"\")","v":""},{"$f":"IF(Ergebnistabelle[[#This Row],[Bild-ID]]<>\"\",\"Merken\",\"\")","v":"Merken"},true,true,{"$f":"Ergebnistabelle[[#This Row],[Spalte1]]*Ergebnistabelle[[#This Row],[Spalte2]]","v":1},1,false,false,true,false,false,false,false,false,false,false,false,false,false,false,false,false,false,false,true,false,false,false,false,false,false,false,false,false,false,false,false,false,false,false,false,false,false,false,false,false,false,false,false,false,false,"2023-03-30",{"$f":"IF(Ergebnistabelle[[#This Row],[Spalte50]]>=Meldungen!$J$5,\"+\",\"\")","v":"+"}]
["203-458","HV-A1-14-59","Praterstern","2xBw","5214 "," ",null,12,10,1962,"Horst Völkel",{"$f":"IF(Ergebnistabelle[[#This Row],[Signatur]]<>\"\",\"Vorschau\",\"\")","v":"Vorschau"},{"$f":"IF(IFERROR(MATCH(Ergebnistabelle[[#This Row],[Bild-ID]],Merkliste!B:B,0),\"\")<>\"\",CHAR(252),\"\")","v":""},{"$f":"IF(Ergebnistabelle[[#This Row],[Bild-ID]]<>\"\",\"Merken\",\"\")","v":"Merken"},true,true,{"$f":"Ergebnistabelle[[#This Row],[Spalte1]]*Ergebnistabelle[[#This Row],[Spalte2]]","v":1},1,false,false,true,false,false,false,false,false,false,false,false,false,false,false,false,false,false,false,true,false,false,false,false,false,false,false,false,false,false,false,false,false,false,false,false,false,false,false,false,false,false,false,false,false,false,"2023-03-30",{"$f":"IF(Ergebnistabelle[[#This Row],[Spalte50]]>=Meldungen!$J$5,\"+\",\"\")","v":"+"}]
["203-459","HV-A1-14-60","Praterstern","2xBw","5222 "," ",null,12,10,1962,"Horst Völkel",{"$f":"IF(Ergebnistabelle[[#This Row],[Signatur]]<>\"\",\"Vorschau\",\"\")","v":"Vorschau"},{"$f":"IF(IFERROR(MATCH(Ergebnistabelle[[#This Row],[Bild-ID]],Merkliste!B:B,0),\"\")<>\"\",CHAR(252),\"\")","v":""},{"$f":"IF(Ergebnistabelle[[#This Row],[Bild-ID]]<>\"\",\"Merken\",\"\")","v":"Merken"},true,true,{"$f":"Ergebnistabelle[[#This Row],[Spalte1]]*Ergebnistabelle[[#This Row],[Spalte2]]","v":1},1,false,false,true,false,false,false,false,false,false,false,false,false,false,false,false,false,false,false,true,false,false,false,false,false,false,false,false,false,false,false,false,false,false,false,false,false,false,false,false,false,false,false,false,false,false,"2023-03-30",{"$f":"IF(Ergebnistabelle[[#This Row],[Spalte50]]>=Meldungen!$J$5,\"+\",\"\")","v":"+"}]
["203-460","HV-A1-14-64","Mariahilfer Str","2xBw\n+2xTw","5322 \n1 ","52 \n52 ","Tw 1: KSW",12,10,1962,"Horst Völkel",{"$f":"IF(Ergebnistabelle[[#This Row],[Signatur]]<>\"\",\"Vorschau\",\"\")","v":"Vorschau"},{"$f":"IF(IFERROR(MATCH(Ergebnistabelle[[#This Row],[Bild-ID]],Merkliste!B:B,0),\"\")<>\"\",CHAR(252),\"\")","v":""},{"$f":"IF(Ergebnistabelle[[#This Row],[Bild-ID]]<>\"\",\"Merken\",\"\")","v":"Merken"},true,true,{"$f":"Ergebnistabelle[[#This Row],[Spalte1]]*Ergebnistabelle[[#This Row],[Spalte2]]","v":1},1,false,true,true,false,false,false,false,false,true,false,false,false,false,false,false,false,false,false,true,false,false,false,false,false,false,false,false,false,false,false,false,false,false,false,false,false,false,false,false,false,false,false,false,false,false,"2023-03-30",{"$f":"IF(Ergebnistabelle[[#This Row],[Spalte50]]>=Meldungen!$J$5,\"+\",\"\")","v":"+"}]
["203-461","HV-A2-01-01",null,"4xGrwBw","1201 "," ",{"$nulls":4},"Slg. Horst Völkel",{"$f":"IF(Ergebnistabelle[[#This Row],[Signatur]]<>\"\",\"Vorschau\",\"\")","v":"Vorschau"},{"$f":"IF(IFERROR(MATCH(Ergebnistabelle[[#This Row],[Bild-ID]],Merkliste!B:B,0),\"\")<>\"\",CHAR(252),\"\")","v":""},{"$f":"IF(Ergebnistabelle[[#This Row],[Bild-ID]]<>\"\",\"Merken\",\"\")","v":"Merken"},true,true,{"$f":"Ergebnistabelle[[#This Row],[Spalte1]]*Ergebnistabelle[[#This Row],[Spalte2]]","v":1},1,false,false,true,false,false,false,false,false,false,false,false,false,false,false,false,false,false,false,false,false,true,false,false,false,false,false,false,false,false,false,false,false,false,false,false,false,false,false,false,false,false,false,false,false,false,"2023-03-30",{"$f":"IF(Ergebnistabelle[[#This Row],[Spalte50]]>=Meldungen!$J$5,\"+\",\"\")","v":"+"}]
["203-462","HV-A2-01-03","Schwedenplatz","2xBw","1882 ","N ",null,5,9,1981,"Horst Völkel",{"$f":"IF(Ergebnistabelle[[#This Row],[Signatur]]<>\"\",\"Vorschau\",\"\")","v":"Vorschau"},{"$f":"IF(IFERROR(MATCH(Ergebnistabelle[[#This Row],[Bild-ID]],Merkliste!B:B,0),\"\")<>\"\",CHAR(252),\"\")","v":""},{"$f":"IF(Ergebnistabelle[[#This Row],[Bild-ID]]<>\"\",\"Merken\",\"\")","v":"Merken"},true,true,{"$f":"Ergebnistabelle[[#This Row],[Spalte1]]*Ergebnistabelle[[#This Row],[Spalte2]]","v":1},1,false,false,true,false,false,false,false,false,false,false,false,false,false,false,false,false,false,false,true,false,false,false,false,false,false,false,false,false,false,false,false,false,false,false,false,false,false,false,false,false,false,false,false,false,false,"2023-03-30",{"$f":"IF(Ergebnistabelle[[#This Row],[Spalte50]]>=Meldungen!$J$5,\"+\",\"\")","v":"+"}]
["203-463","HV-A2-01-05","Btf Vorgarten","2xBw","1453 "," ",null,10,8,1975,"Horst Völkel",{"$f":"IF(Ergebnistabelle[[#This Row],[Signatur]]<>\"\",\"Vorschau\",\"\")","v":"Vorschau"},{"$f":"IF(IFERROR(MATCH(Ergebnistabelle[[#This Row],[Bild-ID]],Merkliste!B:B,0),\"\")<>\"\",CHAR(252),\"\")","v":""},{"$f":"IF(Ergebnistabelle[[#This Row],[Bild-ID]]<>\"\",\"Merken\",\"\")","v":"Merken"},true,true,{"$f":"Ergebnistabelle[[#This Row],[Spalte1]]*Ergebnistabelle[[#This Row],[Spalte2]]","v":1},1,false,false,true,false,false,false,false,false,false,false,false,false,false,false,false,false,false,false,true,false,false,false,false,false,false,false,false,false,false,false,false,false,false,false,false,false,false,false,false,false,false,false,false,false,false,"2023-03-30",{"$f":"IF(Ergebnistabelle[[#This Row],[Spalte50]]>=Meldungen!$J$5,\"+\",\"\")","v":"+"}]
["203-464","HV-A2-01-07","Karlsplatz","2xBw\n+2xTw","5418 \n4137 "," \n ","Stadtrundfahrt",21,7,1990,"Horst Völkel",{"$f":"IF(Ergebnistabelle[[#This Row],[Signatur]]<>\"\",\"Vorschau\",\"\")","v":"Vorschau"},{"$f":"IF(IFERROR(MATCH(Ergebnistabelle[[#This Row],[Bild-ID]],Merkliste!B:B,0),\"\")<>\"\",CHAR(252),\"\")","v":""},{"$f":"IF(Ergebnistabelle[[#This Row],[Bild-ID]]<>\"\",\"Merken\",\"\")","v":"Merken"},true,true,{"$f":"Ergebnistabelle[[#This Row],[Spalte1]]*Ergebnistabelle[[#This Row],[Spalte2]]","v":1},1,false,true,true,false,false,false,false,false,true,false,false,false,false,false,false,false,false,false,true,false,false,false,false,false,false,false,false,false,false,false,false,false,false,false,false,false,false,false,false,false,false,false,false,false,false,"2023-03-30",{"$f":"IF(Ergebnistabelle[[#This Row],[Spalte50]]>=Meldungen!$J$5,\"+\",\"\")","v":"+"}]
["203-465","HV-A2-01-08",null,"2xBw","1436 ","18 ",null,12,10,1962,"Horst Völkel",{"$f":"IF(Ergebnistabelle[[#This Row],[Signatur]]<>\"\",\"Vorschau\",\"\")","v":"Vorschau"},{"$f":"IF(IFERROR(MATCH(Ergebnistabelle[[#This Row],[Bild-ID]],Merkliste!B:B,0),\"\")<>\"\",CHAR(252),\"\")","v":""},{"$f":"IF(Ergebnistabelle[[#This Row],[Bild-ID]]<>\"\",\"Merken\",\"\")","v":"Merken"},true,true,{"$f":"Ergebnistabelle[[#This Row],[Spalte1]]*Ergebnistabelle[[#This Row],[Spalte2]]","v":1},1,false,false,true,false,false,false,false,false,false,false,false,false,false,false,false,false,false,false,true,false,false,false,false,false,false,false,false,false,false,false,false,false,false,false,false,false,false,false,false,false,false,false,false,false,false,"2023-03-30",{"$f":"IF(Ergebnistabelle[[#This Row],[Spalte50]]>=Meldungen!$J$5,\"+\",\"\")","v":"+"}]
["203-466","HV-A2-01-09",null,"2xBw\n+2xTw","5375 \n "," \n ",null,8,8,1975,"Horst Völkel",{"$f":"IF(Ergebnistabelle[[#This Row],[Signatur]]<>\"\",\"Vorschau\",\"\")","v":"Vorschau"},{"$f":"IF(IFERROR(MATCH(Ergebnistabelle[[#This Row],[Bild-ID]],Merkliste!B:B,0),\"\")<>\"\",CHAR(252),\"\")","v":""},{"$f":"IF(Ergebnistabelle[[#This Row],[Bild-ID]]<>\"\",\"Merken\",\"\")","v":"Merken"},true,true,{"$f":"Ergebnistabelle[[#This Row],[Spalte1]]*Ergebnistabelle[[#This Row],[Spalte2]]","v":1},1,false,true,true,false,false,false,false,false,true,false,false,false,false,false,false,false,false,false,true,false,false,false,false,false,false,false,false,false,false,false,false,false,false,false,false,false,false,false,false,false,false,false,false,false,false,"2023-03-30",{"$f":"IF(Ergebnistabelle[[#This Row],[Spalte50]]>=Meldungen!$J$5,\"+\",\"\")","v":"+"}]
["203-467","HV-A2-01-10","HW Simmering","4xGrwBw","1817 "," ",null,20,7,1990,"Horst Völkel",{"$f":"IF(Ergebnistabelle[[#This Row],[Signatur]]<>\"\",\"Vorschau\",\"\")","v":"Vorschau"},{"$f":"IF(IFERROR(MATCH(Ergebnistabelle[[#This Row],[Bild-ID]],Merkliste!B:B,0),\"\")<>\"\",CHAR(252),\"\")","v":""},{"$f":"IF(Ergebnistabelle[[#This Row],[Bild-ID]]<>\"\",\"Merken\",\"\")","v":"Merken"},true,true,{"$f":"Ergebnistabelle[[#This Row],[Spalte1]]*Ergebnistabelle[[#This Row],[Spalte2]]","v":1},1,false,false,true,false,false,false,false,false,false,false,false,false,false,false,false,false,false,false,false,false,true,false,false,false,false,false,false,false,false,false,false,false,false,false,false,false,false,false,false,false,false,false,false,false,false,"2023-03-30",{"$f":"IF(Ergebnistabelle[[#This Row],[Spalte50]]>=Meldungen!$J$5,\"+\",\"\")","v":"+"}]
["203-468","HV-A2-01-11","Praterstern","4xGrwBw","1005 ","26 ",null,22,5,1980,"Horst Völkel",{"$f":"IF(Ergebnistabelle[[#This Row],[Signatur]]<>\"\",\"Vorschau\",\"\")","v":"Vorschau"},{"$f":"IF(IFERROR(MATCH(Ergebnistabelle[[#This Row],[Bild-ID]],Merkliste!B:B,0),\"\")<>\"\",CHAR(252),\"\")","v":""},{"$f":"IF(Ergebnistabelle[[#This Row],[Bild-ID]]<>\"\",\"Merken\",\"\")","v":"Merken"},true,true,{"$f":"Ergebnistabelle[[#This Row],[Spalte1]]*Ergebnistabelle[[#This Row],[Spalte2]]","v":1},1,false,false,true,false,false,false,false,false,false,false,false,false,false,false,false,false,false,false,false,false,true,false,false,false,false,false,false,false,false,false,false,false,false,false,false,false,false,false,false,false,false,false,false,false,false,"2023-03-30",{"$f":"IF(Ergebnistabelle[[#This Row],[Spalte50]]>=Meldungen!$J$5,\"+\",\"\")","v":"+"}]
["203-469","HV-A2-01-13","HW Simmering","4xGrwBw","1063 "," ","abgestellt",20,7,1990,"Horst Völkel",{"$f":"IF(Ergebnistabelle[[#This Row],[Signatur]]<>\"\",\"Vorschau\",\"\")","v":"Vorschau"},{"$f":"IF(IFERROR(MATCH(Ergebnistabelle[[#This Row],[Bild-ID]],Merkliste!B:B,0),\"\")<>\"\",CHAR(252),\"\")","v":""},{"$f":"IF(Ergebnistabelle[[#This Row],[Bild-ID]]<>\"\",\"Merken\",\"\")","v":"Merken"},true,true,{"$f":"Ergebnistabelle[[#This Row],[Spalte1]]*Ergebnistabelle[[#This Row],[Spalte2]]","v":1},1,false,false,true,false,false,false,false,false,false,false,false,false,false,false,false,false,false,false,false,false,true,false,false,false,false,false,false,false,false,false,false,false,false,false,false,false,false,false,false,false,false,false,false,false,false,"2023-03-30",{"$f":"IF(Ergebnistabelle[[#This Row],[Spalte50]]>=Meldungen!$J$5,\"+\",\"\")","v":"+"}]
["203-470","HV-A2-01-19",null,"4xGrwBw","1229 ","O ",null,12,10,1962,"Horst Völkel",{"$f":"IF(Ergebnistabelle[[#This Row],[Signatur]]<>\"\",\"Vorschau\",\"\")","v":"Vorschau"},{"$f":"IF(IFERROR(MATCH(Ergebnistabelle[[#This Row],[Bild-ID]],Merkliste!B:B,0),\"\")<>\"\",CHAR(252),\"\")","v":""},{"$f":"IF(Ergebnistabelle[[#This Row],[Bild-ID]]<>\"\",\"Merken\",\"\")","v":"Merken"},true,true,{"$f":"Ergebnistabelle[[#This Row],[Spalte1]]*Ergebnistabelle[[#This Row],[Spalte2]]","v":1},1,false,false,true,false,false,false,false,false,false,false,false,false,false,false,false,false,false,false,false,false,true,false,false,false,false,false,false,false,false,false,false,false,false,false,false,false,false,false,false,false,false,false,false,false,false,"2023-03-30",{"$f":"IF(Ergebnistabelle[[#This Row],[Spalte50]]>=Meldungen!$J$5,\"+\",\"\")","v":"+"}]
["203-471","HV-A2-01-20","Praterstern","4xGrwBw","1262 ","5 ",null,8,8,1975,"Horst Völkel",{"$f":"IF(Ergebnistabelle[[#This Row],[Signatur]]<>\"\",\"Vorschau\",\"\")","v":"Vorschau"},{"$f":"IF(IFERROR(MATCH(Ergebnistabelle[[#This Row],[Bild-ID]],Merkliste!B:B,0),\"\")<>\"\",CHAR(252),\"\")","v":""},{"$f":"IF(Ergebnistabelle[[#This Row],[Bild-ID]]<>\"\",\"Merken\",\"\")","v":"Merken"},true,true,{"$f":"Ergebnistabelle[[#This Row],[Spalte1]]*Ergebnistabelle[[#This Row],[Spalte2]]","v":1},1,false,false,true,false,false,false,false,false,false,false,false,false,false,false,false,false,false,false,false,false,true,false,false,false,false,false,false,false,false,false,false,false,false,false,false,false,false,false,false,false,false,false,false,false,false,"2023-03-30",{"$f":"IF(Ergebnistabelle[[#This Row],[Spalte50]]>=Meldungen!$J$5,\"+\",\"\")","v":"+"}]
["203-472","HV-A2-01-21","HW Simmering","4xGrwBw","1136 "," ",null,20,7,1990,"Horst Völkel",{"$f":"IF(Ergebnistabelle[[#This Row],[Signatur]]<>\"\",\"Vorschau\",\"\")","v":"Vorschau"},{"$f":"IF(IFERROR(MATCH(Ergebnistabelle[[#This Row],[Bild-ID]],Merkliste!B:B,0),\"\")<>\"\",CHAR(252),\"\")","v":""},{"$f":"IF(Ergebnistabelle[[#This Row],[Bild-ID]]<>\"\",\"Merken\",\"\")","v":"Merken"},true,true,{"$f":"Ergebnistabelle[[#This Row],[Spalte1]]*Ergebnistabelle[[#This Row],[Spalte2]]","v":1},1,false,false,true,false,false,false,false,false,false,false,false,false,false,false,false,false,false,false,false,false,true,false,false,false,false,false,false,false,false,false,false,false,false,false,false,false,false,false,false,false,false,false,false,false,false,"2023-03-30",{"$f":"IF(Ergebnistabelle[[#This Row],[Spalte50]]>=Meldungen!$J$5,\"+\",\"\")","v":"+"}]
["203-473","HV-A2-01-25","am Btf Brigittenau","4xGrwBw","1306 ","32 ",null,19,7,1990,"Horst Völkel",{"$f":"IF(Ergebnistabelle[[#This Row],[Signatur]]<>\"\",\"Vorschau\",\"\")","v":"Vorschau"},{"$f":"IF(IFERROR(MATCH(Ergebnistabelle[[#This Row],[Bild-ID]],Merkliste!B:B,0),\"\")<>\"\",CHAR(252),\"\")","v":""},{"$f":"IF(Ergebnistabelle[[#This Row],[Bild-ID]]<>\"\",\"Merken\",\"\")","v":"Merken"},true,true,{"$f":"Ergebnistabelle[[#This Row],[Spalte1]]*Ergebnistabelle[[#This Row],[Spalte2]]","v":1},1,false,false,true,false,false,false,false,false,false,false,false,false,false,false,false,false,false,false,false,false,true,false,false,false,false,false,false,false,false,false,false,false,false,false,false,false,false,false,false,false,false,false,false,false,false,"2023-03-30",{"$f":"IF(Ergebnistabelle[[#This Row],[Spalte50]]>=Meldungen!$J$5,\"+\",\"\")","v":"+"}]
["203-474","HV-A2-01-27","Westbahnhof","4xGrwBw\n+6xGelTw","1405 \n ","6 \n6 ",null,22,5,1980,"Horst Völkel",{"$f":"IF(Ergebnistabelle[[#This Row],[Signatur]]<>\"\",\"Vorschau\",\"\")","v":"Vorschau"},{"$f":"IF(IFERROR(MATCH(Ergebnistabelle[[#This Row],[Bild-ID]],Merkliste!B:B,0),\"\")<>\"\",CHAR(252),\"\")","v":""},{"$f":"IF(Ergebnistabelle[[#This Row],[Bild-ID]]<>\"\",\"Merken\",\"\")","v":"Merken"},true,true,{"$f":"Ergebnistabelle[[#This Row],[Spalte1]]*Ergebnistabelle[[#This Row],[Spalte2]]","v":1},1,false,true,true,false,false,false,false,false,false,false,false,false,true,false,false,false,false,false,false,false,true,false,false,false,false,false,false,false,false,false,false,false,false,false,false,false,false,false,false,false,false,false,false,false,false,"2023-03-30",{"$f":"IF(Ergebnistabelle[[#This Row],[Spalte50]]>=Meldungen!$J$5,\"+\",\"\")","v":"+"}]
["203-475","HV-A2-01-29","Philadelphiabrücke","4xGrwBw\n+6xGelTw","1432 \n ","64 \n64 ",null,21,7,1990,"Horst Völkel",{"$f":"IF(Ergebnistabelle[[#This Row],[Signatur]]<>\"\",\"Vorschau\",\"\")","v":"Vorschau"},{"$f":"IF(IFERROR(MATCH(Ergebnistabelle[[#This Row],[Bild-ID]],Merkliste!B:B,0),\"\")<>\"\",CHAR(252),\"\")","v":""},{"$f":"IF(Ergebnistabelle[[#This Row],[Bild-ID]]<>\"\",\"Merken\",\"\")","v":"Merken"},true,true,{"$f":"Ergebnistabelle[[#This Row],[Spalte1]]*Ergebnistabelle[[#This Row],[Spalte2]]","v":1},1,false,true,true,false,false,false,false,false,false,false,false,false,true,false,false,false,false,false,false,false,true,false,false,false,false,false,false,false,false,false,false,false,false,false,false,false,false,false,false,false,false,false,false,false,false,"2023-03-30",{"$f":"IF(Ergebnistabelle[[#This Row],[Spalte50]]>=Meldungen!$J$5,\"+\",\"\")","v":"+"}]
["203-476","HV-A2-01-33","Btf Rudolfsheim",null," "," ",null,12,10,1962,"Horst Völkel",{"$f":"IF(Ergebnistabelle[[#This Row],[Signatur]]<>\"\",\"Vorschau\",\"\")","v":"Vorschau"},{"$f":"IF(IFERROR(MATCH(Ergebnistabelle[[#This Row],[Bild-ID]],Merkliste!B:B,0),\"\")<>\"\",CHAR(252),\"\")","v":""},{"$f":"IF(Ergebnistabelle[[#This Row],[Bild-ID]]<>\"\",\"Merken\",\"\")","v":"Merken"},true,true,{"$f":"Ergebnistabelle[[#This Row],[Spalte1]]*Ergebnistabelle[[#This Row],[Spalte2]]","v":1},1,false,false,false,false,true,false,false,false,false,false,false,false,false,false,false,false,false,false,false,false,false,false,false,false,false,false,false,false,false,false,false,false,false,false,false,false,false,false,false,false,false,false,false,false,false,"2023-03-30",{"$f":"IF(Ergebnistabelle[[#This Row],[Spalte50]]>=Meldungen!$J$5,\"+\",\"\")","v":"+"}]
["203-477","HV-A2-01-34","Btf Rudolfsheim",null," "," ",null,12,10,1962,"Horst Völkel",{"$f":"IF(Ergebnistabelle[[#This Row],[Signatur]]<>\"\",\"Vorschau\",\"\")","v":"Vorschau"},{"$f":"IF(IFERROR(MATCH(Ergebnistabelle[[#This Row],[Bild-ID]],Merkliste!B:B,0),\"\")<>\"\",CHAR(252),\"\")","v":""},{"$f":"IF(Ergebnistabelle[[#This Row],[Bild-ID]]<>\"\",\"Merken\",\"\")","v":"Merken"},true,true,{"$f":"Ergebnistabelle[[#This Row],[Spalte1]]*Ergebnistabelle[[#This Row],[Spalte2]]","v":1},1,false,false,false,false,true,false,false,false,false,false,false,false,false,false,false,false,false,false,false,false,false,false,false,false,false,false,false,false,false,false,false,false,false,false,false,false,false,false,false,false,false,false,false,false,false,"2023-03-30",{"$f":"IF(Ergebnistabelle[[#This Row],[Spalte50]]>=Meldungen!$J$5,\"+\",\"\")","v":"+"}]
["203-478","HV-A2-01-35","Btf Ottakring",null," "," ",null,21,7,1990,"Horst Völkel",{"$f":"IF(Ergebnistabelle[[#This Row],[Signatur]]<>\"\",\"Vorschau\",\"\")","v":"Vorschau"},{"$f":"IF(IFERROR(MATCH(Ergebnistabelle[[#This Row],[Bild-ID]],Merkliste!B:B,0),\"\")<>\"\",CHAR(252),\"\")","v":""},{"$f":"IF(Ergebnistabelle[[#This Row],[Bild-ID]]<>\"\",\"Merken\",\"\")","v":"Merken"},{"$f":"IF(IFERROR(MATCH(R482,$BL$3:$UP$3,0),FALSE)<>FALSE,TRUE)","v":true},{"$f":"OR(S482=S$3, W482=W$3, AA482=AA$3, AB482=AB$3, AC482=AC$3, AD482=AD$3, AE482=AE$3, AF482=AF$3, AG482=AG$3, AH482=AH$3, AI482=AI$3, AJ482=AJ$3, AK482=AK$3, AL482=AL$3, AM482=AM$3, AN482=AN$3, AO482=AO$3, AP482=AP$3, AQ482=AQ$3, AR482=AR$3, AS482=AS$3, AT482=AT$3, AU482=AU$3, AV482=AV$3, AW482=AW$3, AX482=AX$3, AY482=AY$3, AZ482=AZ$3, BA482=BA$3, BB482=BB$3, BC482=BC$3, BD482=BD$3, BE482=BE$3, BF482=BF$3, BG482=BG$3, BH482=BH$3, BI482=BI$3, BJ482=BJ$3, BK482=BK$3)","v":true},{"$f":"Ergebnistabelle[[#This Row],[Spalte1]]*Ergebnistabelle[[#This Row],[Spalte2]]","v":1},1,false,false,false,false,true,false,false,false,false,false,false,false,false,false,false,false,false,false,false,false,false,false,false,false,false,false,false,false,false,false,false,false,false,false,false,false,false,false,false,false,false,false,false,false,false,"2023-03-30",{"$f":"IF(Ergebnistabelle[[#This Row],[Spalte50]]>=Meldungen!$J$5,\"+\",\"\")","v":"+"}]
["203-479","HV-A2-01-36","Btf Hütteldorf",null," "," ",null,9,8,1975,"Horst Völkel",{"$f":"IF(Ergebnistabelle[[#This Row],[Signatur]]<>\"\",\"Vorschau\",\"\")","v":"Vorschau"},{"$f":"IF(IFERROR(MATCH(Ergebnistabelle[[#This Row],[Bild-ID]],Merkliste!B:B,0),\"\")<>\"\",CHAR(252),\"\")","v":""},{"$f":"IF(Ergebnistabelle[[#This Row],[Bild-ID]]<>\"\",\"Merken\",\"\")","v":"Merken"},true,true,{"$f":"Ergebnistabelle[[#This Row],[Spalte1]]*Ergebnistabelle[[#This Row],[Spalte2]]","v":1},1,false,false,false,false,true,false,false,false,false,false,false,false,false,false,false,false,false,false,false,false,false,false,false,false,false,false,false,false,false,false,false,false,false,false,false,false,false,false,false,false,false,false,false,false,false,"2023-03-30",{"$f":"IF(Ergebnistabelle[[#This Row],[Spalte50]]>=Meldungen!$J$5,\"+\",\"\")","v":"+"}]
["203-480","HV-A2-01-37","Btf Brigittenau",null," "," ",null,20,7,1990,"Horst Völkel",{"$f":"IF(Ergebnistabelle[[#This Row],[Signatur]]<>\"\",\"Vorschau\",\"\")","v":"Vorschau"},{"$f":"IF(IFERROR(MATCH(Ergebnistabelle[[#This Row],[Bild-ID]],Merkliste!B:B,0),\"\")<>\"\",CHAR(252),\"\")","v":""},{"$f":"IF(Ergebnistabelle[[#This Row],[Bild-ID]]<>\"\",\"Merken\",\"\")","v":"Merken"},true,true,{"$f":"Ergebnistabelle[[#This Row],[Spalte1]]*Ergebnistabelle[[#This Row],[Spalte2]]","v":1},1,false,false,false,false,true,false,false,false,false,false,false,false,false,false,false,false,false,false,false,false,false,false,false,false,false,false,false,false,false,false,false,false,false,false,false,false,false,false,false,false,false,false,false,false,false,"2023-03-30",{"$f":"IF(Ergebnistabelle[[#This Row],[Spalte50]]>=Meldungen!$J$5,\"+\",\"\")","v":"+"}]
["203-481","HV-A2-01-38","HW Simmering","6xGelTw","4926 "," ",null,20,7,1990,"Horst Völkel",{"$f":"IF(Ergebnistabelle[[#This Row],[Signatur]]<>\"\",\"Vorschau\",\"\")","v":"Vorschau"},{"$f":"IF(IFERROR(MATCH(Ergebnistabelle[[#This Row],[Bild-ID]],Merkliste!B:B,0),\"\")<>\"\",CHAR(252),\"\")","v":""},{"$f":"IF(Ergebnistabelle[[#This Row],[Bild-ID]]<>\"\",\"Merken\",\"\")","v":"Merken"},true,true,{"$f":"Ergebnistabelle[[#This Row],[Spalte1]]*Ergebnistabelle[[#This Row],[Spalte2]]","v":1},1,false,true,false,false,false,false,false,false,false,false,false,false,true,false,false,false,false,false,false,false,false,false,false,false,false,false,false,false,false,false,false,false,false,false,false,false,false,false,false,false,false,false,false,false,false,"2023-03-30",{"$f":"IF(Ergebnistabelle[[#This Row],[Spalte50]]>=Meldungen!$J$5,\"+\",\"\")","v":"+"}]
["203-482","HV-A2-01-39",null,"2xTw","2731 ","60 ",null,13,5,1955,"Slg. Horst Völkel",{"$f":"IF(Ergebnistabelle[[#This Row],[Signatur]]<>\"\",\"Vorschau\",\"\")","v":"Vorschau"},{"$f":"IF(IFERROR(MATCH(Ergebnistabelle[[#This Row],[Bild-ID]],Merkliste!B:B,0),\"\")<>\"\",CHAR(252),\"\")","v":""},{"$f":"IF(Ergebnistabelle[[#This Row],[Bild-ID]]<>\"\",\"Merken\",\"\")","v":"Merken"},true,true,{"$f":"Ergebnistabelle[[#This Row],[Spalte1]]*Ergebnistabelle[[#This Row],[Spalte2]]","v":1},1,false,true,false,false,false,false,false,false,true,false,false,false,false,false,false,false,false,false,false,false,false,false,false,false,false,false,false,false,false,false,false,false,false,false,false,false,false,false,false,false,false,false,false,false,false,"2023-03-30",{"$f":"IF(Ergebnistabelle[[#This Row],[Spalte50]]>=Meldungen!$J$5,\"+\",\"\")","v":"+"}]
["203-483","HV-A2-01-40",null,"2xTw","2896 "," ",null,13,6,1979,"Horst Völkel",{"$f":"IF(Ergebnistabelle[[#This Row],[Signatur]]<>\"\",\"Vorschau\",\"\")","v":"Vorschau"},{"$f":"IF(IFERROR(MATCH(Ergebnistabelle[[#This Row],[Bild-ID]],Merkliste!B:B,0),\"\")<>\"\",CHAR(252),\"\")","v":""},{"$f":"IF(Ergebnistabelle[[#This Row],[Bild-ID]]<>\"\",\"Merken\",\"\")","v":"Merken"},true,true,{"$f":"Ergebnistabelle[[#This Row],[Spalte1]]*Ergebnistabelle[[#This Row],[Spalte2]]","v":1},1,false,true,false,false,false,false,false,false,true,false,false,false,false,false,false,false,false,false,false,false,false,false,false,false,false,false,false,false,false,false,false,false,false,false,false,false,false,false,false,false,false,false,false,false,false,"2023-03-30",{"$f":"IF(Ergebnistabelle[[#This Row],[Spalte50]]>=Meldungen!$J$5,\"+\",\"\")","v":"+"}]
["203-484","HV-A2-01-45","Hietzing Stadtb.","2xTw","2996 ","GD ",null,8,8,1975,"Horst Völkel",{"$f":"IF(Ergebnistabelle[[#This Row],[Signatur]]<>\"\",\"Vorschau\",\"\")","v":"Vorschau"},{"$f":"IF(IFERROR(MATCH(Ergebnistabelle[[#This Row],[Bild-ID]],Merkliste!B:B,0),\"\")<>\"\",CHAR(252),\"\")","v":""},{"$f":"IF(Ergebnistabelle[[#This Row],[Bild-ID]]<>\"\",\"Merken\",\"\")","v":"Merken"},true,true,{"$f":"Ergebnistabelle[[#This Row],[Spalte1]]*Ergebnistabelle[[#This Row],[Spalte2]]","v":1},1,false,false,false,false,false,false,false,true,false,false,false,false,false,false,false,false,false,false,false,false,false,false,false,false,false,false,false,false,false,false,false,false,false,false,false,false,false,false,false,false,false,false,true,false,false,"2023-03-30",{"$f":"IF(Ergebnistabelle[[#This Row],[Spalte50]]>=Meldungen!$J$5,\"+\",\"\")","v":"+"}]
["203-485","HV-A2-01-55",null,"2xBw","5779 "," ",{"$nulls":4},"Slg. Horst Völkel",{"$f":"IF(Ergebnistabelle[[#This Row],[Signatur]]<>\"\",\"Vorschau\",\"\")","v":"Vorschau"},{"$f":"IF(IFERROR(MATCH(Ergebnistabelle[[#This Row],[Bild-ID]],Merkliste!B:B,0),\"\")<>\"\",CHAR(252),\"\")","v":""},{"$f":"IF(Ergebnistabelle[[#This Row],[Bild-ID]]<>\"\",\"Merken\",\"\")","v":"Merken"},true,true,{"$f":"Ergebnistabelle[[#This Row],[Spalte1]]*Ergebnistabelle[[#This Row],[Spalte2]]","v":1},1,false,false,true,false,false,false,false,false,false,false,false,false,false,false,false,false,false,false,true,false,false,false,false,false,false,false,false,false,false,false,false,false,false,false,false,false,false,false,false,false,false,false,false,false,false,"2023-03-30",{"$f":"IF(Ergebnistabelle[[#This Row],[Spalte50]]>=Meldungen!$J$5,\"+\",\"\")","v":"+"}]
["203-486","HV-A2-01-60","Hietzing Stadtb.","2xBw","5998 "," ",null,8,8,1975,"Horst Völkel",{"$f":"IF(Ergebnistabelle[[#This Row],[Signatur]]<>\"\",\"Vorschau\",\"\")","v":"Vorschau"},{"$f":"IF(IFERROR(MATCH(Ergebnistabelle[[#This Row],[Bild-ID]],Merkliste!B:B,0),\"\")<>\"\",CHAR(252),\"\")","v":""},{"$f":"IF(Ergebnistabelle[[#This Row],[Bild-ID]]<>\"\",\"Merken\",\"\")","v":"Merken"},true,true,{"$f":"Ergebnistabelle[[#This Row],[Spalte1]]*Ergebnistabelle[[#This Row],[Spalte2]]","v":1},1,false,false,true,false,false,false,false,false,false,false,false,false,false,false,false,false,false,false,true,false,false,false,false,false,false,false,false,false,false,false,false,false,false,false,false,false,false,false,false,false,false,false,false,false,false,"2023-03-30",{"$f":"IF(Ergebnistabelle[[#This Row],[Spalte50]]>=Meldungen!$J$5,\"+\",\"\")","v":"+"}]
["203-487","HV-A2-01-63","HW Simmering","6xGelBw","1913 "," ",null,20,7,1990,"Horst Völkel",{"$f":"IF(Ergebnistabelle[[#This Row],[Signatur]]<>\"\",\"Vorschau\",\"\")","v":"Vorschau"},{"$f":"IF(IFERROR(MATCH(Ergebnistabelle[[#This Row],[Bild-ID]],Merkliste!B:B,0),\"\")<>\"\",CHAR(252),\"\")","v":""},{"$f":"IF(Ergebnistabelle[[#This Row],[Bild-ID]]<>\"\",\"Merken\",\"\")","v":"Merken"},true,true,{"$f":"Ergebnistabelle[[#This Row],[Spalte1]]*Ergebnistabelle[[#This Row],[Spalte2]]","v":1},1,false,false,false,false,false,false,false,true,false,false,false,false,false,false,false,false,false,false,false,false,false,false,false,false,false,false,false,false,false,false,false,false,false,false,false,false,false,false,false,false,false,false,true,false,false,"2023-03-30",{"$f":"IF(Ergebnistabelle[[#This Row],[Spalte50]]>=Meldungen!$J$5,\"+\",\"\")","v":"+"}]
["203-488","HV-A2-01-64","Friedensbrücke","6xGelBw","1918 ","G ",null,27,4,1983,"Horst Völkel",{"$f":"IF(Ergebnistabelle[[#This Row],[Signatur]]<>\"\",\"Vorschau\",\"\")","v":"Vorschau"},{"$f":"IF(IFERROR(MATCH(Ergebnistabelle[[#This Row],[Bild-ID]],Merkliste!B:B,0),\"\")<>\"\",CHAR(252),\"\")","v":""},{"$f":"IF(Ergebnistabelle[[#This Row],[Bild-ID]]<>\"\",\"Merken\",\"\")","v":"Merken"},true,true,{"$f":"Ergebnistabelle[[#This Row],[Spalte1]]*Ergebnistabelle[[#This Row],[Spalte2]]","v":1},1,false,false,false,false,false,false,false,true,false,false,false,false,false,false,false,false,false,false,false,false,false,false,false,false,false,false,false,false,false,false,false,false,false,false,false,false,false,false,false,false,false,false,true,false,false,"2023-03-30",{"$f":"IF(Ergebnistabelle[[#This Row],[Spalte50]]>=Meldungen!$J$5,\"+\",\"\")","v":"+"}]
["203-489","HV-A2-02-01","Friedensbrücke","6xGelBw","1921 ","G ",null,20,4,1983,"Horst Völkel",{"$f":"IF(Ergebnistabelle[[#This Row],[Signatur]]<>\"\",\"Vorschau\",\"\")","v":"Vorschau"},{"$f":"IF(IFERROR(MATCH(Ergebnistabelle[[#This Row],[Bild-ID]],Merkliste!B:B,0),\"\")<>\"\",CHAR(252),\"\")","v":""},{"$f":"IF(Ergebnistabelle[[#This Row],[Bild-ID]]<>\"\",\"Merken\",\"\")","v":"Merken"},true,true,{"$f":"Ergebnistabelle[[#This Row],[Spalte1]]*Ergebnistabelle[[#This Row],[Spalte2]]","v":1},1,false,false,false,false,false,false,false,true,false,false,false,false,false,false,false,false,false,false,false,false,false,false,false,false,false,false,false,false,false,false,false,false,false,false,false,false,false,false,false,false,false,false,true,false,false,"2023-03-30",{"$f":"IF(Ergebnistabelle[[#This Row],[Spalte50]]>=Meldungen!$J$5,\"+\",\"\")","v":"+"}]
["203-490","HV-A2-02-02",null,"2xArbTw","5565 "," ","abgestellt",{"$nulls":3},"Horst Völkel",{"$f":"IF(Ergebnistabelle[[#This Row],[Signatur]]<>\"\",\"Vorschau\",\"\")","v":"Vorschau"},{"$f":"IF(IFERROR(MATCH(Ergebnistabelle[[#This Row],[Bild-ID]],Merkliste!B:B,0),\"\")<>\"\",CHAR(252),\"\")","v":""},{"$f":"IF(Ergebnistabelle[[#This Row],[Bild-ID]]<>\"\",\"Merken\",\"\")","v":"Merken"},true,true,{"$f":"Ergebnistabelle[[#This Row],[Spalte1]]*Ergebnistabelle[[#This Row],[Spalte2]]","v":1},1,false,false,false,true,false,false,false,false,false,false,false,false,false,false,false,false,false,false,false,false,false,false,false,false,false,false,false,false,true,false,false,false,false,false,false,false,false,false,false,false,false,false,false,false,false,"2023-03-30",{"$f":"IF(Ergebnistabelle[[#This Row],[Spalte50]]>=Meldungen!$J$5,\"+\",\"\")","v":"+"}]
["203-491","HV-A2-02-04","Btf Rudolfsheim","2xArbTw","6040 "," ",null,13,10,1962,"Horst Völkel",{"$f":"IF(Ergebnistabelle[[#This Row],[Signatur]]<>\"\",\"Vorschau\",\"\")","v":"Vorschau"},{"$f":"IF(IFERROR(MATCH(Ergebnistabelle[[#This Row],[Bild-ID]],Merkliste!B:B,0),\"\")<>\"\",CHAR(252),\"\")","v":""},{"$f":"IF(Ergebnistabelle[[#This Row],[Bild-ID]]<>\"\",\"Merken\",\"\")","v":"Merken"},true,true,{"$f":"Ergebnistabelle[[#This Row],[Spalte1]]*Ergebnistabelle[[#This Row],[Spalte2]]","v":1},1,false,false,false,true,false,false,false,false,false,false,false,false,false,false,false,false,false,false,false,false,false,false,false,false,false,false,false,false,true,false,false,false,false,false,false,false,false,false,false,false,false,false,false,false,false,"2023-03-30",{"$f":"IF(Ergebnistabelle[[#This Row],[Spalte50]]>=Meldungen!$J$5,\"+\",\"\")","v":"+"}]
["203-492","HV-A2-02-05","Btf Rudolfsheim","2xArbTw","6051 "," ",null,12,10,1962,"Horst Völkel",{"$f":"IF(Ergebnistabelle[[#This Row],[Signatur]]<>\"\",\"Vorschau\",\"\")","v":"Vorschau"},{"$f":"IF(IFERROR(MATCH(Ergebnistabelle[[#This Row],[Bild-ID]],Merkliste!B:B,0),\"\")<>\"\",CHAR(252),\"\")","v":""},{"$f":"IF(Ergebnistabelle[[#This Row],[Bild-ID]]<>\"\",\"Merken\",\"\")","v":"Merken"},true,true,{"$f":"Ergebnistabelle[[#This Row],[Spalte1]]*Ergebnistabelle[[#This Row],[Spalte2]]","v":1},1,false,false,false,true,false,false,false,false,false,false,false,false,false,false,false,false,false,false,false,false,false,false,false,false,false,false,false,false,true,false,false,false,false,false,false,false,false,false,false,false,false,false,false,false,false,"2023-03-30",{"$f":"IF(Ergebnistabelle[[#This Row],[Spalte50]]>=Meldungen!$J$5,\"+\",\"\")","v":"+"}]
["203-493","HV-A2-02-06","Btf Vorgarten","2xArbTw","6051 "," ",null,10,8,1975,"Horst Völkel",{"$f":"IF(Ergebnistabelle[[#This Row],[Signatur]]<>\"\",\"Vorschau\",\"\")","v":"Vorschau"},{"$f":"IF(IFERROR(MATCH(Ergebnistabelle[[#This Row],[Bild-ID]],Merkliste!B:B,0),\"\")<>\"\",CHAR(252),\"\")","v":""},{"$f":"IF(Ergebnistabelle[[#This Row],[Bild-ID]]<>\"\",\"Merken\",\"\")","v":"Merken"},true,true,{"$f":"Ergebnistabelle[[#This Row],[Spalte1]]*Ergebnistabelle[[#This Row],[Spalte2]]","v":1},1,false,false,false,true,false,false,false,false,false,false,false,false,false,false,false,false,false,false,false,false,false,false,false,false,false,false,false,false,true,false,false,false,false,false,false,false,false,false,false,false,false,false,false,false,false,"2023-03-30",{"$f":"IF(Ergebnistabelle[[#This Row],[Spalte50]]>=Meldungen!$J$5,\"+\",\"\")","v":"+"}]
["203-494","HV-A2-02-07",null,"2xArbTw","6052 "," ",null,12,10,1962,"Horst Völkel",{"$f":"IF(Ergebnistabelle[[#This Row],[Signatur]]<>\"\",\"Vorschau\",\"\")","v":"Vorschau"},{"$f":"IF(IFERROR(MATCH(Ergebnistabelle[[#This Row],[Bild-ID]],Merkliste!B:B,0),\"\")<>\"\",CHAR(252),\"\")","v":""},{"$f":"IF(Ergebnistabelle[[#This Row],[Bild-ID]]<>\"\",\"Merken\",\"\")","v":"Merken"},true,true,{"$f":"Ergebnistabelle[[#This Row],[Spalte1]]*Ergebnistabelle[[#This Row],[Spalte2]]","v":1},1,false,false,false,true,false,false,false,false,false,false,false,false,false,false,false,false,false,false,false,false,false,false,false,false,false,false,false,false,true,false,false,false,false,false,false,false,false,false,false,false,false,false,false,false,false,"2023-03-30",{"$f":"IF(Ergebnistabelle[[#This Row],[Spalte50]]>=Meldungen!$J$5,\"+\",\"\")","v":"+"}]
["203-495","HV-A2-02-10","Btf Brigittenau","2xArbTw","6054 "," ","Schleifwagen",20,7,1990,"Horst Völkel",{"$f":"IF(Ergebnistabelle[[#This Row],[Signatur]]<>\"\",\"Vorschau\",\"\")","v":"Vorschau"},{"$f":"IF(IFERROR(MATCH(Ergebnistabelle[[#This Row],[Bild-ID]],Merkliste!B:B,0),\"\")<>\"\",CHAR(252),\"\")","v":""},{"$f":"IF(Ergebnistabelle[[#This Row],[Bild-ID]]<>\"\",\"Merken\",\"\")","v":"Merken"},true,true,{"$f":"Ergebnistabelle[[#This Row],[Spalte1]]*Ergebnistabelle[[#This Row],[Spalte2]]","v":1},1,false,false,false,true,false,false,false,false,false,false,false,false,false,false,false,false,false,false,false,false,false,false,false,false,false,false,false,false,true,false,false,false,false,false,false,false,false,false,false,false,false,false,false,false,false,"2023-03-30",{"$f":"IF(Ergebnistabelle[[#This Row],[Spalte50]]>=Meldungen!$J$5,\"+\",\"\")","v":"+"}]
["203-496","HV-A2-02-11",null,"2xArbTw"," "," ",null,12,10,1962,"Horst Völkel",{"$f":"IF(Ergebnistabelle[[#This Row],[Signatur]]<>\"\",\"Vorschau\",\"\")","v":"Vorschau"},{"$f":"IF(IFERROR(MATCH(Ergebnistabelle[[#This Row],[Bild-ID]],Merkliste!B:B,0),\"\")<>\"\",CHAR(252),\"\")","v":""},{"$f":"IF(Ergebnistabelle[[#This Row],[Bild-ID]]<>\"\",\"Merken\",\"\")","v":"Merken"},true,true,{"$f":"Ergebnistabelle[[#This Row],[Spalte1]]*Ergebnistabelle[[#This Row],[Spalte2]]","v":1},1,false,false,false,true,false,false,false,false,false,false,false,false,false,false,false,false,false,false,false,false,false,false,false,false,false,false,false,false,true,false,false,false,false,false,false,false,false,false,false,false,false,false,false,false,false,"2023-03-30",{"$f":"IF(Ergebnistabelle[[#This Row],[Spalte50]]>=Meldungen!$J$5,\"+\",\"\")","v":"+"}]
["203-497","HV-A2-02-12","HW Simmering","4xArbTw","6111 "," ","Kranwagen",20,7,1990,"Horst Völkel",{"$f":"IF(Ergebnistabelle[[#This Row],[Signatur]]<>\"\",\"Vorschau\",\"\")","v":"Vorschau"},{"$f":"IF(IFERROR(MATCH(Ergebnistabelle[[#This Row],[Bild-ID]],Merkliste!B:B,0),\"\")<>\"\",CHAR(252),\"\")","v":""},{"$f":"IF(Ergebnistabelle[[#This Row],[Bild-ID]]<>\"\",\"Merken\",\"\")","v":"Merken"},true,true,{"$f":"Ergebnistabelle[[#This Row],[Spalte1]]*Ergebnistabelle[[#This Row],[Spalte2]]","v":1},1,false,false,false,true,false,false,false,false,false,false,false,false,false,false,false,false,false,false,false,false,false,false,false,false,false,false,false,false,true,false,false,false,false,false,false,false,false,false,false,false,false,false,false,false,false,"2023-03-30",{"$f":"IF(Ergebnistabelle[[#This Row],[Spalte50]]>=Meldungen!$J$5,\"+\",\"\")","v":"+"}]
["203-498","HV-A2-02-13","Btf Vorgarten","2xArbTw","6112 "," ",null,10,8,1975,"Horst Völkel",{"$f":"IF(Ergebnistabelle[[#This Row],[Signatur]]<>\"\",\"Vorschau\",\"\")","v":"Vorschau"},{"$f":"IF(IFERROR(MATCH(Ergebnistabelle[[#This Row],[Bild-ID]],Merkliste!B:B,0),\"\")<>\"\",CHAR(252),\"\")","v":""},{"$f":"IF(Ergebnistabelle[[#This Row],[Bild-ID]]<>\"\",\"Merken\",\"\")","v":"Merken"},true,true,{"$f":"Ergebnistabelle[[#This Row],[Spalte1]]*Ergebnistabelle[[#This Row],[Spalte2]]","v":1},1,false,false,false,true,false,false,false,false,false,false,false,false,false,false,false,false,false,false,false,false,false,false,false,false,false,false,false,false,true,false,false,false,false,false,false,false,false,false,false,false,false,false,false,false,false,"2023-03-30",{"$f":"IF(Ergebnistabelle[[#This Row],[Spalte50]]>=Meldungen!$J$5,\"+\",\"\")","v":"+"}]
["203-499","HV-A2-02-17","HW Simmering","4xArbTw","6123 "," ",null,20,7,1990,"Horst Völkel",{"$f":"IF(Ergebnistabelle[[#This Row],[Signatur]]<>\"\",\"Vorschau\",\"\")","v":"Vorschau"},{"$f":"IF(IFERROR(MATCH(Ergebnistabelle[[#This Row],[Bild-ID]],Merkliste!B:B,0),\"\")<>\"\",CHAR(252),\"\")","v":""},{"$f":"IF(Ergebnistabelle[[#This Row],[Bild-ID]]<>\"\",\"Merken\",\"\")","v":"Merken"},true,true,{"$f":"Ergebnistabelle[[#This Row],[Spalte1]]*Ergebnistabelle[[#This Row],[Spalte2]]","v":1},1,false,false,false,true,false,false,false,false,false,false,false,false,false,false,false,false,false,false,false,false,false,false,false,false,false,false,false,false,true,false,false,false,false,false,false,false,false,false,false,false,false,false,false,false,false,"2023-03-30",{"$f":"IF(Ergebnistabelle[[#This Row],[Spalte50]]>=Meldungen!$J$5,\"+\",\"\")","v":"+"}]
["203-500","HV-A2-02-18","HW Simmering","4xArbTw","6160 "," ",null,20,7,1990,"Horst Völkel",{"$f":"IF(Ergebnistabelle[[#This Row],[Signatur]]<>\"\",\"Vorschau\",\"\")","v":"Vorschau"},{"$f":"IF(IFERROR(MATCH(Ergebnistabelle[[#This Row],[Bild-ID]],Merkliste!B:B,0),\"\")<>\"\",CHAR(252),\"\")","v":""},{"$f":"IF(Ergebnistabelle[[#This Row],[Bild-ID]]<>\"\",\"Merken\",\"\")","v":"Merken"},true,true,{"$f":"Ergebnistabelle[[#This Row],[Spalte1]]*Ergebnistabelle[[#This Row],[Spalte2]]","v":1},1,false,false,false,true,false,false,false,false,false,false,false,false,false,false,false,false,false,false,false,false,false,false,false,false,false,false,false,false,true,false,false,false,false,false,false,false,false,false,false,false,false,false,false,false,false,"2023-03-30",{"$f":"IF(Ergebnistabelle[[#This Row],[Spalte50]]>=Meldungen!$J$5,\"+\",\"\")","v":"+"}]
["203-501","HV-A2-02-20","Karlsplatz","2xArbTw","6312 "," ",null,13,6,1979,"Horst Völkel",{"$f":"IF(Ergebnistabelle[[#This Row],[Signatur]]<>\"\",\"Vorschau\",\"\")","v":"Vorschau"},{"$f":"IF(IFERROR(MATCH(Ergebnistabelle[[#This Row],[Bild-ID]],Merkliste!B:B,0),\"\")<>\"\",CHAR(252),\"\")","v":""},{"$f":"IF(Ergebnistabelle[[#This Row],[Bild-ID]]<>\"\",\"Merken\",\"\")","v":"Merken"},true,true,{"$f":"Ergebnistabelle[[#This Row],[Spalte1]]*Ergebnistabelle[[#This Row],[Spalte2]]","v":1},1,false,false,false,true,false,false,false,false,false,false,false,false,false,false,false,false,false,false,false,false,false,false,false,false,false,false,false,false,true,false,false,false,false,false,false,false,false,false,false,false,false,false,false,false,false,"2023-03-30",{"$f":"IF(Ergebnistabelle[[#This Row],[Spalte50]]>=Meldungen!$J$5,\"+\",\"\")","v":"+"}]
["203-502","HV-A2-02-21",null,"2xArbTw","6316 "," ",null,4,11,1954,"Slg. Horst Völkel",{"$f":"IF(Ergebnistabelle[[#This Row],[Signatur]]<>\"\",\"Vorschau\",\"\")","v":"Vorschau"},{"$f":"IF(IFERROR(MATCH(Ergebnistabelle[[#This Row],[Bild-ID]],Merkliste!B:B,0),\"\")<>\"\",CHAR(252),\"\")","v":""},{"$f":"IF(Ergebnistabelle[[#This Row],[Bild-ID]]<>\"\",\"Merken\",\"\")","v":"Merken"},true,true,{"$f":"Ergebnistabelle[[#This Row],[Spalte1]]*Ergebnistabelle[[#This Row],[Spalte2]]","v":1},1,false,false,false,true,false,false,false,false,false,false,false,false,false,false,false,false,false,false,false,false,false,false,false,false,false,false,false,false,true,false,false,false,false,false,false,false,false,false,false,false,false,false,false,false,false,"2023-03-30",{"$f":"IF(Ergebnistabelle[[#This Row],[Spalte50]]>=Meldungen!$J$5,\"+\",\"\")","v":"+"}]
["203-503","HV-A2-02-22","Btf Favoriten","2xArbTw","6321 "," ",null,20,7,1979,"Horst Völkel",{"$f":"IF(Ergebnistabelle[[#This Row],[Signatur]]<>\"\",\"Vorschau\",\"\")","v":"Vorschau"},{"$f":"IF(IFERROR(MATCH(Ergebnistabelle[[#This Row],[Bild-ID]],Merkliste!B:B,0),\"\")<>\"\",CHAR(252),\"\")","v":""},{"$f":"IF(Ergebnistabelle[[#This Row],[Bild-ID]]<>\"\",\"Merken\",\"\")","v":"Merken"},true,true,{"$f":"Ergebnistabelle[[#This Row],[Spalte1]]*Ergebnistabelle[[#This Row],[Spalte2]]","v":1},1,false,false,false,true,false,false,false,false,false,false,false,false,false,false,false,false,false,false,false,false,false,false,false,false,false,false,false,false,true,false,false,false,false,false,false,false,false,false,false,false,false,false,false,false,false,"2023-03-30",{"$f":"IF(Ergebnistabelle[[#This Row],[Spalte50]]>=Meldungen!$J$5,\"+\",\"\")","v":"+"}]
["203-504","HV-A2-02-26","Stromstr","2xArbTw","6332 "," ",null,1,5,1980,"Slg. Horst Völkel",{"$f":"IF(Ergebnistabelle[[#This Row],[Signatur]]<>\"\",\"Vorschau\",\"\")","v":"Vorschau"},{"$f":"IF(IFERROR(MATCH(Ergebnistabelle[[#This Row],[Bild-ID]],Merkliste!B:B,0),\"\")<>\"\",CHAR(252),\"\")","v":""},{"$f":"IF(Ergebnistabelle[[#This Row],[Bild-ID]]<>\"\",\"Merken\",\"\")","v":"Merken"},true,true,{"$f":"Ergebnistabelle[[#This Row],[Spalte1]]*Ergebnistabelle[[#This Row],[Spalte2]]","v":1},1,false,false,false,true,false,false,false,false,false,false,false,false,false,false,false,false,false,false,false,false,false,false,false,false,false,false,false,false,true,false,false,false,false,false,false,false,false,false,false,false,false,false,false,false,false,"2023-03-30",{"$f":"IF(Ergebnistabelle[[#This Row],[Spalte50]]>=Meldungen!$J$5,\"+\",\"\")","v":"+"}]
["203-505","HV-A2-02-27","HW Simmering","2xArbTw","6371 "," ",null,20,7,1990,"Horst Völkel",{"$f":"IF(Ergebnistabelle[[#This Row],[Signatur]]<>\"\",\"Vorschau\",\"\")","v":"Vorschau"},{"$f":"IF(IFERROR(MATCH(Ergebnistabelle[[#This Row],[Bild-ID]],Merkliste!B:B,0),\"\")<>\"\",CHAR(252),\"\")","v":""},{"$f":"IF(Ergebnistabelle[[#This Row],[Bild-ID]]<>\"\",\"Merken\",\"\")","v":"Merken"},true,true,{"$f":"Ergebnistabelle[[#This Row],[Spalte1]]*Ergebnistabelle[[#This Row],[Spalte2]]","v":1},1,false,false,false,true,false,false,false,false,false,false,false,false,false,false,false,false,false,false,false,false,false,false,false,false,false,false,false,false,true,false,false,false,false,false,false,false,false,false,false,false,false,false,false,false,false,"2023-03-30",{"$f":"IF(Ergebnistabelle[[#This Row],[Spalte50]]>=Meldungen!$J$5,\"+\",\"\")","v":"+"}]
["203-506","HV-A2-02-28","Btf Brigittenau","2xArbTw","6381 "," ",null,20,7,1990,"Horst Völkel",{"$f":"IF(Ergebnistabelle[[#This Row],[Signatur]]<>\"\",\"Vorschau\",\"\")","v":"Vorschau"},{"$f":"IF(IFERROR(MATCH(Ergebnistabelle[[#This Row],[Bild-ID]],Merkliste!B:B,0),\"\")<>\"\",CHAR(252),\"\")","v":""},{"$f":"IF(Ergebnistabelle[[#This Row],[Bild-ID]]<>\"\",\"Merken\",\"\")","v":"Merken"},true,true,{"$f":"Ergebnistabelle[[#This Row],[Spalte1]]*Ergebnistabelle[[#This Row],[Spalte2]]","v":1},1,false,false,false,true,false,false,false,false,false,false,false,false,false,false,false,false,false,false,false,false,false,false,false,false,false,false,false,false,true,false,false,false,false,false,false,false,false,false,false,false,false,false,false,false,false,"2023-03-30",{"$f":"IF(Ergebnistabelle[[#This Row],[Spalte50]]>=Meldungen!$J$5,\"+\",\"\")","v":"+"}]
["203-507","HV-A2-02-29",null,"2xArbTw","6389 "," ",{"$nulls":3},1984,"Horst Völkel",{"$f":"IF(Ergebnistabelle[[#This Row],[Signatur]]<>\"\",\"Vorschau\",\"\")","v":"Vorschau"},{"$f":"IF(IFERROR(MATCH(Ergebnistabelle[[#This Row],[Bild-ID]],Merkliste!B:B,0),\"\")<>\"\",CHAR(252),\"\")","v":""},{"$f":"IF(Ergebnistabelle[[#This Row],[Bild-ID]]<>\"\",\"Merken\",\"\")","v":"Merken"},true,true,{"$f":"Ergebnistabelle[[#This Row],[Spalte1]]*Ergebnistabelle[[#This Row],[Spalte2]]","v":1},1,false,false,false,true,false,false,false,false,false,false,false,false,false,false,false,false,false,false,false,false,false,false,false,false,false,false,false,false,true,false,false,false,false,false,false,false,false,false,false,false,false,false,false,false,false,"2023-03-30",{"$f":"IF(Ergebnistabelle[[#This Row],[Spalte50]]>=Meldungen!$J$5,\"+\",\"\")","v":"+"}]
["203-508","HV-A2-02-30","HW Simmering","2xArbTw","6391 "," ",null,20,7,1990,"Horst Völkel",{"$f":"IF(Ergebnistabelle[[#This Row],[Signatur]]<>\"\",\"Vorschau\",\"\")","v":"Vorschau"},{"$f":"IF(IFERROR(MATCH(Ergebnistabelle[[#This Row],[Bild-ID]],Merkliste!B:B,0),\"\")<>\"\",CHAR(252),\"\")","v":""},{"$f":"IF(Ergebnistabelle[[#This Row],[Bild-ID]]<>\"\",\"Merken\",\"\")","v":"Merken"},true,true,{"$f":"Ergebnistabelle[[#This Row],[Spalte1]]*Ergebnistabelle[[#This Row],[Spalte2]]","v":1},1,false,false,false,true,false,false,false,false,false,false,false,false,false,false,false,false,false,false,false,false,false,false,false,false,false,false,false,false,true,false,false,false,false,false,false,false,false,false,false,false,false,false,false,false,false,"2023-03-30",{"$f":"IF(Ergebnistabelle[[#This Row],[Spalte50]]>=Meldungen!$J$5,\"+\",\"\")","v":"+"}]
["203-509","HV-A2-02-31","HW Simmering","2xArbTw","6394 "," ",null,20,7,1990,"Horst Völkel",{"$f":"IF(Ergebnistabelle[[#This Row],[Signatur]]<>\"\",\"Vorschau\",\"\")","v":"Vorschau"},{"$f":"IF(IFERROR(MATCH(Ergebnistabelle[[#This Row],[Bild-ID]],Merkliste!B:B,0),\"\")<>\"\",CHAR(252),\"\")","v":""},{"$f":"IF(Ergebnistabelle[[#This Row],[Bild-ID]]<>\"\",\"Merken\",\"\")","v":"Merken"},true,true,{"$f":"Ergebnistabelle[[#This Row],[Spalte1]]*Ergebnistabelle[[#This Row],[Spalte2]]","v":1},1,false,false,false,true,false,false,false,false,false,false,false,false,false,false,false,false,false,false,false,false,false,false,false,false,false,false,false,false,true,false,false,false,false,false,false,false,false,false,false,false,false,false,false,false,false,"2023-03-30",{"$f":"IF(Ergebnistabelle[[#This Row],[Spalte50]]>=Meldungen!$J$5,\"+\",\"\")","v":"+"}]
["203-510","HV-A2-02-32","Btf Favoriten","2xArbTw","6400 "," ",null,10,8,2000,"Horst Völkel",{"$f":"IF(Ergebnistabelle[[#This Row],[Signatur]]<>\"\",\"Vorschau\",\"\")","v":"Vorschau"},{"$f":"IF(IFERROR(MATCH(Ergebnistabelle[[#This Row],[Bild-ID]],Merkliste!B:B,0),\"\")<>\"\",CHAR(252),\"\")","v":""},{"$f":"IF(Ergebnistabelle[[#This Row],[Bild-ID]]<>\"\",\"Merken\",\"\")","v":"Merken"},true,true,{"$f":"Ergebnistabelle[[#This Row],[Spalte1]]*Ergebnistabelle[[#This Row],[Spalte2]]","v":1},1,false,false,false,true,false,false,false,false,false,false,false,false,false,false,false,false,false,false,false,false,false,false,false,false,false,false,false,false,true,false,false,false,false,false,false,false,false,false,false,false,false,false,false,false,false,"2023-03-30",{"$f":"IF(Ergebnistabelle[[#This Row],[Spalte50]]>=Meldungen!$J$5,\"+\",\"\")","v":"+"}]
["203-511","HV-A2-02-33","HW Simmering","2xArbTw","6401 "," ","abgestellt",20,7,1990,"Horst Völkel",{"$f":"IF(Ergebnistabelle[[#This Row],[Signatur]]<>\"\",\"Vorschau\",\"\")","v":"Vorschau"},{"$f":"IF(IFERROR(MATCH(Ergebnistabelle[[#This Row],[Bild-ID]],Merkliste!B:B,0),\"\")<>\"\",CHAR(252),\"\")","v":""},{"$f":"IF(Ergebnistabelle[[#This Row],[Bild-ID]]<>\"\",\"Merken\",\"\")","v":"Merken"},true,true,{"$f":"Ergebnistabelle[[#This Row],[Spalte1]]*Ergebnistabelle[[#This Row],[Spalte2]]","v":1},1,false,false,false,true,false,false,false,false,false,false,false,false,false,false,false,false,false,false,false,false,false,false,false,false,false,false,false,false,true,false,false,false,false,false,false,false,false,false,false,false,false,false,false,false,false,"2023-03-30",{"$f":"IF(Ergebnistabelle[[#This Row],[Spalte50]]>=Meldungen!$J$5,\"+\",\"\")","v":"+"}]
["203-512","HV-A2-02-34","HW Simmering","2xArbTw","6406 "," ","abgestellt",20,7,1990,"Horst Völkel",{"$f":"IF(Ergebnistabelle[[#This Row],[Signatur]]<>\"\",\"Vorschau\",\"\")","v":"Vorschau"},{"$f":"IF(IFERROR(MATCH(Ergebnistabelle[[#This Row],[Bild-ID]],Merkliste!B:B,0),\"\")<>\"\",CHAR(252),\"\")","v":""},{"$f":"IF(Ergebnistabelle[[#This Row],[Bild-ID]]<>\"\",\"Merken\",\"\")","v":"Merken"},true,true,{"$f":"Ergebnistabelle[[#This Row],[Spalte1]]*Ergebnistabelle[[#This Row],[Spalte2]]","v":1},1,false,false,false,true,false,false,false,false,false,false,false,false,false,false,false,false,false,false,false,false,false,false,false,false,false,false,false,false,true,false,false,false,false,false,false,false,false,false,false,false,false,false,false,false,false,"2023-03-30",{"$f":"IF(Ergebnistabelle[[#This Row],[Spalte50]]>=Meldungen!$J$5,\"+\",\"\")","v":"+"}]
["203-513","HV-A2-02-35","Btf Brigittenau","2xArbTw","6420 "," ",null,20,7,1990,"Horst Völkel",{"$f":"IF(Ergebnistabelle[[#This Row],[Signatur]]<>\"\",\"Vorschau\",\"\")","v":"Vorschau"},{"$f":"IF(IFERROR(MATCH(Ergebnistabelle[[#This Row],[Bild-ID]],Merkliste!B:B,0),\"\")<>\"\",CHAR(252),\"\")","v":""},{"$f":"IF(Ergebnistabelle[[#This Row],[Bild-ID]]<>\"\",\"Merken\",\"\")","v":"Merken"},true,true,{"$f":"Ergebnistabelle[[#This Row],[Spalte1]]*Ergebnistabelle[[#This Row],[Spalte2]]","v":1},1,false,false,false,true,false,false,false,false,false,false,false,false,false,false,false,false,false,false,false,false,false,false,false,false,false,false,false,false,true,false,false,false,false,false,false,false,false,false,false,false,false,false,false,false,false,"2023-03-30",{"$f":"IF(Ergebnistabelle[[#This Row],[Spalte50]]>=Meldungen!$J$5,\"+\",\"\")","v":"+"}]
["203-514","HV-A2-02-36","HW Simmering","2xArbTw","6422 "," ",null,20,7,1990,"Horst Völkel",{"$f":"IF(Ergebnistabelle[[#This Row],[Signatur]]<>\"\",\"Vorschau\",\"\")","v":"Vorschau"},{"$f":"IF(IFERROR(MATCH(Ergebnistabelle[[#This Row],[Bild-ID]],Merkliste!B:B,0),\"\")<>\"\",CHAR(252),\"\")","v":""},{"$f":"IF(Ergebnistabelle[[#This Row],[Bild-ID]]<>\"\",\"Merken\",\"\")","v":"Merken"},true,true,{"$f":"Ergebnistabelle[[#This Row],[Spalte1]]*Ergebnistabelle[[#This Row],[Spalte2]]","v":1},1,false,false,false,true,false,false,false,false,false,false,false,false,false,false,false,false,false,false,false,false,false,false,false,false,false,false,false,false,true,false,false,false,false,false,false,false,false,false,false,false,false,false,false,false,false,"2023-03-30",{"$f":"IF(Ergebnistabelle[[#This Row],[Spalte50]]>=Meldungen!$J$5,\"+\",\"\")","v":"+"}]
["203-515","HV-A2-02-37","HW Simmering","2xArbTw\n+4xArbBw","6424 \n7435 "," \n ",null,20,7,1990,"Horst Völkel",{"$f":"IF(Ergebnistabelle[[#This Row],[Signatur]]<>\"\",\"Vorschau\",\"\")","v":"Vorschau"},{"$f":"IF(IFERROR(MATCH(Ergebnistabelle[[#This Row],[Bild-ID]],Merkliste!B:B,0),\"\")<>\"\",CHAR(252),\"\")","v":""},{"$f":"IF(Ergebnistabelle[[#This Row],[Bild-ID]]<>\"\",\"Merken\",\"\")","v":"Merken"},true,true,{"$f":"Ergebnistabelle[[#This Row],[Spalte1]]*Ergebnistabelle[[#This Row],[Spalte2]]","v":1},1,false,false,false,true,false,false,false,false,false,false,false,false,false,false,false,false,false,false,false,false,false,false,false,false,false,false,false,false,true,true,false,false,false,false,false,false,false,false,false,false,false,false,false,false,false,"2023-03-30",{"$f":"IF(Ergebnistabelle[[#This Row],[Spalte50]]>=Meldungen!$J$5,\"+\",\"\")","v":"+"}]
["203-516","HV-A2-02-38",null,"2xArbTw","6425 "," ",null,null,2,1988,"Slg. Horst Völkel",{"$f":"IF(Ergebnistabelle[[#This Row],[Signatur]]<>\"\",\"Vorschau\",\"\")","v":"Vorschau"},{"$f":"IF(IFERROR(MATCH(Ergebnistabelle[[#This Row],[Bild-ID]],Merkliste!B:B,0),\"\")<>\"\",CHAR(252),\"\")","v":""},{"$f":"IF(Ergebnistabelle[[#This Row],[Bild-ID]]<>\"\",\"Merken\",\"\")","v":"Merken"},true,true,{"$f":"Ergebnistabelle[[#This Row],[Spalte1]]*Ergebnistabelle[[#This Row],[Spalte2]]","v":1},1,false,false,false,true,false,false,false,false,false,false,false,false,false,false,false,false,false,false,false,false,false,false,false,false,false,false,false,false,true,false,false,false,false,false,false,false,false,false,false,false,false,false,false,false,false,"2023-03-30",{"$f":"IF(Ergebnistabelle[[#This Row],[Spalte50]]>=Meldungen!$J$5,\"+\",\"\")","v":"+"}]
["203-517","HV-A2-02-43","Btf Brigittenau","2xArbTw","6447 "," ",null,20,7,1990,"Horst Völkel",{"$f":"IF(Ergebnistabelle[[#This Row],[Signatur]]<>\"\",\"Vorschau\",\"\")","v":"Vorschau"},{"$f":"IF(IFERROR(MATCH(Ergebnistabelle[[#This Row],[Bild-ID]],Merkliste!B:B,0),\"\")<>\"\",CHAR(252),\"\")","v":""},{"$f":"IF(Ergebnistabelle[[#This Row],[Bild-ID]]<>\"\",\"Merken\",\"\")","v":"Merken"},true,true,{"$f":"Ergebnistabelle[[#This Row],[Spalte1]]*Ergebnistabelle[[#This Row],[Spalte2]]","v":1},1,false,false,false,true,false,false,false,false,false,false,false,false,false,false,false,false,false,false,false,false,false,false,false,false,false,false,false,false,true,false,false,false,false,false,false,false,false,false,false,false,false,false,false,false,false,"2023-03-30",{"$f":"IF(Ergebnistabelle[[#This Row],[Spalte50]]>=Meldungen!$J$5,\"+\",\"\")","v":"+"}]
["203-518","HV-A2-02-44","Btf Favoriten","2xArbTw","6457 "," ",null,10,8,2000,"Horst Völkel",{"$f":"IF(Ergebnistabelle[[#This Row],[Signatur]]<>\"\",\"Vorschau\",\"\")","v":"Vorschau"},{"$f":"IF(IFERROR(MATCH(Ergebnistabelle[[#This Row],[Bild-ID]],Merkliste!B:B,0),\"\")<>\"\",CHAR(252),\"\")","v":""},{"$f":"IF(Ergebnistabelle[[#This Row],[Bild-ID]]<>\"\",\"Merken\",\"\")","v":"Merken"},true,true,{"$f":"Ergebnistabelle[[#This Row],[Spalte1]]*Ergebnistabelle[[#This Row],[Spalte2]]","v":1},1,false,false,false,true,false,false,false,false,false,false,false,false,false,false,false,false,false,false,false,false,false,false,false,false,false,false,false,false,true,false,false,false,false,false,false,false,false,false,false,false,false,false,false,false,false,"2023-03-30",{"$f":"IF(Ergebnistabelle[[#This Row],[Spalte50]]>=Meldungen!$J$5,\"+\",\"\")","v":"+"}]
["203-519","HV-A2-02-45","HW Simmering","2xArbTw","6461 "," ",null,20,7,1990,"Horst Völkel",{"$f":"IF(Ergebnistabelle[[#This Row],[Signatur]]<>\"\",\"Vorschau\",\"\")","v":"Vorschau"},{"$f":"IF(IFERROR(MATCH(Ergebnistabelle[[#This Row],[Bild-ID]],Merkliste!B:B,0),\"\")<>\"\",CHAR(252),\"\")","v":""},{"$f":"IF(Ergebnistabelle[[#This Row],[Bild-ID]]<>\"\",\"Merken\",\"\")","v":"Merken"},true,true,{"$f":"Ergebnistabelle[[#This Row],[Spalte1]]*Ergebnistabelle[[#This Row],[Spalte2]]","v":1},1,false,false,false,true,false,false,false,false,false,false,false,false,false,false,false,false,false,false,false,false,false,false,false,false,false,false,false,false,true,false,false,false,false,false,false,false,false,false,false,false,false,false,false,false,false,"2023-03-30",{"$f":"IF(Ergebnistabelle[[#This Row],[Spalte50]]>=Meldungen!$J$5,\"+\",\"\")","v":"+"}]
["203-520","HV-A2-02-46","Btf Brigittenau","2xArbTw","6462 "," ",null,20,7,1990,"Horst Völkel",{"$f":"IF(Ergebnistabelle[[#This Row],[Signatur]]<>\"\",\"Vorschau\",\"\")","v":"Vorschau"},{"$f":"IF(IFERROR(MATCH(Ergebnistabelle[[#This Row],[Bild-ID]],Merkliste!B:B,0),\"\")<>\"\",CHAR(252),\"\")","v":""},{"$f":"IF(Ergebnistabelle[[#This Row],[Bild-ID]]<>\"\",\"Merken\",\"\")","v":"Merken"},true,true,{"$f":"Ergebnistabelle[[#This Row],[Spalte1]]*Ergebnistabelle[[#This Row],[Spalte2]]","v":1},1,false,false,false,true,false,false,false,false,false,false,false,false,false,false,false,false,false,false,false,false,false,false,false,false,false,false,false,false,true,false,false,false,false,false,false,false,false,false,false,false,false,false,false,false,false,"2023-03-30",{"$f":"IF(Ergebnistabelle[[#This Row],[Spalte50]]>=Meldungen!$J$5,\"+\",\"\")","v":"+"}]
["203-521","HV-A2-02-49","Btf Michelbeuren","2xArbTw\n \n2xArbTw\n \n2xArbTw","6885 \n \n6893 \n \n6894 "," \n \n \n \n ",null,20,7,1990,"Horst Völkel",{"$f":"IF(Ergebnistabelle[[#This Row],[Signatur]]<>\"\",\"Vorschau\",\"\")","v":"Vorschau"},{"$f":"IF(IFERROR(MATCH(Ergebnistabelle[[#This Row],[Bild-ID]],Merkliste!B:B,0),\"\")<>\"\",CHAR(252),\"\")","v":""},{"$f":"IF(Ergebnistabelle[[#This Row],[Bild-ID]]<>\"\",\"Merken\",\"\")","v":"Merken"},true,true,{"$f":"Ergebnistabelle[[#This Row],[Spalte1]]*Ergebnistabelle[[#This Row],[Spalte2]]","v":1},1,false,false,false,true,false,false,false,false,false,false,false,false,false,false,false,false,false,false,false,false,false,false,false,false,false,false,false,false,true,false,false,false,false,false,false,false,false,false,false,false,false,false,false,false,false,"2023-03-30",{"$f":"IF(Ergebnistabelle[[#This Row],[Spalte50]]>=Meldungen!$J$5,\"+\",\"\")","v":"+"}]
["203-522","HV-A2-02-52","Btf Michelbeuren","2xArbTw","6894 "," ",null,20,7,1990,"Horst Völkel",{"$f":"IF(Ergebnistabelle[[#This Row],[Signatur]]<>\"\",\"Vorschau\",\"\")","v":"Vorschau"},{"$f":"IF(IFERROR(MATCH(Ergebnistabelle[[#This Row],[Bild-ID]],Merkliste!B:B,0),\"\")<>\"\",CHAR(252),\"\")","v":""},{"$f":"IF(Ergebnistabelle[[#This Row],[Bild-ID]]<>\"\",\"Merken\",\"\")","v":"Merken"},true,true,{"$f":"Ergebnistabelle[[#This Row],[Spalte1]]*Ergebnistabelle[[#This Row],[Spalte2]]","v":1},1,false,false,false,true,false,false,false,false,false,false,false,false,false,false,false,false,false,false,false,false,false,false,false,false,false,false,false,false,true,false,false,false,false,false,false,false,false,false,false,false,false,false,false,false,false,"2023-03-30",{"$f":"IF(Ergebnistabelle[[#This Row],[Spalte50]]>=Meldungen!$J$5,\"+\",\"\")","v":"+"}]
["203-523","HV-A2-02-53","Alser Str","2xArbTw","6895 "," ",null,13,2,1985,"Horst Völkel",{"$f":"IF(Ergebnistabelle[[#This Row],[Signatur]]<>\"\",\"Vorschau\",\"\")","v":"Vorschau"},{"$f":"IF(IFERROR(MATCH(Ergebnistabelle[[#This Row],[Bild-ID]],Merkliste!B:B,0),\"\")<>\"\",CHAR(252),\"\")","v":""},{"$f":"IF(Ergebnistabelle[[#This Row],[Bild-ID]]<>\"\",\"Merken\",\"\")","v":"Merken"},true,true,{"$f":"Ergebnistabelle[[#This Row],[Spalte1]]*Ergebnistabelle[[#This Row],[Spalte2]]","v":1},1,false,false,false,true,false,false,false,false,false,false,false,false,false,false,false,false,false,false,false,false,false,false,false,false,false,false,false,false,true,false,false,false,false,false,false,false,false,false,false,false,false,false,false,false,false,"2023-03-30",{"$f":"IF(Ergebnistabelle[[#This Row],[Spalte50]]>=Meldungen!$J$5,\"+\",\"\")","v":"+"}]
["203-524","HV-A2-02-56",null,"2xArbTw","6899 "," ",{"$nulls":3},1972,"Horst Völkel",{"$f":"IF(Ergebnistabelle[[#This Row],[Signatur]]<>\"\",\"Vorschau\",\"\")","v":"Vorschau"},{"$f":"IF(IFERROR(MATCH(Ergebnistabelle[[#This Row],[Bild-ID]],Merkliste!B:B,0),\"\")<>\"\",CHAR(252),\"\")","v":""},{"$f":"IF(Ergebnistabelle[[#This Row],[Bild-ID]]<>\"\",\"Merken\",\"\")","v":"Merken"},true,true,{"$f":"Ergebnistabelle[[#This Row],[Spalte1]]*Ergebnistabelle[[#This Row],[Spalte2]]","v":1},1,false,false,false,true,false,false,false,false,false,false,false,false,false,false,false,false,false,false,false,false,false,false,false,false,false,false,false,false,true,false,false,false,false,false,false,false,false,false,false,false,false,false,false,false,false,"2023-03-30",{"$f":"IF(Ergebnistabelle[[#This Row],[Spalte50]]>=Meldungen!$J$5,\"+\",\"\")","v":"+"}]
["203-525","HV-A2-02-59","HW Simmering","2xArbBw","7008 "," ",null,25,9,1976,"Horst Völkel",{"$f":"IF(Ergebnistabelle[[#This Row],[Signatur]]<>\"\",\"Vorschau\",\"\")","v":"Vorschau"},{"$f":"IF(IFERROR(MATCH(Ergebnistabelle[[#This Row],[Bild-ID]],Merkliste!B:B,0),\"\")<>\"\",CHAR(252),\"\")","v":""},{"$f":"IF(Ergebnistabelle[[#This Row],[Bild-ID]]<>\"\",\"Merken\",\"\")","v":"Merken"},true,true,{"$f":"Ergebnistabelle[[#This Row],[Spalte1]]*Ergebnistabelle[[#This Row],[Spalte2]]","v":1},1,false,false,false,true,false,false,false,false,false,false,false,false,false,false,false,false,false,false,false,false,false,false,false,false,false,false,false,false,false,true,false,false,false,false,false,false,false,false,false,false,false,false,false,false,false,"2023-03-30",{"$f":"IF(Ergebnistabelle[[#This Row],[Spalte50]]>=Meldungen!$J$5,\"+\",\"\")","v":"+"}]
["203-526","HV-A2-03-04","HW Simmering","2xArbBw\n \n2xArbBw","7120 \n \n "," \n \n ",null,20,7,1990,"Horst Völkel",{"$f":"IF(Ergebnistabelle[[#This Row],[Signatur]]<>\"\",\"Vorschau\",\"\")","v":"Vorschau"},{"$f":"IF(IFERROR(MATCH(Ergebnistabelle[[#This Row],[Bild-ID]],Merkliste!B:B,0),\"\")<>\"\",CHAR(252),\"\")","v":""},{"$f":"IF(Ergebnistabelle[[#This Row],[Bild-ID]]<>\"\",\"Merken\",\"\")","v":"Merken"},true,true,{"$f":"Ergebnistabelle[[#This Row],[Spalte1]]*Ergebnistabelle[[#This Row],[Spalte2]]","v":1},1,false,false,false,true,false,false,false,false,false,false,false,false,false,false,false,false,false,false,false,false,false,false,false,false,false,false,false,false,false,true,false,false,false,false,false,false,false,false,false,false,false,false,false,false,false,"2023-03-30",{"$f":"IF(Ergebnistabelle[[#This Row],[Spalte50]]>=Meldungen!$J$5,\"+\",\"\")","v":"+"}]
["203-527","HV-A2-03-05","Alser Str","2xArbBw","7132 "," ",null,27,4,1983,"Horst Völkel",{"$f":"IF(Ergebnistabelle[[#This Row],[Signatur]]<>\"\",\"Vorschau\",\"\")","v":"Vorschau"},{"$f":"IF(IFERROR(MATCH(Ergebnistabelle[[#This Row],[Bild-ID]],Merkliste!B:B,0),\"\")<>\"\",CHAR(252),\"\")","v":""},{"$f":"IF(Ergebnistabelle[[#This Row],[Bild-ID]]<>\"\",\"Merken\",\"\")","v":"Merken"},true,true,{"$f":"Ergebnistabelle[[#This Row],[Spalte1]]*Ergebnistabelle[[#This Row],[Spalte2]]","v":1},1,false,false,false,true,false,false,false,false,false,false,false,false,false,false,false,false,false,false,false,false,false,false,false,false,false,false,false,false,false,true,false,false,false,false,false,false,false,false,false,false,false,false,false,false,false,"2023-03-30",{"$f":"IF(Ergebnistabelle[[#This Row],[Spalte50]]>=Meldungen!$J$5,\"+\",\"\")","v":"+"}]
["203-528","HV-A2-03-10","HW Simmering","4xArbBw","7432 "," ",null,20,7,1990,"Horst Völkel",{"$f":"IF(Ergebnistabelle[[#This Row],[Signatur]]<>\"\",\"Vorschau\",\"\")","v":"Vorschau"},{"$f":"IF(IFERROR(MATCH(Ergebnistabelle[[#This Row],[Bild-ID]],Merkliste!B:B,0),\"\")<>\"\",CHAR(252),\"\")","v":""},{"$f":"IF(Ergebnistabelle[[#This Row],[Bild-ID]]<>\"\",\"Merken\",\"\")","v":"Merken"},true,true,{"$f":"Ergebnistabelle[[#This Row],[Spalte1]]*Ergebnistabelle[[#This Row],[Spalte2]]","v":1},1,false,false,false,true,false,false,false,false,false,false,false,false,false,false,false,false,false,false,false,false,false,false,false,false,false,false,false,false,false,true,false,false,false,false,false,false,false,false,false,false,false,false,false,false,false,"2023-03-30",{"$f":"IF(Ergebnistabelle[[#This Row],[Spalte50]]>=Meldungen!$J$5,\"+\",\"\")","v":"+"}]
["203-529","HV-A2-03-11","HW Simmering","4xArbBw","7435 "," ",null,20,7,1990,"Horst Völkel",{"$f":"IF(Ergebnistabelle[[#This Row],[Signatur]]<>\"\",\"Vorschau\",\"\")","v":"Vorschau"},{"$f":"IF(IFERROR(MATCH(Ergebnistabelle[[#This Row],[Bild-ID]],Merkliste!B:B,0),\"\")<>\"\",CHAR(252),\"\")","v":""},{"$f":"IF(Ergebnistabelle[[#This Row],[Bild-ID]]<>\"\",\"Merken\",\"\")","v":"Merken"},true,true,{"$f":"Ergebnistabelle[[#This Row],[Spalte1]]*Ergebnistabelle[[#This Row],[Spalte2]]","v":1},1,false,false,false,true,false,false,false,false,false,false,false,false,false,false,false,false,false,false,false,false,false,false,false,false,false,false,false,false,false,true,false,false,false,false,false,false,false,false,false,false,false,false,false,false,false,"2023-03-30",{"$f":"IF(Ergebnistabelle[[#This Row],[Spalte50]]>=Meldungen!$J$5,\"+\",\"\")","v":"+"}]
["203-530","HV-A2-03-12","Btf Michelbeuren","2xArbBw","7502 "," ",null,20,7,1990,"Horst Völkel",{"$f":"IF(Ergebnistabelle[[#This Row],[Signatur]]<>\"\",\"Vorschau\",\"\")","v":"Vorschau"},{"$f":"IF(IFERROR(MATCH(Ergebnistabelle[[#This Row],[Bild-ID]],Merkliste!B:B,0),\"\")<>\"\",CHAR(252),\"\")","v":""},{"$f":"IF(Ergebnistabelle[[#This Row],[Bild-ID]]<>\"\",\"Merken\",\"\")","v":"Merken"},true,true,{"$f":"Ergebnistabelle[[#This Row],[Spalte1]]*Ergebnistabelle[[#This Row],[Spalte2]]","v":1},1,false,false,false,true,false,false,false,false,false,false,false,false,false,false,false,false,false,false,false,false,false,false,false,false,false,false,false,false,false,true,false,false,false,false,false,false,false,false,false,false,false,false,false,false,false,"2023-03-30",{"$f":"IF(Ergebnistabelle[[#This Row],[Spalte50]]>=Meldungen!$J$5,\"+\",\"\")","v":"+"}]
["203-531","HV-A2-03-13","Alser Str","2xArbBw","7503 "," ",null,27,4,1983,"Horst Völkel",{"$f":"IF(Ergebnistabelle[[#This Row],[Signatur]]<>\"\",\"Vorschau\",\"\")","v":"Vorschau"},{"$f":"IF(IFERROR(MATCH(Ergebnistabelle[[#This Row],[Bild-ID]],Merkliste!B:B,0),\"\")<>\"\",CHAR(252),\"\")","v":""},{"$f":"IF(Ergebnistabelle[[#This Row],[Bild-ID]]<>\"\",\"Merken\",\"\")","v":"Merken"},true,true,{"$f":"Ergebnistabelle[[#This Row],[Spalte1]]*Ergebnistabelle[[#This Row],[Spalte2]]","v":1},1,false,false,false,true,false,false,false,false,false,false,false,false,false,false,false,false,false,false,false,false,false,false,false,false,false,false,false,false,false,true,false,false,false,false,false,false,false,false,false,false,false,false,false,false,false,"2023-03-30",{"$f":"IF(Ergebnistabelle[[#This Row],[Spalte50]]>=Meldungen!$J$5,\"+\",\"\")","v":"+"}]
["203-532","HV-A2-03-14","Alser Str","2xArbBw","7508 "," ",null,13,2,1985,"Horst Völkel",{"$f":"IF(Ergebnistabelle[[#This Row],[Signatur]]<>\"\",\"Vorschau\",\"\")","v":"Vorschau"},{"$f":"IF(IFERROR(MATCH(Ergebnistabelle[[#This Row],[Bild-ID]],Merkliste!B:B,0),\"\")<>\"\",CHAR(252),\"\")","v":""},{"$f":"IF(Ergebnistabelle[[#This Row],[Bild-ID]]<>\"\",\"Merken\",\"\")","v":"Merken"},true,true,{"$f":"Ergebnistabelle[[#This Row],[Spalte1]]*Ergebnistabelle[[#This Row],[Spalte2]]","v":1},1,false,false,false,true,false,false,false,false,false,false,false,false,false,false,false,false,false,false,false,false,false,false,false,false,false,false,false,false,false,true,false,false,false,false,false,false,false,false,false,false,false,false,false,false,false,"2023-03-30",{"$f":"IF(Ergebnistabelle[[#This Row],[Spalte50]]>=Meldungen!$J$5,\"+\",\"\")","v":"+"}]
["203-533","HV-A2-03-15","Alser Str","2xArbBw","7510 "," ",null,13,2,1985,"Horst Völkel",{"$f":"IF(Ergebnistabelle[[#This Row],[Signatur]]<>\"\",\"Vorschau\",\"\")","v":"Vorschau"},{"$f":"IF(IFERROR(MATCH(Ergebnistabelle[[#This Row],[Bild-ID]],Merkliste!B:B,0),\"\")<>\"\",CHAR(252),\"\")","v":""},{"$f":"IF(Ergebnistabelle[[#This Row],[Bild-ID]]<>\"\",\"Merken\",\"\")","v":"Merken"},true,true,{"$f":"Ergebnistabelle[[#This Row],[Spalte1]]*Ergebnistabelle[[#This Row],[Spalte2]]","v":1},1,false,false,false,true,false,false,false,false,false,false,false,false,false,false,false,false,false,false,false,false,false,false,false,false,false,false,false,false,false,true,false,false,false,false,false,false,false,false,false,false,false,false,false,false,false,"2023-03-30",{"$f":"IF(Ergebnistabelle[[#This Row],[Spalte50]]>=Meldungen!$J$5,\"+\",\"\")","v":"+"}]
["203-534","HV-A2-03-16","Btf Michelbeuren","2xArbBw","7513 "," ",null,20,7,1990,"Horst Völkel",{"$f":"IF(Ergebnistabelle[[#This Row],[Signatur]]<>\"\",\"Vorschau\",\"\")","v":"Vorschau"},{"$f":"IF(IFERROR(MATCH(Ergebnistabelle[[#This Row],[Bild-ID]],Merkliste!B:B,0),\"\")<>\"\",CHAR(252),\"\")","v":""},{"$f":"IF(Ergebnistabelle[[#This Row],[Bild-ID]]<>\"\",\"Merken\",\"\")","v":"Merken"},true,true,{"$f":"Ergebnistabelle[[#This Row],[Spalte1]]*Ergebnistabelle[[#This Row],[Spalte2]]","v":1},1,false,false,false,true,false,false,false,false,false,false,false,false,false,false,false,false,false,false,false,false,false,false,false,false,false,false,false,false,false,true,false,false,false,false,false,false,false,false,false,false,false,false,false,false,false,"2023-03-30",{"$f":"IF(Ergebnistabelle[[#This Row],[Spalte50]]>=Meldungen!$J$5,\"+\",\"\")","v":"+"}]
["203-535","HV-A2-03-17","HW Simmering","2xArbBw","7522 "," ",null,20,7,1990,"Horst Völkel",{"$f":"IF(Ergebnistabelle[[#This Row],[Signatur]]<>\"\",\"Vorschau\",\"\")","v":"Vorschau"},{"$f":"IF(IFERROR(MATCH(Ergebnistabelle[[#This Row],[Bild-ID]],Merkliste!B:B,0),\"\")<>\"\",CHAR(252),\"\")","v":""},{"$f":"IF(Ergebnistabelle[[#This Row],[Bild-ID]]<>\"\",\"Merken\",\"\")","v":"Merken"},true,true,{"$f":"Ergebnistabelle[[#This Row],[Spalte1]]*Ergebnistabelle[[#This Row],[Spalte2]]","v":1},1,false,false,false,true,false,false,false,false,false,false,false,false,false,false,false,false,false,false,false,false,false,false,false,false,false,false,false,false,false,true,false,false,false,false,false,false,false,false,false,false,false,false,false,false,false,"2023-03-30",{"$f":"IF(Ergebnistabelle[[#This Row],[Spalte50]]>=Meldungen!$J$5,\"+\",\"\")","v":"+"}]
["203-536","HV-A2-03-18","Btf Ottakring","2xArbBw","7543 "," ",null,9,8,1975,"Horst Völkel",{"$f":"IF(Ergebnistabelle[[#This Row],[Signatur]]<>\"\",\"Vorschau\",\"\")","v":"Vorschau"},{"$f":"IF(IFERROR(MATCH(Ergebnistabelle[[#This Row],[Bild-ID]],Merkliste!B:B,0),\"\")<>\"\",CHAR(252),\"\")","v":""},{"$f":"IF(Ergebnistabelle[[#This Row],[Bild-ID]]<>\"\",\"Merken\",\"\")","v":"Merken"},true,true,{"$f":"Ergebnistabelle[[#This Row],[Spalte1]]*Ergebnistabelle[[#This Row],[Spalte2]]","v":1},1,false,false,false,true,false,false,false,false,false,false,false,false,false,false,false,false,false,false,false,false,false,false,false,false,false,false,false,false,false,true,false,false,false,false,false,false,false,false,false,false,false,false,false,false,false,"2023-03-30",{"$f":"IF(Ergebnistabelle[[#This Row],[Spalte50]]>=Meldungen!$J$5,\"+\",\"\")","v":"+"}]
["203-537","HV-A2-03-19","Btf Brigittenau","2xArbBw","7563 "," ",null,20,7,1990,"Horst Völkel",{"$f":"IF(Ergebnistabelle[[#This Row],[Signatur]]<>\"\",\"Vorschau\",\"\")","v":"Vorschau"},{"$f":"IF(IFERROR(MATCH(Ergebnistabelle[[#This Row],[Bild-ID]],Merkliste!B:B,0),\"\")<>\"\",CHAR(252),\"\")","v":""},{"$f":"IF(Ergebnistabelle[[#This Row],[Bild-ID]]<>\"\",\"Merken\",\"\")","v":"Merken"},true,true,{"$f":"Ergebnistabelle[[#This Row],[Spalte1]]*Ergebnistabelle[[#This Row],[Spalte2]]","v":1},1,false,false,false,true,false,false,false,false,false,false,false,false,false,false,false,false,false,false,false,false,false,false,false,false,false,false,false,false,false,true,false,false,false,false,false,false,false,false,false,false,false,false,false,false,false,"2023-03-30",{"$f":"IF(Ergebnistabelle[[#This Row],[Spalte50]]>=Meldungen!$J$5,\"+\",\"\")","v":"+"}]
["203-538","HV-A2-03-20","HW Simmering","2xArbBw"," "," ","abgestellt",20,7,1990,"Horst Völkel",{"$f":"IF(Ergebnistabelle[[#This Row],[Signatur]]<>\"\",\"Vorschau\",\"\")","v":"Vorschau"},{"$f":"IF(IFERROR(MATCH(Ergebnistabelle[[#This Row],[Bild-ID]],Merkliste!B:B,0),\"\")<>\"\",CHAR(252),\"\")","v":""},{"$f":"IF(Ergebnistabelle[[#This Row],[Bild-ID]]<>\"\",\"Merken\",\"\")","v":"Merken"},true,true,{"$f":"Ergebnistabelle[[#This Row],[Spalte1]]*Ergebnistabelle[[#This Row],[Spalte2]]","v":1},1,false,false,false,true,false,false,false,false,false,false,false,false,false,false,false,false,false,false,false,false,false,false,false,false,false,false,false,false,false,true,false,false,false,false,false,false,false,false,false,false,false,false,false,false,false,"2023-03-30",{"$f":"IF(Ergebnistabelle[[#This Row],[Spalte50]]>=Meldungen!$J$5,\"+\",\"\")","v":"+"}]
["203-539","HV-A2-03-21","Btf Brigittenau","2xArbBw","7564 "," ",null,20,7,1990,"Horst Völkel",{"$f":"IF(Ergebnistabelle[[#This Row],[Signatur]]<>\"\",\"Vorschau\",\"\")","v":"Vorschau"},{"$f":"IF(IFERROR(MATCH(Ergebnistabelle[[#This Row],[Bild-ID]],Merkliste!B:B,0),\"\")<>\"\",CHAR(252),\"\")","v":""},{"$f":"IF(Ergebnistabelle[[#This Row],[Bild-ID]]<>\"\",\"Merken\",\"\")","v":"Merken"},true,true,{"$f":"Ergebnistabelle[[#This Row],[Spalte1]]*Ergebnistabelle[[#This Row],[Spalte2]]","v":1},1,false,false,false,true,false,false,false,false,false,false,false,false,false,false,false,false,false,false,false,false,false,false,false,false,false,false,false,false,false,true,false,false,false,false,false,false,false,false,false,false,false,false,false,false,false,"2023-03-30",{"$f":"IF(Ergebnistabelle[[#This Row],[Spalte50]]>=Meldungen!$J$5,\"+\",\"\")","v":"+"}]
["203-540","HV-A2-03-22","Btf Brigittenau","2xArbBw","7965 "," ",null,20,7,1990,"Horst Völkel",{"$f":"IF(Ergebnistabelle[[#This Row],[Signatur]]<>\"\",\"Vorschau\",\"\")","v":"Vorschau"},{"$f":"IF(IFERROR(MATCH(Ergebnistabelle[[#This Row],[Bild-ID]],Merkliste!B:B,0),\"\")<>\"\",CHAR(252),\"\")","v":""},{"$f":"IF(Ergebnistabelle[[#This Row],[Bild-ID]]<>\"\",\"Merken\",\"\")","v":"Merken"},true,true,{"$f":"Ergebnistabelle[[#This Row],[Spalte1]]*Ergebnistabelle[[#This Row],[Spalte2]]","v":1},1,false,false,false,true,false,false,false,false,false,false,false,false,false,false,false,false,false,false,false,false,false,false,false,false,false,false,false,false,false,true,false,false,false,false,false,false,false,false,false,false,false,false,false,false,false,"2023-03-30",{"$f":"IF(Ergebnistabelle[[#This Row],[Spalte50]]>=Meldungen!$J$5,\"+\",\"\")","v":"+"}]
["203-541","HV-A2-03-23","HW Simmering","Klein-Lkw\n \nKlein-Lkw","9018 \n \n9016 "," \n \n ","Winterdienst",20,7,1990,"Horst Völkel",{"$f":"IF(Ergebnistabelle[[#This Row],[Signatur]]<>\"\",\"Vorschau\",\"\")","v":"Vorschau"},{"$f":"IF(IFERROR(MATCH(Ergebnistabelle[[#This Row],[Bild-ID]],Merkliste!B:B,0),\"\")<>\"\",CHAR(252),\"\")","v":""},{"$f":"IF(Ergebnistabelle[[#This Row],[Bild-ID]]<>\"\",\"Merken\",\"\")","v":"Merken"},true,true,{"$f":"Ergebnistabelle[[#This Row],[Spalte1]]*Ergebnistabelle[[#This Row],[Spalte2]]","v":1},1,false,false,false,true,false,false,false,false,false,false,false,false,false,false,false,false,false,false,false,false,false,false,false,false,false,false,false,false,false,false,true,false,false,false,false,false,false,false,false,false,false,false,false,false,false,"2023-03-30",{"$f":"IF(Ergebnistabelle[[#This Row],[Spalte50]]>=Meldungen!$J$5,\"+\",\"\")","v":"+"}]
["203-542","HV-A2-03-24","HW Simmering","Klein-Lkw\n \nKlein-Lkw","9016 \n \n9018 "," \n \n ","Winterdienst",20,7,1990,"Horst Völkel",{"$f":"IF(Ergebnistabelle[[#This Row],[Signatur]]<>\"\",\"Vorschau\",\"\")","v":"Vorschau"},{"$f":"IF(IFERROR(MATCH(Ergebnistabelle[[#This Row],[Bild-ID]],Merkliste!B:B,0),\"\")<>\"\",CHAR(252),\"\")","v":""},{"$f":"IF(Ergebnistabelle[[#This Row],[Bild-ID]]<>\"\",\"Merken\",\"\")","v":"Merken"},{"$f":"IF(IFERROR(MATCH(R546,$BL$3:$UP$3,0),FALSE)<>FALSE,TRUE)","v":true},{"$f":"OR(S546=S$3, W546=W$3, AA546=AA$3, AB546=AB$3, AC546=AC$3, AD546=AD$3, AE546=AE$3, AF546=AF$3, AG546=AG$3, AH546=AH$3, AI546=AI$3, AJ546=AJ$3, AK546=AK$3, AL546=AL$3, AM546=AM$3, AN546=AN$3, AO546=AO$3, AP546=AP$3, AQ546=AQ$3, AR546=AR$3, AS546=AS$3, AT546=AT$3, AU546=AU$3, AV546=AV$3, AW546=AW$3, AX546=AX$3, AY546=AY$3, AZ546=AZ$3, BA546=BA$3, BB546=BB$3, BC546=BC$3, BD546=BD$3, BE546=BE$3, BF546=BF$3, BG546=BG$3, BH546=BH$3, BI546=BI$3, BJ546=BJ$3, BK546=BK$3)","v":true},{"$f":"Ergebnistabelle[[#This Row],[Spalte1]]*Ergebnistabelle[[#This Row],[Spalte2]]","v":1},1,false,false,false,true,false,false,false,false,false,false,false,false,false,false,false,false,false,false,false,false,false,false,false,false,false,false,false,false,false,false,true,false,false,false,false,false,false,false,false,false,false,false,false,false,false,"2023-03-30",{"$f":"IF(Ergebnistabelle[[#This Row],[Spalte50]]>=Meldungen!$J$5,\"+\",\"\")","v":"+"}]
["203-543","HV-A2-03-26","HW Simmering",null," "," ","Schneepflugvorsätze",20,7,1990,"Horst Völkel",{"$f":"IF(Ergebnistabelle[[#This Row],[Signatur]]<>\"\",\"Vorschau\",\"\")","v":"Vorschau"},{"$f":"IF(IFERROR(MATCH(Ergebnistabelle[[#This Row],[Bild-ID]],Merkliste!B:B,0),\"\")<>\"\",CHAR(252),\"\")","v":""},{"$f":"IF(Ergebnistabelle[[#This Row],[Bild-ID]]<>\"\",\"Merken\",\"\")","v":"Merken"},true,true,{"$f":"Ergebnistabelle[[#This Row],[Spalte1]]*Ergebnistabelle[[#This Row],[Spalte2]]","v":1},1,false,false,false,true,false,false,false,false,false,false,false,false,false,false,false,false,false,false,false,false,false,false,false,false,false,false,false,false,false,true,false,false,false,false,false,false,false,false,false,false,false,false,false,false,false,"2023-03-30",{"$f":"IF(Ergebnistabelle[[#This Row],[Spalte50]]>=Meldungen!$J$5,\"+\",\"\")","v":"+"}]
["203-544","HV-A2-03-34","HW Simmering","2xArbTw","6901 "," ","für U-Bahn",20,7,1990,"Horst Völkel",{"$f":"IF(Ergebnistabelle[[#This Row],[Signatur]]<>\"\",\"Vorschau\",\"\")","v":"Vorschau"},{"$f":"IF(IFERROR(MATCH(Ergebnistabelle[[#This Row],[Bild-ID]],Merkliste!B:B,0),\"\")<>\"\",CHAR(252),\"\")","v":""},{"$f":"IF(Ergebnistabelle[[#This Row],[Bild-ID]]<>\"\",\"Merken\",\"\")","v":"Merken"},true,true,{"$f":"Ergebnistabelle[[#This Row],[Spalte1]]*Ergebnistabelle[[#This Row],[Spalte2]]","v":1},1,false,false,false,false,false,false,false,true,false,false,false,false,false,false,false,false,false,false,false,false,false,false,false,false,false,false,false,false,false,false,false,false,false,false,false,false,false,false,false,false,false,false,false,true,false,"2023-03-30",{"$f":"IF(Ergebnistabelle[[#This Row],[Spalte50]]>=Meldungen!$J$5,\"+\",\"\")","v":"+"}]
["203-545","HV-A2-03-35","Heiligenstadt","Diesellok\n+Diesellok","6911 \n6912 "," \n ","U-Bahn",9,8,1975,"Horst Völkel",{"$f":"IF(Ergebnistabelle[[#This Row],[Signatur]]<>\"\",\"Vorschau\",\"\")","v":"Vorschau"},{"$f":"IF(IFERROR(MATCH(Ergebnistabelle[[#This Row],[Bild-ID]],Merkliste!B:B,0),\"\")<>\"\",CHAR(252),\"\")","v":""},{"$f":"IF(Ergebnistabelle[[#This Row],[Bild-ID]]<>\"\",\"Merken\",\"\")","v":"Merken"},true,true,{"$f":"Ergebnistabelle[[#This Row],[Spalte1]]*Ergebnistabelle[[#This Row],[Spalte2]]","v":1},1,false,false,false,false,false,false,false,true,false,false,false,false,false,false,false,false,false,false,false,false,false,false,false,false,false,false,false,false,false,false,false,false,false,false,false,false,false,false,false,false,false,false,false,true,false,"2023-03-30",{"$f":"IF(Ergebnistabelle[[#This Row],[Spalte50]]>=Meldungen!$J$5,\"+\",\"\")","v":"+"}]
["203-546","HV-A2-03-36","HW Simmering","4xArbTw","6931 "," ","für U-Bahn",20,7,1990,"Horst Völkel",{"$f":"IF(Ergebnistabelle[[#This Row],[Signatur]]<>\"\",\"Vorschau\",\"\")","v":"Vorschau"},{"$f":"IF(IFERROR(MATCH(Ergebnistabelle[[#This Row],[Bild-ID]],Merkliste!B:B,0),\"\")<>\"\",CHAR(252),\"\")","v":""},{"$f":"IF(Ergebnistabelle[[#This Row],[Bild-ID]]<>\"\",\"Merken\",\"\")","v":"Merken"},true,true,{"$f":"Ergebnistabelle[[#This Row],[Spalte1]]*Ergebnistabelle[[#This Row],[Spalte2]]","v":1},1,false,false,false,false,false,false,false,true,false,false,false,false,false,false,false,false,false,false,false,false,false,false,false,false,false,false,false,false,false,false,false,false,false,false,false,false,false,false,false,false,false,false,false,true,false,"2023-03-30",{"$f":"IF(Ergebnistabelle[[#This Row],[Spalte50]]>=Meldungen!$J$5,\"+\",\"\")","v":"+"}]
["203-547","HV-A2-03-39","HW Simmering","2xArbBw","7954 "," ",null,20,7,1990,"Horst Völkel",{"$f":"IF(Ergebnistabelle[[#This Row],[Signatur]]<>\"\",\"Vorschau\",\"\")","v":"Vorschau"},{"$f":"IF(IFERROR(MATCH(Ergebnistabelle[[#This Row],[Bild-ID]],Merkliste!B:B,0),\"\")<>\"\",CHAR(252),\"\")","v":""},{"$f":"IF(Ergebnistabelle[[#This Row],[Bild-ID]]<>\"\",\"Merken\",\"\")","v":"Merken"},true,true,{"$f":"Ergebnistabelle[[#This Row],[Spalte1]]*Ergebnistabelle[[#This Row],[Spalte2]]","v":1},1,false,false,false,true,false,false,false,false,false,false,false,false,false,false,false,false,false,false,false,false,false,false,false,false,false,false,false,false,false,true,false,false,false,false,false,false,false,false,false,false,false,false,false,false,false,"2023-03-30",{"$f":"IF(Ergebnistabelle[[#This Row],[Spalte50]]>=Meldungen!$J$5,\"+\",\"\")","v":"+"}]
["203-548","HV-A2-03-44","St. Marx","4xGrwTw\n+4xGrwBw","138 \n1538 ","46 \n46 ",null,9,3,1974,"Slg. Horst Völkel",{"$f":"IF(Ergebnistabelle[[#This Row],[Signatur]]<>\"\",\"Vorschau\",\"\")","v":"Vorschau"},{"$f":"IF(IFERROR(MATCH(Ergebnistabelle[[#This Row],[Bild-ID]],Merkliste!B:B,0),\"\")<>\"\",CHAR(252),\"\")","v":""},{"$f":"IF(Ergebnistabelle[[#This Row],[Bild-ID]]<>\"\",\"Merken\",\"\")","v":"Merken"},true,true,{"$f":"Ergebnistabelle[[#This Row],[Spalte1]]*Ergebnistabelle[[#This Row],[Spalte2]]","v":1},1,false,true,true,false,false,false,false,false,false,false,true,false,false,false,false,false,false,false,false,false,true,false,false,false,false,false,false,false,false,false,false,false,false,false,false,false,false,false,false,false,false,false,false,false,false,"2023-03-30",{"$f":"IF(Ergebnistabelle[[#This Row],[Spalte50]]>=Meldungen!$J$5,\"+\",\"\")","v":"+"}]
["203-549","HV-A2-03-50","Meidling Hauptstr.","6xGelTw\n+6xGelBw\n+6xGelTw","4924 \n1917 \n4931 ","G \nG \nG ",null,23,4,1983,"Slg. Horst Völkel",{"$f":"IF(Ergebnistabelle[[#This Row],[Signatur]]<>\"\",\"Vorschau\",\"\")","v":"Vorschau"},{"$f":"IF(IFERROR(MATCH(Ergebnistabelle[[#This Row],[Bild-ID]],Merkliste!B:B,0),\"\")<>\"\",CHAR(252),\"\")","v":""},{"$f":"IF(Ergebnistabelle[[#This Row],[Bild-ID]]<>\"\",\"Merken\",\"\")","v":"Merken"},true,true,{"$f":"Ergebnistabelle[[#This Row],[Spalte1]]*Ergebnistabelle[[#This Row],[Spalte2]]","v":1},1,false,false,false,false,false,false,false,true,false,false,false,false,false,false,false,false,false,false,false,false,false,false,false,false,false,false,false,false,false,false,false,false,false,false,false,false,false,false,false,false,false,false,true,false,false,"2023-03-30",{"$f":"IF(Ergebnistabelle[[#This Row],[Spalte50]]>=Meldungen!$J$5,\"+\",\"\")","v":"+"}]
["203-550","HV-A2-03-51",null,"2xTw\n+4xGrwBw\n+4xGrwBw","501 \n1782 \n ","62 \n62 \n62 ",{"$nulls":4},"Slg. Horst Völkel",{"$f":"IF(Ergebnistabelle[[#This Row],[Signatur]]<>\"\",\"Vorschau\",\"\")","v":"Vorschau"},{"$f":"IF(IFERROR(MATCH(Ergebnistabelle[[#This Row],[Bild-ID]],Merkliste!B:B,0),\"\")<>\"\",CHAR(252),\"\")","v":""},{"$f":"IF(Ergebnistabelle[[#This Row],[Bild-ID]]<>\"\",\"Merken\",\"\")","v":"Merken"},true,true,{"$f":"Ergebnistabelle[[#This Row],[Spalte1]]*Ergebnistabelle[[#This Row],[Spalte2]]","v":1},1,false,true,true,false,false,false,false,false,true,false,false,false,false,false,false,false,false,false,false,false,true,false,false,false,false,false,false,false,false,false,false,false,false,false,false,false,false,false,false,false,false,false,false,false,false,"2023-03-30",{"$f":"IF(Ergebnistabelle[[#This Row],[Spalte50]]>=Meldungen!$J$5,\"+\",\"\")","v":"+"}]
["203-551","HV-A2-03-54","Friedensbrücke","6xGelTw\n+6xGelBw\n+6xGelBw\n+6xGelTw","4917 \n1910 \n1908 \n4910 ","G \nG \nG \nG ",null,18,4,1983,"Slg. Horst Völkel",{"$f":"IF(Ergebnistabelle[[#This Row],[Signatur]]<>\"\",\"Vorschau\",\"\")","v":"Vorschau"},{"$f":"IF(IFERROR(MATCH(Ergebnistabelle[[#This Row],[Bild-ID]],Merkliste!B:B,0),\"\")<>\"\",CHAR(252),\"\")","v":""},{"$f":"IF(Ergebnistabelle[[#This Row],[Bild-ID]]<>\"\",\"Merken\",\"\")","v":"Merken"},true,true,{"$f":"Ergebnistabelle[[#This Row],[Spalte1]]*Ergebnistabelle[[#This Row],[Spalte2]]","v":1},1,false,false,false,false,false,false,false,true,false,false,false,false,false,false,false,false,false,false,false,false,false,false,false,false,false,false,false,false,false,false,false,false,false,false,false,false,false,false,false,false,false,false,true,false,false,"2023-03-30",{"$f":"IF(Ergebnistabelle[[#This Row],[Spalte50]]>=Meldungen!$J$5,\"+\",\"\")","v":"+"}]
["203-552","HV-A2-03-55","Akademiestr","6xGelTw","4737 ","65 ",null,29,6,1974,"Slg. Horst Völkel",{"$f":"IF(Ergebnistabelle[[#This Row],[Signatur]]<>\"\",\"Vorschau\",\"\")","v":"Vorschau"},{"$f":"IF(IFERROR(MATCH(Ergebnistabelle[[#This Row],[Bild-ID]],Merkliste!B:B,0),\"\")<>\"\",CHAR(252),\"\")","v":""},{"$f":"IF(Ergebnistabelle[[#This Row],[Bild-ID]]<>\"\",\"Merken\",\"\")","v":"Merken"},true,true,{"$f":"Ergebnistabelle[[#This Row],[Spalte1]]*Ergebnistabelle[[#This Row],[Spalte2]]","v":1},1,false,true,false,false,false,false,false,false,false,false,false,false,true,false,false,false,false,false,false,false,false,false,false,false,false,false,false,false,false,false,false,false,false,false,false,false,false,false,false,false,false,false,false,false,false,"2023-03-30",{"$f":"IF(Ergebnistabelle[[#This Row],[Spalte50]]>=Meldungen!$J$5,\"+\",\"\")","v":"+"}]
["203-553","HV-A2-03-59","Josefstädter Str","4xGelTw","744 ","31/5 ",null,4,11,1975,"Slg. Horst Völkel",{"$f":"IF(Ergebnistabelle[[#This Row],[Signatur]]<>\"\",\"Vorschau\",\"\")","v":"Vorschau"},{"$f":"IF(IFERROR(MATCH(Ergebnistabelle[[#This Row],[Bild-ID]],Merkliste!B:B,0),\"\")<>\"\",CHAR(252),\"\")","v":""},{"$f":"IF(Ergebnistabelle[[#This Row],[Bild-ID]]<>\"\",\"Merken\",\"\")","v":"Merken"},true,true,{"$f":"Ergebnistabelle[[#This Row],[Spalte1]]*Ergebnistabelle[[#This Row],[Spalte2]]","v":1},1,false,true,false,false,false,false,false,false,false,false,false,true,false,false,false,false,false,false,false,false,false,false,false,false,false,false,false,false,false,false,false,false,false,false,false,false,false,false,false,false,false,false,false,false,false,"2023-03-30",{"$f":"IF(Ergebnistabelle[[#This Row],[Spalte50]]>=Meldungen!$J$5,\"+\",\"\")","v":"+"}]
["203-554","HV-A2-04-02","Reumannplatz","2xTw\n+4xGrwBw","533 \n ","65 \n65 ",null,26,4,1985,"Slg. Horst Völkel",{"$f":"IF(Ergebnistabelle[[#This Row],[Signatur]]<>\"\",\"Vorschau\",\"\")","v":"Vorschau"},{"$f":"IF(IFERROR(MATCH(Ergebnistabelle[[#This Row],[Bild-ID]],Merkliste!B:B,0),\"\")<>\"\",CHAR(252),\"\")","v":""},{"$f":"IF(Ergebnistabelle[[#This Row],[Bild-ID]]<>\"\",\"Merken\",\"\")","v":"Merken"},true,true,{"$f":"Ergebnistabelle[[#This Row],[Spalte1]]*Ergebnistabelle[[#This Row],[Spalte2]]","v":1},1,false,true,true,false,false,false,false,false,true,false,false,false,false,false,false,false,false,false,false,false,true,false,false,false,false,false,false,false,false,false,false,false,false,false,false,false,false,false,false,false,false,false,false,false,false,"2023-03-30",{"$f":"IF(Ergebnistabelle[[#This Row],[Spalte50]]>=Meldungen!$J$5,\"+\",\"\")","v":"+"}]

{"sheet":"Galerie","index":6,"n_rows":304,"n_cols":22,"rows_kept":304,"merged":[[0,0,0,16],[1,7,1,8],[1,11,1,12],[2,1,2,3],[2,5,2,7],[2,9,2,11],[2,13,2,15],[3,1,3,3],[3,5,3,7],[3,9,3,11],[3,13,3,15],[5,1,5,3],[5,5,5,7],[5,9,5,11],[5,13,5,15],[7,1,7,3],[7,5,7,7],[7,9,7,11],[7,13,7,15],[9,1,9,3],[9,5,9,7],[9,9,9,11],[9,13,9,15],[10,1,10,3],[10,5,10,7],[10,9,10,11],[10,13,10,15],[13,1,13,3],[13,5,13,7],[13,9,13,11],[13,13,13,15],[15,1,15,3],[15,5,15,7],[15,9,15,11],[15,13,15,15],[17,1,17,3],[17,5,17,7],[17,9,17,11],[17,13,17,15],[19,1,19,3],[19,5,19,7],[19,9,19,11],[19,13,19,15],[20,1,20,3],[20,5,20,7],[20,9,20,11],[20,13,20,15]]}
[{"$f":"Ergebnisse!A1","v":"Österreich: Wien (203)"}]
[{"$nulls":6},{"$f":"COUNTA(A101:A2100)","v":204},"< Bilder mit \n< Vorschau",{"$nulls":3},{"$f":"Merkliste!F2","v":0},null,"Seite",25,"von",{"$f":"ROUNDUP(G2/8,0)","v":26}]
[null,293,{"$nulls":3},294,{"$nulls":3},295,{"$nulls":3},296]
[null,{"$f":"IF(D5<>\"\",IFERROR(InsertPicFromURL(\"https://bildarchiv.vdva.org/\"&D5&\".jpg\"),\"Bild nicht verfügbar\"),\"\")","v":""},{"$nulls":3},{"$f":"IF(H5<>\"\",IFERROR(InsertPicFromURL(\"https://bildarchiv.vdva.org/\"&H5&\".jpg\"),\"\"),\"\")","v":""},{"$nulls":3},{"$f":"IF(L5<>\"\",IFERROR(InsertPicFromURL(\"https://bildarchiv.vdva.org/\"&L5&\".jpg\"),\"\"),\"\")","v":""},{"$nulls":3},{"$f":"IF(P5<>\"\",IFERROR(InsertPicFromURL(\"https://bildarchiv.vdva.org/\"&P5&\".jpg\"),\"\"),\"\")","v":""}]
[]
[null,{"$f":"IF(S6=\"\",\"\",S6)","v":"HW Simmering"},{"$nulls":3},{"$f":"IF(T6=\"\",\"\",T6)","v":"HW Simmering"},{"$nulls":3},{"$f":"IF(U6=\"\",\"\",U6)","v":"Heiligenstadt"},{"$nulls":3},{"$f":"IF(V6=\"\",\"\",V6)","v":"HW Simmering"},{"$nulls":4},"HW Simmering","HW Simmering","Heiligenstadt","HW Simmering"]
[null,null," "," ",null,"2xArbTw","6901 "," ",null,"Diesellok\n+Diesellok","6911 \n6912 "," \n ",null,"4xArbTw","6931 "," "]
[null,{"$f":"IF(S8=\"\",\"\",S8)","v":"Schneepflugvorsätze"},{"$nulls":3},{"$f":"IF(T8=\"\",\"\",T8)","v":"für U-Bahn"},{"$nulls":3},{"$f":"IF(U8=\"\",\"\",U8)","v":"U-Bahn"},{"$nulls":3},{"$f":"IF(V8=\"\",\"\",V8)","v":"für U-Bahn"},{"$nulls":4},"Schneepflugvorsätze","für U-Bahn","U-Bahn","für U-Bahn"]
[null,20,7,1990,null,20,7,1990,null,9,8,1975,null,20,7,1990]
[null,{"$f":"IF(S10=\"\",\"\",S10)","v":"Horst Völkel"},{"$nulls":3},{"$f":"IF(T10=\"\",\"\",T10)","v":"Horst Völkel"},{"$nulls":3},{"$f":"IF(U10=\"\",\"\",U10)","v":"Horst Völkel"},{"$nulls":3},{"$f":"IF(V10=\"\",\"\",V10)","v":"Horst Völkel"},{"$nulls":4},"Horst Völkel","Horst Völkel","Horst Völkel","Horst Völkel"]
[null,{"$f":"IF(IFERROR(MATCH(B5,Merkliste!$B:$B,0),\"\")<>\"\",CHAR(252),\"\")","v":""},{"$nulls":3},{"$f":"IF(IFERROR(MATCH(F5,Merkliste!$B:$B,0),\"\")<>\"\",CHAR(252),\"\")","v":""},{"$nulls":3},{"$f":"IF(IFERROR(MATCH(J5,Merkliste!$B:$B,0),\"\")<>\"\",CHAR(252),\"\")","v":""},{"$nulls":3},{"$f":"IF(IFERROR(MATCH(N5,Merkliste!$B:$B,0),\"\")<>\"\",CHAR(252),\"\")","v":""}]
[]
[null,297,{"$nulls":3},298,{"$nulls":3},299,{"$nulls":3},300]
[null,{"$f":"IF(D15<>\"\",IFERROR(InsertPicFromURL(\"https://bildarchiv.vdva.org/\"&D15&\".jpg\"),\"\"),\"\")","v":""},{"$nulls":3},{"$f":"IF(H15<>\"\",IFERROR(InsertPicFromURL(\"https://bildarchiv.vdva.org/\"&H15&\".jpg\"),\"\"),\"\")","v":""},{"$nulls":3},{"$f":"IF(L15<>\"\",IFERROR(InsertPicFromURL(\"https://bildarchiv.vdva.org/\"&L15&\".jpg\"),\"\"),\"\")","v":""},{"$nulls":3},{"$f":"IF(P15<>\"\",IFERROR(InsertPicFromURL(\"https://bildarchiv.vdva.org/\"&P15&\".jpg\"),\"\"),\"\")","v":""}]
[]
[null,{"$f":"IF(S16=\"\",\"\",S16)","v":"HW Simmering"},{"$nulls":3},{"$f":"IF(T16=\"\",\"\",T16)","v":"St. Marx"},{"$nulls":3},{"$f":"IF(U16=\"\",\"\",U16)","v":"Meidling Hauptstr."},{"$nulls":3},{"$f":"IF(V16=\"\",\"\",V16)","v":""},{"$nulls":4},"HW Simmering","St. Marx","Meidling Hauptstr."]
[null,"2xArbBw","7954 "," ",null,"4xGrwTw\n+4xGrwBw","138 \n1538 ","46 \n46 ",null,"6xGelTw\n+6xGelBw\n+6xGelTw","4924 \n1917 \n4931 ","G \nG \nG ",null,"2xTw\n+4xGrwBw\n+4xGrwBw","501 \n1782 \n ","62 \n62 \n62 "]
[null,{"$f":"IF(S18=\"\",\"\",S18)","v":""},{"$nulls":3},{"$f":"IF(T18=\"\",\"\",T18)","v":""},{"$nulls":3},{"$f":"IF(U18=\"\",\"\",U18)","v":""},{"$nulls":3},{"$f":"IF(V18=\"\",\"\",V18)","v":""}]
[null,20,7,1990,null,9,3,1974,null,23,4,1983]
[null,{"$f":"IF(S20=\"\",\"\",S20)","v":"Horst Völkel"},{"$nulls":3},{"$f":"IF(T20=\"\",\"\",T20)","v":"Slg. Horst Völkel"},{"$nulls":3},{"$f":"IF(U20=\"\",\"\",U20)","v":"Slg. Horst Völkel"},{"$nulls":3},{"$f":"IF(V20=\"\",\"\",V20)","v":"Slg. Horst Völkel"},{"$nulls":4},"Horst Völkel","Slg. Horst Völkel","Slg. Horst Völkel","Slg. Horst Völkel"]
[null,{"$f":"IF(IFERROR(MATCH(B15,Merkliste!$B:$B,0),\"\")<>\"\",CHAR(252),\"\")","v":""},{"$nulls":3},{"$f":"IF(IFERROR(MATCH(F15,Merkliste!$B:$B,0),\"\")<>\"\",CHAR(252),\"\")","v":""},{"$nulls":3},{"$f":"IF(IFERROR(MATCH(J15,Merkliste!$B:$B,0),\"\")<>\"\",CHAR(252),\"\")","v":""},{"$nulls":3},{"$f":"IF(IFERROR(MATCH(N15,Merkliste!$B:$B,0),\"\")<>\"\",CHAR(252),\"\")","v":""}]
{"$rows_empty":79}
["203-351","HV-A1-10-43",null,"2xTw\n+2xBw","426 \n ","315 \n315 ",null,12,12,1953,"Slg. Horst Völkel"]
["203-352","HV-A1-10-44",null,"2xTw","430 ","117 ",null,21,8,1955,"Slg. Horst Völkel"]
["203-353","HV-A1-10-45",null,"2xTw","587 "," ",null,1,6,1954,"Slg. Horst Völkel"]
["203-354","HV-A1-10-47",null,"2xTw\n+2xBw","879 \n ","132 \n132 ",{"$nulls":4},"Slg. Horst Völkel"]
["203-355","HV-A1-11-01",null,"2xTw\n+2xBw","922 \n ","13 \n13 ",null,6,7,1954,"Slg. Horst Völkel"]
["203-356","HV-A1-11-05","Praterstern","2xTw","2032 "," ",null,12,10,1962,"Horst Völkel"]
["203-357","HV-A1-11-06","Franz-Josef-Kai","2xTw\n+2xBw","2065 \n7500 ","78 \n78 ",null,12,10,1962,"Horst Völkel"]
["203-358","HV-A1-11-07","Südbahnhof","2xTw","2101 "," ",null,10,8,1975,"Horst Völkel"]
["203-359","HV-A1-11-08",null,"2xTw","2101 "," ","Fahrgastraum",{"$nulls":3},"Horst Völkel"]
["203-360","HV-A1-11-09","Südbahnhof","2xBw\n+2xTw","564 \n2102 "," \n ",null,10,8,1975,"Horst Völkel"]
["203-361","HV-A1-11-10","Praterstern","2xTw\n+2xBw","2114 \n3605 ","25 \n25 ",null,12,10,1962,"Horst Völkel"]
["203-362","HV-A1-11-12",null,"2xTw","322 ","33 ",null,12,10,1962,"Horst Völkel"]
["203-363","HV-A1-11-13","Praterstern","2xTw","2186 "," ",null,12,10,1962,"Horst Völkel"]
["203-364","HV-A1-11-16",null,"2xTw","2278 ","39 ",null,26,7,1970,"Horst Völkel"]
["203-365","HV-A1-11-18",null,"2xTw","2445 ","13 ",null,15,2,1961,"Slg. Horst Völkel"]
["203-366","HV-A1-11-21","Ring","2xTw","4013 "," ","Sonderfahrt",8,6,1979,"Horst Völkel"]
["203-367","HV-A1-11-26","Btf Vorgarten","2xTw\n+2xBw","4041 \n52xx "," \n ",null,10,8,1975,"Horst Völkel"]
["203-368","HV-A1-11-28",null,"2xTw","4048 ","52 ",null,17,6,1976,"Horst Völkel"]
["203-369","HV-A1-11-36","Ring","2xTw\n+2xBw","4134 \n5235 "," \n ","Sonderzug VDVA-Tagung\nMuseumswagen",20,7,1990,"Horst Völkel"]
["203-370","HV-A1-11-37","Zentralfriedhof","2xTw\n+2xBw","4134 \n5235 "," \n ","Sonderzug VDVA-Tagung\nMuseumswagen",20,7,1990,"Horst Völkel"]
["203-371","HV-A1-11-38","Karlsplatz","2xTw\n+2xBw","4137 \n5418 "," \n ","Stadtrundfahrt",21,7,1990,"Horst Völkel"]
["203-372","HV-A1-11-40","Amsterdam","2xTw\n+2xBw\n+2xBw","4143 \n \n "," \n \n ","Museumswagen\nSonderfahrt Tram 81",17,5,1981,"Slg. Horst Völkel"]
["203-373","HV-A1-11-41","Ring","2xTw\n+2xBw","4144 \n1571 ","D \nD ",null,12,10,1962,"Horst Völkel"]
["203-374","HV-A1-11-43","Schottenring","4xTw","4205 ","331 ",null,12,10,1962,"Horst Völkel"]
["203-375","HV-A1-11-44",null,"4xTw","42xx ","331 ",null,12,10,1962,"Horst Völkel"]
["203-376","HV-A1-11-45","Mariahilfer Str","2xTw","1 ","52 ","KSW",12,10,1962,"Horst Völkel"]
["203-377","HV-A1-11-46",null,"2xTw\n+2xBw\n+2xBw","1 \n7158 \n "," \n \n ","Sonderfahrt\nKSW",11,11,1967,"Horst Völkel"]
["203-378","HV-A1-11-47",null,"2xTw\n+2xBw","2 \n5365 ","52 \n52 ","Tw 2: KSW",6,10,1975,"Horst Völkel"]
["203-379","HV-A1-11-48","Burgring","2xTw\n+2xBw","7 \n5365 ","52 \n52 ","Tw 7: KSW",13,6,1972,"Horst Völkel"]
["203-380","HV-A1-11-49","Mariahilfer Str","2xTw","9 ","52 ","KSW",12,10,1962,"Horst Völkel"]
["203-381","HV-A1-12-01","Karlsplatz","4xNflTw","2 ","65 ",null,10,8,2000,"Horst Völkel"]
["203-382","HV-A1-12-02","Karlsplatz","4xNflTw","2 ","65 ",null,10,8,2000,"Horst Völkel"]
["203-383","HV-A1-12-04","Btf Favoriten","4xNflTw","8 "," ",null,10,8,2000,"Horst Völkel"]
["203-384","HV-A1-12-05","Wiedner Hauptstr","4xNflTw","10 ","65 ",null,10,8,2000,"Horst Völkel"]
["203-385","HV-A1-12-06","Dresden","4xNflTw","50 "," ","Ausgestellt anl. 7th UITP Light Rail Conference",21,4,2004,"Horst Völkel"]
["203-386","HV-A1-12-07",null,"2xTw\n+2xBw\n+2xBw","59 \n1419 \n1412 ","T \nT \nT ",{"$nulls":4},"Horst Völkel"]
["203-387","HV-A1-12-11","Btf Vorgarten","2xTw","80 "," ",null,10,8,1975,"Horst Völkel"]
["203-388","HV-A1-12-13","Quellenplatz","6xNflTw","622 ","6 ",null,10,8,2000,"Horst Völkel"]
["203-389","HV-A1-12-14","(H) Gumpendorfer Str","6xNflTw","625 ","6 ",null,11,8,2000,"Horst Völkel"]
["203-390","HV-A1-12-15","(H) Gellertplatz","6xNflTw","629 ","6 ",null,10,8,2000,"Horst Völkel"]
["203-391","HV-A1-12-17","Btf Favoriten","6xGelTw\n \n6xGelTw\n \n6xGelTw\n \n6xGelTw\n \n6xGelTw\n \n6xGelTw\n \n6xGelTw\n \n6xGelTw","4315 \n \n4049 \n \n4009 \n \n4064 \n \n4066 \n \n4526 \n \n4415 \n \n4411 "," \n \n \n \n \n \n \n \n \n \n \n \n \n \n ","Parade von geschmückten Fahrzeugen anläßlich des 1. Mai",1,5,1988,"Horst Völkel"]
["203-392","HV-A1-12-18","Btf Favoriten",null," "," ","Antrieb ULF",10,8,2000,"Horst Völkel"]
["203-393","HV-A1-12-19","Btf Favoriten",null," "," ","Antrieb ULF",10,8,2000,"Horst Völkel"]
["203-394","HV-A1-12-21","Ring","2xTw\n+2xBw","404 \n5406 ","T \nT ",{"$nulls":4},"Horst Völkel"]
["203-395","HV-A1-12-23","Gaußplatz","2xTw","408 "," ","Sonderzug VDVA-Tagung",19,7,1990,"Horst Völkel"]
["203-396","HV-A1-12-25","Börsengasse","2xTw","408 "," ","Sonderzug VDVA-Tagung",19,7,1990,"Horst Völkel"]
["203-397","HV-A1-12-26","Schottenring","2xTw","408 "," ","Sonderzug VDVA-Tagung",19,7,1990,"Horst Völkel"]
["203-398","HV-A1-12-30",null,"2xTw\n+4xGrwBw","428 \n ","65 \n65 ",{"$nulls":4},"Horst Völkel"]
["203-399","HV-A1-12-31","Ring/Burg","2xTw\n+4xGrwBw","434 \n1113 ","T \nT ",null,10,8,1975,"Horst Völkel"]
["203-400","HV-A1-12-32",null,"2xTw","439 ","O ",null,12,10,1962,"Horst Völkel"]
["203-401","HV-A1-12-34","HW Simmering","4xGrwTw","108 "," ",null,30,7,1990,"Horst Völkel"]
["203-402","HV-A1-12-40","Btf Ottakring","4xGrwTw","135 "," ",null,9,8,1975,"Horst Völkel"]
["203-403","HV-A1-12-45","Schwarzenbergplatz","4xGrwTw\n+4xGrwBw","148 \n ","71 \n71 ",null,12,10,1962,"Horst Völkel"]
["203-404","HV-A1-12-49",null,"2xTw\n+4xGrwBw","446 \n ","D \nD ",{"$nulls":3},1976,"Horst Völkel"]
["203-405","HV-A1-12-52","Parlament","2xTw\n+4xGrwBw","471 \n1240 ","T \nT ",null,22,9,1973,"Horst Völkel"]
["203-406","HV-A1-12-53","Praterstern","2xTw","467 ","5 ",null,8,8,1975,"Horst Völkel"]
["203-407","HV-A1-12-54","Europaplatz","2xTw\n+4xGrwBw","478 \n1258 ","5 \n5 ",null,9,6,1979,"Horst Völkel"]
["203-408","HV-A1-12-55",null,"2xTw\n+4xGrwBw","485 \n ","O \nO ",{"$nulls":3},1984,"Slg. Horst Völkel"]
["203-409","HV-A1-13-01","HW Simmering","2xTw","501 "," ","abgestellt",20,7,1990,"Horst Völkel"]
["203-410","HV-A1-13-02",null,"2xTw\n+4xGrwBw\n+4xGrwBw","502 \n \n ","H2 \nH2 \nH2 ",{"$nulls":4},"Horst Völkel"]
["203-411","HV-A1-13-03","HW Simmering","2xTw","522 "," ",null,20,7,1990,"Horst Völkel"]
["203-412","HV-A1-13-04","Philadelphiabrücke","2xTw\n+4xGrwBw\n+4xGrwBw","515 \n1789 \n1729 ","62 \n62 \n62 ",null,18,4,1983,"Slg. Horst Völkel"]
["203-413","HV-A1-13-06","HW Simmering","2xTw","550 "," ","abgestellt",20,7,1990,"Horst Völkel"]
["203-414","HV-A1-13-11","Maurer Hauptplatz","2xTw\n+4xGrwBw\n+4xGrwBw","559 \n1804 \n1813 ","60 \n60 \n60 ",null,10,9,1978,"Slg. Horst Völkel"]
["203-415","HV-A1-13-12","Rosenhügel","2xTw\n+4xGrwBw\n+4xGrwBw","568 \n1298 \n1789 ","60 \n60 \n60 ",null,10,9,1978,"Slg. Horst Völkel"]
["203-416","HV-A1-13-15","Praterstern","2xTw\n+4xGrwBw\n+4xGrwBw","604 \n1840 \n1873 ","29 \n29 \n29 ",null,1,11,1976,"Slg. Horst Völkel"]
["203-417","HV-A1-13-17","Nußdorfer Str","2xTw\n+4xGrwBw","605 \n1832 ","37 \n37 ",null,2,null,1980,"Slg. Horst Völkel"]
["203-418","HV-A1-13-19","HW Simmering","4xGelTw","707 "," ",null,20,7,1990,"Horst Völkel"]
["203-419","HV-A1-13-23","Btf Brigittenau","4xGelTw","720 "," ",null,20,7,1990,"Horst Völkel"]
["203-420","HV-A1-13-27","HW Simmering","4xGelTw","733 "," ",null,20,7,1990,"Horst Völkel"]
["203-421","HV-A1-13-29","Hubertusdamm","4xGelTw\n+4xGrwBw","742 \n ","132 \n132 ",null,10,9,1990,"Slg. Horst Völkel"]
["203-422","HV-A1-13-30","Schottenring","4xGelTw\n+4xGrwBw","744 \n1896 ","331 \n331 ",null,9,8,1975,"Horst Völkel"]
["203-423","HV-A1-13-32","Währinger Str","4xGelTw","4309 ","41 ",null,12,10,1962,"Horst Völkel"]
["203-424","HV-A1-13-34","Laxemburger Str","6xGelTw","4406 ","O ",null,10,8,2000,"Horst Völkel"]
["203-425","HV-A1-13-37",null,"6xGelTw","4412 ","132 ",null,12,10,1962,"Horst Völkel"]
["203-426","HV-A1-13-39","am Btf Brigittenau","6xGelTw","4432 ","N ",null,19,7,1990,"Horst Völkel"]
["203-427","HV-A1-13-40","Wiedner Hauptstr","6xGelTw","4435 ","62 ",null,10,8,2000,"Horst Völkel"]
["203-428","HV-A1-13-43","Philadelphiabrücke","6xGelTw","4446 ","62 ",null,21,7,1990,"Horst Völkel"]
["203-429","HV-A1-13-45","Karlsplatz","6xGelTw","4449 ","62 ",null,10,8,2000,"Horst Völkel"]
["203-430","HV-A1-13-46","HW Simmering","6xGelTw","4495 "," ","auf der Schiebebühne",20,7,1990,"Horst Völkel"]
["203-431","HV-A1-13-47","HW Simmering","6xGelTw","4495 "," ","wird auf die Schiebebühne gezogen",20,7,1990,"Horst Völkel"]
["203-432","HV-A1-13-56","Mariahilfer Str","2xTw\n+2xBw"," \n ","52 \n52 ",null,12,10,1962,"Horst Völkel"]
["203-433","HV-A1-13-62","am Btf Brigittenau","6xGelTw","4696 ","N ",null,20,7,1990,"Horst Völkel"]
["203-434","HV-A1-13-66",null,"6xGelTw\n+4xGrwBw","4698 \n ","10 \n10 ",{"$nulls":3},1984,"Slg. Horst Völkel"]
["203-435","HV-A1-13-67","(H) Gumpendorfer Str","6xGelTw\n+4xGrwBw","4706 \n1267 ","18 \n18 ",null,11,8,2000,"Horst Völkel"]
["203-436","HV-A1-14-09","Floridsdorf","6xGelTw\n+4xGrwBw","4747 \n1275 ","26 \n26 ",null,11,8,2000,"Horst Völkel"]
["203-437","HV-A1-14-12","Ring","6xGelTw","4784 ","D ",{"$nulls":3},1983,"Slg. Horst Völkel"]
["203-438","HV-A1-14-19","Floridsdorf","6xGelTw\n+4xGrwBw","4818 \n1314 ","31 \n31 ",null,11,8,2000,"Horst Völkel"]
["203-439","HV-A1-14-20","Hermesstr","6xGelTw\n+4xGrwBw","4821 \n1077 ","60/62 \n60/62 ",null,19,10,1980,"Slg. Horst Völkel"]
["203-440","HV-A1-14-24","HW Simmering","6xGelTw","4833 "," ",null,20,7,1990,"Horst Völkel"]
["203-441","HV-A1-14-25","HW Simmering","6xGelTw\n \nU-Bahn","4844 \n \n3209 "," \n \n ",null,20,7,1990,"Horst Völkel"]
["203-442","HV-A1-14-32",null,"6xGelTw\n+4xGrwBw","4005 \n1405 ","8 \n8 ",null,15,4,1985,"Slg. Horst Völkel"]
["203-443","HV-A1-14-36","Philadelphiabrücke","6xGelTw\n+4xGrwBw","4020 \n1420 ","64 \n64 ",null,21,7,1990,"Horst Völkel"]
["203-444","HV-A1-14-40","HW Simmering","6xGelTw","4086 "," ",null,20,7,1990,"Horst Völkel"]
["203-445","HV-A1-14-43",null,"2xBw","63 "," ","ex Dampfbahn",{"$nulls":3},"Slg. Horst Völkel"]
["203-446","HV-A1-14-44",null,"2xBw","235 "," ",null,13,12,1953,"Slg. Horst Völkel"]
["203-447","HV-A1-14-45",null,"2xBw","1367 ","31/5 ",{"$nulls":4},"Slg. Horst Völkel"]
["203-448","HV-A1-14-46",null,"2xBw\n+2xBw\n+2xTw","1155 \n1019 \n707 ","39 \n39 \n39 ",null,5,9,1954,"Slg. Horst Völkel"]
["203-449","HV-A1-14-47",null,"2xBw\n+2xBw\n+2xTw","1018 \n1136 \n890 "," \n \n ",null,29,8,1954,"Slg. Horst Völkel"]
["203-450","HV-A1-14-48",null,"2xBw","1951 "," ",null,8,7,1955,"Slg. Horst Völkel"]
["203-451","HV-A1-14-49",null,"2xBw","1980 ","71 ",null,10,6,1954,"Slg. Horst Völkel"]
["203-452","HV-A1-14-50",null,"2xBw","3001 ","72 ",null,8,7,1955,"Slg. Horst Völkel"]
["203-453","HV-A1-14-51",null,"2xBw","3099 ","25 ",null,4,7,1952,"Slg. Horst Völkel"]
["203-454","HV-A1-14-52",null,"2xBw","3796 ","59 ",null,12,7,1956,"Slg. Horst Völkel"]
["203-455","HV-A1-14-53",null,"2xBw","3198 ","59 ",null,14,4,1956,"Slg. Horst Völkel"]
["203-456","HV-A1-14-54",null,"2xBw","3500 ","78 ",null,12,10,1962,"Horst Völkel"]
["203-457","HV-A1-14-55","Praterstern","2xBw","3605 ","25 ",null,12,10,1962,"Horst Völkel"]
["203-458","HV-A1-14-59","Praterstern","2xBw","5214 "," ",null,12,10,1962,"Horst Völkel"]
["203-459","HV-A1-14-60","Praterstern","2xBw","5222 "," ",null,12,10,1962,"Horst Völkel"]
["203-460","HV-A1-14-64","Mariahilfer Str","2xBw\n+2xTw","5322 \n1 ","52 \n52 ","Tw 1: KSW",12,10,1962,"Horst Völkel"]
["203-461","HV-A2-01-01",null,"4xGrwBw","1201 "," ",{"$nulls":4},"Slg. Horst Völkel"]
["203-462","HV-A2-01-03","Schwedenplatz","2xBw","1882 ","N ",null,5,9,1981,"Horst Völkel"]
["203-463","HV-A2-01-05","Btf Vorgarten","2xBw","1453 "," ",null,10,8,1975,"Horst Völkel"]
["203-464","HV-A2-01-07","Karlsplatz","2xBw\n+2xTw","5418 \n4137 "," \n ","Stadtrundfahrt",21,7,1990,"Horst Völkel"]
["203-465","HV-A2-01-08",null,"2xBw","1436 ","18 ",null,12,10,1962,"Horst Völkel"]
["203-466","HV-A2-01-09",null,"2xBw\n+2xTw","5375 \n "," \n ",null,8,8,1975,"Horst Völkel"]
["203-467","HV-A2-01-10","HW Simmering","4xGrwBw","1817 "," ",null,20,7,1990,"Horst Völkel"]
["203-468","HV-A2-01-11","Praterstern","4xGrwBw","1005 ","26 ",null,22,5,1980,"Horst Völkel"]
["203-469","HV-A2-01-13","HW Simmering","4xGrwBw","1063 "," ","abgestellt",20,7,1990,"Horst Völkel"]
["203-470","HV-A2-01-19",null,"4xGrwBw","1229 ","O ",null,12,10,1962,"Horst Völkel"]
["203-471","HV-A2-01-20","Praterstern","4xGrwBw","1262 ","5 ",null,8,8,1975,"Horst Völkel"]
["203-472","HV-A2-01-21","HW Simmering","4xGrwBw","1136 "," ",null,20,7,1990,"Horst Völkel"]
["203-473","HV-A2-01-25","am Btf Brigittenau","4xGrwBw","1306 ","32 ",null,19,7,1990,"Horst Völkel"]
["203-474","HV-A2-01-27","Westbahnhof","4xGrwBw\n+6xGelTw","1405 \n ","6 \n6 ",null,22,5,1980,"Horst Völkel"]
["203-475","HV-A2-01-29","Philadelphiabrücke","4xGrwBw\n+6xGelTw","1432 \n ","64 \n64 ",null,21,7,1990,"Horst Völkel"]
["203-476","HV-A2-01-33","Btf Rudolfsheim",null," "," ",null,12,10,1962,"Horst Völkel"]
["203-477","HV-A2-01-34","Btf Rudolfsheim",null," "," ",null,12,10,1962,"Horst Völkel"]
["203-478","HV-A2-01-35","Btf Ottakring",null," "," ",null,21,7,1990,"Horst Völkel"]
["203-479","HV-A2-01-36","Btf Hütteldorf",null," "," ",null,9,8,1975,"Horst Völkel"]
["203-480","HV-A2-01-37","Btf Brigittenau",null," "," ",null,20,7,1990,"Horst Völkel"]
["203-481","HV-A2-01-38","HW Simmering","6xGelTw","4926 "," ",null,20,7,1990,"Horst Völkel"]
["203-482","HV-A2-01-39",null,"2xTw","2731 ","60 ",null,13,5,1955,"Slg. Horst Völkel"]
["203-483","HV-A2-01-40",null,"2xTw","2896 "," ",null,13,6,1979,"Horst Völkel"]
["203-484","HV-A2-01-45","Hietzing Stadtb.","2xTw","2996 ","GD ",null,8,8,1975,"Horst Völkel"]
["203-485","HV-A2-01-55",null,"2xBw","5779 "," ",{"$nulls":4},"Slg. Horst Völkel"]
["203-486","HV-A2-01-60","Hietzing Stadtb.","2xBw","5998 "," ",null,8,8,1975,"Horst Völkel"]
["203-487","HV-A2-01-63","HW Simmering","6xGelBw","1913 "," ",null,20,7,1990,"Horst Völkel"]
["203-488","HV-A2-01-64","Friedensbrücke","6xGelBw","1918 ","G ",null,27,4,1983,"Horst Völkel"]
["203-489","HV-A2-02-01","Friedensbrücke","6xGelBw","1921 ","G ",null,20,4,1983,"Horst Völkel"]
["203-490","HV-A2-02-02",null,"2xArbTw","5565 "," ","abgestellt",{"$nulls":3},"Horst Völkel"]
["203-491","HV-A2-02-04","Btf Rudolfsheim","2xArbTw","6040 "," ",null,13,10,1962,"Horst Völkel"]
["203-492","HV-A2-02-05","Btf Rudolfsheim","2xArbTw","6051 "," ",null,12,10,1962,"Horst Völkel"]
["203-493","HV-A2-02-06","Btf Vorgarten","2xArbTw","6051 "," ",null,10,8,1975,"Horst Völkel"]
["203-494","HV-A2-02-07",null,"2xArbTw","6052 "," ",null,12,10,1962,"Horst Völkel"]
["203-495","HV-A2-02-10","Btf Brigittenau","2xArbTw","6054 "," ","Schleifwagen",20,7,1990,"Horst Völkel"]
["203-496","HV-A2-02-11",null,"2xArbTw"," "," ",null,12,10,1962,"Horst Völkel"]
["203-497","HV-A2-02-12","HW Simmering","4xArbTw","6111 "," ","Kranwagen",20,7,1990,"Horst Völkel"]
["203-498","HV-A2-02-13","Btf Vorgarten","2xArbTw","6112 "," ",null,10,8,1975,"Horst Völkel"]
["203-499","HV-A2-02-17","HW Simmering","4xArbTw","6123 "," ",null,20,7,1990,"Horst Völkel"]
["203-500","HV-A2-02-18","HW Simmering","4xArbTw","6160 "," ",null,20,7,1990,"Horst Völkel"]
["203-501","HV-A2-02-20","Karlsplatz","2xArbTw","6312 "," ",null,13,6,1979,"Horst Völkel"]
["203-502","HV-A2-02-21",null,"2xArbTw","6316 "," ",null,4,11,1954,"Slg. Horst Völkel"]
["203-503","HV-A2-02-22","Btf Favoriten","2xArbTw","6321 "," ",null,20,7,1979,"Horst Völkel"]
["203-504","HV-A2-02-26","Stromstr","2xArbTw","6332 "," ",null,1,5,1980,"Slg. Horst Völkel"]
["203-505","HV-A2-02-27","HW Simmering","2xArbTw","6371 "," ",null,20,7,1990,"Horst Völkel"]
["203-506","HV-A2-02-28","Btf Brigittenau","2xArbTw","6381 "," ",null,20,7,1990,"Horst Völkel"]
["203-507","HV-A2-02-29",null,"2xArbTw","6389 "," ",{"$nulls":3},1984,"Horst Völkel"]
["203-508","HV-A2-02-30","HW Simmering","2xArbTw","6391 "," ",null,20,7,1990,"Horst Völkel"]
["203-509","HV-A2-02-31","HW Simmering","2xArbTw","6394 "," ",null,20,7,1990,"Horst Völkel"]
["203-510","HV-A2-02-32","Btf Favoriten","2xArbTw","6400 "," ",null,10,8,2000,"Horst Völkel"]
["203-511","HV-A2-02-33","HW Simmering","2xArbTw","6401 "," ","abgestellt",20,7,1990,"Horst Völkel"]
["203-512","HV-A2-02-34","HW Simmering","2xArbTw","6406 "," ","abgestellt",20,7,1990,"Horst Völkel"]
["203-513","HV-A2-02-35","Btf Brigittenau","2xArbTw","6420 "," ",null,20,7,1990,"Horst Völkel"]
["203-514","HV-A2-02-36","HW Simmering","2xArbTw","6422 "," ",null,20,7,1990,"Horst Völkel"]
["203-515","HV-A2-02-37","HW Simmering","2xArbTw\n+4xArbBw","6424 \n7435 "," \n ",null,20,7,1990,"Horst Völkel"]
["203-516","HV-A2-02-38",null,"2xArbTw","6425 "," ",null,null,2,1988,"Slg. Horst Völkel"]
["203-517","HV-A2-02-43","Btf Brigittenau","2xArbTw","6447 "," ",null,20,7,1990,"Horst Völkel"]
["203-518","HV-A2-02-44","Btf Favoriten","2xArbTw","6457 "," ",null,10,8,2000,"Horst Völkel"]
["203-519","HV-A2-02-45","HW Simmering","2xArbTw","6461 "," ",null,20,7,1990,"Horst Völkel"]
["203-520","HV-A2-02-46","Btf Brigittenau","2xArbTw","6462 "," ",null,20,7,1990,"Horst Völkel"]
["203-521","HV-A2-02-49","Btf Michelbeuren","2xArbTw\n \n2xArbTw\n \n2xArbTw","6885 \n \n6893 \n \n6894 "," \n \n \n \n ",null,20,7,1990,"Horst Völkel"]
["203-522","HV-A2-02-52","Btf Michelbeuren","2xArbTw","6894 "," ",null,20,7,1990,"Horst Völkel"]
["203-523","HV-A2-02-53","Alser Str","2xArbTw","6895 "," ",null,13,2,1985,"Horst Völkel"]
["203-524","HV-A2-02-56",null,"2xArbTw","6899 "," ",{"$nulls":3},1972,"Horst Völkel"]
["203-525","HV-A2-02-59","HW Simmering","2xArbBw","7008 "," ",null,25,9,1976,"Horst Völkel"]
["203-526","HV-A2-03-04","HW Simmering","2xArbBw\n \n2xArbBw","7120 \n \n "," \n \n ",null,20,7,1990,"Horst Völkel"]
["203-527","HV-A2-03-05","Alser Str","2xArbBw","7132 "," ",null,27,4,1983,"Horst Völkel"]
["203-528","HV-A2-03-10","HW Simmering","4xArbBw","7432 "," ",null,20,7,1990,"Horst Völkel"]
["203-529","HV-A2-03-11","HW Simmering","4xArbBw","7435 "," ",null,20,7,1990,"Horst Völkel"]
["203-530","HV-A2-03-12","Btf Michelbeuren","2xArbBw","7502 "," ",null,20,7,1990,"Horst Völkel"]
["203-531","HV-A2-03-13","Alser Str","2xArbBw","7503 "," ",null,27,4,1983,"Horst Völkel"]
["203-532","HV-A2-03-14","Alser Str","2xArbBw","7508 "," ",null,13,2,1985,"Horst Völkel"]
["203-533","HV-A2-03-15","Alser Str","2xArbBw","7510 "," ",null,13,2,1985,"Horst Völkel"]
["203-534","HV-A2-03-16","Btf Michelbeuren","2xArbBw","7513 "," ",null,20,7,1990,"Horst Völkel"]
["203-535","HV-A2-03-17","HW Simmering","2xArbBw","7522 "," ",null,20,7,1990,"Horst Völkel"]
["203-536","HV-A2-03-18","Btf Ottakring","2xArbBw","7543 "," ",null,9,8,1975,"Horst Völkel"]
["203-537","HV-A2-03-19","Btf Brigittenau","2xArbBw","7563 "," ",null,20,7,1990,"Horst Völkel"]
["203-538","HV-A2-03-20","HW Simmering","2xArbBw"," "," ","abgestellt",20,7,1990,"Horst Völkel"]
["203-539","HV-A2-03-21","Btf Brigittenau","2xArbBw","7564 "," ",null,20,7,1990,"Horst Völkel"]
["203-540","HV-A2-03-22","Btf Brigittenau","2xArbBw","7965 "," ",null,20,7,1990,"Horst Völkel"]
["203-541","HV-A2-03-23","HW Simmering","Klein-Lkw\n \nKlein-Lkw","9018 \n \n9016 "," \n \n ","Winterdienst",20,7,1990,"Horst Völkel"]
["203-542","HV-A2-03-24","HW Simmering","Klein-Lkw\n \nKlein-Lkw","9016 \n \n9018 "," \n \n ","Winterdienst",20,7,1990,"Horst Völkel"]
["203-543","HV-A2-03-26","HW Simmering",null," "," ","Schneepflugvorsätze",20,7,1990,"Horst Völkel"]
["203-544","HV-A2-03-34","HW Simmering","2xArbTw","6901 "," ","für U-Bahn",20,7,1990,"Horst Völkel"]
["203-545","HV-A2-03-35","Heiligenstadt","Diesellok\n+Diesellok","6911 \n6912 "," \n ","U-Bahn",9,8,1975,"Horst Völkel"]
["203-546","HV-A2-03-36","HW Simmering","4xArbTw","6931 "," ","für U-Bahn",20,7,1990,"Horst Völkel"]
["203-547","HV-A2-03-39","HW Simmering","2xArbBw","7954 "," ",null,20,7,1990,"Horst Völkel"]
["203-548","HV-A2-03-44","St. Marx","4xGrwTw\n+4xGrwBw","138 \n1538 ","46 \n46 ",null,9,3,1974,"Slg. Horst Völkel"]
["203-549","HV-A2-03-50","Meidling Hauptstr.","6xGelTw\n+6xGelBw\n+6xGelTw","4924 \n1917 \n4931 ","G \nG \nG ",null,23,4,1983,"Slg. Horst Völkel"]
["203-550","HV-A2-03-51",null,"2xTw\n+4xGrwBw\n+4xGrwBw","501 \n1782 \n ","62 \n62 \n62 ",{"$nulls":4},"Slg. Horst Völkel"]
["203-551","HV-A2-03-54","Friedensbrücke","6xGelTw\n+6xGelBw\n+6xGelBw\n+6xGelTw","4917 \n1910 \n1908 \n4910 ","G \nG \nG \nG ",null,18,4,1983,"Slg. Horst Völkel"]
["203-552","HV-A2-03-55","Akademiestr","6xGelTw","4737 ","65 ",null,29,6,1974,"Slg. Horst Völkel"]
["203-553","HV-A2-03-59","Josefstädter Str","4xGelTw","744 ","31/5 ",null,4,11,1975,"Slg. Horst Völkel"]
["203-554","HV-A2-04-02","Reumannplatz","2xTw\n+4xGrwBw","533 \n ","65 \n65 ",null,26,4,1985,"Slg. Horst Völkel"]

{"sheet":"Vorschau","index":7,"n_rows":6,"n_cols":11,"rows_kept":6,"merged":[[0,0,0,10],[1,3,1,4],[1,6,1,7],[1,8,1,9],[2,3,2,4],[2,7,2,9],[5,1,5,9]]}
[{"$f":"INDEX(Betriebeliste!A1:D653,MATCH(LEFT(A4,FIND(\"-\",A4)-1),Betriebeliste!A1:A653,0),2)","v":{"$error":"#VALUE!"}}]
[{"$nulls":3},{"$f":"\" \"&Merkliste!F2","v":" 0"},null,{"$f":"IF(IFERROR(MATCH(A4,Merkliste!B:B,0),\"\")<>\"\",CHAR(252),\"\")","v":""},{"$nulls":4},"Galerie"]
["Bild-ID","Signatur","Aufnahmeort","Wagen",null,"Linie","Bemerkung","Datum",null,null,"Fotograf"]
[]
[]
[null,{"$f":"IF(B4<>\"\",IFERROR(InsertPicFromURL(\"https://bildarchiv.vdva.org/\"&B4&\".jpg\"),\"Kein Bild gefunden\"))","v":false}]

{"sheet":"Merkliste","index":8,"n_rows":6,"n_cols":14,"rows_kept":6,"merged":[[0,0,0,12],[1,8,1,9],[2,4,2,5],[2,8,2,10]]}
["Merkliste"]
[{"$nulls":5},{"$f":"COUNTA(A5:A200)","v":0}]
["Betrieb","Bild-ID","Signatur","Aufnahmeort","Wagen",null,"Linie","Bemerkung","Datum",null,null,"Fotograf","Vorschau","Einzeln\nlöschen"]
["Betrieb","Bild-ID","Signatur","Aufnahmeort","WT","WN","Linie","Bemerkung","T","M","J","Fotograf","Vorschau","Löschen"]
[{"$nulls":12},{"$f":"IF(Merklistentabelle[[#This Row],[Signatur]]<>\"\",\"Vorschau\",\"\")","v":""},{"$f":"IF(Merklistentabelle[[#This Row],[Betrieb]]<>\"\",\"Löschen\",\"\")","v":""}]
[{"$nulls":12},{"$f":"IF(Merklistentabelle[[#This Row],[Signatur]]<>\"\",\"Vorschau\",\"\")","v":""},{"$f":"IF(Merklistentabelle[[#This Row],[Betrieb]]<>\"\",\"Löschen\",\"\")","v":""}]

{"sheet":"News","index":9,"n_rows":2,"n_cols":2,"rows_kept":2,"hidden":true}
["Datum","Text"]
["2023-03-30","Herzlich Willkommen zur neuen Version der Auslands-Datenbank! Diese bietet nun die gleichen Funktionen, wie die Deutschland-Datenbank. Wie dort, haben wir auch hier etwas aufgeräumt und die Eisenbahnen in die Eisenbahn-DB verschoben. Neue Bilder gibt es auch: Rund 400 Fotos von Horst Völkel aus Österreich bereichern das Archiv."]

{"sheet":"K1","index":10,"n_rows":18,"n_cols":7,"rows_kept":18,"merged":[[0,1,1,6]]}
[null,"Kanada"]
[]
[]
[]
[]
[]
[{"$nulls":6},""]
[{"$nulls":6},""]
[{"$nulls":6},""]
[{"$nulls":6},""]
[{"$nulls":6},""]
[{"$nulls":6},""]
[{"$nulls":6},""]
[{"$nulls":6},""]
[{"$nulls":6},""]
[{"$nulls":6},""]
[{"$nulls":6},""]
[{"$nulls":6},""]

{"sheet":"K2","index":11,"n_rows":18,"n_cols":7,"rows_kept":18,"merged":[[0,1,1,6]]}
[null,"USA"]
[]
[]
[]
[]
[]
[{"$nulls":6},""]
[{"$nulls":6},""]
[{"$nulls":6},""]
[{"$nulls":6},""]
[{"$nulls":6},""]
[{"$nulls":6},""]
[{"$nulls":6},""]
[{"$nulls":6},""]
[{"$nulls":6},""]
[{"$nulls":6},""]
[{"$nulls":6},""]
[{"$nulls":6},""]

{"sheet":"K21","index":12,"n_rows":18,"n_cols":7,"rows_kept":18,"merged":[[0,1,1,6]]}
[null,"USA Ostküste"]
[]
[]
[]
[]
[]
[{"$nulls":6},""]
[{"$nulls":6},""]
[{"$nulls":6},""]
[{"$nulls":6},""]
[{"$nulls":6},""]
[{"$nulls":6},""]
[{"$nulls":6},""]
[{"$nulls":6},""]
[{"$nulls":6},""]
[{"$nulls":6},""]
[{"$nulls":6},""]
[{"$nulls":6},""]

{"sheet":"K22","index":13,"n_rows":18,"n_cols":7,"rows_kept":18,"merged":[[0,1,1,6]]}
[null,"USA Kalifornien"]
[]
[]
[]
[]
[]
[{"$nulls":6},""]
[{"$nulls":6},""]
[{"$nulls":6},""]
[{"$nulls":6},""]
[{"$nulls":6},""]
[{"$nulls":6},""]
[{"$nulls":6},""]
[{"$nulls":6},""]
[{"$nulls":6},""]
[{"$nulls":6},""]
[{"$nulls":6},""]
[{"$nulls":6},""]

{"sheet":"K23","index":14,"n_rows":18,"n_cols":7,"rows_kept":18,"merged":[[0,1,1,6]]}
[null,"USA Große Seen"]
[]
[]
[]
[]
[]
[{"$nulls":6},""]
[{"$nulls":6},""]
[{"$nulls":6},""]
[{"$nulls":6},""]
[{"$nulls":6},""]
[{"$nulls":6},""]
[{"$nulls":6},""]
[{"$nulls":6},""]
[{"$nulls":6},""]
[{"$nulls":6},""]
[{"$nulls":6},""]
[{"$nulls":6},""]

{"sheet":"K3","index":15,"n_rows":18,"n_cols":7,"rows_kept":18,"merged":[[0,1,1,6]]}
[null,"Mittel- und Südamerika (Mexiko, Brasilien, Argentinien)"]
[]
[]
[]
[]
[]
[{"$nulls":6},""]
[{"$nulls":6},""]
[{"$nulls":6},""]
[{"$nulls":6},""]
[{"$nulls":6},""]
[{"$nulls":6},""]
[{"$nulls":6},""]
[{"$nulls":6},""]
[{"$nulls":6},""]
[{"$nulls":6},""]
[{"$nulls":6},""]
[{"$nulls":6},""]

{"sheet":"K4","index":16,"n_rows":18,"n_cols":7,"rows_kept":18,"merged":[[0,1,1,6]]}
[null,"Europa"]
[]
[]
[]
[]
[]
[{"$nulls":6},""]
[{"$nulls":6},""]
[{"$nulls":6},""]
[{"$nulls":6},""]
[{"$nulls":6},""]
[{"$nulls":6},""]
[{"$nulls":6},""]
[{"$nulls":6},""]
[{"$nulls":6},""]
[{"$nulls":6},""]
[{"$nulls":6},""]
[{"$nulls":6},""]

{"sheet":"K41","index":17,"n_rows":18,"n_cols":7,"rows_kept":18,"merged":[[0,1,1,6]]}
[null,"Großbritannien und Irland"]
[]
[]
[]
[]
[]
[{"$nulls":6},""]
[{"$nulls":6},""]
[{"$nulls":6},""]
[{"$nulls":6},""]
[{"$nulls":6},""]
[{"$nulls":6},""]
[{"$nulls":6},""]
[{"$nulls":6},""]
[{"$nulls":6},""]
[{"$nulls":6},""]
[{"$nulls":6},""]
[{"$nulls":6},""]

{"sheet":"K411","index":18,"n_rows":18,"n_cols":7,"rows_kept":18,"merged":[[0,1,1,6]]}
[null,"Großbritannien Norden"]
[]
[]
[]
[]
[]
[{"$nulls":6},""]
[{"$nulls":6},""]
[{"$nulls":6},""]
[{"$nulls":6},""]
[{"$nulls":6},""]
[{"$nulls":6},""]
[{"$nulls":6},""]
[{"$nulls":6},""]
[{"$nulls":6},""]
[{"$nulls":6},""]
[{"$nulls":6},""]
[{"$nulls":6},""]

{"sheet":"K412","index":19,"n_rows":18,"n_cols":7,"rows_kept":18,"merged":[[0,1,1,6]]}
[null,"Großbritannien Mitte"]
[]
[]
[]
[]
[]
[{"$nulls":6},""]
[{"$nulls":6},""]
[{"$nulls":6},""]
[{"$nulls":6},""]
[{"$nulls":6},""]
[{"$nulls":6},""]
[{"$nulls":6},""]
[{"$nulls":6},""]
[{"$nulls":6},""]
[{"$nulls":6},""]
[{"$nulls":6},""]
[{"$nulls":6},""]

{"sheet":"K4121","index":20,"n_rows":18,"n_cols":7,"rows_kept":18,"merged":[[0,1,1,6]]}
[null,"Großbritannien Großraum Liverpool-Manchester-Leeds"]
[]
[]
[]
[]
[]
[{"$nulls":6},""]
[{"$nulls":6},""]
[{"$nulls":6},""]
[{"$nulls":6},""]
[{"$nulls":6},""]
[{"$nulls":6},""]
[{"$nulls":6},""]
[{"$nulls":6},""]
[{"$nulls":6},""]
[{"$nulls":6},""]
[{"$nulls":6},""]
[{"$nulls":6},""]

{"sheet":"K413","index":21,"n_rows":18,"n_cols":7,"rows_kept":18,"merged":[[0,1,1,6]]}
[null,"Großbritannien Süden"]
[]
[]
[]
[]
[]
[{"$nulls":6},""]
[{"$nulls":6},""]
[{"$nulls":6},""]
[{"$nulls":6},""]
[{"$nulls":6},""]
[{"$nulls":6},""]
[{"$nulls":6},""]
[{"$nulls":6},""]
[{"$nulls":6},""]
[{"$nulls":6},""]
[{"$nulls":6},""]
[{"$nulls":6},""]

{"sheet":"K42","index":22,"n_rows":18,"n_cols":7,"rows_kept":18,"merged":[[0,1,1,6]]}
[null,"Niederlande"]
[]
[]
[]
[]
[]
[{"$nulls":6},""]
[{"$nulls":6},""]
[{"$nulls":6},""]
[{"$nulls":6},""]
[{"$nulls":6},""]
[{"$nulls":6},""]
[{"$nulls":6},""]
[{"$nulls":6},""]
[{"$nulls":6},""]
[{"$nulls":6},""]
[{"$nulls":6},""]
[{"$nulls":6},""]

{"sheet":"K43","index":23,"n_rows":18,"n_cols":7,"rows_kept":18,"merged":[[0,1,1,6]]}
[null,"Belgien und Luxemburg"]
[]
[]
[]
[]
[]
[{"$nulls":6},""]
[{"$nulls":6},""]
[{"$nulls":6},""]
[{"$nulls":6},""]
[{"$nulls":6},""]
[{"$nulls":6},""]
[{"$nulls":6},""]
[{"$nulls":6},""]
[{"$nulls":6},""]
[{"$nulls":6},""]
[{"$nulls":6},""]
[{"$nulls":6},""]

{"sheet":"K44","index":24,"n_rows":18,"n_cols":7,"rows_kept":18,"merged":[[0,1,1,6]]}
[null,"Frankreich"]
[]
[]
[]
[]
[]
[{"$nulls":6},""]
[{"$nulls":6},""]
[{"$nulls":6},""]
[{"$nulls":6},""]
[{"$nulls":6},""]
[{"$nulls":6},""]
[{"$nulls":6},""]
[{"$nulls":6},""]
[{"$nulls":6},""]
[{"$nulls":6},""]
[{"$nulls":6},""]
[{"$nulls":6},""]

{"sheet":"K45","index":25,"n_rows":18,"n_cols":7,"rows_kept":18,"merged":[[0,1,1,6]]}
[null,"Portugal und Spanien"]
[]
[]
[]
[]
[]
[{"$nulls":6},""]
[{"$nulls":6},""]
[{"$nulls":6},""]
[{"$nulls":6},""]
[{"$nulls":6},""]
[{"$nulls":6},""]
[{"$nulls":6},""]
[{"$nulls":6},""]
[{"$nulls":6},""]
[{"$nulls":6},""]
[{"$nulls":6},""]
[{"$nulls":6},""]

{"sheet":"K46","index":26,"n_rows":18,"n_cols":7,"rows_kept":18,"merged":[[0,1,1,6]]}
[null,"Skandinavien und Baltikum (Dänemark, Norwegen, Schweden, Finnland, Estland, Lettland, Litauen)"]
[]
[]
[]
[]
[]
[{"$nulls":6},""]
[{"$nulls":6},""]
[{"$nulls":6},""]
[{"$nulls":6},""]
[{"$nulls":6},""]
[{"$nulls":6},""]
[{"$nulls":6},""]
[{"$nulls":6},""]
[{"$nulls":6},""]
[{"$nulls":6},""]
[{"$nulls":6},""]
[{"$nulls":6},""]

{"sheet":"K47","index":27,"n_rows":18,"n_cols":7,"rows_kept":18,"merged":[[0,1,1,6]]}
[null,"Polen"]
[]
[]
[]
[]
[]
[{"$nulls":6},""]
[{"$nulls":6},""]
[{"$nulls":6},""]
[{"$nulls":6},""]
[{"$nulls":6},""]
[{"$nulls":6},""]
[{"$nulls":6},""]
[{"$nulls":6},""]
[{"$nulls":6},""]
[{"$nulls":6},""]
[{"$nulls":6},""]
[{"$nulls":6},""]

{"sheet":"K48","index":28,"n_rows":18,"n_cols":7,"rows_kept":18,"merged":[[0,1,1,6]]}
[null,"Tschechische Republik"]
[]
[]
[]
[]
[]
[{"$nulls":6},""]
[{"$nulls":6},""]
[{"$nulls":6},""]
[{"$nulls":6},""]
[{"$nulls":6},""]
[{"$nulls":6},""]
[{"$nulls":6},""]
[{"$nulls":6},""]
[{"$nulls":6},""]
[{"$nulls":6},""]
[{"$nulls":6},""]
[{"$nulls":6},""]

{"sheet":"K49","index":29,"n_rows":18,"n_cols":7,"rows_kept":18,"merged":[[0,1,1,6]]}
[null,"Österreich"]
[]
[]
[]
[]
[]
[{"$nulls":6},""]
[{"$nulls":6},""]
[{"$nulls":6},""]
[{"$nulls":6},""]
[{"$nulls":6},""]
[{"$nulls":6},""]
[{"$nulls":6},""]
[{"$nulls":6},""]
[{"$nulls":6},""]
[{"$nulls":6},""]
[{"$nulls":6},""]
[{"$nulls":6},""]

{"sheet":"K4A","index":30,"n_rows":18,"n_cols":7,"rows_kept":18,"merged":[[0,1,1,6]]}
[null,"Schweiz"]
[]
[]
[]
[]
[]
[{"$nulls":6},""]
[{"$nulls":6},""]
[{"$nulls":6},""]
[{"$nulls":6},""]
[{"$nulls":6},""]
[{"$nulls":6},""]
[{"$nulls":6},""]
[{"$nulls":6},""]
[{"$nulls":6},""]
[{"$nulls":6},""]
[{"$nulls":6},""]
[{"$nulls":6},""]

{"sheet":"K4B1","index":31,"n_rows":18,"n_cols":7,"rows_kept":18,"merged":[[0,1,1,6]]}
[null,"Italien Nord"]
[]
[]
[]
[]
[]
[{"$nulls":6},""]
[{"$nulls":6},""]
[{"$nulls":6},""]
[{"$nulls":6},""]
[{"$nulls":6},""]
[{"$nulls":6},""]
[{"$nulls":6},""]
[{"$nulls":6},""]
[{"$nulls":6},""]
[{"$nulls":6},""]
[{"$nulls":6},""]
[{"$nulls":6},""]

{"sheet":"K4B2","index":32,"n_rows":18,"n_cols":7,"rows_kept":18,"merged":[[0,1,1,6]]}
[null,"Italien Süd"]
[]
[]
[]
[]
[]
[{"$nulls":6},""]
[{"$nulls":6},""]
[{"$nulls":6},""]
[{"$nulls":6},""]
[{"$nulls":6},""]
[{"$nulls":6},""]
[{"$nulls":6},""]
[{"$nulls":6},""]
[{"$nulls":6},""]
[{"$nulls":6},""]
[{"$nulls":6},""]
[{"$nulls":6},""]

{"sheet":"K4C","index":33,"n_rows":18,"n_cols":7,"rows_kept":18,"merged":[[0,1,1,6]]}
[null,"Ukraine, Moldawien"]
[]
[]
[]
[]
[]
[{"$nulls":6},""]
[{"$nulls":6},""]
[{"$nulls":6},""]
[{"$nulls":6},""]
[{"$nulls":6},""]
[{"$nulls":6},""]
[{"$nulls":6},""]
[{"$nulls":6},""]
[{"$nulls":6},""]
[{"$nulls":6},""]
[{"$nulls":6},""]
[{"$nulls":6},""]

{"sheet":"K4D","index":34,"n_rows":18,"n_cols":7,"rows_kept":18,"merged":[[0,1,1,6]]}
[null,"Bulgarien, Griechenland, Türkei"]
[]
[]
[]
[]
[]
[{"$nulls":6},""]
[{"$nulls":6},""]
[{"$nulls":6},""]
[{"$nulls":6},""]
[{"$nulls":6},""]
[{"$nulls":6},""]
[{"$nulls":6},""]
[{"$nulls":6},""]
[{"$nulls":6},""]
[{"$nulls":6},""]
[{"$nulls":6},""]
[{"$nulls":6},""]

{"sheet":"K4E","index":35,"n_rows":18,"n_cols":7,"rows_kept":18,"merged":[[0,1,1,6]]}
[null,"Rumänien"]
[]
[]
[]
[]
[]
[{"$nulls":6},""]
[{"$nulls":6},""]
[{"$nulls":6},""]
[{"$nulls":6},""]
[{"$nulls":6},""]
[{"$nulls":6},""]
[{"$nulls":6},""]
[{"$nulls":6},""]
[{"$nulls":6},""]
[{"$nulls":6},""]
[{"$nulls":6},""]
[{"$nulls":6},""]

{"sheet":"K4F","index":36,"n_rows":18,"n_cols":7,"rows_kept":18,"merged":[[0,1,1,6]]}
[null,"Bosnien und Herzegowina, Kroatien, Serbien, Slowakei, Slowenien, Ungarn"]
[]
[]
[]
[]
[]
[{"$nulls":6},""]
[{"$nulls":6},""]
[{"$nulls":6},""]
[{"$nulls":6},""]
[{"$nulls":6},""]
[{"$nulls":6},""]
[{"$nulls":6},""]
[{"$nulls":6},""]
[{"$nulls":6},""]
[{"$nulls":6},""]
[{"$nulls":6},""]
[{"$nulls":6},""]

{"sheet":"K4G","index":37,"n_rows":18,"n_cols":7,"rows_kept":18,"merged":[[0,1,1,6]]}
[null,"Weissrussland, Russland (westlicher Teil)"]
[]
[]
[]
[]
[]
[{"$nulls":6},""]
[{"$nulls":6},""]
[{"$nulls":6},""]
[{"$nulls":6},""]
[{"$nulls":6},""]
[{"$nulls":6},""]
[{"$nulls":6},""]
[{"$nulls":6},""]
[{"$nulls":6},""]
[{"$nulls":6},""]
[{"$nulls":6},""]
[{"$nulls":6},""]

{"sheet":"K4H","index":38,"n_rows":18,"n_cols":7,"rows_kept":18,"merged":[[0,1,1,6]]}
[null,"Russland (östlicher Teil)"]
[]
[]
[]
[]
[]
[{"$nulls":6},""]
[{"$nulls":6},""]
[{"$nulls":6},""]
[{"$nulls":6},""]
[{"$nulls":6},""]
[{"$nulls":6},""]
[{"$nulls":6},""]
[{"$nulls":6},""]
[{"$nulls":6},""]
[{"$nulls":6},""]
[{"$nulls":6},""]
[{"$nulls":6},""]

{"sheet":"K5","index":39,"n_rows":18,"n_cols":7,"rows_kept":18,"merged":[[0,1,1,6]]}
[null,"Afrika (Ägypten, Südafrika, Tunesien)"]
[]
[]
[]
[]
[]
[{"$nulls":6},""]
[{"$nulls":6},""]
[{"$nulls":6},""]
[{"$nulls":6},""]
[{"$nulls":6},""]
[{"$nulls":6},""]
[{"$nulls":6},""]
[{"$nulls":6},""]
[{"$nulls":6},""]
[{"$nulls":6},""]
[{"$nulls":6},""]
[{"$nulls":6},""]

{"sheet":"K6","index":40,"n_rows":18,"n_cols":7,"rows_kept":18,"merged":[[0,1,1,6]]}
[null,"Asien (Syrien, Georgien, Aserbeitschan, Usbekistan, Indien, China, Nordkorea, Südkorea)"]
[]
[]
[]
[]
[]
[{"$nulls":6},""]
[{"$nulls":6},""]
[{"$nulls":6},""]
[{"$nulls":6},""]
[{"$nulls":6},""]
[{"$nulls":6},""]
[{"$nulls":6},""]
[{"$nulls":6},""]
[{"$nulls":6},""]
[{"$nulls":6},""]
[{"$nulls":6},""]
[{"$nulls":6},""]

{"sheet":"K61","index":41,"n_rows":18,"n_cols":7,"rows_kept":18,"merged":[[0,1,1,6]]}
[null,"Japan"]
[]
[]
[]
[]
[]
[{"$nulls":6},""]
[{"$nulls":6},""]
[{"$nulls":6},""]
[{"$nulls":6},""]
[{"$nulls":6},""]
[{"$nulls":6},""]
[{"$nulls":6},""]
[{"$nulls":6},""]
[{"$nulls":6},""]
[{"$nulls":6},""]
[{"$nulls":6},""]
[{"$nulls":6},""]

{"sheet":"K7","index":42,"n_rows":18,"n_cols":7,"rows_kept":18,"merged":[[0,1,1,6]]}
[null,"Australien, Neuseeland"]
[]
[]
[]
[]
[]
[{"$nulls":6},""]
[{"$nulls":6},""]
[{"$nulls":6},""]
[{"$nulls":6},""]
[{"$nulls":6},""]
[{"$nulls":6},""]
[{"$nulls":6},""]
[{"$nulls":6},""]
[{"$nulls":6},""]
[{"$nulls":6},""]
[{"$nulls":6},""]
[{"$nulls":6},""]

{"sheet":"LL","index":43,"n_rows":24,"n_cols":13,"rows_kept":24,"merged":[[0,1,1,12],[19,0,23,0]]}
["AUT",{"$f":"IFERROR(LEFT(INDEX(Betriebeliste!$A$1:AA$600,MATCH(TEXT(G4,0),Betriebeliste!$A$1:$A$653,0),2),FIND(\":\",INDEX(Betriebeliste!$A$1:AA$600,MATCH(TEXT(G4,0),Betriebeliste!$A$1:$A$653,0),2))-1),\"\")","v":"Österreich"}]
[]
[null,null,2,"P",null,"+",null,null,2,"P",null,"+"]
[null,{"$f":"IFERROR(MID(INDEX(Betriebeliste!$A$1:AA$600,MATCH(TEXT(G4,0),Betriebeliste!$A$1:$A$653,0),2),FIND(\":\",INDEX(Betriebeliste!$A$1:AA$600,MATCH(TEXT(G4,0),Betriebeliste!$A$1:$A$653,0),2))+1,99),\"\")","v":" Baden bei Wien (740)"},{"$f":"IFERROR(INDEX(Betriebeliste!$A$1:AA$600,MATCH(TEXT(G4,0),Betriebeliste!$A$1:$A$653,0),27),\"\")","v":1},{"$f":"IFERROR(INDEX(Betriebeliste!$A$1:AC$600,MATCH(TEXT(G4,0),Betriebeliste!$A$1:$A$653,0),29)/C4,\"\")","v":{"v":0,"d":"0%"}},{"$f":"IFERROR(IF(INDEX(Betriebeliste!$A$1:E$653,MATCH(TEXT(G4,0),Betriebeliste!$A$1:$A$653,0),5)=1,\"L\",\"\"),\"\")","v":""},{"$f":"IFERROR(INDEX(Betriebeliste!$A$1:BG$600,MATCH(TEXT(G4,0),Betriebeliste!$A$1:$A$653,0),30),\"\")","v":0},{"$f":"IFERROR(INDIRECT(\"Betriebeliste!A\"&MATCH($A$1&TEXT(ROW()-3,\"00\"),Betriebeliste[ABC],0)+1),\"\")","v":"740"},{"$f":"IFERROR(MID(INDEX(Betriebeliste!$A$1:AG$600,MATCH(TEXT(M4,0),Betriebeliste!$A$1:$A$653,0),2),FIND(\":\",INDEX(Betriebeliste!$A$1:AG$600,MATCH(TEXT(M4,0),Betriebeliste!$A$1:$A$653,0),2))+1,99),\"\")","v":""},{"$f":"IFERROR(INDEX(Betriebeliste!$A$1:AG$600,MATCH(TEXT(M4,0),Betriebeliste!$A$1:$A$653,0),27),\"\")","v":""},{"$f":"IFERROR(INDEX(Betriebeliste!$A$1:AI$600,MATCH(TEXT(M4,0),Betriebeliste!$A$1:$A$653,0),29)/I4,\"\")","v":""},{"$f":"IFERROR(IF(INDEX(Betriebeliste!$A$1:K$653,MATCH(TEXT(M4,0),Betriebeliste!$A$1:$A$653,0),5)=1,\"L\",\"\"),\"\")","v":""},{"$f":"IFERROR(INDEX(Betriebeliste!$A$1:BM$600,MATCH(TEXT(M4,0),Betriebeliste!$A$1:$A$653,0),30),\"\")","v":""},{"$f":"IFERROR(INDIRECT(\"Betriebeliste!A\"&MATCH($A$1&TEXT(ROW()+18,\"00\"),Betriebeliste[ABC],0)+1),\"\")","v":""}]
[null,{"$f":"IFERROR(MID(INDEX(Betriebeliste!$A$1:AA$600,MATCH(TEXT(G5,0),Betriebeliste!$A$1:$A$653,0),2),FIND(\":\",INDEX(Betriebeliste!$A$1:AA$600,MATCH(TEXT(G5,0),Betriebeliste!$A$1:$A$653,0),2))+1,99),\"\")","v":" Ebelsberg-St.Florian (229)"},{"$f":"IFERROR(INDEX(Betriebeliste!$A$1:AA$600,MATCH(TEXT(G5,0),Betriebeliste!$A$1:$A$653,0),27),\"\")","v":23},{"$f":"IFERROR(INDEX(Betriebeliste!$A$1:AC$600,MATCH(TEXT(G5,0),Betriebeliste!$A$1:$A$653,0),29)/C5,\"\")","v":{"v":0.7391304347826086,"d":"74%"}},{"$f":"IFERROR(IF(INDEX(Betriebeliste!$A$1:E$653,MATCH(TEXT(G5,0),Betriebeliste!$A$1:$A$653,0),5)=1,\"L\",\"\"),\"\")","v":""},{"$f":"IFERROR(INDEX(Betriebeliste!$A$1:BG$600,MATCH(TEXT(G5,0),Betriebeliste!$A$1:$A$653,0),30),\"\")","v":6},{"$f":"IFERROR(INDIRECT(\"Betriebeliste!A\"&MATCH($A$1&TEXT(ROW()-3,\"00\"),Betriebeliste[ABC],0)+1),\"\")","v":"229"},{"$f":"IFERROR(MID(INDEX(Betriebeliste!$A$1:AG$600,MATCH(TEXT(M5,0),Betriebeliste!$A$1:$A$653,0),2),FIND(\":\",INDEX(Betriebeliste!$A$1:AG$600,MATCH(TEXT(M5,0),Betriebeliste!$A$1:$A$653,0),2))+1,99),\"\")","v":""},{"$f":"IFERROR(INDEX(Betriebeliste!$A$1:AG$600,MATCH(TEXT(M5,0),Betriebeliste!$A$1:$A$653,0),27),\"\")","v":""},{"$f":"IFERROR(INDEX(Betriebeliste!$A$1:AI$600,MATCH(TEXT(M5,0),Betriebeliste!$A$1:$A$653,0),29)/I5,\"\")","v":""},{"$f":"IFERROR(IF(INDEX(Betriebeliste!$A$1:K$653,MATCH(TEXT(M5,0),Betriebeliste!$A$1:$A$653,0),5)=1,\"L\",\"\"),\"\")","v":""},{"$f":"IFERROR(INDEX(Betriebeliste!$A$1:BM$600,MATCH(TEXT(M5,0),Betriebeliste!$A$1:$A$653,0),30),\"\")","v":""},{"$f":"IFERROR(INDIRECT(\"Betriebeliste!A\"&MATCH($A$1&TEXT(ROW()+18,\"00\"),Betriebeliste[ABC],0)+1),\"\")","v":""}]
[null,{"$f":"IFERROR(MID(INDEX(Betriebeliste!$A$1:AA$600,MATCH(TEXT(G6,0),Betriebeliste!$A$1:$A$653,0),2),FIND(\":\",INDEX(Betriebeliste!$A$1:AA$600,MATCH(TEXT(G6,0),Betriebeliste!$A$1:$A$653,0),2))+1,99),\"\")","v":" Gmunden (398)"},{"$f":"IFERROR(INDEX(Betriebeliste!$A$1:AA$600,MATCH(TEXT(G6,0),Betriebeliste!$A$1:$A$653,0),27),\"\")","v":44},{"$f":"IFERROR(INDEX(Betriebeliste!$A$1:AC$600,MATCH(TEXT(G6,0),Betriebeliste!$A$1:$A$653,0),29)/C6,\"\")","v":{"v":1,"d":"100%"}},{"$f":"IFERROR(IF(INDEX(Betriebeliste!$A$1:E$653,MATCH(TEXT(G6,0),Betriebeliste!$A$1:$A$653,0),5)=1,\"L\",\"\"),\"\")","v":""},{"$f":"IFERROR(INDEX(Betriebeliste!$A$1:BG$600,MATCH(TEXT(G6,0),Betriebeliste!$A$1:$A$653,0),30),\"\")","v":6},{"$f":"IFERROR(INDIRECT(\"Betriebeliste!A\"&MATCH($A$1&TEXT(ROW()-3,\"00\"),Betriebeliste[ABC],0)+1),\"\")","v":"398"},{"$f":"IFERROR(MID(INDEX(Betriebeliste!$A$1:AG$600,MATCH(TEXT(M6,0),Betriebeliste!$A$1:$A$653,0),2),FIND(\":\",INDEX(Betriebeliste!$A$1:AG$600,MATCH(TEXT(M6,0),Betriebeliste!$A$1:$A$653,0),2))+1,99),\"\")","v":""},{"$f":"IFERROR(INDEX(Betriebeliste!$A$1:AG$600,MATCH(TEXT(M6,0),Betriebeliste!$A$1:$A$653,0),27),\"\")","v":""},{"$f":"IFERROR(INDEX(Betriebeliste!$A$1:AI$600,MATCH(TEXT(M6,0),Betriebeliste!$A$1:$A$653,0),29)/I6,\"\")","v":""},{"$f":"IFERROR(IF(INDEX(Betriebeliste!$A$1:K$653,MATCH(TEXT(M6,0),Betriebeliste!$A$1:$A$653,0),5)=1,\"L\",\"\"),\"\")","v":""},{"$f":"IFERROR(INDEX(Betriebeliste!$A$1:BM$600,MATCH(TEXT(M6,0),Betriebeliste!$A$1:$A$653,0),30),\"\")","v":""},{"$f":"IFERROR(INDIRECT(\"Betriebeliste!A\"&MATCH($A$1&TEXT(ROW()+18,\"00\"),Betriebeliste[ABC],0)+1),\"\")","v":""}]
[null,{"$f":"IFERROR(MID(INDEX(Betriebeliste!$A$1:AA$600,MATCH(TEXT(G7,0),Betriebeliste!$A$1:$A$653,0),2),FIND(\":\",INDEX(Betriebeliste!$A$1:AA$600,MATCH(TEXT(G7,0),Betriebeliste!$A$1:$A$653,0),2))+1,99),\"\")","v":" Graz (202)"},{"$f":"IFERROR(INDEX(Betriebeliste!$A$1:AA$600,MATCH(TEXT(G7,0),Betriebeliste!$A$1:$A$653,0),27),\"\")","v":68},{"$f":"IFERROR(INDEX(Betriebeliste!$A$1:AC$600,MATCH(TEXT(G7,0),Betriebeliste!$A$1:$A$653,0),29)/C7,\"\")","v":{"v":1,"d":"100%"}},{"$f":"IFERROR(IF(INDEX(Betriebeliste!$A$1:E$653,MATCH(TEXT(G7,0),Betriebeliste!$A$1:$A$653,0),5)=1,\"L\",\"\"),\"\")","v":"L"},{"$f":"IFERROR(INDEX(Betriebeliste!$A$1:BG$600,MATCH(TEXT(G7,0),Betriebeliste!$A$1:$A$653,0),30),\"\")","v":27},{"$f":"IFERROR(INDIRECT(\"Betriebeliste!A\"&MATCH($A$1&TEXT(ROW()-3,\"00\"),Betriebeliste[ABC],0)+1),\"\")","v":"202"},{"$f":"IFERROR(MID(INDEX(Betriebeliste!$A$1:AG$600,MATCH(TEXT(M7,0),Betriebeliste!$A$1:$A$653,0),2),FIND(\":\",INDEX(Betriebeliste!$A$1:AG$600,MATCH(TEXT(M7,0),Betriebeliste!$A$1:$A$653,0),2))+1,99),\"\")","v":""},{"$f":"IFERROR(INDEX(Betriebeliste!$A$1:AG$600,MATCH(TEXT(M7,0),Betriebeliste!$A$1:$A$653,0),27),\"\")","v":""},{"$f":"IFERROR(INDEX(Betriebeliste!$A$1:AI$600,MATCH(TEXT(M7,0),Betriebeliste!$A$1:$A$653,0),29)/I7,\"\")","v":""},{"$f":"IFERROR(IF(INDEX(Betriebeliste!$A$1:K$653,MATCH(TEXT(M7,0),Betriebeliste!$A$1:$A$653,0),5)=1,\"L\",\"\"),\"\")","v":""},{"$f":"IFERROR(INDEX(Betriebeliste!$A$1:BM$600,MATCH(TEXT(M7,0),Betriebeliste!$A$1:$A$653,0),30),\"\")","v":""},{"$f":"IFERROR(INDIRECT(\"Betriebeliste!A\"&MATCH($A$1&TEXT(ROW()+18,\"00\"),Betriebeliste[ABC],0)+1),\"\")","v":""}]
[null,{"$f":"IFERROR(MID(INDEX(Betriebeliste!$A$1:AA$600,MATCH(TEXT(G8,0),Betriebeliste!$A$1:$A$653,0),2),FIND(\":\",INDEX(Betriebeliste!$A$1:AA$600,MATCH(TEXT(G8,0),Betriebeliste!$A$1:$A$653,0),2))+1,99),\"\")","v":" Graz, Tramway Museum Graz (2101)"},{"$f":"IFERROR(INDEX(Betriebeliste!$A$1:AA$600,MATCH(TEXT(G8,0),Betriebeliste!$A$1:$A$653,0),27),\"\")","v":2},{"$f":"IFERROR(INDEX(Betriebeliste!$A$1:AC$600,MATCH(TEXT(G8,0),Betriebeliste!$A$1:$A$653,0),29)/C8,\"\")","v":{"v":1,"d":"100%"}},{"$f":"IFERROR(IF(INDEX(Betriebeliste!$A$1:E$653,MATCH(TEXT(G8,0),Betriebeliste!$A$1:$A$653,0),5)=1,\"L\",\"\"),\"\")","v":""},{"$f":"IFERROR(INDEX(Betriebeliste!$A$1:BG$600,MATCH(TEXT(G8,0),Betriebeliste!$A$1:$A$653,0),30),\"\")","v":2},{"$f":"IFERROR(INDIRECT(\"Betriebeliste!A\"&MATCH($A$1&TEXT(ROW()-3,\"00\"),Betriebeliste[ABC],0)+1),\"\")","v":"2101"},{"$f":"IFERROR(MID(INDEX(Betriebeliste!$A$1:AG$600,MATCH(TEXT(M8,0),Betriebeliste!$A$1:$A$653,0),2),FIND(\":\",INDEX(Betriebeliste!$A$1:AG$600,MATCH(TEXT(M8,0),Betriebeliste!$A$1:$A$653,0),2))+1,99),\"\")","v":""},{"$f":"IFERROR(INDEX(Betriebeliste!$A$1:AG$600,MATCH(TEXT(M8,0),Betriebeliste!$A$1:$A$653,0),27),\"\")","v":""},{"$f":"IFERROR(INDEX(Betriebeliste!$A$1:AI$600,MATCH(TEXT(M8,0),Betriebeliste!$A$1:$A$653,0),29)/I8,\"\")","v":""},{"$f":"IFERROR(IF(INDEX(Betriebeliste!$A$1:K$653,MATCH(TEXT(M8,0),Betriebeliste!$A$1:$A$653,0),5)=1,\"L\",\"\"),\"\")","v":""},{"$f":"IFERROR(INDEX(Betriebeliste!$A$1:BM$600,MATCH(TEXT(M8,0),Betriebeliste!$A$1:$A$653,0),30),\"\")","v":""},{"$f":"IFERROR(INDIRECT(\"Betriebeliste!A\"&MATCH($A$1&TEXT(ROW()+18,\"00\"),Betriebeliste[ABC],0)+1),\"\")","v":""}]
[null,{"$f":"IFERROR(MID(INDEX(Betriebeliste!$A$1:AA$600,MATCH(TEXT(G9,0),Betriebeliste!$A$1:$A$653,0),2),FIND(\":\",INDEX(Betriebeliste!$A$1:AA$600,MATCH(TEXT(G9,0),Betriebeliste!$A$1:$A$653,0),2))+1,99),\"\")","v":" Innsbruck (221)"},{"$f":"IFERROR(INDEX(Betriebeliste!$A$1:AA$600,MATCH(TEXT(G9,0),Betriebeliste!$A$1:$A$653,0),27),\"\")","v":168},{"$f":"IFERROR(INDEX(Betriebeliste!$A$1:AC$600,MATCH(TEXT(G9,0),Betriebeliste!$A$1:$A$653,0),29)/C9,\"\")","v":{"v":1,"d":"100%"}},{"$f":"IFERROR(IF(INDEX(Betriebeliste!$A$1:E$653,MATCH(TEXT(G9,0),Betriebeliste!$A$1:$A$653,0),5)=1,\"L\",\"\"),\"\")","v":"L"},{"$f":"IFERROR(INDEX(Betriebeliste!$A$1:BG$600,MATCH(TEXT(G9,0),Betriebeliste!$A$1:$A$653,0),30),\"\")","v":61},{"$f":"IFERROR(INDIRECT(\"Betriebeliste!A\"&MATCH($A$1&TEXT(ROW()-3,\"00\"),Betriebeliste[ABC],0)+1),\"\")","v":"221"},{"$f":"IFERROR(MID(INDEX(Betriebeliste!$A$1:AG$600,MATCH(TEXT(M9,0),Betriebeliste!$A$1:$A$653,0),2),FIND(\":\",INDEX(Betriebeliste!$A$1:AG$600,MATCH(TEXT(M9,0),Betriebeliste!$A$1:$A$653,0),2))+1,99),\"\")","v":""},{"$f":"IFERROR(INDEX(Betriebeliste!$A$1:AG$600,MATCH(TEXT(M9,0),Betriebeliste!$A$1:$A$653,0),27),\"\")","v":""},{"$f":"IFERROR(INDEX(Betriebeliste!$A$1:AI$600,MATCH(TEXT(M9,0),Betriebeliste!$A$1:$A$653,0),29)/I9,\"\")","v":""},{"$f":"IFERROR(IF(INDEX(Betriebeliste!$A$1:K$653,MATCH(TEXT(M9,0),Betriebeliste!$A$1:$A$653,0),5)=1,\"L\",\"\"),\"\")","v":""},{"$f":"IFERROR(INDEX(Betriebeliste!$A$1:BM$600,MATCH(TEXT(M9,0),Betriebeliste!$A$1:$A$653,0),30),\"\")","v":""},{"$f":"IFERROR(INDIRECT(\"Betriebeliste!A\"&MATCH($A$1&TEXT(ROW()+18,\"00\"),Betriebeliste[ABC],0)+1),\"\")","v":""}]
[null,{"$f":"IFERROR(MID(INDEX(Betriebeliste!$A$1:AA$600,MATCH(TEXT(G10,0),Betriebeliste!$A$1:$A$653,0),2),FIND(\":\",INDEX(Betriebeliste!$A$1:AA$600,MATCH(TEXT(G10,0),Betriebeliste!$A$1:$A$653,0),2))+1,99),\"\")","v":" Innsbruck, Tiroler MuseumsBahnen (2102)"},{"$f":"IFERROR(INDEX(Betriebeliste!$A$1:AA$600,MATCH(TEXT(G10,0),Betriebeliste!$A$1:$A$653,0),27),\"\")","v":1},{"$f":"IFERROR(INDEX(Betriebeliste!$A$1:AC$600,MATCH(TEXT(G10,0),Betriebeliste!$A$1:$A$653,0),29)/C10,\"\")","v":{"v":0,"d":"0%"}},{"$f":"IFERROR(IF(INDEX(Betriebeliste!$A$1:E$653,MATCH(TEXT(G10,0),Betriebeliste!$A$1:$A$653,0),5)=1,\"L\",\"\"),\"\")","v":""},{"$f":"IFERROR(INDEX(Betriebeliste!$A$1:BG$600,MATCH(TEXT(G10,0),Betriebeliste!$A$1:$A$653,0),30),\"\")","v":0},{"$f":"IFERROR(INDIRECT(\"Betriebeliste!A\"&MATCH($A$1&TEXT(ROW()-3,\"00\"),Betriebeliste[ABC],0)+1),\"\")","v":"2102"},{"$f":"IFERROR(MID(INDEX(Betriebeliste!$A$1:AG$600,MATCH(TEXT(M10,0),Betriebeliste!$A$1:$A$653,0),2),FIND(\":\",INDEX(Betriebeliste!$A$1:AG$600,MATCH(TEXT(M10,0),Betriebeliste!$A$1:$A$653,0),2))+1,99),\"\")","v":""},{"$f":"IFERROR(INDEX(Betriebeliste!$A$1:AG$600,MATCH(TEXT(M10,0),Betriebeliste!$A$1:$A$653,0),27),\"\")","v":""},{"$f":"IFERROR(INDEX(Betriebeliste!$A$1:AI$600,MATCH(TEXT(M10,0),Betriebeliste!$A$1:$A$653,0),29)/I10,\"\")","v":""},{"$f":"IFERROR(IF(INDEX(Betriebeliste!$A$1:K$653,MATCH(TEXT(M10,0),Betriebeliste!$A$1:$A$653,0),5)=1,\"L\",\"\"),\"\")","v":""},{"$f":"IFERROR(INDEX(Betriebeliste!$A$1:BM$600,MATCH(TEXT(M10,0),Betriebeliste!$A$1:$A$653,0),30),\"\")","v":""},{"$f":"IFERROR(INDIRECT(\"Betriebeliste!A\"&MATCH($A$1&TEXT(ROW()+18,\"00\"),Betriebeliste[ABC],0)+1),\"\")","v":""}]
[null,{"$f":"IFERROR(MID(INDEX(Betriebeliste!$A$1:AA$600,MATCH(TEXT(G11,0),Betriebeliste!$A$1:$A$653,0),2),FIND(\":\",INDEX(Betriebeliste!$A$1:AA$600,MATCH(TEXT(G11,0),Betriebeliste!$A$1:$A$653,0),2))+1,99),\"\")","v":" Klagenfurt (201)"},{"$f":"IFERROR(INDEX(Betriebeliste!$A$1:AA$600,MATCH(TEXT(G11,0),Betriebeliste!$A$1:$A$653,0),27),\"\")","v":19},{"$f":"IFERROR(INDEX(Betriebeliste!$A$1:AC$600,MATCH(TEXT(G11,0),Betriebeliste!$A$1:$A$653,0),29)/C11,\"\")","v":{"v":1,"d":"100%"}},{"$f":"IFERROR(IF(INDEX(Betriebeliste!$A$1:E$653,MATCH(TEXT(G11,0),Betriebeliste!$A$1:$A$653,0),5)=1,\"L\",\"\"),\"\")","v":""},{"$f":"IFERROR(INDEX(Betriebeliste!$A$1:BG$600,MATCH(TEXT(G11,0),Betriebeliste!$A$1:$A$653,0),30),\"\")","v":2},{"$f":"IFERROR(INDIRECT(\"Betriebeliste!A\"&MATCH($A$1&TEXT(ROW()-3,\"00\"),Betriebeliste[ABC],0)+1),\"\")","v":"201"},{"$f":"IFERROR(MID(INDEX(Betriebeliste!$A$1:AG$600,MATCH(TEXT(M11,0),Betriebeliste!$A$1:$A$653,0),2),FIND(\":\",INDEX(Betriebeliste!$A$1:AG$600,MATCH(TEXT(M11,0),Betriebeliste!$A$1:$A$653,0),2))+1,99),\"\")","v":""},{"$f":"IFERROR(INDEX(Betriebeliste!$A$1:AG$600,MATCH(TEXT(M11,0),Betriebeliste!$A$1:$A$653,0),27),\"\")","v":""},{"$f":"IFERROR(INDEX(Betriebeliste!$A$1:AI$600,MATCH(TEXT(M11,0),Betriebeliste!$A$1:$A$653,0),29)/I11,\"\")","v":""},{"$f":"IFERROR(IF(INDEX(Betriebeliste!$A$1:K$653,MATCH(TEXT(M11,0),Betriebeliste!$A$1:$A$653,0),5)=1,\"L\",\"\"),\"\")","v":""},{"$f":"IFERROR(INDEX(Betriebeliste!$A$1:BM$600,MATCH(TEXT(M11,0),Betriebeliste!$A$1:$A$653,0),30),\"\")","v":""},{"$f":"IFERROR(INDIRECT(\"Betriebeliste!A\"&MATCH($A$1&TEXT(ROW()+18,\"00\"),Betriebeliste[ABC],0)+1),\"\")","v":""}]
[null,{"$f":"IFERROR(MID(INDEX(Betriebeliste!$A$1:AA$600,MATCH(TEXT(G12,0),Betriebeliste!$A$1:$A$653,0),2),FIND(\":\",INDEX(Betriebeliste!$A$1:AA$600,MATCH(TEXT(G12,0),Betriebeliste!$A$1:$A$653,0),2))+1,99),\"\")","v":" Linz (200)"},{"$f":"IFERROR(INDEX(Betriebeliste!$A$1:AA$600,MATCH(TEXT(G12,0),Betriebeliste!$A$1:$A$653,0),27),\"\")","v":151},{"$f":"IFERROR(INDEX(Betriebeliste!$A$1:AC$600,MATCH(TEXT(G12,0),Betriebeliste!$A$1:$A$653,0),29)/C12,\"\")","v":{"v":1,"d":"100%"}},{"$f":"IFERROR(IF(INDEX(Betriebeliste!$A$1:E$653,MATCH(TEXT(G12,0),Betriebeliste!$A$1:$A$653,0),5)=1,\"L\",\"\"),\"\")","v":"L"},{"$f":"IFERROR(INDEX(Betriebeliste!$A$1:BG$600,MATCH(TEXT(G12,0),Betriebeliste!$A$1:$A$653,0),30),\"\")","v":36},{"$f":"IFERROR(INDIRECT(\"Betriebeliste!A\"&MATCH($A$1&TEXT(ROW()-3,\"00\"),Betriebeliste[ABC],0)+1),\"\")","v":"200"},{"$f":"IFERROR(MID(INDEX(Betriebeliste!$A$1:AG$600,MATCH(TEXT(M12,0),Betriebeliste!$A$1:$A$653,0),2),FIND(\":\",INDEX(Betriebeliste!$A$1:AG$600,MATCH(TEXT(M12,0),Betriebeliste!$A$1:$A$653,0),2))+1,99),\"\")","v":""},{"$f":"IFERROR(INDEX(Betriebeliste!$A$1:AG$600,MATCH(TEXT(M12,0),Betriebeliste!$A$1:$A$653,0),27),\"\")","v":""},{"$f":"IFERROR(INDEX(Betriebeliste!$A$1:AI$600,MATCH(TEXT(M12,0),Betriebeliste!$A$1:$A$653,0),29)/I12,\"\")","v":""},{"$f":"IFERROR(IF(INDEX(Betriebeliste!$A$1:K$653,MATCH(TEXT(M12,0),Betriebeliste!$A$1:$A$653,0),5)=1,\"L\",\"\"),\"\")","v":""},{"$f":"IFERROR(INDEX(Betriebeliste!$A$1:BM$600,MATCH(TEXT(M12,0),Betriebeliste!$A$1:$A$653,0),30),\"\")","v":""},{"$f":"IFERROR(INDIRECT(\"Betriebeliste!A\"&MATCH($A$1&TEXT(ROW()+18,\"00\"),Betriebeliste[ABC],0)+1),\"\")","v":""}]
[null,{"$f":"IFERROR(MID(INDEX(Betriebeliste!$A$1:AA$600,MATCH(TEXT(G13,0),Betriebeliste!$A$1:$A$653,0),2),FIND(\":\",INDEX(Betriebeliste!$A$1:AA$600,MATCH(TEXT(G13,0),Betriebeliste!$A$1:$A$653,0),2))+1,99),\"\")","v":" Mürztaler Verkehrsgesellschaft (286)"},{"$f":"IFERROR(INDEX(Betriebeliste!$A$1:AA$600,MATCH(TEXT(G13,0),Betriebeliste!$A$1:$A$653,0),27),\"\")","v":4},{"$f":"IFERROR(INDEX(Betriebeliste!$A$1:AC$600,MATCH(TEXT(G13,0),Betriebeliste!$A$1:$A$653,0),29)/C13,\"\")","v":{"v":0.25,"d":"25%"}},{"$f":"IFERROR(IF(INDEX(Betriebeliste!$A$1:E$653,MATCH(TEXT(G13,0),Betriebeliste!$A$1:$A$653,0),5)=1,\"L\",\"\"),\"\")","v":""},{"$f":"IFERROR(INDEX(Betriebeliste!$A$1:BG$600,MATCH(TEXT(G13,0),Betriebeliste!$A$1:$A$653,0),30),\"\")","v":0},{"$f":"IFERROR(INDIRECT(\"Betriebeliste!A\"&MATCH($A$1&TEXT(ROW()-3,\"00\"),Betriebeliste[ABC],0)+1),\"\")","v":"286"},{"$f":"IFERROR(MID(INDEX(Betriebeliste!$A$1:AG$600,MATCH(TEXT(M13,0),Betriebeliste!$A$1:$A$653,0),2),FIND(\":\",INDEX(Betriebeliste!$A$1:AG$600,MATCH(TEXT(M13,0),Betriebeliste!$A$1:$A$653,0),2))+1,99),\"\")","v":""},{"$f":"IFERROR(INDEX(Betriebeliste!$A$1:AG$600,MATCH(TEXT(M13,0),Betriebeliste!$A$1:$A$653,0),27),\"\")","v":""},{"$f":"IFERROR(INDEX(Betriebeliste!$A$1:AI$600,MATCH(TEXT(M13,0),Betriebeliste!$A$1:$A$653,0),29)/I13,\"\")","v":""},{"$f":"IFERROR(IF(INDEX(Betriebeliste!$A$1:K$653,MATCH(TEXT(M13,0),Betriebeliste!$A$1:$A$653,0),5)=1,\"L\",\"\"),\"\")","v":""},{"$f":"IFERROR(INDEX(Betriebeliste!$A$1:BM$600,MATCH(TEXT(M13,0),Betriebeliste!$A$1:$A$653,0),30),\"\")","v":""},{"$f":"IFERROR(INDIRECT(\"Betriebeliste!A\"&MATCH($A$1&TEXT(ROW()+18,\"00\"),Betriebeliste[ABC],0)+1),\"\")","v":""}]
[null,{"$f":"IFERROR(MID(INDEX(Betriebeliste!$A$1:AA$600,MATCH(TEXT(G14,0),Betriebeliste!$A$1:$A$653,0),2),FIND(\":\",INDEX(Betriebeliste!$A$1:AA$600,MATCH(TEXT(G14,0),Betriebeliste!$A$1:$A$653,0),2))+1,99),\"\")","v":" Museumsbahn Ebelsberg-St. Florian (2107)"},{"$f":"IFERROR(INDEX(Betriebeliste!$A$1:AA$600,MATCH(TEXT(G14,0),Betriebeliste!$A$1:$A$653,0),27),\"\")","v":13},{"$f":"IFERROR(INDEX(Betriebeliste!$A$1:AC$600,MATCH(TEXT(G14,0),Betriebeliste!$A$1:$A$653,0),29)/C14,\"\")","v":{"v":1,"d":"100%"}},{"$f":"IFERROR(IF(INDEX(Betriebeliste!$A$1:E$653,MATCH(TEXT(G14,0),Betriebeliste!$A$1:$A$653,0),5)=1,\"L\",\"\"),\"\")","v":""},{"$f":"IFERROR(INDEX(Betriebeliste!$A$1:BG$600,MATCH(TEXT(G14,0),Betriebeliste!$A$1:$A$653,0),30),\"\")","v":7},{"$f":"IFERROR(INDIRECT(\"Betriebeliste!A\"&MATCH($A$1&TEXT(ROW()-3,\"00\"),Betriebeliste[ABC],0)+1),\"\")","v":"2107"},{"$f":"IFERROR(MID(INDEX(Betriebeliste!$A$1:AG$600,MATCH(TEXT(M14,0),Betriebeliste!$A$1:$A$653,0),2),FIND(\":\",INDEX(Betriebeliste!$A$1:AG$600,MATCH(TEXT(M14,0),Betriebeliste!$A$1:$A$653,0),2))+1,99),\"\")","v":""},{"$f":"IFERROR(INDEX(Betriebeliste!$A$1:AG$600,MATCH(TEXT(M14,0),Betriebeliste!$A$1:$A$653,0),27),\"\")","v":""},{"$f":"IFERROR(INDEX(Betriebeliste!$A$1:AI$600,MATCH(TEXT(M14,0),Betriebeliste!$A$1:$A$653,0),29)/I14,\"\")","v":""},{"$f":"IFERROR(IF(INDEX(Betriebeliste!$A$1:K$653,MATCH(TEXT(M14,0),Betriebeliste!$A$1:$A$653,0),5)=1,\"L\",\"\"),\"\")","v":""},{"$f":"IFERROR(INDEX(Betriebeliste!$A$1:BM$600,MATCH(TEXT(M14,0),Betriebeliste!$A$1:$A$653,0),30),\"\")","v":""},{"$f":"IFERROR(INDIRECT(\"Betriebeliste!A\"&MATCH($A$1&TEXT(ROW()+18,\"00\"),Betriebeliste[ABC],0)+1),\"\")","v":""}]
[null,{"$f":"IFERROR(MID(INDEX(Betriebeliste!$A$1:AA$600,MATCH(TEXT(G15,0),Betriebeliste!$A$1:$A$653,0),2),FIND(\":\",INDEX(Betriebeliste!$A$1:AA$600,MATCH(TEXT(G15,0),Betriebeliste!$A$1:$A$653,0),2))+1,99),\"\")","v":" Museumstramway Mariazell–Erlaufsee (2106)"},{"$f":"IFERROR(INDEX(Betriebeliste!$A$1:AA$600,MATCH(TEXT(G15,0),Betriebeliste!$A$1:$A$653,0),27),\"\")","v":3},{"$f":"IFERROR(INDEX(Betriebeliste!$A$1:AC$600,MATCH(TEXT(G15,0),Betriebeliste!$A$1:$A$653,0),29)/C15,\"\")","v":{"v":1,"d":"100%"}},{"$f":"IFERROR(IF(INDEX(Betriebeliste!$A$1:E$653,MATCH(TEXT(G15,0),Betriebeliste!$A$1:$A$653,0),5)=1,\"L\",\"\"),\"\")","v":""},{"$f":"IFERROR(INDEX(Betriebeliste!$A$1:BG$600,MATCH(TEXT(G15,0),Betriebeliste!$A$1:$A$653,0),30),\"\")","v":1},{"$f":"IFERROR(INDIRECT(\"Betriebeliste!A\"&MATCH($A$1&TEXT(ROW()-3,\"00\"),Betriebeliste[ABC],0)+1),\"\")","v":"2106"},{"$f":"IFERROR(MID(INDEX(Betriebeliste!$A$1:AG$600,MATCH(TEXT(M15,0),Betriebeliste!$A$1:$A$653,0),2),FIND(\":\",INDEX(Betriebeliste!$A$1:AG$600,MATCH(TEXT(M15,0),Betriebeliste!$A$1:$A$653,0),2))+1,99),\"\")","v":""},{"$f":"IFERROR(INDEX(Betriebeliste!$A$1:AG$600,MATCH(TEXT(M15,0),Betriebeliste!$A$1:$A$653,0),27),\"\")","v":""},{"$f":"IFERROR(INDEX(Betriebeliste!$A$1:AI$600,MATCH(TEXT(M15,0),Betriebeliste!$A$1:$A$653,0),29)/I15,\"\")","v":""},{"$f":"IFERROR(IF(INDEX(Betriebeliste!$A$1:K$653,MATCH(TEXT(M15,0),Betriebeliste!$A$1:$A$653,0),5)=1,\"L\",\"\"),\"\")","v":""},{"$f":"IFERROR(INDEX(Betriebeliste!$A$1:BM$600,MATCH(TEXT(M15,0),Betriebeliste!$A$1:$A$653,0),30),\"\")","v":""},{"$f":"IFERROR(INDIRECT(\"Betriebeliste!A\"&MATCH($A$1&TEXT(ROW()+18,\"00\"),Betriebeliste[ABC],0)+1),\"\")","v":""}]
[null,{"$f":"IFERROR(MID(INDEX(Betriebeliste!$A$1:AA$600,MATCH(TEXT(G16,0),Betriebeliste!$A$1:$A$653,0),2),FIND(\":\",INDEX(Betriebeliste!$A$1:AA$600,MATCH(TEXT(G16,0),Betriebeliste!$A$1:$A$653,0),2))+1,99),\"\")","v":" Salzburg (206)"},{"$f":"IFERROR(INDEX(Betriebeliste!$A$1:AA$600,MATCH(TEXT(G16,0),Betriebeliste!$A$1:$A$653,0),27),\"\")","v":37},{"$f":"IFERROR(INDEX(Betriebeliste!$A$1:AC$600,MATCH(TEXT(G16,0),Betriebeliste!$A$1:$A$653,0),29)/C16,\"\")","v":{"v":0.4594594594594595,"d":"46%"}},{"$f":"IFERROR(IF(INDEX(Betriebeliste!$A$1:E$653,MATCH(TEXT(G16,0),Betriebeliste!$A$1:$A$653,0),5)=1,\"L\",\"\"),\"\")","v":""},{"$f":"IFERROR(INDEX(Betriebeliste!$A$1:BG$600,MATCH(TEXT(G16,0),Betriebeliste!$A$1:$A$653,0),30),\"\")","v":0},{"$f":"IFERROR(INDIRECT(\"Betriebeliste!A\"&MATCH($A$1&TEXT(ROW()-3,\"00\"),Betriebeliste[ABC],0)+1),\"\")","v":"206"},{"$f":"IFERROR(MID(INDEX(Betriebeliste!$A$1:AG$600,MATCH(TEXT(M16,0),Betriebeliste!$A$1:$A$653,0),2),FIND(\":\",INDEX(Betriebeliste!$A$1:AG$600,MATCH(TEXT(M16,0),Betriebeliste!$A$1:$A$653,0),2))+1,99),\"\")","v":""},{"$f":"IFERROR(INDEX(Betriebeliste!$A$1:AG$600,MATCH(TEXT(M16,0),Betriebeliste!$A$1:$A$653,0),27),\"\")","v":""},{"$f":"IFERROR(INDEX(Betriebeliste!$A$1:AI$600,MATCH(TEXT(M16,0),Betriebeliste!$A$1:$A$653,0),29)/I16,\"\")","v":""},{"$f":"IFERROR(IF(INDEX(Betriebeliste!$A$1:K$653,MATCH(TEXT(M16,0),Betriebeliste!$A$1:$A$653,0),5)=1,\"L\",\"\"),\"\")","v":""},{"$f":"IFERROR(INDEX(Betriebeliste!$A$1:BM$600,MATCH(TEXT(M16,0),Betriebeliste!$A$1:$A$653,0),30),\"\")","v":""},{"$f":"IFERROR(INDIRECT(\"Betriebeliste!A\"&MATCH($A$1&TEXT(ROW()+18,\"00\"),Betriebeliste[ABC],0)+1),\"\")","v":""}]
[null,{"$f":"IFERROR(MID(INDEX(Betriebeliste!$A$1:AA$600,MATCH(TEXT(G17,0),Betriebeliste!$A$1:$A$653,0),2),FIND(\":\",INDEX(Betriebeliste!$A$1:AA$600,MATCH(TEXT(G17,0),Betriebeliste!$A$1:$A$653,0),2))+1,99),\"\")","v":" St. Pölten (401)"},{"$f":"IFERROR(INDEX(Betriebeliste!$A$1:AA$600,MATCH(TEXT(G17,0),Betriebeliste!$A$1:$A$653,0),27),\"\")","v":36},{"$f":"IFERROR(INDEX(Betriebeliste!$A$1:AC$600,MATCH(TEXT(G17,0),Betriebeliste!$A$1:$A$653,0),29)/C17,\"\")","v":{"v":0.9722222222222222,"d":"97%"}},{"$f":"IFERROR(IF(INDEX(Betriebeliste!$A$1:E$653,MATCH(TEXT(G17,0),Betriebeliste!$A$1:$A$653,0),5)=1,\"L\",\"\"),\"\")","v":""},{"$f":"IFERROR(INDEX(Betriebeliste!$A$1:BG$600,MATCH(TEXT(G17,0),Betriebeliste!$A$1:$A$653,0),30),\"\")","v":15},{"$f":"IFERROR(INDIRECT(\"Betriebeliste!A\"&MATCH($A$1&TEXT(ROW()-3,\"00\"),Betriebeliste[ABC],0)+1),\"\")","v":"401"},{"$f":"IFERROR(MID(INDEX(Betriebeliste!$A$1:AG$600,MATCH(TEXT(M17,0),Betriebeliste!$A$1:$A$653,0),2),FIND(\":\",INDEX(Betriebeliste!$A$1:AG$600,MATCH(TEXT(M17,0),Betriebeliste!$A$1:$A$653,0),2))+1,99),\"\")","v":""},{"$f":"IFERROR(INDEX(Betriebeliste!$A$1:AG$600,MATCH(TEXT(M17,0),Betriebeliste!$A$1:$A$653,0),27),\"\")","v":""},{"$f":"IFERROR(INDEX(Betriebeliste!$A$1:AI$600,MATCH(TEXT(M17,0),Betriebeliste!$A$1:$A$653,0),29)/I17,\"\")","v":""},{"$f":"IFERROR(IF(INDEX(Betriebeliste!$A$1:K$653,MATCH(TEXT(M17,0),Betriebeliste!$A$1:$A$653,0),5)=1,\"L\",\"\"),\"\")","v":""},{"$f":"IFERROR(INDEX(Betriebeliste!$A$1:BM$600,MATCH(TEXT(M17,0),Betriebeliste!$A$1:$A$653,0),30),\"\")","v":""},{"$f":"IFERROR(INDIRECT(\"Betriebeliste!A\"&MATCH($A$1&TEXT(ROW()+18,\"00\"),Betriebeliste[ABC],0)+1),\"\")","v":""}]
[null,{"$f":"IFERROR(MID(INDEX(Betriebeliste!$A$1:AA$600,MATCH(TEXT(G18,0),Betriebeliste!$A$1:$A$653,0),2),FIND(\":\",INDEX(Betriebeliste!$A$1:AA$600,MATCH(TEXT(G18,0),Betriebeliste!$A$1:$A$653,0),2))+1,99),\"\")","v":" Stubaitalbahn (391)"},{"$f":"IFERROR(INDEX(Betriebeliste!$A$1:AA$600,MATCH(TEXT(G18,0),Betriebeliste!$A$1:$A$653,0),27),\"\")","v":57},{"$f":"IFERROR(INDEX(Betriebeliste!$A$1:AC$600,MATCH(TEXT(G18,0),Betriebeliste!$A$1:$A$653,0),29)/C18,\"\")","v":{"v":0.9824561403508771,"d":"98%"}},{"$f":"IFERROR(IF(INDEX(Betriebeliste!$A$1:E$653,MATCH(TEXT(G18,0),Betriebeliste!$A$1:$A$653,0),5)=1,\"L\",\"\"),\"\")","v":""},{"$f":"IFERROR(INDEX(Betriebeliste!$A$1:BG$600,MATCH(TEXT(G18,0),Betriebeliste!$A$1:$A$653,0),30),\"\")","v":21},{"$f":"IFERROR(INDIRECT(\"Betriebeliste!A\"&MATCH($A$1&TEXT(ROW()-3,\"00\"),Betriebeliste[ABC],0)+1),\"\")","v":"391"},{"$f":"IFERROR(MID(INDEX(Betriebeliste!$A$1:AG$600,MATCH(TEXT(M18,0),Betriebeliste!$A$1:$A$653,0),2),FIND(\":\",INDEX(Betriebeliste!$A$1:AG$600,MATCH(TEXT(M18,0),Betriebeliste!$A$1:$A$653,0),2))+1,99),\"\")","v":""},{"$f":"IFERROR(INDEX(Betriebeliste!$A$1:AG$600,MATCH(TEXT(M18,0),Betriebeliste!$A$1:$A$653,0),27),\"\")","v":""},{"$f":"IFERROR(INDEX(Betriebeliste!$A$1:AI$600,MATCH(TEXT(M18,0),Betriebeliste!$A$1:$A$653,0),29)/I18,\"\")","v":""},{"$f":"IFERROR(IF(INDEX(Betriebeliste!$A$1:K$653,MATCH(TEXT(M18,0),Betriebeliste!$A$1:$A$653,0),5)=1,\"L\",\"\"),\"\")","v":""},{"$f":"IFERROR(INDEX(Betriebeliste!$A$1:BM$600,MATCH(TEXT(M18,0),Betriebeliste!$A$1:$A$653,0),30),\"\")","v":""},{"$f":"IFERROR(INDIRECT(\"Betriebeliste!A\"&MATCH($A$1&TEXT(ROW()+18,\"00\"),Betriebeliste[ABC],0)+1),\"\")","v":""}]
[null,{"$f":"IFERROR(MID(INDEX(Betriebeliste!$A$1:AA$600,MATCH(TEXT(G19,0),Betriebeliste!$A$1:$A$653,0),2),FIND(\":\",INDEX(Betriebeliste!$A$1:AA$600,MATCH(TEXT(G19,0),Betriebeliste!$A$1:$A$653,0),2))+1,99),\"\")","v":" Wien (203)"},{"$f":"IFERROR(INDEX(Betriebeliste!$A$1:AA$600,MATCH(TEXT(G19,0),Betriebeliste!$A$1:$A$653,0),27),\"\")","v":553},{"$f":"IFERROR(INDEX(Betriebeliste!$A$1:AC$600,MATCH(TEXT(G19,0),Betriebeliste!$A$1:$A$653,0),29)/C19,\"\")","v":{"v":0.5786618444846293,"d":"58%"}},{"$f":"IFERROR(IF(INDEX(Betriebeliste!$A$1:E$653,MATCH(TEXT(G19,0),Betriebeliste!$A$1:$A$653,0),5)=1,\"L\",\"\"),\"\")","v":"L"},{"$f":"IFERROR(INDEX(Betriebeliste!$A$1:BG$600,MATCH(TEXT(G19,0),Betriebeliste!$A$1:$A$653,0),30),\"\")","v":204},{"$f":"IFERROR(INDIRECT(\"Betriebeliste!A\"&MATCH($A$1&TEXT(ROW()-3,\"00\"),Betriebeliste[ABC],0)+1),\"\")","v":"203"},{"$f":"IFERROR(MID(INDEX(Betriebeliste!$A$1:AG$600,MATCH(TEXT(M19,0),Betriebeliste!$A$1:$A$653,0),2),FIND(\":\",INDEX(Betriebeliste!$A$1:AG$600,MATCH(TEXT(M19,0),Betriebeliste!$A$1:$A$653,0),2))+1,99),\"\")","v":""},{"$f":"IFERROR(INDEX(Betriebeliste!$A$1:AG$600,MATCH(TEXT(M19,0),Betriebeliste!$A$1:$A$653,0),27),\"\")","v":""},{"$f":"IFERROR(INDEX(Betriebeliste!$A$1:AI$600,MATCH(TEXT(M19,0),Betriebeliste!$A$1:$A$653,0),29)/I19,\"\")","v":""},{"$f":"IFERROR(IF(INDEX(Betriebeliste!$A$1:K$653,MATCH(TEXT(M19,0),Betriebeliste!$A$1:$A$653,0),5)=1,\"L\",\"\"),\"\")","v":""},{"$f":"IFERROR(INDEX(Betriebeliste!$A$1:BM$600,MATCH(TEXT(M19,0),Betriebeliste!$A$1:$A$653,0),30),\"\")","v":""},{"$f":"IFERROR(INDIRECT(\"Betriebeliste!A\"&MATCH($A$1&TEXT(ROW()+18,\"00\"),Betriebeliste[ABC],0)+1),\"\")","v":""}]
["2 Anz. Datensätze\nP Anz. Vorschaubilder\nLFilterung möglich\n+  Neue Fotos",{"$f":"IFERROR(MID(INDEX(Betriebeliste!$A$1:AA$600,MATCH(TEXT(G20,0),Betriebeliste!$A$1:$A$653,0),2),FIND(\":\",INDEX(Betriebeliste!$A$1:AA$600,MATCH(TEXT(G20,0),Betriebeliste!$A$1:$A$653,0),2))+1,99),\"\")","v":" Wien, Verkehrsmuseum Remise (2104)"},{"$f":"IFERROR(INDEX(Betriebeliste!$A$1:AA$600,MATCH(TEXT(G20,0),Betriebeliste!$A$1:$A$653,0),27),\"\")","v":12},{"$f":"IFERROR(INDEX(Betriebeliste!$A$1:AC$600,MATCH(TEXT(G20,0),Betriebeliste!$A$1:$A$653,0),29)/C20,\"\")","v":{"v":1,"d":"100%"}},{"$f":"IFERROR(IF(INDEX(Betriebeliste!$A$1:E$653,MATCH(TEXT(G20,0),Betriebeliste!$A$1:$A$653,0),5)=1,\"L\",\"\"),\"\")","v":""},{"$f":"IFERROR(INDEX(Betriebeliste!$A$1:BG$600,MATCH(TEXT(G20,0),Betriebeliste!$A$1:$A$653,0),30),\"\")","v":9},{"$f":"IFERROR(INDIRECT(\"Betriebeliste!A\"&MATCH($A$1&TEXT(ROW()-3,\"00\"),Betriebeliste[ABC],0)+1),\"\")","v":"2104"},{"$f":"IFERROR(MID(INDEX(Betriebeliste!$A$1:AG$600,MATCH(TEXT(M20,0),Betriebeliste!$A$1:$A$653,0),2),FIND(\":\",INDEX(Betriebeliste!$A$1:AG$600,MATCH(TEXT(M20,0),Betriebeliste!$A$1:$A$653,0),2))+1,99),\"\")","v":""},{"$f":"IFERROR(INDEX(Betriebeliste!$A$1:AG$600,MATCH(TEXT(M20,0),Betriebeliste!$A$1:$A$653,0),27),\"\")","v":""},{"$f":"IFERROR(INDEX(Betriebeliste!$A$1:AI$600,MATCH(TEXT(M20,0),Betriebeliste!$A$1:$A$653,0),29)/I20,\"\")","v":""},{"$f":"IFERROR(IF(INDEX(Betriebeliste!$A$1:K$653,MATCH(TEXT(M20,0),Betriebeliste!$A$1:$A$653,0),5)=1,\"L\",\"\"),\"\")","v":""},{"$f":"IFERROR(INDEX(Betriebeliste!$A$1:BM$600,MATCH(TEXT(M20,0),Betriebeliste!$A$1:$A$653,0),30),\"\")","v":""},{"$f":"IFERROR(INDIRECT(\"Betriebeliste!A\"&MATCH($A$1&TEXT(ROW()+18,\"00\"),Betriebeliste[ABC],0)+1),\"\")","v":""}]
[null,{"$f":"IFERROR(MID(INDEX(Betriebeliste!$A$1:AA$600,MATCH(TEXT(G21,0),Betriebeliste!$A$1:$A$653,0),2),FIND(\":\",INDEX(Betriebeliste!$A$1:AA$600,MATCH(TEXT(G21,0),Betriebeliste!$A$1:$A$653,0),2))+1,99),\"\")","v":" Wiener Lokalbahn (204)"},{"$f":"IFERROR(INDEX(Betriebeliste!$A$1:AA$600,MATCH(TEXT(G21,0),Betriebeliste!$A$1:$A$653,0),27),\"\")","v":92},{"$f":"IFERROR(INDEX(Betriebeliste!$A$1:AC$600,MATCH(TEXT(G21,0),Betriebeliste!$A$1:$A$653,0),29)/C21,\"\")","v":{"v":1,"d":"100%"}},{"$f":"IFERROR(IF(INDEX(Betriebeliste!$A$1:E$653,MATCH(TEXT(G21,0),Betriebeliste!$A$1:$A$653,0),5)=1,\"L\",\"\"),\"\")","v":"L"},{"$f":"IFERROR(INDEX(Betriebeliste!$A$1:BG$600,MATCH(TEXT(G21,0),Betriebeliste!$A$1:$A$653,0),30),\"\")","v":28},{"$f":"IFERROR(INDIRECT(\"Betriebeliste!A\"&MATCH($A$1&TEXT(ROW()-3,\"00\"),Betriebeliste[ABC],0)+1),\"\")","v":"204"},{"$f":"IFERROR(MID(INDEX(Betriebeliste!$A$1:AG$600,MATCH(TEXT(M21,0),Betriebeliste!$A$1:$A$653,0),2),FIND(\":\",INDEX(Betriebeliste!$A$1:AG$600,MATCH(TEXT(M21,0),Betriebeliste!$A$1:$A$653,0),2))+1,99),\"\")","v":""},{"$f":"IFERROR(INDEX(Betriebeliste!$A$1:AG$600,MATCH(TEXT(M21,0),Betriebeliste!$A$1:$A$653,0),27),\"\")","v":""},{"$f":"IFERROR(INDEX(Betriebeliste!$A$1:AI$600,MATCH(TEXT(M21,0),Betriebeliste!$A$1:$A$653,0),29)/I21,\"\")","v":""},{"$f":"IFERROR(IF(INDEX(Betriebeliste!$A$1:K$653,MATCH(TEXT(M21,0),Betriebeliste!$A$1:$A$653,0),5)=1,\"L\",\"\"),\"\")","v":""},{"$f":"IFERROR(INDEX(Betriebeliste!$A$1:BM$600,MATCH(TEXT(M21,0),Betriebeliste!$A$1:$A$653,0),30),\"\")","v":""},{"$f":"IFERROR(INDIRECT(\"Betriebeliste!A\"&MATCH($A$1&TEXT(ROW()+18,\"00\"),Betriebeliste[ABC],0)+1),\"\")","v":""}]
[null,{"$f":"IFERROR(MID(INDEX(Betriebeliste!$A$1:AA$600,MATCH(TEXT(G22,0),Betriebeliste!$A$1:$A$653,0),2),FIND(\":\",INDEX(Betriebeliste!$A$1:AA$600,MATCH(TEXT(G22,0),Betriebeliste!$A$1:$A$653,0),2))+1,99),\"\")","v":" Ybbs-Kemmelbach (231)"},{"$f":"IFERROR(INDEX(Betriebeliste!$A$1:AA$600,MATCH(TEXT(G22,0),Betriebeliste!$A$1:$A$653,0),27),\"\")","v":7},{"$f":"IFERROR(INDEX(Betriebeliste!$A$1:AC$600,MATCH(TEXT(G22,0),Betriebeliste!$A$1:$A$653,0),29)/C22,\"\")","v":{"v":1,"d":"100%"}},{"$f":"IFERROR(IF(INDEX(Betriebeliste!$A$1:E$653,MATCH(TEXT(G22,0),Betriebeliste!$A$1:$A$653,0),5)=1,\"L\",\"\"),\"\")","v":""},{"$f":"IFERROR(INDEX(Betriebeliste!$A$1:BG$600,MATCH(TEXT(G22,0),Betriebeliste!$A$1:$A$653,0),30),\"\")","v":0},{"$f":"IFERROR(INDIRECT(\"Betriebeliste!A\"&MATCH($A$1&TEXT(ROW()-3,\"00\"),Betriebeliste[ABC],0)+1),\"\")","v":"231"},{"$f":"IFERROR(MID(INDEX(Betriebeliste!$A$1:AG$600,MATCH(TEXT(M22,0),Betriebeliste!$A$1:$A$653,0),2),FIND(\":\",INDEX(Betriebeliste!$A$1:AG$600,MATCH(TEXT(M22,0),Betriebeliste!$A$1:$A$653,0),2))+1,99),\"\")","v":""},{"$f":"IFERROR(INDEX(Betriebeliste!$A$1:AG$600,MATCH(TEXT(M22,0),Betriebeliste!$A$1:$A$653,0),27),\"\")","v":""},{"$f":"IFERROR(INDEX(Betriebeliste!$A$1:AI$600,MATCH(TEXT(M22,0),Betriebeliste!$A$1:$A$653,0),29)/I22,\"\")","v":""},{"$f":"IFERROR(IF(INDEX(Betriebeliste!$A$1:K$653,MATCH(TEXT(M22,0),Betriebeliste!$A$1:$A$653,0),5)=1,\"L\",\"\"),\"\")","v":""},{"$f":"IFERROR(INDEX(Betriebeliste!$A$1:BM$600,MATCH(TEXT(M22,0),Betriebeliste!$A$1:$A$653,0),30),\"\")","v":""},{"$f":"IFERROR(INDIRECT(\"Betriebeliste!A\"&MATCH($A$1&TEXT(ROW()+18,\"00\"),Betriebeliste[ABC],0)+1),\"\")","v":""}]
[null,{"$f":"IFERROR(MID(INDEX(Betriebeliste!$A$1:AA$600,MATCH(TEXT(G23,0),Betriebeliste!$A$1:$A$653,0),2),FIND(\":\",INDEX(Betriebeliste!$A$1:AA$600,MATCH(TEXT(G23,0),Betriebeliste!$A$1:$A$653,0),2))+1,99),\"\")","v":""},{"$f":"IFERROR(INDEX(Betriebeliste!$A$1:AA$600,MATCH(TEXT(G23,0),Betriebeliste!$A$1:$A$653,0),27),\"\")","v":""},{"$f":"IFERROR(INDEX(Betriebeliste!$A$1:AC$600,MATCH(TEXT(G23,0),Betriebeliste!$A$1:$A$653,0),29)/C23,\"\")","v":""},{"$f":"IFERROR(IF(INDEX(Betriebeliste!$A$1:E$653,MATCH(TEXT(G23,0),Betriebeliste!$A$1:$A$653,0),5)=1,\"L\",\"\"),\"\")","v":""},{"$f":"IFERROR(INDEX(Betriebeliste!$A$1:BG$600,MATCH(TEXT(G23,0),Betriebeliste!$A$1:$A$653,0),30),\"\")","v":""},{"$f":"IFERROR(INDIRECT(\"Betriebeliste!A\"&MATCH($A$1&TEXT(ROW()-3,\"00\"),Betriebeliste[ABC],0)+1),\"\")","v":""},{"$f":"IFERROR(MID(INDEX(Betriebeliste!$A$1:AG$600,MATCH(TEXT(M23,0),Betriebeliste!$A$1:$A$653,0),2),FIND(\":\",INDEX(Betriebeliste!$A$1:AG$600,MATCH(TEXT(M23,0),Betriebeliste!$A$1:$A$653,0),2))+1,99),\"\")","v":""},{"$f":"IFERROR(INDEX(Betriebeliste!$A$1:AG$600,MATCH(TEXT(M23,0),Betriebeliste!$A$1:$A$653,0),27),\"\")","v":""},{"$f":"IFERROR(INDEX(Betriebeliste!$A$1:AI$600,MATCH(TEXT(M23,0),Betriebeliste!$A$1:$A$653,0),29)/I23,\"\")","v":""},{"$f":"IFERROR(IF(INDEX(Betriebeliste!$A$1:K$653,MATCH(TEXT(M23,0),Betriebeliste!$A$1:$A$653,0),5)=1,\"L\",\"\"),\"\")","v":""},{"$f":"IFERROR(INDEX(Betriebeliste!$A$1:BM$600,MATCH(TEXT(M23,0),Betriebeliste!$A$1:$A$653,0),30),\"\")","v":""},{"$f":"IFERROR(INDIRECT(\"Betriebeliste!A\"&MATCH($A$1&TEXT(ROW()+18,\"00\"),Betriebeliste[ABC],0)+1),\"\")","v":""}]
[null,{"$f":"IFERROR(MID(INDEX(Betriebeliste!$A$1:AA$600,MATCH(TEXT(G24,0),Betriebeliste!$A$1:$A$653,0),2),FIND(\":\",INDEX(Betriebeliste!$A$1:AA$600,MATCH(TEXT(G24,0),Betriebeliste!$A$1:$A$653,0),2))+1,99),\"\")","v":""},{"$f":"IFERROR(INDEX(Betriebeliste!$A$1:AA$600,MATCH(TEXT(G24,0),Betriebeliste!$A$1:$A$653,0),27),\"\")","v":""},{"$f":"IFERROR(INDEX(Betriebeliste!$A$1:AC$600,MATCH(TEXT(G24,0),Betriebeliste!$A$1:$A$653,0),29)/C24,\"\")","v":""},{"$f":"IFERROR(IF(INDEX(Betriebeliste!$A$1:E$653,MATCH(TEXT(G24,0),Betriebeliste!$A$1:$A$653,0),5)=1,\"L\",\"\"),\"\")","v":""},{"$f":"IFERROR(INDEX(Betriebeliste!$A$1:BG$600,MATCH(TEXT(G24,0),Betriebeliste!$A$1:$A$653,0),30),\"\")","v":""},{"$f":"IFERROR(INDIRECT(\"Betriebeliste!A\"&MATCH($A$1&TEXT(ROW()-3,\"00\"),Betriebeliste[ABC],0)+1),\"\")","v":""},{"$f":"IFERROR(MID(INDEX(Betriebeliste!$A$1:AG$600,MATCH(TEXT(M24,0),Betriebeliste!$A$1:$A$653,0),2),FIND(\":\",INDEX(Betriebeliste!$A$1:AG$600,MATCH(TEXT(M24,0),Betriebeliste!$A$1:$A$653,0),2))+1,99),\"\")","v":""},{"$f":"IFERROR(INDEX(Betriebeliste!$A$1:AG$600,MATCH(TEXT(M24,0),Betriebeliste!$A$1:$A$653,0),27),\"\")","v":""},{"$f":"IFERROR(INDEX(Betriebeliste!$A$1:AI$600,MATCH(TEXT(M24,0),Betriebeliste!$A$1:$A$653,0),29)/I24,\"\")","v":""},{"$f":"IFERROR(IF(INDEX(Betriebeliste!$A$1:K$653,MATCH(TEXT(M24,0),Betriebeliste!$A$1:$A$653,0),5)=1,\"L\",\"\"),\"\")","v":""},{"$f":"IFERROR(INDEX(Betriebeliste!$A$1:BM$600,MATCH(TEXT(M24,0),Betriebeliste!$A$1:$A$653,0),30),\"\")","v":""},{"$f":"IFERROR(INDIRECT(\"Betriebeliste!A\"&MATCH($A$1&TEXT(ROW()+18,\"00\"),Betriebeliste[ABC],0)+1),\"\")","v":""}]

{"sheet":"Europa","index":44,"n_rows":21,"n_cols":12,"rows_kept":21,"merged":[[0,1,1,12],[4,0,13,0],[18,0,21,0]]}
[null,"Europa"]
[]
[null,null,2,"P",null,"+",null,null,2,"P",null,"+"]
[null,"BLR",{"$f":"SUMIFS(Betriebeliste!AA:AA,Betriebeliste!D:D,B4&\"??\")","v":17},{"$f":"SUMIFS(Betriebeliste!AC:AC,Betriebeliste!D:D,B4&\"??\")/C4","v":{"v":0,"d":"0%"}},null,{"$f":"SUMIFS(Betriebeliste!AD:AD,Betriebeliste!D:D,B4&\"??\")","v":0},null,"AUT",{"$f":"SUMIFS(Betriebeliste!AA:AA,Betriebeliste!D:D,H4&\"??\")","v":1291},{"$f":"SUMIFS(Betriebeliste!AC:AC,Betriebeliste!D:D,H4&\"??\")/I4","v":{"v":0.7939581719597212,"d":"79%"}},null,{"$f":"SUMIFS(Betriebeliste!AD:AD,Betriebeliste!D:D,H4&\"??\")","v":425}]
[null,"BEL",{"$f":"SUMIFS(Betriebeliste!AA:AA,Betriebeliste!D:D,B5&\"??\")","v":746},{"$f":"SUMIFS(Betriebeliste!AC:AC,Betriebeliste!D:D,B5&\"??\")/C5","v":{"v":0.2546916890080429,"d":"25%"}},null,{"$f":"SUMIFS(Betriebeliste!AD:AD,Betriebeliste!D:D,B5&\"??\")","v":0},null,"POL",{"$f":"SUMIFS(Betriebeliste!AA:AA,Betriebeliste!D:D,H5&\"??\")","v":409},{"$f":"SUMIFS(Betriebeliste!AC:AC,Betriebeliste!D:D,H5&\"??\")/I5","v":{"v":0.48166259168704156,"d":"48%"}},null,{"$f":"SUMIFS(Betriebeliste!AD:AD,Betriebeliste!D:D,H5&\"??\")","v":0}]
[null,"BIH",{"$f":"SUMIFS(Betriebeliste!AA:AA,Betriebeliste!D:D,B6&\"??\")","v":17},{"$f":"SUMIFS(Betriebeliste!AC:AC,Betriebeliste!D:D,B6&\"??\")/C6","v":{"v":0.7058823529411765,"d":"71%"}},null,{"$f":"SUMIFS(Betriebeliste!AD:AD,Betriebeliste!D:D,B6&\"??\")","v":0},null,"PRT",{"$f":"SUMIFS(Betriebeliste!AA:AA,Betriebeliste!D:D,H6&\"??\")","v":111},{"$f":"SUMIFS(Betriebeliste!AC:AC,Betriebeliste!D:D,H6&\"??\")/I6","v":{"v":0.7927927927927928,"d":"79%"}},null,{"$f":"SUMIFS(Betriebeliste!AD:AD,Betriebeliste!D:D,H6&\"??\")","v":0}]
[null,"BGR",{"$f":"SUMIFS(Betriebeliste!AA:AA,Betriebeliste!D:D,B7&\"??\")","v":24},{"$f":"SUMIFS(Betriebeliste!AC:AC,Betriebeliste!D:D,B7&\"??\")/C7","v":{"v":0.375,"d":"38%"}},null,{"$f":"SUMIFS(Betriebeliste!AD:AD,Betriebeliste!D:D,B7&\"??\")","v":0},null,"ROU",{"$f":"SUMIFS(Betriebeliste!AA:AA,Betriebeliste!D:D,H7&\"??\")","v":58},{"$f":"SUMIFS(Betriebeliste!AC:AC,Betriebeliste!D:D,H7&\"??\")/I7","v":{"v":0.6379310344827587,"d":"64%"}},null,{"$f":"SUMIFS(Betriebeliste!AD:AD,Betriebeliste!D:D,H7&\"??\")","v":0}]
[null,"DNK",{"$f":"SUMIFS(Betriebeliste!AA:AA,Betriebeliste!D:D,B8&\"??\")","v":114},{"$f":"SUMIFS(Betriebeliste!AC:AC,Betriebeliste!D:D,B8&\"??\")/C8","v":{"v":0.07017543859649122,"d":"7%"}},null,{"$f":"SUMIFS(Betriebeliste!AD:AD,Betriebeliste!D:D,B8&\"??\")","v":0},null,"RUS",{"$f":"SUMIFS(Betriebeliste!AA:AA,Betriebeliste!D:D,H8&\"??\")","v":140},{"$f":"SUMIFS(Betriebeliste!AC:AC,Betriebeliste!D:D,H8&\"??\")/I8","v":{"v":0.24285714285714285,"d":"24%"}},null,{"$f":"SUMIFS(Betriebeliste!AD:AD,Betriebeliste!D:D,H8&\"??\")","v":0}]
[null,"EST",{"$f":"SUMIFS(Betriebeliste!AA:AA,Betriebeliste!D:D,B9&\"??\")","v":1},{"$f":"SUMIFS(Betriebeliste!AC:AC,Betriebeliste!D:D,B9&\"??\")/C9","v":{"v":0,"d":"0%"}},null,{"$f":"SUMIFS(Betriebeliste!AD:AD,Betriebeliste!D:D,B9&\"??\")","v":0},null,"SWE",{"$f":"SUMIFS(Betriebeliste!AA:AA,Betriebeliste!D:D,H9&\"??\")","v":179},{"$f":"SUMIFS(Betriebeliste!AC:AC,Betriebeliste!D:D,H9&\"??\")/I9","v":{"v":0.1564245810055866,"d":"16%"}},null,{"$f":"SUMIFS(Betriebeliste!AD:AD,Betriebeliste!D:D,H9&\"??\")","v":0}]
[null,"FIN",{"$f":"SUMIFS(Betriebeliste!AA:AA,Betriebeliste!D:D,B10&\"??\")","v":25},{"$f":"SUMIFS(Betriebeliste!AC:AC,Betriebeliste!D:D,B10&\"??\")/C10","v":{"v":0,"d":"0%"}},null,{"$f":"SUMIFS(Betriebeliste!AD:AD,Betriebeliste!D:D,B10&\"??\")","v":0},null,"CHE",{"$f":"SUMIFS(Betriebeliste!AA:AA,Betriebeliste!D:D,H10&\"??\")","v":552},{"$f":"SUMIFS(Betriebeliste!AC:AC,Betriebeliste!D:D,H10&\"??\")/I10","v":{"v":0.5887681159420289,"d":"59%"}},null,{"$f":"SUMIFS(Betriebeliste!AD:AD,Betriebeliste!D:D,H10&\"??\")","v":0}]
[null,"FRA",{"$f":"SUMIFS(Betriebeliste!AA:AA,Betriebeliste!D:D,B11&\"??\")","v":436},{"$f":"SUMIFS(Betriebeliste!AC:AC,Betriebeliste!D:D,B11&\"??\")/C11","v":{"v":0.6995412844036697,"d":"70%"}},null,{"$f":"SUMIFS(Betriebeliste!AD:AD,Betriebeliste!D:D,B11&\"??\")","v":0},null,"SRB",{"$f":"SUMIFS(Betriebeliste!AA:AA,Betriebeliste!D:D,H11&\"??\")","v":43},{"$f":"SUMIFS(Betriebeliste!AC:AC,Betriebeliste!D:D,H11&\"??\")/I11","v":{"v":1,"d":"100%"}},null,{"$f":"SUMIFS(Betriebeliste!AD:AD,Betriebeliste!D:D,H11&\"??\")","v":0}]
[null,"GRC",{"$f":"SUMIFS(Betriebeliste!AA:AA,Betriebeliste!D:D,B12&\"??\")","v":31},{"$f":"SUMIFS(Betriebeliste!AC:AC,Betriebeliste!D:D,B12&\"??\")/C12","v":{"v":0.0967741935483871,"d":"10%"}},null,{"$f":"SUMIFS(Betriebeliste!AD:AD,Betriebeliste!D:D,B12&\"??\")","v":0},null,"SVK",{"$f":"SUMIFS(Betriebeliste!AA:AA,Betriebeliste!D:D,H12&\"??\")","v":4},{"$f":"SUMIFS(Betriebeliste!AC:AC,Betriebeliste!D:D,H12&\"??\")/I12","v":{"v":0,"d":"0%"}},null,{"$f":"SUMIFS(Betriebeliste!AD:AD,Betriebeliste!D:D,H12&\"??\")","v":0}]
[null,"IRL",{"$f":"SUMIFS(Betriebeliste!AA:AA,Betriebeliste!D:D,B13&\"??\")","v":5},{"$f":"SUMIFS(Betriebeliste!AC:AC,Betriebeliste!D:D,B13&\"??\")/C13","v":{"v":0,"d":"0%"}},null,{"$f":"SUMIFS(Betriebeliste!AD:AD,Betriebeliste!D:D,B13&\"??\")","v":0},null,"SVN",{"$f":"SUMIFS(Betriebeliste!AA:AA,Betriebeliste!D:D,H13&\"??\")","v":5},{"$f":"SUMIFS(Betriebeliste!AC:AC,Betriebeliste!D:D,H13&\"??\")/I13","v":{"v":0,"d":"0%"}},null,{"$f":"SUMIFS(Betriebeliste!AD:AD,Betriebeliste!D:D,H13&\"??\")","v":0}]
[null,"ITA",{"$f":"SUMIFS(Betriebeliste!AA:AA,Betriebeliste!D:D,B14&\"??\")","v":385},{"$f":"SUMIFS(Betriebeliste!AC:AC,Betriebeliste!D:D,B14&\"??\")/C14","v":{"v":0.4883116883116883,"d":"49%"}},null,{"$f":"SUMIFS(Betriebeliste!AD:AD,Betriebeliste!D:D,B14&\"??\")","v":0},null,"ESP",{"$f":"SUMIFS(Betriebeliste!AA:AA,Betriebeliste!D:D,H14&\"??\")","v":188},{"$f":"SUMIFS(Betriebeliste!AC:AC,Betriebeliste!D:D,H14&\"??\")/I14","v":{"v":0.35106382978723405,"d":"35%"}},null,{"$f":"SUMIFS(Betriebeliste!AD:AD,Betriebeliste!D:D,H14&\"??\")","v":0}]
[null,"HRV",{"$f":"SUMIFS(Betriebeliste!AA:AA,Betriebeliste!D:D,B15&\"??\")","v":140},{"$f":"SUMIFS(Betriebeliste!AC:AC,Betriebeliste!D:D,B15&\"??\")/C15","v":{"v":0.8285714285714286,"d":"83%"}},null,{"$f":"SUMIFS(Betriebeliste!AD:AD,Betriebeliste!D:D,B15&\"??\")","v":0},null,"CZE",{"$f":"SUMIFS(Betriebeliste!AA:AA,Betriebeliste!D:D,H15&\"??\")","v":273},{"$f":"SUMIFS(Betriebeliste!AC:AC,Betriebeliste!D:D,H15&\"??\")/I15","v":{"v":0.2857142857142857,"d":"29%"}},null,{"$f":"SUMIFS(Betriebeliste!AD:AD,Betriebeliste!D:D,H15&\"??\")","v":0}]
[null,"LVA",{"$f":"SUMIFS(Betriebeliste!AA:AA,Betriebeliste!D:D,B16&\"??\")","v":3},{"$f":"SUMIFS(Betriebeliste!AC:AC,Betriebeliste!D:D,B16&\"??\")/C16","v":{"v":0,"d":"0%"}},null,{"$f":"SUMIFS(Betriebeliste!AD:AD,Betriebeliste!D:D,B16&\"??\")","v":0},null,"TUR",{"$f":"SUMIFS(Betriebeliste!AA:AA,Betriebeliste!D:D,H16&\"??\")","v":9},{"$f":"SUMIFS(Betriebeliste!AC:AC,Betriebeliste!D:D,H16&\"??\")/I16","v":{"v":0,"d":"0%"}},null,{"$f":"SUMIFS(Betriebeliste!AD:AD,Betriebeliste!D:D,H16&\"??\")","v":0}]
[null,"LTU",{"$f":"SUMIFS(Betriebeliste!AA:AA,Betriebeliste!D:D,B17&\"??\")","v":3},{"$f":"SUMIFS(Betriebeliste!AC:AC,Betriebeliste!D:D,B17&\"??\")/C17","v":{"v":0,"d":"0%"}},null,{"$f":"SUMIFS(Betriebeliste!AD:AD,Betriebeliste!D:D,B17&\"??\")","v":0},null,"UKR",{"$f":"SUMIFS(Betriebeliste!AA:AA,Betriebeliste!D:D,H17&\"??\")","v":137},{"$f":"SUMIFS(Betriebeliste!AC:AC,Betriebeliste!D:D,H17&\"??\")/I17","v":{"v":0,"d":"0%"}},null,{"$f":"SUMIFS(Betriebeliste!AD:AD,Betriebeliste!D:D,H17&\"??\")","v":0}]
[null,"LUX",{"$f":"SUMIFS(Betriebeliste!AA:AA,Betriebeliste!D:D,B18&\"??\")","v":98},{"$f":"SUMIFS(Betriebeliste!AC:AC,Betriebeliste!D:D,B18&\"??\")/C18","v":{"v":0.9897959183673469,"d":"99%"}},null,{"$f":"SUMIFS(Betriebeliste!AD:AD,Betriebeliste!D:D,B18&\"??\")","v":0},null,"HUN",{"$f":"SUMIFS(Betriebeliste!AA:AA,Betriebeliste!D:D,H18&\"??\")","v":176},{"$f":"SUMIFS(Betriebeliste!AC:AC,Betriebeliste!D:D,H18&\"??\")/I18","v":{"v":0.45454545454545453,"d":"45%"}},null,{"$f":"SUMIFS(Betriebeliste!AD:AD,Betriebeliste!D:D,H18&\"??\")","v":0}]
["2 Anz. Datensätze\nP Anz. Vorschaubilder\n+  Neue Fotos","MDA",{"$f":"SUMIFS(Betriebeliste!AA:AA,Betriebeliste!D:D,B19&\"??\")","v":2},{"$f":"SUMIFS(Betriebeliste!AC:AC,Betriebeliste!D:D,B19&\"??\")/C19","v":{"v":0,"d":"0%"}},null,{"$f":"SUMIFS(Betriebeliste!AD:AD,Betriebeliste!D:D,B19&\"??\")","v":0},null,"GB1",{"$f":"SUMIFS(Betriebeliste!AA:AA,Betriebeliste!D:D,H19&\"??\")","v":259},{"$f":"SUMIFS(Betriebeliste!AC:AC,Betriebeliste!D:D,H19&\"??\")/I19","v":{"v":0.2548262548262548,"d":"25%"}},null,{"$f":"SUMIFS(Betriebeliste!AD:AD,Betriebeliste!D:D,H19&\"??\")","v":0}]
[null,"NLD",{"$f":"SUMIFS(Betriebeliste!AA:AA,Betriebeliste!D:D,B20&\"??\")","v":662},{"$f":"SUMIFS(Betriebeliste!AC:AC,Betriebeliste!D:D,B20&\"??\")/C20","v":{"v":0.3716012084592145,"d":"37%"}},null,{"$f":"SUMIFS(Betriebeliste!AD:AD,Betriebeliste!D:D,B20&\"??\")","v":2},null,"GB2",{"$f":"SUMIFS(Betriebeliste!AA:AA,Betriebeliste!D:D,H20&\"??\")","v":381},{"$f":"SUMIFS(Betriebeliste!AC:AC,Betriebeliste!D:D,H20&\"??\")/I20","v":{"v":0.08136482939632546,"d":"8%"}},null,{"$f":"SUMIFS(Betriebeliste!AD:AD,Betriebeliste!D:D,H20&\"??\")","v":0}]
[null,"NOR",{"$f":"SUMIFS(Betriebeliste!AA:AA,Betriebeliste!D:D,B21&\"??\")","v":118},{"$f":"SUMIFS(Betriebeliste!AC:AC,Betriebeliste!D:D,B21&\"??\")/C21","v":{"v":0.4067796610169492,"d":"41%"}},null,{"$f":"SUMIFS(Betriebeliste!AD:AD,Betriebeliste!D:D,B21&\"??\")","v":0}]

{"sheet":"Übersee","index":45,"n_rows":18,"n_cols":12,"rows_kept":18,"merged":[[0,1,1,12],[4,0,11,0],[17,0,19,0]]}
[null,"Übersee"]
[]
[null,null,2,"P",null,"+",null,null,2,"P",null,"+"]
[null,"ARG",{"$f":"SUMIFS(Betriebeliste!AA:AA,Betriebeliste!D:D,B4&\"??\")","v":4},{"$f":"SUMIFS(Betriebeliste!AC:AC,Betriebeliste!D:D,B4&\"??\")/C4","v":{"v":0,"d":"0%"}},null,{"$f":"SUMIFS(Betriebeliste!AD:AD,Betriebeliste!D:D,B4&\"??\")","v":0},null,"AZE",{"$f":"SUMIFS(Betriebeliste!AA:AA,Betriebeliste!D:D,H4&\"??\")","v":1},{"$f":"SUMIFS(Betriebeliste!AC:AC,Betriebeliste!D:D,H4&\"??\")/I4","v":{"v":0,"d":"0%"}},null,{"$f":"SUMIFS(Betriebeliste!AD:AD,Betriebeliste!D:D,H4&\"??\")","v":0}]
[null,"BOL",{"$f":"SUMIFS(Betriebeliste!AA:AA,Betriebeliste!D:D,B5&\"??\")","v":1},{"$f":"SUMIFS(Betriebeliste!AC:AC,Betriebeliste!D:D,B5&\"??\")/C5","v":{"v":0,"d":"0%"}},null,{"$f":"SUMIFS(Betriebeliste!AD:AD,Betriebeliste!D:D,B5&\"??\")","v":0},null,"CHN",{"$f":"SUMIFS(Betriebeliste!AA:AA,Betriebeliste!D:D,H5&\"??\")","v":24},{"$f":"SUMIFS(Betriebeliste!AC:AC,Betriebeliste!D:D,H5&\"??\")/I5","v":{"v":0,"d":"0%"}},null,{"$f":"SUMIFS(Betriebeliste!AD:AD,Betriebeliste!D:D,H5&\"??\")","v":0}]
[null,"BRA",{"$f":"SUMIFS(Betriebeliste!AA:AA,Betriebeliste!D:D,B6&\"??\")","v":7},{"$f":"SUMIFS(Betriebeliste!AC:AC,Betriebeliste!D:D,B6&\"??\")/C6","v":{"v":0,"d":"0%"}},null,{"$f":"SUMIFS(Betriebeliste!AD:AD,Betriebeliste!D:D,B6&\"??\")","v":0},null,"GEO",{"$f":"SUMIFS(Betriebeliste!AA:AA,Betriebeliste!D:D,H6&\"??\")","v":1},{"$f":"SUMIFS(Betriebeliste!AC:AC,Betriebeliste!D:D,H6&\"??\")/I6","v":{"v":0,"d":"0%"}},null,{"$f":"SUMIFS(Betriebeliste!AD:AD,Betriebeliste!D:D,H6&\"??\")","v":0}]
[null,"CHL",{"$f":"SUMIFS(Betriebeliste!AA:AA,Betriebeliste!D:D,B7&\"??\")","v":1},{"$f":"SUMIFS(Betriebeliste!AC:AC,Betriebeliste!D:D,B7&\"??\")/C7","v":{"v":0,"d":"0%"}},null,{"$f":"SUMIFS(Betriebeliste!AD:AD,Betriebeliste!D:D,B7&\"??\")","v":0},null,"IND",{"$f":"SUMIFS(Betriebeliste!AA:AA,Betriebeliste!D:D,H7&\"??\")","v":1},{"$f":"SUMIFS(Betriebeliste!AC:AC,Betriebeliste!D:D,H7&\"??\")/I7","v":{"v":0,"d":"0%"}},null,{"$f":"SUMIFS(Betriebeliste!AD:AD,Betriebeliste!D:D,H7&\"??\")","v":0}]
[null,"CAN",{"$f":"SUMIFS(Betriebeliste!AA:AA,Betriebeliste!D:D,B8&\"??\")","v":32},{"$f":"SUMIFS(Betriebeliste!AC:AC,Betriebeliste!D:D,B8&\"??\")/C8","v":{"v":0,"d":"0%"}},null,{"$f":"SUMIFS(Betriebeliste!AD:AD,Betriebeliste!D:D,B8&\"??\")","v":0},null,"JPN",{"$f":"SUMIFS(Betriebeliste!AA:AA,Betriebeliste!D:D,H8&\"??\")","v":21},{"$f":"SUMIFS(Betriebeliste!AC:AC,Betriebeliste!D:D,H8&\"??\")/I8","v":{"v":0,"d":"0%"}},null,{"$f":"SUMIFS(Betriebeliste!AD:AD,Betriebeliste!D:D,H8&\"??\")","v":0}]
[null,"MEX",{"$f":"SUMIFS(Betriebeliste!AA:AA,Betriebeliste!D:D,B9&\"??\")","v":4},{"$f":"SUMIFS(Betriebeliste!AC:AC,Betriebeliste!D:D,B9&\"??\")/C9","v":{"v":0,"d":"0%"}},null,{"$f":"SUMIFS(Betriebeliste!AD:AD,Betriebeliste!D:D,B9&\"??\")","v":0},null,"PRK",{"$f":"SUMIFS(Betriebeliste!AA:AA,Betriebeliste!D:D,H9&\"??\")","v":1},{"$f":"SUMIFS(Betriebeliste!AC:AC,Betriebeliste!D:D,H9&\"??\")/I9","v":{"v":0,"d":"0%"}},null,{"$f":"SUMIFS(Betriebeliste!AD:AD,Betriebeliste!D:D,H9&\"??\")","v":0}]
[null,"PRY",{"$f":"SUMIFS(Betriebeliste!AA:AA,Betriebeliste!D:D,B10&\"??\")","v":1},{"$f":"SUMIFS(Betriebeliste!AC:AC,Betriebeliste!D:D,B10&\"??\")/C10","v":{"v":0,"d":"0%"}},null,{"$f":"SUMIFS(Betriebeliste!AD:AD,Betriebeliste!D:D,B10&\"??\")","v":0},null,"SGP",{"$f":"SUMIFS(Betriebeliste!AA:AA,Betriebeliste!D:D,H10&\"??\")","v":1},{"$f":"SUMIFS(Betriebeliste!AC:AC,Betriebeliste!D:D,H10&\"??\")/I10","v":{"v":0,"d":"0%"}},null,{"$f":"SUMIFS(Betriebeliste!AD:AD,Betriebeliste!D:D,H10&\"??\")","v":0}]
[null,"VEN",{"$f":"SUMIFS(Betriebeliste!AA:AA,Betriebeliste!D:D,B11&\"??\")","v":1},{"$f":"SUMIFS(Betriebeliste!AC:AC,Betriebeliste!D:D,B11&\"??\")/C11","v":{"v":0,"d":"0%"}},null,{"$f":"SUMIFS(Betriebeliste!AD:AD,Betriebeliste!D:D,B11&\"??\")","v":0},null,"KOR",{"$f":"SUMIFS(Betriebeliste!AA:AA,Betriebeliste!D:D,H11&\"??\")","v":2},{"$f":"SUMIFS(Betriebeliste!AC:AC,Betriebeliste!D:D,H11&\"??\")/I11","v":{"v":0,"d":"0%"}},null,{"$f":"SUMIFS(Betriebeliste!AD:AD,Betriebeliste!D:D,H11&\"??\")","v":0}]
[null,"US1",{"$f":"SUMIFS(Betriebeliste!AA:AA,Betriebeliste!D:D,B12&\"??\")","v":100},{"$f":"SUMIFS(Betriebeliste!AC:AC,Betriebeliste!D:D,B12&\"??\")/C12","v":{"v":0,"d":"0%"}},null,{"$f":"SUMIFS(Betriebeliste!AD:AD,Betriebeliste!D:D,B12&\"??\")","v":0},null,"SYR",{"$f":"SUMIFS(Betriebeliste!AA:AA,Betriebeliste!D:D,H12&\"??\")","v":3},{"$f":"SUMIFS(Betriebeliste!AC:AC,Betriebeliste!D:D,H12&\"??\")/I12","v":{"v":0,"d":"0%"}},null,{"$f":"SUMIFS(Betriebeliste!AD:AD,Betriebeliste!D:D,H12&\"??\")","v":0}]
[null,"US2",{"$f":"SUMIFS(Betriebeliste!AA:AA,Betriebeliste!D:D,B13&\"??\")","v":85},{"$f":"SUMIFS(Betriebeliste!AC:AC,Betriebeliste!D:D,B13&\"??\")/C13","v":{"v":0,"d":"0%"}},null,{"$f":"SUMIFS(Betriebeliste!AD:AD,Betriebeliste!D:D,B13&\"??\")","v":0},null,"UZB",{"$f":"SUMIFS(Betriebeliste!AA:AA,Betriebeliste!D:D,H13&\"??\")","v":9},{"$f":"SUMIFS(Betriebeliste!AC:AC,Betriebeliste!D:D,H13&\"??\")/I13","v":{"v":0,"d":"0%"}},null,{"$f":"SUMIFS(Betriebeliste!AD:AD,Betriebeliste!D:D,H13&\"??\")","v":0}]
[]
[null,"EGY",{"$f":"SUMIFS(Betriebeliste!AA:AA,Betriebeliste!D:D,B15&\"??\")","v":125},{"$f":"SUMIFS(Betriebeliste!AC:AC,Betriebeliste!D:D,B15&\"??\")/C15","v":{"v":0.624,"d":"62%"}},null,{"$f":"SUMIFS(Betriebeliste!AD:AD,Betriebeliste!D:D,B15&\"??\")","v":0},null,"AUS",{"$f":"SUMIFS(Betriebeliste!AA:AA,Betriebeliste!D:D,H15&\"??\")","v":23},{"$f":"SUMIFS(Betriebeliste!AC:AC,Betriebeliste!D:D,H15&\"??\")/I15","v":{"v":0,"d":"0%"}},null,{"$f":"SUMIFS(Betriebeliste!AD:AD,Betriebeliste!D:D,H15&\"??\")","v":0}]
[null,"ZAF",{"$f":"SUMIFS(Betriebeliste!AA:AA,Betriebeliste!D:D,B16&\"??\")","v":11},{"$f":"SUMIFS(Betriebeliste!AC:AC,Betriebeliste!D:D,B16&\"??\")/C16","v":{"v":0,"d":"0%"}},null,{"$f":"SUMIFS(Betriebeliste!AD:AD,Betriebeliste!D:D,B16&\"??\")","v":0},null,"NZL",{"$f":"SUMIFS(Betriebeliste!AA:AA,Betriebeliste!D:D,H16&\"??\")","v":1},{"$f":"SUMIFS(Betriebeliste!AC:AC,Betriebeliste!D:D,H16&\"??\")/I16","v":{"v":0,"d":"0%"}},null,{"$f":"SUMIFS(Betriebeliste!AD:AD,Betriebeliste!D:D,H16&\"??\")","v":0}]
[null,"TUN",{"$f":"SUMIFS(Betriebeliste!AA:AA,Betriebeliste!D:D,B17&\"??\")","v":6},{"$f":"SUMIFS(Betriebeliste!AC:AC,Betriebeliste!D:D,B17&\"??\")/C17","v":{"v":1,"d":"100%"}},null,{"$f":"SUMIFS(Betriebeliste!AD:AD,Betriebeliste!D:D,B17&\"??\")","v":0}]
["2 Anz. Datensätze\nP Anz. Vorschaubilder\n+  Neue Fotos"]

{"sheet":"Betriebeliste","index":46,"n_rows":597,"n_cols":36,"rows_kept":597,"hidden":true}
["Kennung","Name","Karte","ABC","Klass","T1","T2","T3","T4","T5","T6","T7","T8","T9","B1","B2","B3","B4","B5","B6","B7","B8","B9","S1","S2",null,"Anzahl","Erste","Vorschau","Neu","Gesamtzahl:"]
["16","Polen: Szezecin [Stettin] (16)","K47","POL25",0,{"$nulls":21},{"$f":"COUNTIF(Datenbank!BH:BH,Betriebeliste!A2)","v":34},{"$f":"MATCH(A2,Datenbank!BH:BH,0)","v":2},{"$f":"COUNTA(INDIRECT(\"Datenbank!B\"&AB2&\":B\"&AB2+AA2-1))","v":34},{"$f":"COUNTIF(INDIRECT(\"Datenbank!BG\"&AB2&\":BG\"&AB2+AA2-1),\">=\"&Meldungen!$J$5)","v":0},{"$f":"SUM(AA:AA)","v":7508}]
["45","Polen: Jelenia Gora [Hirschberg] (45)","K47","POL13",0,{"$nulls":21},{"$f":"COUNTIF(Datenbank!BH:BH,Betriebeliste!A3)","v":39},{"$f":"MATCH(A3,Datenbank!BH:BH,0)","v":36},{"$f":"COUNTA(INDIRECT(\"Datenbank!B\"&AB3&\":B\"&AB3+AA3-1))","v":0},{"$f":"COUNTIF(INDIRECT(\"Datenbank!BG\"&AB3&\":BG\"&AB3+AA3-1),\">=\"&Meldungen!$J$5)","v":0},"Anz. Vorschau:",{"$nulls":4},{"$f":"AB3-AA2-AB2","v":0}]
["114","Polen: Koszalin [Köslin] (114)","K47","POL16",0,{"$nulls":21},{"$f":"COUNTIF(Datenbank!BH:BH,Betriebeliste!A4)","v":9},{"$f":"MATCH(A4,Datenbank!BH:BH,0)","v":75},{"$f":"COUNTA(INDIRECT(\"Datenbank!B\"&AB4&\":B\"&AB4+AA4-1))","v":9},{"$f":"COUNTIF(INDIRECT(\"Datenbank!BG\"&AB4&\":BG\"&AB4+AA4-1),\">=\"&Meldungen!$J$5)","v":0},{"$f":"SUM(AC:AC)","v":3404},{"$nulls":4},{"$f":"AB4-AA3-AB3","v":0}]
["115","Polen: Slupsk [Stolp] (115)","K47","POL23",0,{"$nulls":21},{"$f":"COUNTIF(Datenbank!BH:BH,Betriebeliste!A5)","v":3},{"$f":"MATCH(A5,Datenbank!BH:BH,0)","v":84},{"$f":"COUNTA(INDIRECT(\"Datenbank!B\"&AB5&\":B\"&AB5+AA5-1))","v":0},{"$f":"COUNTIF(INDIRECT(\"Datenbank!BG\"&AB5&\":BG\"&AB5+AA5-1),\">=\"&Meldungen!$J$5)","v":0},"Quote:",{"$nulls":4},0]
["116","Polen: Elblag [Elbing] (116)","K47","POL07",0,{"$nulls":21},{"$f":"COUNTIF(Datenbank!BH:BH,Betriebeliste!A6)","v":8},{"$f":"MATCH(A6,Datenbank!BH:BH,0)","v":87},0,{"$f":"COUNTIF(INDIRECT(\"Datenbank!BG\"&AB6&\":BG\"&AB6+AA6-1),\">=\"&Meldungen!$J$5)","v":0},{"$f":"ROUND(AE4/AE2,2)","v":{"v":0.45,"d":"45%"}},{"$nulls":4},0]
["117","Russland: Kaliningrad [Königsberg] (117)","K4G","RUS09",0,{"$nulls":21},{"$f":"COUNTIF(Datenbank!BH:BH,Betriebeliste!A7)","v":30},{"$f":"MATCH(A7,Datenbank!BH:BH,0)","v":95},30,{"$f":"COUNTIF(INDIRECT(\"Datenbank!BG\"&AB7&\":BG\"&AB7+AA7-1),\">=\"&Meldungen!$J$5)","v":0},"Neu:",{"$nulls":4},0]
["118","Russland: Svetlogorsk [Rauschen] (118)","K4G","RUS29",0,{"$nulls":21},{"$f":"COUNTIF(Datenbank!BH:BH,Betriebeliste!A8)","v":2},{"$f":"MATCH(A8,Datenbank!BH:BH,0)","v":125},1,{"$f":"COUNTIF(INDIRECT(\"Datenbank!BG\"&AB8&\":BG\"&AB8+AA8-1),\">=\"&Meldungen!$J$5)","v":0},{"$f":"COUNTIF(Tabelle6[Eingestellt],\">=\"&Meldungen!$J$5)","v":427},{"$f":"SUM(AD:AD)","v":427},{"$nulls":3},0]
["119","Russland: Sovetsk [Tilsit] (119)","K4G","RUS26",0,{"$nulls":21},{"$f":"COUNTIF(Datenbank!BH:BH,Betriebeliste!A9)","v":4},{"$f":"MATCH(A9,Datenbank!BH:BH,0)","v":127},0,{"$f":"COUNTIF(INDIRECT(\"Datenbank!BG\"&AB9&\":BG\"&AB9+AA9-1),\">=\"&Meldungen!$J$5)","v":0},"Kennungen müssen in aufsteigender numerischer Reihenfolge sein!",{"$nulls":4},0]
["121","Polen: Gdansk [Danzig] (121)","K47","POL08",0,{"$nulls":21},{"$f":"COUNTIF(Datenbank!BH:BH,Betriebeliste!A10)","v":34},{"$f":"MATCH(A10,Datenbank!BH:BH,0)","v":131},6,{"$f":"COUNTIF(INDIRECT(\"Datenbank!BG\"&AB10&\":BG\"&AB10+AA10-1),\">=\"&Meldungen!$J$5)","v":0},{"$nulls":5},0]
["122","Polen: Gorzów WIkp [Landsberg/W.] (122)","K47","POL10",0,{"$nulls":21},{"$f":"COUNTIF(Datenbank!BH:BH,Betriebeliste!A11)","v":3},{"$f":"MATCH(A11,Datenbank!BH:BH,0)","v":165},0,{"$f":"COUNTIF(INDIRECT(\"Datenbank!BG\"&AB11&\":BG\"&AB11+AA11-1),\">=\"&Meldungen!$J$5)","v":0},{"$nulls":5},0]
["125","Polen: Olsztyn [Allenstein] (125)","K47","POL21",0,{"$nulls":21},{"$f":"COUNTIF(Datenbank!BH:BH,Betriebeliste!A12)","v":7},{"$f":"MATCH(A12,Datenbank!BH:BH,0)","v":168},0,{"$f":"COUNTIF(INDIRECT(\"Datenbank!BG\"&AB12&\":BG\"&AB12+AA12-1),\">=\"&Meldungen!$J$5)","v":0},{"$nulls":5},0]
["128","Polen: Wroclaw [Breslau] (128)","K47","POL29",0,{"$nulls":21},{"$f":"COUNTIF(Datenbank!BH:BH,Betriebeliste!A13)","v":51},{"$f":"MATCH(A13,Datenbank!BH:BH,0)","v":175},51,{"$f":"COUNTIF(INDIRECT(\"Datenbank!BG\"&AB13&\":BG\"&AB13+AA13-1),\">=\"&Meldungen!$J$5)","v":0},{"$nulls":5},0]
["157","Polen: Walbrzych [Waldenburg] (157)","K47","POL27",0,{"$nulls":21},{"$f":"COUNTIF(Datenbank!BH:BH,Betriebeliste!A14)","v":14},{"$f":"MATCH(A14,Datenbank!BH:BH,0)","v":226},0,{"$f":"COUNTIF(INDIRECT(\"Datenbank!BG\"&AB14&\":BG\"&AB14+AA14-1),\">=\"&Meldungen!$J$5)","v":0},{"$nulls":5},0]
["158","Polen: Legnica [Liegnitz] (158)","K47","POL18",0,{"$nulls":21},{"$f":"COUNTIF(Datenbank!BH:BH,Betriebeliste!A15)","v":9},{"$f":"MATCH(A15,Datenbank!BH:BH,0)","v":240},0,{"$f":"COUNTIF(INDIRECT(\"Datenbank!BG\"&AB15&\":BG\"&AB15+AA15-1),\">=\"&Meldungen!$J$5)","v":0},{"$nulls":5},0]
["159","Polen: Gliwice [Gleiwitz] (159)","K47","POL09",0,{"$nulls":21},{"$f":"COUNTIF(Datenbank!BH:BH,Betriebeliste!A16)","v":12},{"$f":"MATCH(A16,Datenbank!BH:BH,0)","v":249},12,{"$f":"COUNTIF(INDIRECT(\"Datenbank!BG\"&AB16&\":BG\"&AB16+AA16-1),\">=\"&Meldungen!$J$5)","v":0},{"$nulls":5},0]
["160","Polen: Katowice [Kattowitz] (160)","K47","POL14",0,{"$nulls":21},{"$f":"COUNTIF(Datenbank!BH:BH,Betriebeliste!A17)","v":21},{"$f":"MATCH(A17,Datenbank!BH:BH,0)","v":261},21,{"$f":"COUNTIF(INDIRECT(\"Datenbank!BG\"&AB17&\":BG\"&AB17+AA17-1),\">=\"&Meldungen!$J$5)","v":0},{"$nulls":5},0]
["161","Polen: Bytom [Beuthen] (161)","K47","POL03",0,{"$nulls":21},{"$f":"COUNTIF(Datenbank!BH:BH,Betriebeliste!A18)","v":9},{"$f":"MATCH(A18,Datenbank!BH:BH,0)","v":282},9,{"$f":"COUNTIF(INDIRECT(\"Datenbank!BG\"&AB18&\":BG\"&AB18+AA18-1),\">=\"&Meldungen!$J$5)","v":0},{"$nulls":5},0]
["162","Polen: Kostrzyn [Küstrin] (162)","K47","POL15",0,{"$nulls":21},{"$f":"COUNTIF(Datenbank!BH:BH,Betriebeliste!A19)","v":3},{"$f":"MATCH(A19,Datenbank!BH:BH,0)","v":291},3,{"$f":"COUNTIF(INDIRECT(\"Datenbank!BG\"&AB19&\":BG\"&AB19+AA19-1),\">=\"&Meldungen!$J$5)","v":0},{"$nulls":5},0]
["163","Tschechien: Ústí nad Labem [Aussig/Elbe] (163)","K48","CZE14",0,{"$nulls":21},{"$f":"COUNTIF(Datenbank!BH:BH,Betriebeliste!A20)","v":32},{"$f":"MATCH(A20,Datenbank!BH:BH,0)","v":294},4,{"$f":"COUNTIF(INDIRECT(\"Datenbank!BG\"&AB20&\":BG\"&AB20+AA20-1),\">=\"&Meldungen!$J$5)","v":0},{"$nulls":5},0]
["164","Tschechien: Prag (164)","K48","CZE11",0,{"$nulls":21},{"$f":"COUNTIF(Datenbank!BH:BH,Betriebeliste!A21)","v":112},{"$f":"MATCH(A21,Datenbank!BH:BH,0)","v":326},7,{"$f":"COUNTIF(INDIRECT(\"Datenbank!BG\"&AB21&\":BG\"&AB21+AA21-1),\">=\"&Meldungen!$J$5)","v":0},{"$nulls":5},0]
["165","Niederlande: Amsterdam (165)","K42","NLD02",0,{"$nulls":21},{"$f":"COUNTIF(Datenbank!BH:BH,Betriebeliste!A22)","v":153},{"$f":"MATCH(A22,Datenbank!BH:BH,0)","v":438},87,{"$f":"COUNTIF(INDIRECT(\"Datenbank!BG\"&AB22&\":BG\"&AB22+AA22-1),\">=\"&Meldungen!$J$5)","v":0},{"$nulls":5},0]
["166","Niederlande: Noord-Zuid-Hollandsche T.M (166)","K42","NLD13",0,{"$nulls":21},{"$f":"COUNTIF(Datenbank!BH:BH,Betriebeliste!A23)","v":48},{"$f":"MATCH(A23,Datenbank!BH:BH,0)","v":591},0,{"$f":"COUNTIF(INDIRECT(\"Datenbank!BG\"&AB23&\":BG\"&AB23+AA23-1),\">=\"&Meldungen!$J$5)","v":0},{"$nulls":5},0]
["167","Niederlande: Arnhem (167)","K42","NLD05",0,{"$nulls":21},{"$f":"COUNTIF(Datenbank!BH:BH,Betriebeliste!A24)","v":40},{"$f":"MATCH(A24,Datenbank!BH:BH,0)","v":639},0,{"$f":"COUNTIF(INDIRECT(\"Datenbank!BG\"&AB24&\":BG\"&AB24+AA24-1),\">=\"&Meldungen!$J$5)","v":0},{"$nulls":5},0]
["168","Belgien: Lüttich (168)","K43","BEL07",0,{"$nulls":21},{"$f":"COUNTIF(Datenbank!BH:BH,Betriebeliste!A25)","v":42},{"$f":"MATCH(A25,Datenbank!BH:BH,0)","v":679},8,{"$f":"COUNTIF(INDIRECT(\"Datenbank!BG\"&AB25&\":BG\"&AB25+AA25-1),\">=\"&Meldungen!$J$5)","v":0},{"$nulls":5},0]
["169","Belgien: Lüttich-Seraing (169)","K43","BEL08",0,{"$nulls":21},{"$f":"COUNTIF(Datenbank!BH:BH,Betriebeliste!A26)","v":27},{"$f":"MATCH(A26,Datenbank!BH:BH,0)","v":721},5,{"$f":"COUNTIF(INDIRECT(\"Datenbank!BG\"&AB26&\":BG\"&AB26+AA26-1),\">=\"&Meldungen!$J$5)","v":0},{"$nulls":5},0]
["170","Belgien: SNCV außer Charleroi und Küste (170)","K43","BEL12",0,{"$nulls":21},{"$f":"COUNTIF(Datenbank!BH:BH,Betriebeliste!A27)","v":230},{"$f":"MATCH(A27,Datenbank!BH:BH,0)","v":748},2,{"$f":"COUNTIF(INDIRECT(\"Datenbank!BG\"&AB27&\":BG\"&AB27+AA27-1),\">=\"&Meldungen!$J$5)","v":0},{"$nulls":5},0]
["171","Belgien: Brüssel (171)","K43","BEL03",0,{"$nulls":21},{"$f":"COUNTIF(Datenbank!BH:BH,Betriebeliste!A28)","v":150},{"$f":"MATCH(A28,Datenbank!BH:BH,0)","v":978},78,{"$f":"COUNTIF(INDIRECT(\"Datenbank!BG\"&AB28&\":BG\"&AB28+AA28-1),\">=\"&Meldungen!$J$5)","v":0},{"$nulls":5},0]
["172","Niederlande: Den Haag (172)","K42","NLD06",0,{"$nulls":21},{"$f":"COUNTIF(Datenbank!BH:BH,Betriebeliste!A29)","v":130},{"$f":"MATCH(A29,Datenbank!BH:BH,0)","v":1128},53,{"$f":"COUNTIF(INDIRECT(\"Datenbank!BG\"&AB29&\":BG\"&AB29+AA29-1),\">=\"&Meldungen!$J$5)","v":0},{"$nulls":5},0]
["174","Polen: Lodz [Litzmannstadt] (174)","K47","POL19",0,{"$nulls":21},{"$f":"COUNTIF(Datenbank!BH:BH,Betriebeliste!A30)","v":49},{"$f":"MATCH(A30,Datenbank!BH:BH,0)","v":1258},3,{"$f":"COUNTIF(INDIRECT(\"Datenbank!BG\"&AB30&\":BG\"&AB30+AA30-1),\">=\"&Meldungen!$J$5)","v":0},{"$nulls":5},0]
["175","Frankreich: Tours (175)","K44","FRA33",0,{"$nulls":21},{"$f":"COUNTIF(Datenbank!BH:BH,Betriebeliste!A31)","v":1},{"$f":"MATCH(A31,Datenbank!BH:BH,0)","v":1307},0,{"$f":"COUNTIF(INDIRECT(\"Datenbank!BG\"&AB31&\":BG\"&AB31+AA31-1),\">=\"&Meldungen!$J$5)","v":0},{"$nulls":5},0]
["176","Frankreich: Forbach (176)","K44","FRA09",0,{"$nulls":21},{"$f":"COUNTIF(Datenbank!BH:BH,Betriebeliste!A32)","v":4},{"$f":"MATCH(A32,Datenbank!BH:BH,0)","v":1308},4,{"$f":"COUNTIF(INDIRECT(\"Datenbank!BG\"&AB32&\":BG\"&AB32+AA32-1),\">=\"&Meldungen!$J$5)","v":0},{"$nulls":5},0]
["177","Polen: Kraków [Krakau] (177)","K47","POL17",0,{"$nulls":21},{"$f":"COUNTIF(Datenbank!BH:BH,Betriebeliste!A33)","v":11},{"$f":"MATCH(A33,Datenbank!BH:BH,0)","v":1312},0,{"$f":"COUNTIF(INDIRECT(\"Datenbank!BG\"&AB33&\":BG\"&AB33+AA33-1),\">=\"&Meldungen!$J$5)","v":0},{"$nulls":5},0]
["178","Polen: Dabrowa [Dombrowa] (178)","K47","POL06",0,{"$nulls":21},{"$f":"COUNTIF(Datenbank!BH:BH,Betriebeliste!A34)","v":2},{"$f":"MATCH(A34,Datenbank!BH:BH,0)","v":1323},2,{"$f":"COUNTIF(INDIRECT(\"Datenbank!BG\"&AB34&\":BG\"&AB34+AA34-1),\">=\"&Meldungen!$J$5)","v":0},{"$nulls":5},0]
["179","Ukraine: Lwiw [Lemberg] (179)","K4C","UKR08",0,{"$nulls":21},{"$f":"COUNTIF(Datenbank!BH:BH,Betriebeliste!A35)","v":34},{"$f":"MATCH(A35,Datenbank!BH:BH,0)","v":1325},0,{"$f":"COUNTIF(INDIRECT(\"Datenbank!BG\"&AB35&\":BG\"&AB35+AA35-1),\">=\"&Meldungen!$J$5)","v":0},{"$nulls":5},0]
["180","Ukraine: Kamjanske/Dnipro [Dnipropetrowsk] (180)","K4C","UKR04",0,{"$nulls":21},{"$f":"COUNTIF(Datenbank!BH:BH,Betriebeliste!A36)","v":21},{"$f":"MATCH(A36,Datenbank!BH:BH,0)","v":1359},0,{"$f":"COUNTIF(INDIRECT(\"Datenbank!BG\"&AB36&\":BG\"&AB36+AA36-1),\">=\"&Meldungen!$J$5)","v":0},{"$nulls":5},0]
["183","Luxemburg: Luxemburg (183)","K43","LUX02",0,{"$nulls":21},{"$f":"COUNTIF(Datenbank!BH:BH,Betriebeliste!A37)","v":87},{"$f":"MATCH(A37,Datenbank!BH:BH,0)","v":1380},86,{"$f":"COUNTIF(INDIRECT(\"Datenbank!BG\"&AB37&\":BG\"&AB37+AA37-1),\">=\"&Meldungen!$J$5)","v":0},{"$nulls":5},0]
["187","Ägypten: Kairo (187)","K5","EGY04",0,{"$nulls":21},{"$f":"COUNTIF(Datenbank!BH:BH,Betriebeliste!A38)","v":54},{"$f":"MATCH(A38,Datenbank!BH:BH,0)","v":1467},43,{"$f":"COUNTIF(INDIRECT(\"Datenbank!BG\"&AB38&\":BG\"&AB38+AA38-1),\">=\"&Meldungen!$J$5)","v":0},{"$nulls":5},0]
["189","Ukraine: Donezk [Stalino] (189)","K4C","UKR02",0,{"$nulls":21},{"$f":"COUNTIF(Datenbank!BH:BH,Betriebeliste!A39)","v":29},{"$f":"MATCH(A39,Datenbank!BH:BH,0)","v":1521},0,{"$f":"COUNTIF(INDIRECT(\"Datenbank!BG\"&AB39&\":BG\"&AB39+AA39-1),\">=\"&Meldungen!$J$5)","v":0},{"$nulls":5},0]
["192","Frankreich: Colmar (192)","K44","FRA06",0,{"$nulls":21},{"$f":"COUNTIF(Datenbank!BH:BH,Betriebeliste!A40)","v":15},{"$f":"MATCH(A40,Datenbank!BH:BH,0)","v":1550},2,{"$f":"COUNTIF(INDIRECT(\"Datenbank!BG\"&AB40&\":BG\"&AB40+AA40-1),\">=\"&Meldungen!$J$5)","v":0},{"$nulls":5},0]
["193","Frankreich: Mülhausen/Elsaß (193)","K44","FRA19",0,{"$nulls":21},{"$f":"COUNTIF(Datenbank!BH:BH,Betriebeliste!A41)","v":23},{"$f":"MATCH(A41,Datenbank!BH:BH,0)","v":1565},23,{"$f":"COUNTIF(INDIRECT(\"Datenbank!BG\"&AB41&\":BG\"&AB41+AA41-1),\">=\"&Meldungen!$J$5)","v":0},{"$nulls":5},0]
["194","Frankreich: Strasbourg (194)","K44","FRA30",0,{"$nulls":21},{"$f":"COUNTIF(Datenbank!BH:BH,Betriebeliste!A42)","v":54},{"$f":"MATCH(A42,Datenbank!BH:BH,0)","v":1588},54,{"$f":"COUNTIF(INDIRECT(\"Datenbank!BG\"&AB42&\":BG\"&AB42+AA42-1),\">=\"&Meldungen!$J$5)","v":0},{"$nulls":5},0]
["195","Frankreich: Metz (195)","K44","FRA18",0,{"$nulls":21},{"$f":"COUNTIF(Datenbank!BH:BH,Betriebeliste!A43)","v":11},{"$f":"MATCH(A43,Datenbank!BH:BH,0)","v":1642},2,{"$f":"COUNTIF(INDIRECT(\"Datenbank!BG\"&AB43&\":BG\"&AB43+AA43-1),\">=\"&Meldungen!$J$5)","v":0},{"$nulls":5},0]
["196","Frankreich: Hagendingen (196)","K44","FRA11",0,{"$nulls":21},{"$f":"COUNTIF(Datenbank!BH:BH,Betriebeliste!A44)","v":15},{"$f":"MATCH(A44,Datenbank!BH:BH,0)","v":1653},0,{"$f":"COUNTIF(INDIRECT(\"Datenbank!BG\"&AB44&\":BG\"&AB44+AA44-1),\">=\"&Meldungen!$J$5)","v":0},{"$nulls":5},0]
["197","Frankreich: Thionville [Diedenhofen] (197)","K44","FRA31",0,{"$nulls":21},{"$f":"COUNTIF(Datenbank!BH:BH,Betriebeliste!A45)","v":9},{"$f":"MATCH(A45,Datenbank!BH:BH,0)","v":1668},0,{"$f":"COUNTIF(INDIRECT(\"Datenbank!BG\"&AB45&\":BG\"&AB45+AA45-1),\">=\"&Meldungen!$J$5)","v":0},{"$nulls":5},0]
["198","Luxemburg: Esch (198)","K43","LUX01",0,{"$nulls":21},{"$f":"COUNTIF(Datenbank!BH:BH,Betriebeliste!A46)","v":11},{"$f":"MATCH(A46,Datenbank!BH:BH,0)","v":1677},11,{"$f":"COUNTIF(INDIRECT(\"Datenbank!BG\"&AB46&\":BG\"&AB46+AA46-1),\">=\"&Meldungen!$J$5)","v":0},{"$nulls":5},0]
["200","Österreich: Linz (200)","K49","AUT09",1,"2x","6x Gelenkwagen","8x Gelenkwagen","10x Gelenkwagen","Niederflur-Gelenkwagen (alle Typen)",{"$nulls":3},"2x Pöstlingbergbahn","2x Pferdebahnwagen","2x",{"$nulls":10},{"$f":"COUNTIF(Datenbank!BH:BH,Betriebeliste!A47)","v":151},{"$f":"MATCH(A47,Datenbank!BH:BH,0)","v":1688},151,{"$f":"COUNTIF(INDIRECT(\"Datenbank!BG\"&AB47&\":BG\"&AB47+AA47-1),\">=\"&Meldungen!$J$5)","v":36},{"$nulls":5},0]
["201","Österreich: Klagenfurt (201)","K49","AUT08",0,{"$nulls":21},{"$f":"COUNTIF(Datenbank!BH:BH,Betriebeliste!A48)","v":19},{"$f":"MATCH(A48,Datenbank!BH:BH,0)","v":1839},19,{"$f":"COUNTIF(INDIRECT(\"Datenbank!BG\"&AB48&\":BG\"&AB48+AA48-1),\">=\"&Meldungen!$J$5)","v":2},{"$nulls":5},0]
["202","Österreich: Graz (202)","K49","AUT04",1,"2x","6x Gelenkwagen","8x Gelenkwagen","Niederflur-Gelenkwagen (alle Typen)",{"$nulls":5},"2x",{"$nulls":8},"Schloßbergbahn",null,null,{"$f":"COUNTIF(Datenbank!BH:BH,Betriebeliste!A49)","v":68},{"$f":"MATCH(A49,Datenbank!BH:BH,0)","v":1858},68,{"$f":"COUNTIF(INDIRECT(\"Datenbank!BG\"&AB49&\":BG\"&AB49+AA49-1),\">=\"&Meldungen!$J$5)","v":27},{"$nulls":5},0]
["203","Österreich: Wien (203)","K49","AUT16",1,"2x","4x","4x Großraumwagen","4x Gelenkwagen","6x Gelenkwagen","Niederflur-Gelenkwagen (alle Typen)",null,null,"Güter-Tw","2x","4x","4x Großraumwagen",{"$nulls":5},"Güter-Bw","Stadtbahn","U-Bahn",null,{"$f":"COUNTIF(Datenbank!BH:BH,Betriebeliste!A50)","v":553},{"$f":"MATCH(A50,Datenbank!BH:BH,0)","v":1926},320,{"$f":"COUNTIF(INDIRECT(\"Datenbank!BG\"&AB50&\":BG\"&AB50+AA50-1),\">=\"&Meldungen!$J$5)","v":204},{"$nulls":5},0]
["204","Österreich: Wiener Lokalbahn (204)","K49","AUT18",1,"2x","4x","4x Großraumwagen ex Köln","8x Gelenkwagen","Niederflur-Gelenkwagen (alle Typen)",null,null,"E-Lok","Dampflok","2x","4x","4x Steuerwagen ex Köln",{"$nulls":9},{"$f":"COUNTIF(Datenbank!BH:BH,Betriebeliste!A51)","v":92},{"$f":"MATCH(A51,Datenbank!BH:BH,0)","v":2479},92,{"$f":"COUNTIF(INDIRECT(\"Datenbank!BG\"&AB51&\":BG\"&AB51+AA51-1),\">=\"&Meldungen!$J$5)","v":28},{"$nulls":5},0]
["205","Niederlande: Utrecht (205)","K42","NLD15",0,{"$nulls":21},{"$f":"COUNTIF(Datenbank!BH:BH,Betriebeliste!A52)","v":29},{"$f":"MATCH(A52,Datenbank!BH:BH,0)","v":2571},10,{"$f":"COUNTIF(INDIRECT(\"Datenbank!BG\"&AB52&\":BG\"&AB52+AA52-1),\">=\"&Meldungen!$J$5)","v":0},{"$nulls":5},0]
["206","Österreich: Salzburg (206)","K49","AUT13",0,{"$nulls":21},{"$f":"COUNTIF(Datenbank!BH:BH,Betriebeliste!A53)","v":37},{"$f":"MATCH(A53,Datenbank!BH:BH,0)","v":2600},17,{"$f":"COUNTIF(INDIRECT(\"Datenbank!BG\"&AB53&\":BG\"&AB53+AA53-1),\">=\"&Meldungen!$J$5)","v":0},{"$nulls":5},0]
["207","Polen: Poznan [Posen] (207)","K47","POL22",0,{"$nulls":21},{"$f":"COUNTIF(Datenbank!BH:BH,Betriebeliste!A54)","v":16},{"$f":"MATCH(A54,Datenbank!BH:BH,0)","v":2637},16,{"$f":"COUNTIF(INDIRECT(\"Datenbank!BG\"&AB54&\":BG\"&AB54+AA54-1),\">=\"&Meldungen!$J$5)","v":0},{"$nulls":5},0]
["208","Polen: Lodzer elektrische Zufuhrbahnen (208)","K47","POL20",0,{"$nulls":21},{"$f":"COUNTIF(Datenbank!BH:BH,Betriebeliste!A55)","v":11},{"$f":"MATCH(A55,Datenbank!BH:BH,0)","v":2653},2,{"$f":"COUNTIF(INDIRECT(\"Datenbank!BG\"&AB55&\":BG\"&AB55+AA55-1),\">=\"&Meldungen!$J$5)","v":0},{"$nulls":5},0]
["210","Polen: Inowrociaw [Hohensalza] (210)","K47","POL12",0,{"$nulls":21},{"$f":"COUNTIF(Datenbank!BH:BH,Betriebeliste!A56)","v":5},{"$f":"MATCH(A56,Datenbank!BH:BH,0)","v":2664},0,{"$f":"COUNTIF(INDIRECT(\"Datenbank!BG\"&AB56&\":BG\"&AB56+AA56-1),\">=\"&Meldungen!$J$5)","v":0},{"$nulls":5},0]
["211","Polen: Bydgoszcz [Bromberg] (211)","K47","POL02",0,{"$nulls":21},{"$f":"COUNTIF(Datenbank!BH:BH,Betriebeliste!A57)","v":7},{"$f":"MATCH(A57,Datenbank!BH:BH,0)","v":2669},0,{"$f":"COUNTIF(INDIRECT(\"Datenbank!BG\"&AB57&\":BG\"&AB57+AA57-1),\">=\"&Meldungen!$J$5)","v":0},{"$nulls":5},0]
["212","Polen: Torun [Thorn] (212)","K47","POL26",0,{"$nulls":21},{"$f":"COUNTIF(Datenbank!BH:BH,Betriebeliste!A58)","v":9},{"$f":"MATCH(A58,Datenbank!BH:BH,0)","v":2676},3,{"$f":"COUNTIF(INDIRECT(\"Datenbank!BG\"&AB58&\":BG\"&AB58+AA58-1),\">=\"&Meldungen!$J$5)","v":0},{"$nulls":5},0]
["213","Polen: Grudziadz [Graudenz] (213)","K47","POL11",0,{"$nulls":21},{"$f":"COUNTIF(Datenbank!BH:BH,Betriebeliste!A59)","v":3},{"$f":"MATCH(A59,Datenbank!BH:BH,0)","v":2685},0,{"$f":"COUNTIF(INDIRECT(\"Datenbank!BG\"&AB59&\":BG\"&AB59+AA59-1),\">=\"&Meldungen!$J$5)","v":0},{"$nulls":5},0]
["214","Belgien: Antwerpen (214)","K43","BEL01",0,{"$nulls":21},{"$f":"COUNTIF(Datenbank!BH:BH,Betriebeliste!A60)","v":73},{"$f":"MATCH(A60,Datenbank!BH:BH,0)","v":2688},29,{"$f":"COUNTIF(INDIRECT(\"Datenbank!BG\"&AB60&\":BG\"&AB60+AA60-1),\">=\"&Meldungen!$J$5)","v":0},{"$nulls":5},0]
["221","Österreich: Innsbruck (221)","K49","AUT06",1,"2x","4x","4x Großraumwagen ex Turin (60)","4x Großraumwagen","6x Gelenkwagen","8x Gelenkwagen","Niederflur-Gelenkwagen (alle Typen)",null,"Dampf-Straßenbahn","2x",{"$nulls":7},"Güter-Bw","Hungerburgbahn",null,null,{"$f":"COUNTIF(Datenbank!BH:BH,Betriebeliste!A61)","v":168},{"$f":"MATCH(A61,Datenbank!BH:BH,0)","v":2761},168,{"$f":"COUNTIF(INDIRECT(\"Datenbank!BG\"&AB61&\":BG\"&AB61+AA61-1),\">=\"&Meldungen!$J$5)","v":61},{"$nulls":5},0]
["222","Norwegen: Oslo (222)","K46","NOR02",0,{"$nulls":21},{"$f":"COUNTIF(Datenbank!BH:BH,Betriebeliste!A62)","v":82},{"$f":"MATCH(A62,Datenbank!BH:BH,0)","v":2929},34,{"$f":"COUNTIF(INDIRECT(\"Datenbank!BG\"&AB62&\":BG\"&AB62+AA62-1),\">=\"&Meldungen!$J$5)","v":0},{"$nulls":5},0]
["223","Niederlande: Limburgsche Tramweg Mij (223)","K42","NLD09",0,{"$nulls":21},{"$f":"COUNTIF(Datenbank!BH:BH,Betriebeliste!A63)","v":2},{"$f":"MATCH(A63,Datenbank!BH:BH,0)","v":3011},0,{"$f":"COUNTIF(INDIRECT(\"Datenbank!BG\"&AB63&\":BG\"&AB63+AA63-1),\">=\"&Meldungen!$J$5)","v":0},{"$nulls":5},0]
["226","Italien: Rom ATAC (226)","K4B2","ITA20",0,{"$nulls":21},{"$f":"COUNTIF(Datenbank!BH:BH,Betriebeliste!A64)","v":26},{"$f":"MATCH(A64,Datenbank!BH:BH,0)","v":3013},0,{"$f":"COUNTIF(INDIRECT(\"Datenbank!BG\"&AB64&\":BG\"&AB64+AA64-1),\">=\"&Meldungen!$J$5)","v":0},{"$nulls":5},0]
["228","USA: New York, NY (228)","K21","US207",0,{"$nulls":21},{"$f":"COUNTIF(Datenbank!BH:BH,Betriebeliste!A65)","v":1},{"$f":"MATCH(A65,Datenbank!BH:BH,0)","v":3039},0,{"$f":"COUNTIF(INDIRECT(\"Datenbank!BG\"&AB65&\":BG\"&AB65+AA65-1),\">=\"&Meldungen!$J$5)","v":0},{"$nulls":5},0]
["229","Österreich: Ebelsberg-St.Florian (229)","K49","AUT02",0,{"$nulls":21},{"$f":"COUNTIF(Datenbank!BH:BH,Betriebeliste!A66)","v":23},{"$f":"MATCH(A66,Datenbank!BH:BH,0)","v":3040},17,{"$f":"COUNTIF(INDIRECT(\"Datenbank!BG\"&AB66&\":BG\"&AB66+AA66-1),\">=\"&Meldungen!$J$5)","v":6},{"$nulls":5},0]
["230","Niederlande: Rotterdam (230)","K42","NLD14",0,{"$nulls":21},{"$f":"COUNTIF(Datenbank!BH:BH,Betriebeliste!A67)","v":134},{"$f":"MATCH(A67,Datenbank!BH:BH,0)","v":3063},94,{"$f":"COUNTIF(INDIRECT(\"Datenbank!BG\"&AB67&\":BG\"&AB67+AA67-1),\">=\"&Meldungen!$J$5)","v":0},{"$nulls":5},0]
["231","Österreich: Ybbs-Kemmelbach (231)","K49","AUT19",0,{"$nulls":21},{"$f":"COUNTIF(Datenbank!BH:BH,Betriebeliste!A68)","v":7},{"$f":"MATCH(A68,Datenbank!BH:BH,0)","v":3197},{"$f":"COUNTA(INDIRECT(\"Datenbank!B\"&AB68&\":B\"&AB68+AA68-1))","v":7},{"$f":"COUNTIF(INDIRECT(\"Datenbank!BG\"&AB68&\":BG\"&AB68+AA68-1),\">=\"&Meldungen!$J$5)","v":0},{"$nulls":5},{"$f":"AB68-AA67-AB67","v":0}]
["232","Italien: Turin (232)","K4B1","ITA25",0,{"$nulls":21},{"$f":"COUNTIF(Datenbank!BH:BH,Betriebeliste!A69)","v":50},{"$f":"MATCH(A69,Datenbank!BH:BH,0)","v":3204},12,{"$f":"COUNTIF(INDIRECT(\"Datenbank!BG\"&AB69&\":BG\"&AB69+AA69-1),\">=\"&Meldungen!$J$5)","v":0},{"$nulls":5},0]
["233","Italien: Genua (233)","K4B1","ITA07",0,{"$nulls":21},{"$f":"COUNTIF(Datenbank!BH:BH,Betriebeliste!A70)","v":26},{"$f":"MATCH(A70,Datenbank!BH:BH,0)","v":3254},4,{"$f":"COUNTIF(INDIRECT(\"Datenbank!BG\"&AB70&\":BG\"&AB70+AA70-1),\">=\"&Meldungen!$J$5)","v":0},{"$nulls":5},0]
["234","Italien: Milano/Mailand (234)","K4B1","ITA12",0,{"$nulls":21},{"$f":"COUNTIF(Datenbank!BH:BH,Betriebeliste!A71)","v":83},{"$f":"MATCH(A71,Datenbank!BH:BH,0)","v":3280},42,{"$f":"COUNTIF(INDIRECT(\"Datenbank!BG\"&AB71&\":BG\"&AB71+AA71-1),\">=\"&Meldungen!$J$5)","v":0},{"$nulls":5},0]
["235","Schweiz: Basel (235)","K4A","CHE02",0,{"$nulls":21},{"$f":"COUNTIF(Datenbank!BH:BH,Betriebeliste!A72)","v":128},{"$f":"MATCH(A72,Datenbank!BH:BH,0)","v":3363},80,{"$f":"COUNTIF(INDIRECT(\"Datenbank!BG\"&AB72&\":BG\"&AB72+AA72-1),\">=\"&Meldungen!$J$5)","v":0},{"$nulls":5},0]
["236","Spanien: Madrid (236)","K45","ESP09",0,{"$nulls":21},{"$f":"COUNTIF(Datenbank!BH:BH,Betriebeliste!A73)","v":30},{"$f":"MATCH(A73,Datenbank!BH:BH,0)","v":3491},6,{"$f":"COUNTIF(INDIRECT(\"Datenbank!BG\"&AB73&\":BG\"&AB73+AA73-1),\">=\"&Meldungen!$J$5)","v":0},{"$nulls":5},0]
["237","Belgien: Verviers (237)","K43","BEL15",0,{"$nulls":21},{"$f":"COUNTIF(Datenbank!BH:BH,Betriebeliste!A74)","v":16},{"$f":"MATCH(A74,Datenbank!BH:BH,0)","v":3521},1,{"$f":"COUNTIF(INDIRECT(\"Datenbank!BG\"&AB74&\":BG\"&AB74+AA74-1),\">=\"&Meldungen!$J$5)","v":0},{"$nulls":5},0]
["238","Belgien: Gent (238)","K43","BEL06",0,{"$nulls":21},{"$f":"COUNTIF(Datenbank!BH:BH,Betriebeliste!A75)","v":35},{"$f":"MATCH(A75,Datenbank!BH:BH,0)","v":3537},13,{"$f":"COUNTIF(INDIRECT(\"Datenbank!BG\"&AB75&\":BG\"&AB75+AA75-1),\">=\"&Meldungen!$J$5)","v":0},{"$nulls":5},0]
["239","Vereinigtes Königreich: London (239)","K413","GB205",0,{"$nulls":21},{"$f":"COUNTIF(Datenbank!BH:BH,Betriebeliste!A76)","v":143},{"$f":"MATCH(A76,Datenbank!BH:BH,0)","v":3572},19,{"$f":"COUNTIF(INDIRECT(\"Datenbank!BG\"&AB76&\":BG\"&AB76+AA76-1),\">=\"&Meldungen!$J$5)","v":0},{"$nulls":5},0]
["240","Vereinigtes Königreich: Leicester (240)","K412","GB202",0,{"$nulls":21},{"$f":"COUNTIF(Datenbank!BH:BH,Betriebeliste!A77)","v":4},{"$f":"MATCH(A77,Datenbank!BH:BH,0)","v":3715},1,{"$f":"COUNTIF(INDIRECT(\"Datenbank!BG\"&AB77&\":BG\"&AB77+AA77-1),\">=\"&Meldungen!$J$5)","v":0},{"$nulls":5},0]
["241","Vereinigtes Königreich: Sheffield (241)","K4121","GB224",0,{"$nulls":21},{"$f":"COUNTIF(Datenbank!BH:BH,Betriebeliste!A78)","v":20},{"$f":"MATCH(A78,Datenbank!BH:BH,0)","v":3719},0,{"$f":"COUNTIF(INDIRECT(\"Datenbank!BG\"&AB78&\":BG\"&AB78+AA78-1),\">=\"&Meldungen!$J$5)","v":0},{"$nulls":5},0]
["242","Vereinigtes Königreich: Rotherham (242)","K4121","GB221",0,{"$nulls":21},{"$f":"COUNTIF(Datenbank!BH:BH,Betriebeliste!A79)","v":3},{"$f":"MATCH(A79,Datenbank!BH:BH,0)","v":3739},0,{"$f":"COUNTIF(INDIRECT(\"Datenbank!BG\"&AB79&\":BG\"&AB79+AA79-1),\">=\"&Meldungen!$J$5)","v":0},{"$nulls":5},0]
["243","Vereinigtes Königreich: Leeds (243)","K4121","GB201",0,{"$nulls":21},{"$f":"COUNTIF(Datenbank!BH:BH,Betriebeliste!A80)","v":55},{"$f":"MATCH(A80,Datenbank!BH:BH,0)","v":3742},5,{"$f":"COUNTIF(INDIRECT(\"Datenbank!BG\"&AB80&\":BG\"&AB80+AA80-1),\">=\"&Meldungen!$J$5)","v":0},{"$nulls":5},0]
["244","Vereinigtes Königreich: Bradford (244)","K4121","GB111",0,{"$nulls":21},{"$f":"COUNTIF(Datenbank!BH:BH,Betriebeliste!A81)","v":21},{"$f":"MATCH(A81,Datenbank!BH:BH,0)","v":3797},17,{"$f":"COUNTIF(INDIRECT(\"Datenbank!BG\"&AB81&\":BG\"&AB81+AA81-1),\">=\"&Meldungen!$J$5)","v":0},{"$nulls":5},0]
["245","Vereinigtes Königreich: Manchester (245)","K4121","GB208",0,{"$nulls":21},{"$f":"COUNTIF(Datenbank!BH:BH,Betriebeliste!A82)","v":4},{"$f":"MATCH(A82,Datenbank!BH:BH,0)","v":3818},0,{"$f":"COUNTIF(INDIRECT(\"Datenbank!BG\"&AB82&\":BG\"&AB82+AA82-1),\">=\"&Meldungen!$J$5)","v":0},{"$nulls":5},0]
["246","Vereinigtes Königreich: Bury (246)","K4121","GB114",0,{"$nulls":21},{"$f":"COUNTIF(Datenbank!BH:BH,Betriebeliste!A83)","v":1},{"$f":"MATCH(A83,Datenbank!BH:BH,0)","v":3822},0,{"$f":"COUNTIF(INDIRECT(\"Datenbank!BG\"&AB83&\":BG\"&AB83+AA83-1),\">=\"&Meldungen!$J$5)","v":0},{"$nulls":5},0]
["247","Vereinigtes Königreich: Croydon (247)","K413","GB120",0,{"$nulls":21},{"$f":"COUNTIF(Datenbank!BH:BH,Betriebeliste!A84)","v":1},{"$f":"MATCH(A84,Datenbank!BH:BH,0)","v":3823},0,{"$f":"COUNTIF(INDIRECT(\"Datenbank!BG\"&AB84&\":BG\"&AB84+AA84-1),\">=\"&Meldungen!$J$5)","v":0},{"$nulls":5},0]
["248","Vereinigtes Königreich: Liverpool (248)","K4121","GB204",0,{"$nulls":21},{"$f":"COUNTIF(Datenbank!BH:BH,Betriebeliste!A85)","v":39},{"$f":"MATCH(A85,Datenbank!BH:BH,0)","v":3824},0,{"$f":"COUNTIF(INDIRECT(\"Datenbank!BG\"&AB85&\":BG\"&AB85+AA85-1),\">=\"&Meldungen!$J$5)","v":0},{"$nulls":5},0]
["249","Vereinigtes Königreich: LIandudno (249)","K412","GB203",0,{"$nulls":21},{"$f":"COUNTIF(Datenbank!BH:BH,Betriebeliste!A86)","v":23},{"$f":"MATCH(A86,Datenbank!BH:BH,0)","v":3863},0,{"$f":"COUNTIF(INDIRECT(\"Datenbank!BG\"&AB86&\":BG\"&AB86+AA86-1),\">=\"&Meldungen!$J$5)","v":0},{"$nulls":5},0]
["250","Vereinigtes Königreich: Great Orme Railway (250)","K412","GB130",0,{"$nulls":21},{"$f":"COUNTIF(Datenbank!BH:BH,Betriebeliste!A87)","v":2},{"$f":"MATCH(A87,Datenbank!BH:BH,0)","v":3886},0,{"$f":"COUNTIF(INDIRECT(\"Datenbank!BG\"&AB87&\":BG\"&AB87+AA87-1),\">=\"&Meldungen!$J$5)","v":0},{"$nulls":5},0]
["251","Vereinigtes Königreich: Blackpool (251)","K4121","GB108",0,{"$nulls":21},{"$f":"COUNTIF(Datenbank!BH:BH,Betriebeliste!A88)","v":42},{"$f":"MATCH(A88,Datenbank!BH:BH,0)","v":3888},7,{"$f":"COUNTIF(INDIRECT(\"Datenbank!BG\"&AB88&\":BG\"&AB88+AA88-1),\">=\"&Meldungen!$J$5)","v":0},{"$nulls":5},0]
["252","Vereinigtes Königreich: Birmingham (252)","K412","GB106",0,{"$nulls":21},{"$f":"COUNTIF(Datenbank!BH:BH,Betriebeliste!A89)","v":20},{"$f":"MATCH(A89,Datenbank!BH:BH,0)","v":3930},1,{"$f":"COUNTIF(INDIRECT(\"Datenbank!BG\"&AB89&\":BG\"&AB89+AA89-1),\">=\"&Meldungen!$J$5)","v":0},{"$nulls":5},0]
["253","Vereinigtes Königreich: Volks Electric Railway (253)","K413","GB235",0,{"$nulls":21},{"$f":"COUNTIF(Datenbank!BH:BH,Betriebeliste!A90)","v":4},{"$f":"MATCH(A90,Datenbank!BH:BH,0)","v":3950},0,{"$f":"COUNTIF(INDIRECT(\"Datenbank!BG\"&AB90&\":BG\"&AB90+AA90-1),\">=\"&Meldungen!$J$5)","v":0},{"$nulls":5},0]
["254","Niederlande: Ned.Buurtspoonweg-Mij. Zeist (254)","K42","NLD11",0,{"$nulls":21},{"$f":"COUNTIF(Datenbank!BH:BH,Betriebeliste!A91)","v":96},{"$f":"MATCH(A91,Datenbank!BH:BH,0)","v":3954},0,{"$f":"COUNTIF(INDIRECT(\"Datenbank!BG\"&AB91&\":BG\"&AB91+AA91-1),\">=\"&Meldungen!$J$5)","v":0},{"$nulls":5},0]
["255","Niederlande: Nijmegen (255)","K42","NLD12",0,{"$nulls":21},{"$f":"COUNTIF(Datenbank!BH:BH,Betriebeliste!A92)","v":8},{"$f":"MATCH(A92,Datenbank!BH:BH,0)","v":4050},0,{"$f":"COUNTIF(INDIRECT(\"Datenbank!BG\"&AB92&\":BG\"&AB92+AA92-1),\">=\"&Meldungen!$J$5)","v":0},{"$nulls":5},0]
["256","Niederlande: Groningen (256)","K42","NLD08",0,{"$nulls":21},{"$f":"COUNTIF(Datenbank!BH:BH,Betriebeliste!A93)","v":12},{"$f":"MATCH(A93,Datenbank!BH:BH,0)","v":4058},0,{"$f":"COUNTIF(INDIRECT(\"Datenbank!BG\"&AB93&\":BG\"&AB93+AA93-1),\">=\"&Meldungen!$J$5)","v":0},{"$nulls":5},0]
["258","Schweiz: Basel Birsecklbahn [BEB] (258)","K4A","CHE04",0,{"$nulls":21},{"$f":"COUNTIF(Datenbank!BH:BH,Betriebeliste!A94)","v":21},{"$f":"MATCH(A94,Datenbank!BH:BH,0)","v":4070},7,{"$f":"COUNTIF(INDIRECT(\"Datenbank!BG\"&AB94&\":BG\"&AB94+AA94-1),\">=\"&Meldungen!$J$5)","v":0},{"$nulls":5},0]
["260","Schweiz: Zürich (260)","K4A","CHE33",0,{"$nulls":21},{"$f":"COUNTIF(Datenbank!BH:BH,Betriebeliste!A95)","v":88},{"$f":"MATCH(A95,Datenbank!BH:BH,0)","v":4091},23,{"$f":"COUNTIF(INDIRECT(\"Datenbank!BG\"&AB95&\":BG\"&AB95+AA95-1),\">=\"&Meldungen!$J$5)","v":0},{"$nulls":5},0]
["264","Mexiko: Mexico City (264)","K3","MEX02",0,{"$nulls":21},{"$f":"COUNTIF(Datenbank!BH:BH,Betriebeliste!A96)","v":1},{"$f":"MATCH(A96,Datenbank!BH:BH,0)","v":4179},0,{"$f":"COUNTIF(INDIRECT(\"Datenbank!BG\"&AB96&\":BG\"&AB96+AA96-1),\">=\"&Meldungen!$J$5)","v":0},{"$nulls":5},0]
["267","Schweiz: Schaffhausen (267)","K4A","CHE22",0,{"$nulls":21},{"$f":"COUNTIF(Datenbank!BH:BH,Betriebeliste!A97)","v":6},{"$f":"MATCH(A97,Datenbank!BH:BH,0)","v":4180},1,{"$f":"COUNTIF(INDIRECT(\"Datenbank!BG\"&AB97&\":BG\"&AB97+AA97-1),\">=\"&Meldungen!$J$5)","v":0},{"$nulls":5},0]
["269","Schweiz: WInterthur (269)","K4A","CHE31",0,{"$nulls":21},{"$f":"COUNTIF(Datenbank!BH:BH,Betriebeliste!A98)","v":2},{"$f":"MATCH(A98,Datenbank!BH:BH,0)","v":4186},2,{"$f":"COUNTIF(INDIRECT(\"Datenbank!BG\"&AB98&\":BG\"&AB98+AA98-1),\">=\"&Meldungen!$J$5)","v":0},{"$nulls":5},0]
["270","Russland: St. Petersburg [Leningrad] (270)","K4G","RUS27",0,{"$nulls":21},{"$f":"COUNTIF(Datenbank!BH:BH,Betriebeliste!A99)","v":33},{"$f":"MATCH(A99,Datenbank!BH:BH,0)","v":4188},0,{"$f":"COUNTIF(INDIRECT(\"Datenbank!BG\"&AB99&\":BG\"&AB99+AA99-1),\">=\"&Meldungen!$J$5)","v":0},{"$nulls":5},0]
["273","Schweiz: St. Gallen (273)","K4A","CHE25",0,{"$nulls":21},{"$f":"COUNTIF(Datenbank!BH:BH,Betriebeliste!A100)","v":11},{"$f":"MATCH(A100,Datenbank!BH:BH,0)","v":4221},0,{"$f":"COUNTIF(INDIRECT(\"Datenbank!BG\"&AB100&\":BG\"&AB100+AA100-1),\">=\"&Meldungen!$J$5)","v":0},{"$nulls":5},0]
["276","Australien: Melbourne (276)","K7","AUS10",0,{"$nulls":21},{"$f":"COUNTIF(Datenbank!BH:BH,Betriebeliste!A101)","v":1},{"$f":"MATCH(A101,Datenbank!BH:BH,0)","v":4232},0,{"$f":"COUNTIF(INDIRECT(\"Datenbank!BG\"&AB101&\":BG\"&AB101+AA101-1),\">=\"&Meldungen!$J$5)","v":0},{"$nulls":5},0]
["277","Schweiz: Basel Baselland-Transport [BLT] (277)","K4A","CHE03",0,{"$nulls":21},{"$f":"COUNTIF(Datenbank!BH:BH,Betriebeliste!A102)","v":13},{"$f":"MATCH(A102,Datenbank!BH:BH,0)","v":4233},13,{"$f":"COUNTIF(INDIRECT(\"Datenbank!BG\"&AB102&\":BG\"&AB102+AA102-1),\">=\"&Meldungen!$J$5)","v":0},{"$nulls":5},0]
["279","Schweiz: Zug (279)","K4A","CHE32",0,{"$nulls":21},{"$f":"COUNTIF(Datenbank!BH:BH,Betriebeliste!A103)","v":13},{"$f":"MATCH(A103,Datenbank!BH:BH,0)","v":4246},7,{"$f":"COUNTIF(INDIRECT(\"Datenbank!BG\"&AB103&\":BG\"&AB103+AA103-1),\">=\"&Meldungen!$J$5)","v":0},{"$nulls":5},0]
["280","Schweiz: Luzern (280)","K4A","CHE16",0,{"$nulls":21},{"$f":"COUNTIF(Datenbank!BH:BH,Betriebeliste!A104)","v":17},{"$f":"MATCH(A104,Datenbank!BH:BH,0)","v":4259},3,{"$f":"COUNTIF(INDIRECT(\"Datenbank!BG\"&AB104&\":BG\"&AB104+AA104-1),\">=\"&Meldungen!$J$5)","v":0},{"$nulls":5},0]
["282","Schweiz: Bern (282)","K4A","CHE05",0,{"$nulls":21},{"$f":"COUNTIF(Datenbank!BH:BH,Betriebeliste!A105)","v":45},{"$f":"MATCH(A105,Datenbank!BH:BH,0)","v":4276},45,{"$f":"COUNTIF(INDIRECT(\"Datenbank!BG\"&AB105&\":BG\"&AB105+AA105-1),\">=\"&Meldungen!$J$5)","v":0},{"$nulls":5},0]
["283","Schweiz: Riffelalp-Tram (283)","K4A","CHE21",0,{"$nulls":21},{"$f":"COUNTIF(Datenbank!BH:BH,Betriebeliste!A106)","v":1},{"$f":"MATCH(A106,Datenbank!BH:BH,0)","v":4321},0,{"$f":"COUNTIF(INDIRECT(\"Datenbank!BG\"&AB106&\":BG\"&AB106+AA106-1),\">=\"&Meldungen!$J$5)","v":0},{"$nulls":5},0]
["285","USA: New Orleans, LA (285)","K2","US206",0,{"$nulls":21},{"$f":"COUNTIF(Datenbank!BH:BH,Betriebeliste!A107)","v":2},{"$f":"MATCH(A107,Datenbank!BH:BH,0)","v":4322},0,{"$f":"COUNTIF(INDIRECT(\"Datenbank!BG\"&AB107&\":BG\"&AB107+AA107-1),\">=\"&Meldungen!$J$5)","v":0},{"$nulls":5},0]
["286","Österreich: Mürztaler Verkehrsgesellschaft (286)","K49","AUT10",0,{"$nulls":21},{"$f":"COUNTIF(Datenbank!BH:BH,Betriebeliste!A108)","v":4},{"$f":"MATCH(A108,Datenbank!BH:BH,0)","v":4324},1,{"$f":"COUNTIF(INDIRECT(\"Datenbank!BG\"&AB108&\":BG\"&AB108+AA108-1),\">=\"&Meldungen!$J$5)","v":0},{"$nulls":5},0]
["287","Ägypten: Heluan (287)","K5","EGY03",0,{"$nulls":21},{"$f":"COUNTIF(Datenbank!BH:BH,Betriebeliste!A109)","v":2},{"$f":"MATCH(A109,Datenbank!BH:BH,0)","v":4328},0,{"$f":"COUNTIF(INDIRECT(\"Datenbank!BG\"&AB109&\":BG\"&AB109+AA109-1),\">=\"&Meldungen!$J$5)","v":0},{"$nulls":5},0]
["288","Schweiz: Neuchatel (288)","K4A","CHE19",0,{"$nulls":21},{"$f":"COUNTIF(Datenbank!BH:BH,Betriebeliste!A110)","v":43},{"$f":"MATCH(A110,Datenbank!BH:BH,0)","v":4330},43,{"$f":"COUNTIF(INDIRECT(\"Datenbank!BG\"&AB110&\":BG\"&AB110+AA110-1),\">=\"&Meldungen!$J$5)","v":0},{"$nulls":5},0]
["289","Ägypten: Heliopolis (289)","K5","EGY02",0,{"$nulls":21},{"$f":"COUNTIF(Datenbank!BH:BH,Betriebeliste!A111)","v":24},{"$f":"MATCH(A111,Datenbank!BH:BH,0)","v":4373},0,{"$f":"COUNTIF(INDIRECT(\"Datenbank!BG\"&AB111&\":BG\"&AB111+AA111-1),\">=\"&Meldungen!$J$5)","v":0},{"$nulls":5},0]
["290","Russland: Saratow (290)","K4H","RUS24",0,{"$nulls":21},{"$f":"COUNTIF(Datenbank!BH:BH,Betriebeliste!A112)","v":4},{"$f":"MATCH(A112,Datenbank!BH:BH,0)","v":4397},0,{"$f":"COUNTIF(INDIRECT(\"Datenbank!BG\"&AB112&\":BG\"&AB112+AA112-1),\">=\"&Meldungen!$J$5)","v":0},{"$nulls":5},0]
["291","Schweiz: La Chaux de Fonds (291)","K4A","CHE12",0,{"$nulls":21},{"$f":"COUNTIF(Datenbank!BH:BH,Betriebeliste!A113)","v":4},{"$f":"MATCH(A113,Datenbank!BH:BH,0)","v":4401},4,{"$f":"COUNTIF(INDIRECT(\"Datenbank!BG\"&AB113&\":BG\"&AB113+AA113-1),\">=\"&Meldungen!$J$5)","v":0},{"$nulls":5},0]
["293","Schweiz: Biel (293)","K4A","CHE07",0,{"$nulls":21},{"$f":"COUNTIF(Datenbank!BH:BH,Betriebeliste!A114)","v":3},{"$f":"MATCH(A114,Datenbank!BH:BH,0)","v":4405},1,{"$f":"COUNTIF(INDIRECT(\"Datenbank!BG\"&AB114&\":BG\"&AB114+AA114-1),\">=\"&Meldungen!$J$5)","v":0},{"$nulls":5},0]
["294","Schweiz: Fribourg (294)","K4A","CHE09",0,{"$nulls":21},{"$f":"COUNTIF(Datenbank!BH:BH,Betriebeliste!A115)","v":13},{"$f":"MATCH(A115,Datenbank!BH:BH,0)","v":4408},0,{"$f":"COUNTIF(INDIRECT(\"Datenbank!BG\"&AB115&\":BG\"&AB115+AA115-1),\">=\"&Meldungen!$J$5)","v":0},{"$nulls":5},0]
["295","USA: Cincinnati, KY (295)","K2","US115",0,{"$nulls":21},{"$f":"COUNTIF(Datenbank!BH:BH,Betriebeliste!A116)","v":1},{"$f":"MATCH(A116,Datenbank!BH:BH,0)","v":4421},0,{"$f":"COUNTIF(INDIRECT(\"Datenbank!BG\"&AB116&\":BG\"&AB116+AA116-1),\">=\"&Meldungen!$J$5)","v":0},{"$nulls":5},0]
["297","Schweiz: Lausanne (297)","K4A","CHE13",0,{"$nulls":21},{"$f":"COUNTIF(Datenbank!BH:BH,Betriebeliste!A117)","v":17},{"$f":"MATCH(A117,Datenbank!BH:BH,0)","v":4422},16,{"$f":"COUNTIF(INDIRECT(\"Datenbank!BG\"&AB117&\":BG\"&AB117+AA117-1),\">=\"&Meldungen!$J$5)","v":0},{"$nulls":5},0]
["299","Italien: Messina(299)","K4B2","ITA10",0,{"$nulls":21},{"$f":"COUNTIF(Datenbank!BH:BH,Betriebeliste!A118)","v":1},{"$f":"MATCH(A118,Datenbank!BH:BH,0)","v":4439},0,{"$f":"COUNTIF(INDIRECT(\"Datenbank!BG\"&AB118&\":BG\"&AB118+AA118-1),\">=\"&Meldungen!$J$5)","v":0},{"$nulls":5},0]
["301","USA: Covington, KY (301)","K2","US120",0,{"$nulls":21},{"$f":"COUNTIF(Datenbank!BH:BH,Betriebeliste!A119)","v":1},{"$f":"MATCH(A119,Datenbank!BH:BH,0)","v":4440},0,{"$f":"COUNTIF(INDIRECT(\"Datenbank!BG\"&AB119&\":BG\"&AB119+AA119-1),\">=\"&Meldungen!$J$5)","v":0},{"$nulls":5},0]
["302","Schweiz: Vevey-Montreux-Chillon [VMC] (302)","K4A","CHE30",0,{"$nulls":21},{"$f":"COUNTIF(Datenbank!BH:BH,Betriebeliste!A120)","v":3},{"$f":"MATCH(A120,Datenbank!BH:BH,0)","v":4441},3,{"$f":"COUNTIF(INDIRECT(\"Datenbank!BG\"&AB120&\":BG\"&AB120+AA120-1),\">=\"&Meldungen!$J$5)","v":0},{"$nulls":5},0]
["303","Frankreich: Nantes (303)","K44","FRA23",0,{"$nulls":21},{"$f":"COUNTIF(Datenbank!BH:BH,Betriebeliste!A121)","v":1},{"$f":"MATCH(A121,Datenbank!BH:BH,0)","v":4444},0,{"$f":"COUNTIF(INDIRECT(\"Datenbank!BG\"&AB121&\":BG\"&AB121+AA121-1),\">=\"&Meldungen!$J$5)","v":0},{"$nulls":5},0]
["304","Schweiz: Bex-Villars-Bretaye [BVB] (304)","K4A","CHE06",0,{"$nulls":21},{"$f":"COUNTIF(Datenbank!BH:BH,Betriebeliste!A122)","v":18},{"$f":"MATCH(A122,Datenbank!BH:BH,0)","v":4445},13,{"$f":"COUNTIF(INDIRECT(\"Datenbank!BG\"&AB122&\":BG\"&AB122+AA122-1),\">=\"&Meldungen!$J$5)","v":0},{"$nulls":5},0]
["305","Schweiz: Martigny (305)","K4A","CHE17",0,{"$nulls":21},{"$f":"COUNTIF(Datenbank!BH:BH,Betriebeliste!A123)","v":3},{"$f":"MATCH(A123,Datenbank!BH:BH,0)","v":4463},3,{"$f":"COUNTIF(INDIRECT(\"Datenbank!BG\"&AB123&\":BG\"&AB123+AA123-1),\">=\"&Meldungen!$J$5)","v":0},{"$nulls":5},0]
["306","Kanada: Toronto, ON (306)","K1","CAN17",0,{"$nulls":21},{"$f":"COUNTIF(Datenbank!BH:BH,Betriebeliste!A124)","v":3},{"$f":"MATCH(A124,Datenbank!BH:BH,0)","v":4466},0,{"$f":"COUNTIF(INDIRECT(\"Datenbank!BG\"&AB124&\":BG\"&AB124+AA124-1),\">=\"&Meldungen!$J$5)","v":0},{"$nulls":5},0]
["311","Schweiz: Clarens-Blonay (311)","K4A","CHE08",0,{"$nulls":21},{"$f":"COUNTIF(Datenbank!BH:BH,Betriebeliste!A125)","v":1},{"$f":"MATCH(A125,Datenbank!BH:BH,0)","v":4469},1,{"$f":"COUNTIF(INDIRECT(\"Datenbank!BG\"&AB125&\":BG\"&AB125+AA125-1),\">=\"&Meldungen!$J$5)","v":0},{"$nulls":5},0]
["314","Schweiz: Genf (314)","K4A","CHE10",0,{"$nulls":21},{"$f":"COUNTIF(Datenbank!BH:BH,Betriebeliste!A126)","v":28},{"$f":"MATCH(A126,Datenbank!BH:BH,0)","v":4470},11,{"$f":"COUNTIF(INDIRECT(\"Datenbank!BG\"&AB126&\":BG\"&AB126+AA126-1),\">=\"&Meldungen!$J$5)","v":0},{"$nulls":5},0]
["315","Schweiz: Gland-Begnins [CH] (315)","K4A","CHE11",0,{"$nulls":21},{"$f":"COUNTIF(Datenbank!BH:BH,Betriebeliste!A127)","v":1},{"$f":"MATCH(A127,Datenbank!BH:BH,0)","v":4498},1,{"$f":"COUNTIF(INDIRECT(\"Datenbank!BG\"&AB127&\":BG\"&AB127+AA127-1),\">=\"&Meldungen!$J$5)","v":0},{"$nulls":5},0]
["316","Polen: Sosnowiec [Sosnowitz] (316)","K47","POL24",0,{"$nulls":21},{"$f":"COUNTIF(Datenbank!BH:BH,Betriebeliste!A128)","v":2},{"$f":"MATCH(A128,Datenbank!BH:BH,0)","v":4499},2,{"$f":"COUNTIF(INDIRECT(\"Datenbank!BG\"&AB128&\":BG\"&AB128+AA128-1),\">=\"&Meldungen!$J$5)","v":0},{"$nulls":5},0]
["317","Polen: Bielsko-Biala [Bielitz] (317)","K47","POL01",0,{"$nulls":21},{"$f":"COUNTIF(Datenbank!BH:BH,Betriebeliste!A129)","v":2},{"$f":"MATCH(A129,Datenbank!BH:BH,0)","v":4501},0,{"$f":"COUNTIF(INDIRECT(\"Datenbank!BG\"&AB129&\":BG\"&AB129+AA129-1),\">=\"&Meldungen!$J$5)","v":0},{"$nulls":5},0]
["318","Schweiz: Spiezer Verbindungsbahn (318)","K4A","CHE24",0,{"$nulls":21},{"$f":"COUNTIF(Datenbank!BH:BH,Betriebeliste!A130)","v":3},{"$f":"MATCH(A130,Datenbank!BH:BH,0)","v":4503},0,{"$f":"COUNTIF(INDIRECT(\"Datenbank!BG\"&AB130&\":BG\"&AB130+AA130-1),\">=\"&Meldungen!$J$5)","v":0},{"$nulls":5},0]
["319","Tschechien: Bohumín [Oderberg] (319)","K48","CZE01",0,{"$nulls":21},{"$f":"COUNTIF(Datenbank!BH:BH,Betriebeliste!A131)","v":1},{"$f":"MATCH(A131,Datenbank!BH:BH,0)","v":4506},0,{"$f":"COUNTIF(INDIRECT(\"Datenbank!BG\"&AB131&\":BG\"&AB131+AA131-1),\">=\"&Meldungen!$J$5)","v":0},{"$nulls":5},0]
["323","Schweiz: Schwyzer Straßenbahnen  [SStb] (323)","K4A","CHE23",0,{"$nulls":21},{"$f":"COUNTIF(Datenbank!BH:BH,Betriebeliste!A132)","v":9},{"$f":"MATCH(A132,Datenbank!BH:BH,0)","v":4507},{"$f":"COUNTA(INDIRECT(\"Datenbank!B\"&AB132&\":B\"&AB132+AA132-1))","v":9},{"$f":"COUNTIF(INDIRECT(\"Datenbank!BG\"&AB132&\":BG\"&AB132+AA132-1),\">=\"&Meldungen!$J$5)","v":0},{"$nulls":5},{"$f":"AB132-AA131-AB131","v":0}]
["324","Schweiz: Altdorf-Flüelen (324)","K4A","CHE01",0,{"$nulls":21},{"$f":"COUNTIF(Datenbank!BH:BH,Betriebeliste!A133)","v":3},{"$f":"MATCH(A133,Datenbank!BH:BH,0)","v":4516},0,{"$f":"COUNTIF(INDIRECT(\"Datenbank!BG\"&AB133&\":BG\"&AB133+AA133-1),\">=\"&Meldungen!$J$5)","v":0},{"$nulls":5},0]
["325","Spanien: Gijon (325)","K45","ESP06",0,{"$nulls":21},{"$f":"COUNTIF(Datenbank!BH:BH,Betriebeliste!A134)","v":2},{"$f":"MATCH(A134,Datenbank!BH:BH,0)","v":4519},0,{"$f":"COUNTIF(INDIRECT(\"Datenbank!BG\"&AB134&\":BG\"&AB134+AA134-1),\">=\"&Meldungen!$J$5)","v":0},{"$nulls":5},0]
["326","Türkei: Istanbul (326)","K4D","TUR05",0,{"$nulls":21},{"$f":"COUNTIF(Datenbank!BH:BH,Betriebeliste!A135)","v":3},{"$f":"MATCH(A135,Datenbank!BH:BH,0)","v":4521},0,{"$f":"COUNTIF(INDIRECT(\"Datenbank!BG\"&AB135&\":BG\"&AB135+AA135-1),\">=\"&Meldungen!$J$5)","v":0},{"$nulls":5},0]
["327","Schweiz: Lugano (327)","K4A","CHE15",0,{"$nulls":21},{"$f":"COUNTIF(Datenbank!BH:BH,Betriebeliste!A136)","v":21},{"$f":"MATCH(A136,Datenbank!BH:BH,0)","v":4524},21,{"$f":"COUNTIF(INDIRECT(\"Datenbank!BG\"&AB136&\":BG\"&AB136+AA136-1),\">=\"&Meldungen!$J$5)","v":0},{"$nulls":5},0]
["335","Schweiz: Locarno (335)","K4A","CHE14",0,{"$nulls":21},{"$f":"COUNTIF(Datenbank!BH:BH,Betriebeliste!A137)","v":9},{"$f":"MATCH(A137,Datenbank!BH:BH,0)","v":4545},9,{"$f":"COUNTIF(INDIRECT(\"Datenbank!BG\"&AB137&\":BG\"&AB137+AA137-1),\">=\"&Meldungen!$J$5)","v":0},{"$nulls":5},0]
["341","Vereinigtes Königreich: Blackburn (341)","K4121","GB107",0,{"$nulls":21},{"$f":"COUNTIF(Datenbank!BH:BH,Betriebeliste!A138)","v":14},{"$f":"MATCH(A138,Datenbank!BH:BH,0)","v":4554},0,{"$f":"COUNTIF(INDIRECT(\"Datenbank!BG\"&AB138&\":BG\"&AB138+AA138-1),\">=\"&Meldungen!$J$5)","v":0},{"$nulls":5},0]
["342","Vereinigtes Königreich: Southampton (342)","K413","GB226",0,{"$nulls":21},{"$f":"COUNTIF(Datenbank!BH:BH,Betriebeliste!A139)","v":13},{"$f":"MATCH(A139,Datenbank!BH:BH,0)","v":4568},0,{"$f":"COUNTIF(INDIRECT(\"Datenbank!BG\"&AB139&\":BG\"&AB139+AA139-1),\">=\"&Meldungen!$J$5)","v":0},{"$nulls":5},0]
["343","Frankreich: Nancy (343)","K44","FRA22",0,{"$nulls":21},{"$f":"COUNTIF(Datenbank!BH:BH,Betriebeliste!A140)","v":16},{"$f":"MATCH(A140,Datenbank!BH:BH,0)","v":4581},3,{"$f":"COUNTIF(INDIRECT(\"Datenbank!BG\"&AB140&\":BG\"&AB140+AA140-1),\">=\"&Meldungen!$J$5)","v":0},{"$nulls":5},0]
["344","Frankreich: Dijon (344)","K44","FRA07",0,{"$nulls":21},{"$f":"COUNTIF(Datenbank!BH:BH,Betriebeliste!A141)","v":3},{"$f":"MATCH(A141,Datenbank!BH:BH,0)","v":4597},0,{"$f":"COUNTIF(INDIRECT(\"Datenbank!BG\"&AB141&\":BG\"&AB141+AA141-1),\">=\"&Meldungen!$J$5)","v":0},{"$nulls":5},0]
["345","Frankreich: Lyon (345)","K44","FRA15",0,{"$nulls":21},{"$f":"COUNTIF(Datenbank!BH:BH,Betriebeliste!A142)","v":58},{"$f":"MATCH(A142,Datenbank!BH:BH,0)","v":4600},58,{"$f":"COUNTIF(INDIRECT(\"Datenbank!BG\"&AB142&\":BG\"&AB142+AA142-1),\">=\"&Meldungen!$J$5)","v":0},{"$nulls":5},0]
["347","Frankreich: Grenoble (347)","K44","FRA10",0,{"$nulls":21},{"$f":"COUNTIF(Datenbank!BH:BH,Betriebeliste!A143)","v":14},{"$f":"MATCH(A143,Datenbank!BH:BH,0)","v":4658},5,{"$f":"COUNTIF(INDIRECT(\"Datenbank!BG\"&AB143&\":BG\"&AB143+AA143-1),\">=\"&Meldungen!$J$5)","v":0},{"$nulls":5},0]
["349","Frankreich: Besancon (349)","K44","FRA03",0,{"$nulls":21},{"$f":"COUNTIF(Datenbank!BH:BH,Betriebeliste!A144)","v":3},{"$f":"MATCH(A144,Datenbank!BH:BH,0)","v":4672},3,{"$f":"COUNTIF(INDIRECT(\"Datenbank!BG\"&AB144&\":BG\"&AB144+AA144-1),\">=\"&Meldungen!$J$5)","v":0},{"$nulls":5},0]
["351","Frankreich: Belfort (351)","K44","FRA02",0,{"$nulls":21},{"$f":"COUNTIF(Datenbank!BH:BH,Betriebeliste!A145)","v":4},{"$f":"MATCH(A145,Datenbank!BH:BH,0)","v":4675},4,{"$f":"COUNTIF(INDIRECT(\"Datenbank!BG\"&AB145&\":BG\"&AB145+AA145-1),\">=\"&Meldungen!$J$5)","v":0},{"$nulls":5},0]
["352","Vereinigtes Königreich: Sunderland (352)","K411","GB231",0,{"$nulls":21},{"$f":"COUNTIF(Datenbank!BH:BH,Betriebeliste!A146)","v":20},{"$f":"MATCH(A146,Datenbank!BH:BH,0)","v":4679},3,{"$f":"COUNTIF(INDIRECT(\"Datenbank!BG\"&AB146&\":BG\"&AB146+AA146-1),\">=\"&Meldungen!$J$5)","v":0},{"$nulls":5},0]
["353","Vereinigtes Königreich: Gateshead (353)","K411","GB127",0,{"$nulls":21},{"$f":"COUNTIF(Datenbank!BH:BH,Betriebeliste!A147)","v":10},{"$f":"MATCH(A147,Datenbank!BH:BH,0)","v":4699},3,{"$f":"COUNTIF(INDIRECT(\"Datenbank!BG\"&AB147&\":BG\"&AB147+AA147-1),\">=\"&Meldungen!$J$5)","v":0},{"$nulls":5},0]
["354","Vereinigtes Königreich: Edinburgh (354)","K411","GB124",0,{"$nulls":21},{"$f":"COUNTIF(Datenbank!BH:BH,Betriebeliste!A148)","v":5},{"$f":"MATCH(A148,Datenbank!BH:BH,0)","v":4709},0,{"$f":"COUNTIF(INDIRECT(\"Datenbank!BG\"&AB148&\":BG\"&AB148+AA148-1),\">=\"&Meldungen!$J$5)","v":0},{"$nulls":5},0]
["355","Vereinigtes Königreich: Glasgow (355)","K411","GB129",0,{"$nulls":21},{"$f":"COUNTIF(Datenbank!BH:BH,Betriebeliste!A149)","v":17},{"$f":"MATCH(A149,Datenbank!BH:BH,0)","v":4714},6,{"$f":"COUNTIF(INDIRECT(\"Datenbank!BG\"&AB149&\":BG\"&AB149+AA149-1),\">=\"&Meldungen!$J$5)","v":0},{"$nulls":5},0]
["357","Italien: Milano [Mailand] Vorortbahnen (357)","K4B1","ITA11",0,{"$nulls":21},{"$f":"COUNTIF(Datenbank!BH:BH,Betriebeliste!A150)","v":12},{"$f":"MATCH(A150,Datenbank!BH:BH,0)","v":4731},3,{"$f":"COUNTIF(INDIRECT(\"Datenbank!BG\"&AB150&\":BG\"&AB150+AA150-1),\">=\"&Meldungen!$J$5)","v":0},{"$nulls":5},0]
["359","Italien: Pavia (359)","K4B1","ITA17",0,{"$nulls":21},{"$f":"COUNTIF(Datenbank!BH:BH,Betriebeliste!A151)","v":1},{"$f":"MATCH(A151,Datenbank!BH:BH,0)","v":4743},0,{"$f":"COUNTIF(INDIRECT(\"Datenbank!BG\"&AB151&\":BG\"&AB151+AA151-1),\">=\"&Meldungen!$J$5)","v":0},{"$nulls":5},0]
["360","Vereinigtes Königreich: Dundee (360)","K411","GB122",0,{"$nulls":21},{"$f":"COUNTIF(Datenbank!BH:BH,Betriebeliste!A152)","v":4},{"$f":"MATCH(A152,Datenbank!BH:BH,0)","v":4744},1,{"$f":"COUNTIF(INDIRECT(\"Datenbank!BG\"&AB152&\":BG\"&AB152+AA152-1),\">=\"&Meldungen!$J$5)","v":0},{"$nulls":5},0]
["361","Vereinigtes Königreich: Aberdeen (361)","K411","GB101",0,{"$nulls":21},{"$f":"COUNTIF(Datenbank!BH:BH,Betriebeliste!A153)","v":6},{"$f":"MATCH(A153,Datenbank!BH:BH,0)","v":4748},0,{"$f":"COUNTIF(INDIRECT(\"Datenbank!BG\"&AB153&\":BG\"&AB153+AA153-1),\">=\"&Meldungen!$J$5)","v":0},{"$nulls":5},0]
["362","Dänemark: Odense (362)","K46","DNK03",0,{"$nulls":21},{"$f":"COUNTIF(Datenbank!BH:BH,Betriebeliste!A154)","v":8},{"$f":"MATCH(A154,Datenbank!BH:BH,0)","v":4754},1,{"$f":"COUNTIF(INDIRECT(\"Datenbank!BG\"&AB154&\":BG\"&AB154+AA154-1),\">=\"&Meldungen!$J$5)","v":0},{"$nulls":5},0]
["363","Dänemark: Kopenhagen (363)","K46","DNK02",0,{"$nulls":21},{"$f":"COUNTIF(Datenbank!BH:BH,Betriebeliste!A155)","v":92},{"$f":"MATCH(A155,Datenbank!BH:BH,0)","v":4762},7,{"$f":"COUNTIF(INDIRECT(\"Datenbank!BG\"&AB155&\":BG\"&AB155+AA155-1),\">=\"&Meldungen!$J$5)","v":0},{"$nulls":5},0]
["364","Schweden: Malmö (364)","K46","SWE06",0,{"$nulls":21},{"$f":"COUNTIF(Datenbank!BH:BH,Betriebeliste!A156)","v":20},{"$f":"MATCH(A156,Datenbank!BH:BH,0)","v":4854},0,{"$f":"COUNTIF(INDIRECT(\"Datenbank!BG\"&AB156&\":BG\"&AB156+AA156-1),\">=\"&Meldungen!$J$5)","v":0},{"$nulls":5},0]
["365","Schweden: Helsingborg (365)","K46","SWE03",0,{"$nulls":21},{"$f":"COUNTIF(Datenbank!BH:BH,Betriebeliste!A157)","v":9},{"$f":"MATCH(A157,Datenbank!BH:BH,0)","v":4874},3,{"$f":"COUNTIF(INDIRECT(\"Datenbank!BG\"&AB157&\":BG\"&AB157+AA157-1),\">=\"&Meldungen!$J$5)","v":0},{"$nulls":5},0]
["366","Schweden: Göteborg (366)","K46","SWE02",0,{"$nulls":21},{"$f":"COUNTIF(Datenbank!BH:BH,Betriebeliste!A158)","v":60},{"$f":"MATCH(A158,Datenbank!BH:BH,0)","v":4883},17,{"$f":"COUNTIF(INDIRECT(\"Datenbank!BG\"&AB158&\":BG\"&AB158+AA158-1),\">=\"&Meldungen!$J$5)","v":0},{"$nulls":5},0]
["367","Schweden: Stockholm (367)","K46","SWE12",0,{"$nulls":21},{"$f":"COUNTIF(Datenbank!BH:BH,Betriebeliste!A159)","v":53},{"$f":"MATCH(A159,Datenbank!BH:BH,0)","v":4943},1,{"$f":"COUNTIF(INDIRECT(\"Datenbank!BG\"&AB159&\":BG\"&AB159+AA159-1),\">=\"&Meldungen!$J$5)","v":0},{"$nulls":5},0]
["369","Schweden: Stockholm Lidingöbanan (369)","K46","SWE13",0,{"$nulls":21},{"$f":"COUNTIF(Datenbank!BH:BH,Betriebeliste!A160)","v":2},{"$f":"MATCH(A160,Datenbank!BH:BH,0)","v":4996},0,{"$f":"COUNTIF(INDIRECT(\"Datenbank!BG\"&AB160&\":BG\"&AB160+AA160-1),\">=\"&Meldungen!$J$5)","v":0},{"$nulls":5},0]
["371","Schweden: Norrköping (371)","K46","SWE11",0,{"$nulls":21},{"$f":"COUNTIF(Datenbank!BH:BH,Betriebeliste!A161)","v":15},{"$f":"MATCH(A161,Datenbank!BH:BH,0)","v":4998},5,{"$f":"COUNTIF(INDIRECT(\"Datenbank!BG\"&AB161&\":BG\"&AB161+AA161-1),\">=\"&Meldungen!$J$5)","v":0},{"$nulls":5},0]
["372","Dänemark: Aarhus (372)","K46","DNK01",0,{"$nulls":21},{"$f":"COUNTIF(Datenbank!BH:BH,Betriebeliste!A162)","v":13},{"$f":"MATCH(A162,Datenbank!BH:BH,0)","v":5013},0,{"$f":"COUNTIF(INDIRECT(\"Datenbank!BG\"&AB162&\":BG\"&AB162+AA162-1),\">=\"&Meldungen!$J$5)","v":0},{"$nulls":5},0]
["374","Belgien: Charleroi (374)","K43","BEL05",0,{"$nulls":21},{"$f":"COUNTIF(Datenbank!BH:BH,Betriebeliste!A163)","v":63},{"$f":"MATCH(A163,Datenbank!BH:BH,0)","v":5026},0,{"$f":"COUNTIF(INDIRECT(\"Datenbank!BG\"&AB163&\":BG\"&AB163+AA163-1),\">=\"&Meldungen!$J$5)","v":0},{"$nulls":5},0]
["377","Frankreich: Bordeaux (377)","K44","FRA04",0,{"$nulls":21},{"$f":"COUNTIF(Datenbank!BH:BH,Betriebeliste!A164)","v":38},{"$f":"MATCH(A164,Datenbank!BH:BH,0)","v":5089},38,{"$f":"COUNTIF(INDIRECT(\"Datenbank!BG\"&AB164&\":BG\"&AB164+AA164-1),\">=\"&Meldungen!$J$5)","v":0},{"$nulls":5},0]
["378","Spanien: Irun (378)","K45","ESP08",0,{"$nulls":21},{"$f":"COUNTIF(Datenbank!BH:BH,Betriebeliste!A165)","v":3},{"$f":"MATCH(A165,Datenbank!BH:BH,0)","v":5127},1,{"$f":"COUNTIF(INDIRECT(\"Datenbank!BG\"&AB165&\":BG\"&AB165+AA165-1),\">=\"&Meldungen!$J$5)","v":0},{"$nulls":5},0]
["379","Spanien: San Sebastian (379)","K45","ESP13",0,{"$nulls":21},{"$f":"COUNTIF(Datenbank!BH:BH,Betriebeliste!A166)","v":3},{"$f":"MATCH(A166,Datenbank!BH:BH,0)","v":5130},0,{"$f":"COUNTIF(INDIRECT(\"Datenbank!BG\"&AB166&\":BG\"&AB166+AA166-1),\">=\"&Meldungen!$J$5)","v":0},{"$nulls":5},0]
["381","Spanien: Bilbao (381)","K45","ESP04",0,{"$nulls":21},{"$f":"COUNTIF(Datenbank!BH:BH,Betriebeliste!A167)","v":2},{"$f":"MATCH(A167,Datenbank!BH:BH,0)","v":5133},0,{"$f":"COUNTIF(INDIRECT(\"Datenbank!BG\"&AB167&\":BG\"&AB167+AA167-1),\">=\"&Meldungen!$J$5)","v":0},{"$nulls":5},0]
["382","Spanien: Tranvia Bilbao-Durango-Arratia (382)","K45","ESP16",0,{"$nulls":21},{"$f":"COUNTIF(Datenbank!BH:BH,Betriebeliste!A168)","v":2},{"$f":"MATCH(A168,Datenbank!BH:BH,0)","v":5135},0,{"$f":"COUNTIF(INDIRECT(\"Datenbank!BG\"&AB168&\":BG\"&AB168+AA168-1),\">=\"&Meldungen!$J$5)","v":0},{"$nulls":5},0]
["383","Spanien: Zaragoza (383)","K45","ESP18",0,{"$nulls":21},{"$f":"COUNTIF(Datenbank!BH:BH,Betriebeliste!A169)","v":35},{"$f":"MATCH(A169,Datenbank!BH:BH,0)","v":5137},25,{"$f":"COUNTIF(INDIRECT(\"Datenbank!BG\"&AB169&\":BG\"&AB169+AA169-1),\">=\"&Meldungen!$J$5)","v":0},{"$nulls":5},0]
["384","Spanien: Valencia (384)","K45","ESP17",0,{"$nulls":21},{"$f":"COUNTIF(Datenbank!BH:BH,Betriebeliste!A170)","v":33},{"$f":"MATCH(A170,Datenbank!BH:BH,0)","v":5172},8,{"$f":"COUNTIF(INDIRECT(\"Datenbank!BG\"&AB170&\":BG\"&AB170+AA170-1),\">=\"&Meldungen!$J$5)","v":0},{"$nulls":5},0]
["385","Spanien: Palma de Mallorca (385)","K45","ESP12",0,{"$nulls":21},{"$f":"COUNTIF(Datenbank!BH:BH,Betriebeliste!A171)","v":5},{"$f":"MATCH(A171,Datenbank!BH:BH,0)","v":5205},2,{"$f":"COUNTIF(INDIRECT(\"Datenbank!BG\"&AB171&\":BG\"&AB171+AA171-1),\">=\"&Meldungen!$J$5)","v":0},{"$nulls":5},0]
["387","Spanien: Barcelona (387)","K45","ESP02",0,{"$nulls":21},{"$f":"COUNTIF(Datenbank!BH:BH,Betriebeliste!A172)","v":36},{"$f":"MATCH(A172,Datenbank!BH:BH,0)","v":5210},14,{"$f":"COUNTIF(INDIRECT(\"Datenbank!BG\"&AB172&\":BG\"&AB172+AA172-1),\">=\"&Meldungen!$J$5)","v":0},{"$nulls":5},0]
["388","Frankreich: Lille (388)","K44","FRA14",0,{"$nulls":21},{"$f":"COUNTIF(Datenbank!BH:BH,Betriebeliste!A173)","v":71},{"$f":"MATCH(A173,Datenbank!BH:BH,0)","v":5246},70,{"$f":"COUNTIF(INDIRECT(\"Datenbank!BG\"&AB173&\":BG\"&AB173+AA173-1),\">=\"&Meldungen!$J$5)","v":0},{"$nulls":5},0]
["390","Frankreich: Valenciennes (390)","K44","FRA34",0,{"$nulls":21},{"$f":"COUNTIF(Datenbank!BH:BH,Betriebeliste!A174)","v":12},{"$f":"MATCH(A174,Datenbank!BH:BH,0)","v":5317},4,{"$f":"COUNTIF(INDIRECT(\"Datenbank!BG\"&AB174&\":BG\"&AB174+AA174-1),\">=\"&Meldungen!$J$5)","v":0},{"$nulls":5},0]
["391","Österreich: Stubaitalbahn (391)","K49","AUT15",0,{"$nulls":21},{"$f":"COUNTIF(Datenbank!BH:BH,Betriebeliste!A175)","v":57},{"$f":"MATCH(A175,Datenbank!BH:BH,0)","v":5329},56,{"$f":"COUNTIF(INDIRECT(\"Datenbank!BG\"&AB175&\":BG\"&AB175+AA175-1),\">=\"&Meldungen!$J$5)","v":21},{"$nulls":5},0]
["392","Schweiz: Thunerseebahn (392)","K4A","CHE27",0,{"$nulls":21},{"$f":"COUNTIF(Datenbank!BH:BH,Betriebeliste!A176)","v":9},{"$f":"MATCH(A176,Datenbank!BH:BH,0)","v":5386},9,{"$f":"COUNTIF(INDIRECT(\"Datenbank!BG\"&AB176&\":BG\"&AB176+AA176-1),\">=\"&Meldungen!$J$5)","v":0},{"$nulls":5},0]
["393","Frankreich: Marseille (393)","K44","FRA16",0,{"$nulls":21},{"$f":"COUNTIF(Datenbank!BH:BH,Betriebeliste!A177)","v":16},{"$f":"MATCH(A177,Datenbank!BH:BH,0)","v":5395},16,{"$f":"COUNTIF(INDIRECT(\"Datenbank!BG\"&AB177&\":BG\"&AB177+AA177-1),\">=\"&Meldungen!$J$5)","v":0},{"$nulls":5},0]
["394","Frankreich: La Ciotat (394)","K44","FRA12",0,{"$nulls":21},{"$f":"COUNTIF(Datenbank!BH:BH,Betriebeliste!A178)","v":1},{"$f":"MATCH(A178,Datenbank!BH:BH,0)","v":5411},1,{"$f":"COUNTIF(INDIRECT(\"Datenbank!BG\"&AB178&\":BG\"&AB178+AA178-1),\">=\"&Meldungen!$J$5)","v":0},{"$nulls":5},0]
["395","Frankreich: Toulon (395)","K44","FRA32",0,{"$nulls":21},{"$f":"COUNTIF(Datenbank!BH:BH,Betriebeliste!A179)","v":4},{"$f":"MATCH(A179,Datenbank!BH:BH,0)","v":5412},0,{"$f":"COUNTIF(INDIRECT(\"Datenbank!BG\"&AB179&\":BG\"&AB179+AA179-1),\">=\"&Meldungen!$J$5)","v":0},{"$nulls":5},0]
["398","Österreich: Gmunden (398)","K49","AUT03",0,{"$nulls":21},{"$f":"COUNTIF(Datenbank!BH:BH,Betriebeliste!A180)","v":44},{"$f":"MATCH(A180,Datenbank!BH:BH,0)","v":5416},44,{"$f":"COUNTIF(INDIRECT(\"Datenbank!BG\"&AB180&\":BG\"&AB180+AA180-1),\">=\"&Meldungen!$J$5)","v":6},{"$nulls":5},0]
["401","Österreich: St. Pölten (401)","K49","AUT14",0,{"$nulls":21},{"$f":"COUNTIF(Datenbank!BH:BH,Betriebeliste!A181)","v":36},{"$f":"MATCH(A181,Datenbank!BH:BH,0)","v":5460},35,{"$f":"COUNTIF(INDIRECT(\"Datenbank!BG\"&AB181&\":BG\"&AB181+AA181-1),\">=\"&Meldungen!$J$5)","v":15},{"$nulls":5},0]
["405","Italien: Triest-Opicina (405)","K4B1","ITA24",0,{"$nulls":21},{"$f":"COUNTIF(Datenbank!BH:BH,Betriebeliste!A182)","v":19},{"$f":"MATCH(A182,Datenbank!BH:BH,0)","v":5496},12,{"$f":"COUNTIF(INDIRECT(\"Datenbank!BG\"&AB182&\":BG\"&AB182+AA182-1),\">=\"&Meldungen!$J$5)","v":0},{"$nulls":5},0]
["406","Tschechien: Brno [Brünn] (406)","K48","CZE02",0,{"$nulls":21},{"$f":"COUNTIF(Datenbank!BH:BH,Betriebeliste!A183)","v":39},{"$f":"MATCH(A183,Datenbank!BH:BH,0)","v":5515},12,{"$f":"COUNTIF(INDIRECT(\"Datenbank!BG\"&AB183&\":BG\"&AB183+AA183-1),\">=\"&Meldungen!$J$5)","v":0},{"$nulls":5},0]
["407","Italien: Udine-Tricesimo-Tarcento (407)","K4B1","ITA26",0,{"$nulls":21},{"$f":"COUNTIF(Datenbank!BH:BH,Betriebeliste!A184)","v":2},{"$f":"MATCH(A184,Datenbank!BH:BH,0)","v":5554},2,{"$f":"COUNTIF(INDIRECT(\"Datenbank!BG\"&AB184&\":BG\"&AB184+AA184-1),\">=\"&Meldungen!$J$5)","v":0},{"$nulls":5},0]
["408","Italien: Lido (408)","K4B2","ITA08",0,{"$nulls":21},{"$f":"COUNTIF(Datenbank!BH:BH,Betriebeliste!A185)","v":3},{"$f":"MATCH(A185,Datenbank!BH:BH,0)","v":5556},0,{"$f":"COUNTIF(INDIRECT(\"Datenbank!BG\"&AB185&\":BG\"&AB185+AA185-1),\">=\"&Meldungen!$J$5)","v":0},{"$nulls":5},0]
["409","Italien: Padova (409)","K4B1","ITA14",0,{"$nulls":21},{"$f":"COUNTIF(Datenbank!BH:BH,Betriebeliste!A186)","v":4},{"$f":"MATCH(A186,Datenbank!BH:BH,0)","v":5559},3,{"$f":"COUNTIF(INDIRECT(\"Datenbank!BG\"&AB186&\":BG\"&AB186+AA186-1),\">=\"&Meldungen!$J$5)","v":0},{"$nulls":5},0]
["410","Italien: Bologna (410)","K4B1","ITA02",0,{"$nulls":21},{"$f":"COUNTIF(Datenbank!BH:BH,Betriebeliste!A187)","v":13},{"$f":"MATCH(A187,Datenbank!BH:BH,0)","v":5563},10,{"$f":"COUNTIF(INDIRECT(\"Datenbank!BG\"&AB187&\":BG\"&AB187+AA187-1),\">=\"&Meldungen!$J$5)","v":0},{"$nulls":5},0]
["411","Italien: Verona (411)","K4B1","ITA27",0,{"$nulls":21},{"$f":"COUNTIF(Datenbank!BH:BH,Betriebeliste!A188)","v":3},{"$f":"MATCH(A188,Datenbank!BH:BH,0)","v":5576},1,{"$f":"COUNTIF(INDIRECT(\"Datenbank!BG\"&AB188&\":BG\"&AB188+AA188-1),\">=\"&Meldungen!$J$5)","v":0},{"$nulls":5},0]
["413","Italien: Bolzano (413)","K4B1","ITA03",0,{"$nulls":21},{"$f":"COUNTIF(Datenbank!BH:BH,Betriebeliste!A189)","v":2},{"$f":"MATCH(A189,Datenbank!BH:BH,0)","v":5579},2,{"$f":"COUNTIF(INDIRECT(\"Datenbank!BG\"&AB189&\":BG\"&AB189+AA189-1),\">=\"&Meldungen!$J$5)","v":0},{"$nulls":5},0]
["414","Italien: Meran (414)","K4B1","ITA09",0,{"$nulls":21},{"$f":"COUNTIF(Datenbank!BH:BH,Betriebeliste!A190)","v":9},{"$f":"MATCH(A190,Datenbank!BH:BH,0)","v":5581},9,{"$f":"COUNTIF(INDIRECT(\"Datenbank!BG\"&AB190&\":BG\"&AB190+AA190-1),\">=\"&Meldungen!$J$5)","v":0},{"$nulls":5},0]
["416","Italien: Rittnerbahn (416)","K4B1","ITA19",0,{"$nulls":21},{"$f":"COUNTIF(Datenbank!BH:BH,Betriebeliste!A191)","v":32},{"$f":"MATCH(A191,Datenbank!BH:BH,0)","v":5590},15,{"$f":"COUNTIF(INDIRECT(\"Datenbank!BG\"&AB191&\":BG\"&AB191+AA191-1),\">=\"&Meldungen!$J$5)","v":0},{"$nulls":5},0]
["417","Frankreich: Versailles (417)","K44","FRA35",0,{"$nulls":21},{"$f":"COUNTIF(Datenbank!BH:BH,Betriebeliste!A192)","v":10},{"$f":"MATCH(A192,Datenbank!BH:BH,0)","v":5622},0,{"$f":"COUNTIF(INDIRECT(\"Datenbank!BG\"&AB192&\":BG\"&AB192+AA192-1),\">=\"&Meldungen!$J$5)","v":0},{"$nulls":5},0]
["418","Vereinigtes Königreich: Southend-on-Sea (418)","K413","GB227",0,{"$nulls":21},{"$f":"COUNTIF(Datenbank!BH:BH,Betriebeliste!A193)","v":4},{"$f":"MATCH(A193,Datenbank!BH:BH,0)","v":5632},3,{"$f":"COUNTIF(INDIRECT(\"Datenbank!BG\"&AB193&\":BG\"&AB193+AA193-1),\">=\"&Meldungen!$J$5)","v":0},{"$nulls":5},0]
["419","Vereinigtes Königreich: Isle of Man, Douglas (419)","K411","GB135",0,{"$nulls":21},{"$f":"COUNTIF(Datenbank!BH:BH,Betriebeliste!A194)","v":28},{"$f":"MATCH(A194,Datenbank!BH:BH,0)","v":5636},14,{"$f":"COUNTIF(INDIRECT(\"Datenbank!BG\"&AB194&\":BG\"&AB194+AA194-1),\">=\"&Meldungen!$J$5)","v":0},{"$nulls":5},0]
["420","Vereinigtes Königreich: Isle of Man, MER (420)","K411","GB136",0,{"$nulls":21},{"$f":"COUNTIF(Datenbank!BH:BH,Betriebeliste!A195)","v":16},{"$f":"MATCH(A195,Datenbank!BH:BH,0)","v":5664},9,{"$f":"COUNTIF(INDIRECT(\"Datenbank!BG\"&AB195&\":BG\"&AB195+AA195-1),\">=\"&Meldungen!$J$5)","v":0},{"$nulls":5},0]
["421","Vereinigtes Königreich: Isle of Man, Snaefell (421)","K411","GB137",0,{"$nulls":21},{"$f":"COUNTIF(Datenbank!BH:BH,Betriebeliste!A196)","v":8},{"$f":"MATCH(A196,Datenbank!BH:BH,0)","v":5680},{"$f":"COUNTA(INDIRECT(\"Datenbank!B\"&AB196&\":B\"&AB196+AA196-1))","v":8},{"$f":"COUNTIF(INDIRECT(\"Datenbank!BG\"&AB196&\":BG\"&AB196+AA196-1),\">=\"&Meldungen!$J$5)","v":0},{"$nulls":5},{"$f":"AB196-AA195-AB195","v":0}]
["422","Slowenien: Ljubljana [Laibach] (422)","K4F","SVN01",0,{"$nulls":21},{"$f":"COUNTIF(Datenbank!BH:BH,Betriebeliste!A197)","v":5},{"$f":"MATCH(A197,Datenbank!BH:BH,0)","v":5688},0,{"$f":"COUNTIF(INDIRECT(\"Datenbank!BG\"&AB197&\":BG\"&AB197+AA197-1),\">=\"&Meldungen!$J$5)","v":0},{"$nulls":5},0]
["423","Kroatien: Zagreb (423)","K4F","HRV04",0,{"$nulls":21},{"$f":"COUNTIF(Datenbank!BH:BH,Betriebeliste!A198)","v":105},{"$f":"MATCH(A198,Datenbank!BH:BH,0)","v":5693},90,{"$f":"COUNTIF(INDIRECT(\"Datenbank!BG\"&AB198&\":BG\"&AB198+AA198-1),\">=\"&Meldungen!$J$5)","v":0},{"$nulls":5},0]
["424","Serbien: Belgrad (424)","K4F","SRB01",0,{"$nulls":21},{"$f":"COUNTIF(Datenbank!BH:BH,Betriebeliste!A199)","v":39},{"$f":"MATCH(A199,Datenbank!BH:BH,0)","v":5798},39,{"$f":"COUNTIF(INDIRECT(\"Datenbank!BG\"&AB199&\":BG\"&AB199+AA199-1),\">=\"&Meldungen!$J$5)","v":0},{"$nulls":5},0]
["428","Italien: Florenz (428)","K4B2","ITA06",0,{"$nulls":21},{"$f":"COUNTIF(Datenbank!BH:BH,Betriebeliste!A200)","v":15},{"$f":"MATCH(A200,Datenbank!BH:BH,0)","v":5837},14,{"$f":"COUNTIF(INDIRECT(\"Datenbank!BG\"&AB200&\":BG\"&AB200+AA200-1),\">=\"&Meldungen!$J$5)","v":0},{"$nulls":5},0]
["429","Italien: Neapel (429)","K4B2","ITA13",0,{"$nulls":21},{"$f":"COUNTIF(Datenbank!BH:BH,Betriebeliste!A201)","v":50},{"$f":"MATCH(A201,Datenbank!BH:BH,0)","v":5852},50,{"$f":"COUNTIF(INDIRECT(\"Datenbank!BG\"&AB201&\":BG\"&AB201+AA201-1),\">=\"&Meldungen!$J$5)","v":0},{"$nulls":5},0]
["435","Italien: Rom S.T.E.F.E.R. (435)","K4B2","ITA21",0,{"$nulls":21},{"$f":"COUNTIF(Datenbank!BH:BH,Betriebeliste!A202)","v":15},{"$f":"MATCH(A202,Datenbank!BH:BH,0)","v":5902},1,{"$f":"COUNTIF(INDIRECT(\"Datenbank!BG\"&AB202&\":BG\"&AB202+AA202-1),\">=\"&Meldungen!$J$5)","v":0},{"$nulls":5},0]
["437","Schweiz: Rheintalische Straßenbahnen [RhSt] (437)","K4A","CHE20",0,{"$nulls":21},{"$f":"COUNTIF(Datenbank!BH:BH,Betriebeliste!A203)","v":12},{"$f":"MATCH(A203,Datenbank!BH:BH,0)","v":5917},0,{"$f":"COUNTIF(INDIRECT(\"Datenbank!BG\"&AB203&\":BG\"&AB203+AA203-1),\">=\"&Meldungen!$J$5)","v":0},{"$nulls":5},0]
["439","Belgien: SNCV Raum Charleroi (439)","K43","BEL10",0,{"$nulls":21},{"$f":"COUNTIF(Datenbank!BH:BH,Betriebeliste!A204)","v":52},{"$f":"MATCH(A204,Datenbank!BH:BH,0)","v":5929},26,{"$f":"COUNTIF(INDIRECT(\"Datenbank!BG\"&AB204&\":BG\"&AB204+AA204-1),\">=\"&Meldungen!$J$5)","v":0},{"$nulls":5},0]
["442","Norwegen: Bergen (442)","K46","NOR01",0,{"$nulls":21},{"$f":"COUNTIF(Datenbank!BH:BH,Betriebeliste!A205)","v":8},{"$f":"MATCH(A205,Datenbank!BH:BH,0)","v":5981},0,{"$f":"COUNTIF(INDIRECT(\"Datenbank!BG\"&AB205&\":BG\"&AB205+AA205-1),\">=\"&Meldungen!$J$5)","v":0},{"$nulls":5},0]
["444","Norwegen: Trondheim (444)","K46","NOR03",0,{"$nulls":21},{"$f":"COUNTIF(Datenbank!BH:BH,Betriebeliste!A206)","v":28},{"$f":"MATCH(A206,Datenbank!BH:BH,0)","v":5989},14,{"$f":"COUNTIF(INDIRECT(\"Datenbank!BG\"&AB206&\":BG\"&AB206+AA206-1),\">=\"&Meldungen!$J$5)","v":0},{"$nulls":5},0]
["446","Schweden: Uppsala (446)","K46","SWE15",0,{"$nulls":21},{"$f":"COUNTIF(Datenbank!BH:BH,Betriebeliste!A207)","v":4},{"$f":"MATCH(A207,Datenbank!BH:BH,0)","v":6017},0,{"$f":"COUNTIF(INDIRECT(\"Datenbank!BG\"&AB207&\":BG\"&AB207+AA207-1),\">=\"&Meldungen!$J$5)","v":0},{"$nulls":5},0]
["447","Schweden: Jönköping (447)","K46","SWE04",0,{"$nulls":21},{"$f":"COUNTIF(Datenbank!BH:BH,Betriebeliste!A208)","v":2},{"$f":"MATCH(A208,Datenbank!BH:BH,0)","v":6021},2,{"$f":"COUNTIF(INDIRECT(\"Datenbank!BG\"&AB208&\":BG\"&AB208+AA208-1),\">=\"&Meldungen!$J$5)","v":0},{"$nulls":5},0]
["448","Argentinien: Buenos Aires (448)","K3","ARG01",0,{"$nulls":21},{"$f":"COUNTIF(Datenbank!BH:BH,Betriebeliste!A209)","v":3},{"$f":"MATCH(A209,Datenbank!BH:BH,0)","v":6023},0,{"$f":"COUNTIF(INDIRECT(\"Datenbank!BG\"&AB209&\":BG\"&AB209+AA209-1),\">=\"&Meldungen!$J$5)","v":0},{"$nulls":5},0]
["450","Vereinigtes Königreich: Swansea & Mumbles (450)","K413","GB232",0,{"$nulls":21},{"$f":"COUNTIF(Datenbank!BH:BH,Betriebeliste!A210)","v":3},{"$f":"MATCH(A210,Datenbank!BH:BH,0)","v":6026},0,{"$f":"COUNTIF(INDIRECT(\"Datenbank!BG\"&AB210&\":BG\"&AB210+AA210-1),\">=\"&Meldungen!$J$5)","v":0},{"$nulls":5},0]
["451","Finnland: Turku/Abo (451)","K46","FIN02",0,{"$nulls":21},{"$f":"COUNTIF(Datenbank!BH:BH,Betriebeliste!A211)","v":4},{"$f":"MATCH(A211,Datenbank!BH:BH,0)","v":6029},0,{"$f":"COUNTIF(INDIRECT(\"Datenbank!BG\"&AB211&\":BG\"&AB211+AA211-1),\">=\"&Meldungen!$J$5)","v":0},{"$nulls":5},0]
["452","Finnland: Helsinki (452)","K46","FIN01",0,{"$nulls":21},{"$f":"COUNTIF(Datenbank!BH:BH,Betriebeliste!A212)","v":21},{"$f":"MATCH(A212,Datenbank!BH:BH,0)","v":6033},0,{"$f":"COUNTIF(INDIRECT(\"Datenbank!BG\"&AB212&\":BG\"&AB212+AA212-1),\">=\"&Meldungen!$J$5)","v":0},{"$nulls":5},0]
["458","Frankreich: St. Etienne (458)","K44","FRA29",0,{"$nulls":21},{"$f":"COUNTIF(Datenbank!BH:BH,Betriebeliste!A213)","v":10},{"$f":"MATCH(A213,Datenbank!BH:BH,0)","v":6054},6,{"$f":"COUNTIF(INDIRECT(\"Datenbank!BG\"&AB213&\":BG\"&AB213+AA213-1),\">=\"&Meldungen!$J$5)","v":0},{"$nulls":5},0]
["459","Spanien: Mataro (459)","K45","ESP11",0,{"$nulls":21},{"$f":"COUNTIF(Datenbank!BH:BH,Betriebeliste!A214)","v":2},{"$f":"MATCH(A214,Datenbank!BH:BH,0)","v":6064},0,{"$f":"COUNTIF(INDIRECT(\"Datenbank!BG\"&AB214&\":BG\"&AB214+AA214-1),\">=\"&Meldungen!$J$5)","v":0},{"$nulls":5},0]
["460","Spanien: Barcelona Tibidabo (460)","K45","ESP03",0,{"$nulls":21},{"$f":"COUNTIF(Datenbank!BH:BH,Betriebeliste!A215)","v":2},{"$f":"MATCH(A215,Datenbank!BH:BH,0)","v":6066},0,{"$f":"COUNTIF(INDIRECT(\"Datenbank!BG\"&AB215&\":BG\"&AB215+AA215-1),\">=\"&Meldungen!$J$5)","v":0},{"$nulls":5},0]
["461","Spanien: Alicante (461)","K45","ESP01",0,{"$nulls":21},{"$f":"COUNTIF(Datenbank!BH:BH,Betriebeliste!A216)","v":10},{"$f":"MATCH(A216,Datenbank!BH:BH,0)","v":6068},4,{"$f":"COUNTIF(INDIRECT(\"Datenbank!BG\"&AB216&\":BG\"&AB216+AA216-1),\">=\"&Meldungen!$J$5)","v":0},{"$nulls":5},0]
["462","Spanien: Granada (462)","K45","ESP07",0,{"$nulls":21},{"$f":"COUNTIF(Datenbank!BH:BH,Betriebeliste!A217)","v":9},{"$f":"MATCH(A217,Datenbank!BH:BH,0)","v":6078},1,{"$f":"COUNTIF(INDIRECT(\"Datenbank!BG\"&AB217&\":BG\"&AB217+AA217-1),\">=\"&Meldungen!$J$5)","v":0},{"$nulls":5},0]
["464","Spanien: Malaga (464)","K45","ESP10",0,{"$nulls":21},{"$f":"COUNTIF(Datenbank!BH:BH,Betriebeliste!A218)","v":3},{"$f":"MATCH(A218,Datenbank!BH:BH,0)","v":6087},3,{"$f":"COUNTIF(INDIRECT(\"Datenbank!BG\"&AB218&\":BG\"&AB218+AA218-1),\">=\"&Meldungen!$J$5)","v":0},{"$nulls":5},0]
["465","Spanien: Sevilla (465)","K45","ESP14",0,{"$nulls":21},{"$f":"COUNTIF(Datenbank!BH:BH,Betriebeliste!A219)","v":4},{"$f":"MATCH(A219,Datenbank!BH:BH,0)","v":6090},2,{"$f":"COUNTIF(INDIRECT(\"Datenbank!BG\"&AB219&\":BG\"&AB219+AA219-1),\">=\"&Meldungen!$J$5)","v":0},{"$nulls":5},0]
["466","Portugal: Lissabon (466)","K45","PRT03",0,{"$nulls":21},{"$f":"COUNTIF(Datenbank!BH:BH,Betriebeliste!A220)","v":48},{"$f":"MATCH(A220,Datenbank!BH:BH,0)","v":6094},36,{"$f":"COUNTIF(INDIRECT(\"Datenbank!BG\"&AB220&\":BG\"&AB220+AA220-1),\">=\"&Meldungen!$J$5)","v":0},{"$nulls":5},0]
["467","Portugal: Coimbra (467)","K45","PRT02",0,{"$nulls":21},{"$f":"COUNTIF(Datenbank!BH:BH,Betriebeliste!A221)","v":18},{"$f":"MATCH(A221,Datenbank!BH:BH,0)","v":6142},17,{"$f":"COUNTIF(INDIRECT(\"Datenbank!BG\"&AB221&\":BG\"&AB221+AA221-1),\">=\"&Meldungen!$J$5)","v":0},{"$nulls":5},0]
["468","Portugal: Porto (468)","K45","PRT04",0,{"$nulls":21},{"$f":"COUNTIF(Datenbank!BH:BH,Betriebeliste!A222)","v":33},{"$f":"MATCH(A222,Datenbank!BH:BH,0)","v":6160},27,{"$f":"COUNTIF(INDIRECT(\"Datenbank!BG\"&AB222&\":BG\"&AB222+AA222-1),\">=\"&Meldungen!$J$5)","v":0},{"$nulls":5},0]
["469","Ungarn: Budapest (469)","K4F","HUN01",0,{"$nulls":21},{"$f":"COUNTIF(Datenbank!BH:BH,Betriebeliste!A223)","v":159},{"$f":"MATCH(A223,Datenbank!BH:BH,0)","v":6193},72,{"$f":"COUNTIF(INDIRECT(\"Datenbank!BG\"&AB223&\":BG\"&AB223+AA223-1),\">=\"&Meldungen!$J$5)","v":0},{"$nulls":5},0]
["472","Ungarn: Szeged (472)","K4F","HUN04",0,{"$nulls":21},{"$f":"COUNTIF(Datenbank!BH:BH,Betriebeliste!A224)","v":11},{"$f":"MATCH(A224,Datenbank!BH:BH,0)","v":6352},8,{"$f":"COUNTIF(INDIRECT(\"Datenbank!BG\"&AB224&\":BG\"&AB224+AA224-1),\">=\"&Meldungen!$J$5)","v":0},{"$nulls":5},0]
["473","Serbien: Subotica (473)","K4F","SRB02",0,{"$nulls":21},{"$f":"COUNTIF(Datenbank!BH:BH,Betriebeliste!A225)","v":4},{"$f":"MATCH(A225,Datenbank!BH:BH,0)","v":6363},4,{"$f":"COUNTIF(INDIRECT(\"Datenbank!BG\"&AB225&\":BG\"&AB225+AA225-1),\">=\"&Meldungen!$J$5)","v":0},{"$nulls":5},0]
["474","Kroatien: Dubrovnik (474)","K4F","HRV01",0,{"$nulls":21},{"$f":"COUNTIF(Datenbank!BH:BH,Betriebeliste!A226)","v":15},{"$f":"MATCH(A226,Datenbank!BH:BH,0)","v":6367},13,{"$f":"COUNTIF(INDIRECT(\"Datenbank!BG\"&AB226&\":BG\"&AB226+AA226-1),\">=\"&Meldungen!$J$5)","v":0},{"$nulls":5},0]
["475","Bosnien und Herzegowina: Sarajevo (475)","K4F","BIH01",0,{"$nulls":21},{"$f":"COUNTIF(Datenbank!BH:BH,Betriebeliste!A227)","v":17},{"$f":"MATCH(A227,Datenbank!BH:BH,0)","v":6382},12,{"$f":"COUNTIF(INDIRECT(\"Datenbank!BG\"&AB227&\":BG\"&AB227+AA227-1),\">=\"&Meldungen!$J$5)","v":0},{"$nulls":5},0]
["476","Schweden: Kiruna (476)","K46","SWE05",0,{"$nulls":21},{"$f":"COUNTIF(Datenbank!BH:BH,Betriebeliste!A228)","v":3},{"$f":"MATCH(A228,Datenbank!BH:BH,0)","v":6399},0,{"$f":"COUNTIF(INDIRECT(\"Datenbank!BG\"&AB228&\":BG\"&AB228+AA228-1),\">=\"&Meldungen!$J$5)","v":0},{"$nulls":5},0]
["478","Spanien: Soller (478)","K45","ESP15",0,{"$nulls":21},{"$f":"COUNTIF(Datenbank!BH:BH,Betriebeliste!A229)","v":6},{"$f":"MATCH(A229,Datenbank!BH:BH,0)","v":6402},0,{"$f":"COUNTIF(INDIRECT(\"Datenbank!BG\"&AB229&\":BG\"&AB229+AA229-1),\">=\"&Meldungen!$J$5)","v":0},{"$nulls":5},0]
["479","Ungarn: Szombathely (479)","K4F","HUN05",0,{"$nulls":21},{"$f":"COUNTIF(Datenbank!BH:BH,Betriebeliste!A230)","v":1},{"$f":"MATCH(A230,Datenbank!BH:BH,0)","v":6408},0,{"$f":"COUNTIF(INDIRECT(\"Datenbank!BG\"&AB230&\":BG\"&AB230+AA230-1),\">=\"&Meldungen!$J$5)","v":0},{"$nulls":5},0]
["480","Griechenland: Piräus (480)","K4D","GRC02",0,{"$nulls":21},{"$f":"COUNTIF(Datenbank!BH:BH,Betriebeliste!A231)","v":8},{"$f":"MATCH(A231,Datenbank!BH:BH,0)","v":6409},1,{"$f":"COUNTIF(INDIRECT(\"Datenbank!BG\"&AB231&\":BG\"&AB231+AA231-1),\">=\"&Meldungen!$J$5)","v":0},{"$nulls":5},0]
["482","Frankreich: Laon (482)","K44","FRA13",0,{"$nulls":21},{"$f":"COUNTIF(Datenbank!BH:BH,Betriebeliste!A232)","v":5},{"$f":"MATCH(A232,Datenbank!BH:BH,0)","v":6417},4,{"$f":"COUNTIF(INDIRECT(\"Datenbank!BG\"&AB232&\":BG\"&AB232+AA232-1),\">=\"&Meldungen!$J$5)","v":0},{"$nulls":5},0]
["484","Australien: Adelaide (484)","K7","AUS01",0,{"$nulls":21},{"$f":"COUNTIF(Datenbank!BH:BH,Betriebeliste!A233)","v":2},{"$f":"MATCH(A233,Datenbank!BH:BH,0)","v":6422},0,{"$f":"COUNTIF(INDIRECT(\"Datenbank!BG\"&AB233&\":BG\"&AB233+AA233-1),\">=\"&Meldungen!$J$5)","v":0},{"$nulls":5},0]
["486","USA: Atlantic City, NJ (486)","K21","US105",0,{"$nulls":21},{"$f":"COUNTIF(Datenbank!BH:BH,Betriebeliste!A234)","v":4},{"$f":"MATCH(A234,Datenbank!BH:BH,0)","v":6424},0,{"$f":"COUNTIF(INDIRECT(\"Datenbank!BG\"&AB234&\":BG\"&AB234+AA234-1),\">=\"&Meldungen!$J$5)","v":0},{"$nulls":5},0]
["487","Ägypten: Alexandria (487)","K5","EGY01",0,{"$nulls":21},{"$f":"COUNTIF(Datenbank!BH:BH,Betriebeliste!A235)","v":45},{"$f":"MATCH(A235,Datenbank!BH:BH,0)","v":6428},35,{"$f":"COUNTIF(INDIRECT(\"Datenbank!BG\"&AB235&\":BG\"&AB235+AA235-1),\">=\"&Meldungen!$J$5)","v":0},{"$nulls":5},0]
["488","USA: Honolulu, HI (488)","K2","US133",0,{"$nulls":21},{"$f":"COUNTIF(Datenbank!BH:BH,Betriebeliste!A236)","v":5},{"$f":"MATCH(A236,Datenbank!BH:BH,0)","v":6473},0,{"$f":"COUNTIF(INDIRECT(\"Datenbank!BG\"&AB236&\":BG\"&AB236+AA236-1),\">=\"&Meldungen!$J$5)","v":0},{"$nulls":5},0]
["490","USA: Albany, NY (490)","K21","US101",0,{"$nulls":21},{"$f":"COUNTIF(Datenbank!BH:BH,Betriebeliste!A237)","v":1},{"$f":"MATCH(A237,Datenbank!BH:BH,0)","v":6478},0,{"$f":"COUNTIF(INDIRECT(\"Datenbank!BG\"&AB237&\":BG\"&AB237+AA237-1),\">=\"&Meldungen!$J$5)","v":0},{"$nulls":5},0]
["492","USA: Baltimore, MD (492)","K21","US107",0,{"$nulls":21},{"$f":"COUNTIF(Datenbank!BH:BH,Betriebeliste!A238)","v":9},{"$f":"MATCH(A238,Datenbank!BH:BH,0)","v":6479},0,{"$f":"COUNTIF(INDIRECT(\"Datenbank!BG\"&AB238&\":BG\"&AB238+AA238-1),\">=\"&Meldungen!$J$5)","v":0},{"$nulls":5},0]
["493","USA: Boston, MA (493)","K21","US111",0,{"$nulls":21},{"$f":"COUNTIF(Datenbank!BH:BH,Betriebeliste!A239)","v":22},{"$f":"MATCH(A239,Datenbank!BH:BH,0)","v":6488},0,{"$f":"COUNTIF(INDIRECT(\"Datenbank!BG\"&AB239&\":BG\"&AB239+AA239-1),\">=\"&Meldungen!$J$5)","v":0},{"$nulls":5},0]
["496","Australien: Brisbane (496)","K7","AUS05",0,{"$nulls":21},{"$f":"COUNTIF(Datenbank!BH:BH,Betriebeliste!A240)","v":2},{"$f":"MATCH(A240,Datenbank!BH:BH,0)","v":6510},0,{"$f":"COUNTIF(INDIRECT(\"Datenbank!BG\"&AB240&\":BG\"&AB240+AA240-1),\">=\"&Meldungen!$J$5)","v":0},{"$nulls":5},0]
["498","Rumänien: Bucuresti, Bukarest (498)","K4E","ROU05",0,{"$nulls":21},{"$f":"COUNTIF(Datenbank!BH:BH,Betriebeliste!A241)","v":35},{"$f":"MATCH(A241,Datenbank!BH:BH,0)","v":6512},26,{"$f":"COUNTIF(INDIRECT(\"Datenbank!BG\"&AB241&\":BG\"&AB241+AA241-1),\">=\"&Meldungen!$J$5)","v":0},{"$nulls":5},0]
["500","Polen: Warszawa [Warschau] (500)","K47","POL28",0,{"$nulls":21},{"$f":"COUNTIF(Datenbank!BH:BH,Betriebeliste!A242)","v":34},{"$f":"MATCH(A242,Datenbank!BH:BH,0)","v":6547},23,{"$f":"COUNTIF(INDIRECT(\"Datenbank!BG\"&AB242&\":BG\"&AB242+AA242-1),\">=\"&Meldungen!$J$5)","v":0},{"$nulls":5},0]
["501","Brasilien: Rio de Janeiro (501)","K3","BRA06",0,{"$nulls":21},{"$f":"COUNTIF(Datenbank!BH:BH,Betriebeliste!A243)","v":1},{"$f":"MATCH(A243,Datenbank!BH:BH,0)","v":6581},0,{"$f":"COUNTIF(INDIRECT(\"Datenbank!BG\"&AB243&\":BG\"&AB243+AA243-1),\">=\"&Meldungen!$J$5)","v":0},{"$nulls":5},0]
["502","Südafrika: Port Elizabeth (502)","K5","ZAF03",0,{"$nulls":21},{"$f":"COUNTIF(Datenbank!BH:BH,Betriebeliste!A244)","v":6},{"$f":"MATCH(A244,Datenbank!BH:BH,0)","v":6582},0,{"$f":"COUNTIF(INDIRECT(\"Datenbank!BG\"&AB244&\":BG\"&AB244+AA244-1),\">=\"&Meldungen!$J$5)","v":0},{"$nulls":5},0]
["503","Bulgarien: Sofia (503)","K4D","BGR02",0,{"$nulls":21},{"$f":"COUNTIF(Datenbank!BH:BH,Betriebeliste!A245)","v":23},{"$f":"MATCH(A245,Datenbank!BH:BH,0)","v":6588},8,{"$f":"COUNTIF(INDIRECT(\"Datenbank!BG\"&AB245&\":BG\"&AB245+AA245-1),\">=\"&Meldungen!$J$5)","v":0},{"$nulls":5},0]
["504","Niederlande: Alkmaar (504)","K42","NLD01",0,{"$nulls":21},{"$f":"COUNTIF(Datenbank!BH:BH,Betriebeliste!A246)","v":1},{"$f":"MATCH(A246,Datenbank!BH:BH,0)","v":6611},0,{"$f":"COUNTIF(INDIRECT(\"Datenbank!BG\"&AB246&\":BG\"&AB246+AA246-1),\">=\"&Meldungen!$J$5)","v":0},{"$nulls":5},0]
["507","Südafrika: Johannesburg (507)","K5","ZAF02",0,{"$nulls":21},{"$f":"COUNTIF(Datenbank!BH:BH,Betriebeliste!A247)","v":4},{"$f":"MATCH(A247,Datenbank!BH:BH,0)","v":6612},0,{"$f":"COUNTIF(INDIRECT(\"Datenbank!BG\"&AB247&\":BG\"&AB247+AA247-1),\">=\"&Meldungen!$J$5)","v":0},{"$nulls":5},0]
["510","USA: Philadelphia, PA (510)","K21","US212",0,{"$nulls":21},{"$f":"COUNTIF(Datenbank!BH:BH,Betriebeliste!A248)","v":5},{"$f":"MATCH(A248,Datenbank!BH:BH,0)","v":6616},0,{"$f":"COUNTIF(INDIRECT(\"Datenbank!BG\"&AB248&\":BG\"&AB248+AA248-1),\">=\"&Meldungen!$J$5)","v":0},{"$nulls":5},0]
["511","Tschechien: Liberec [Reichenberg] (511)","K48","CZE04",0,{"$nulls":21},{"$f":"COUNTIF(Datenbank!BH:BH,Betriebeliste!A249)","v":31},{"$f":"MATCH(A249,Datenbank!BH:BH,0)","v":6621},31,{"$f":"COUNTIF(INDIRECT(\"Datenbank!BG\"&AB249&\":BG\"&AB249+AA249-1),\">=\"&Meldungen!$J$5)","v":0},{"$nulls":5},0]
["512","Frankreich: Rouen (512)","K44","FRA27",0,{"$nulls":21},{"$f":"COUNTIF(Datenbank!BH:BH,Betriebeliste!A250)","v":1},{"$f":"MATCH(A250,Datenbank!BH:BH,0)","v":6652},0,{"$f":"COUNTIF(INDIRECT(\"Datenbank!BG\"&AB250&\":BG\"&AB250+AA250-1),\">=\"&Meldungen!$J$5)","v":0},{"$nulls":5},0]
["513","Portugal: Sintra (513)","K45","PRT05",0,{"$nulls":21},{"$f":"COUNTIF(Datenbank!BH:BH,Betriebeliste!A251)","v":11},{"$f":"MATCH(A251,Datenbank!BH:BH,0)","v":6653},8,{"$f":"COUNTIF(INDIRECT(\"Datenbank!BG\"&AB251&\":BG\"&AB251+AA251-1),\">=\"&Meldungen!$J$5)","v":0},{"$nulls":5},0]
["514","Russland: Smolensk (514)","K4G","RUS25",0,{"$nulls":21},{"$f":"COUNTIF(Datenbank!BH:BH,Betriebeliste!A252)","v":2},{"$f":"MATCH(A252,Datenbank!BH:BH,0)","v":6664},0,{"$f":"COUNTIF(INDIRECT(\"Datenbank!BG\"&AB252&\":BG\"&AB252+AA252-1),\">=\"&Meldungen!$J$5)","v":0},{"$nulls":5},0]
["520","Russland: Tscheljabinsk (520)","K4H","RUS30",0,{"$nulls":21},{"$f":"COUNTIF(Datenbank!BH:BH,Betriebeliste!A253)","v":5},{"$f":"MATCH(A253,Datenbank!BH:BH,0)","v":6666},0,{"$f":"COUNTIF(INDIRECT(\"Datenbank!BG\"&AB253&\":BG\"&AB253+AA253-1),\">=\"&Meldungen!$J$5)","v":0},{"$nulls":5},0]
["522","Russland: Tschernjachowsk [Insterburg] (522)","K4G","RUS32",0,{"$nulls":21},{"$f":"COUNTIF(Datenbank!BH:BH,Betriebeliste!A254)","v":1},{"$f":"MATCH(A254,Datenbank!BH:BH,0)","v":6671},1,{"$f":"COUNTIF(INDIRECT(\"Datenbank!BG\"&AB254&\":BG\"&AB254+AA254-1),\">=\"&Meldungen!$J$5)","v":0},{"$nulls":5},0]
["523","Russland: Moskau (523)","K4G","RUS16",0,{"$nulls":21},{"$f":"COUNTIF(Datenbank!BH:BH,Betriebeliste!A255)","v":19},{"$f":"MATCH(A255,Datenbank!BH:BH,0)","v":6672},2,{"$f":"COUNTIF(INDIRECT(\"Datenbank!BG\"&AB255&\":BG\"&AB255+AA255-1),\">=\"&Meldungen!$J$5)","v":0},{"$nulls":5},0]
["524","Belgien: SNCV Raum Oostende (524)","K43","BEL11",0,{"$nulls":21},{"$f":"COUNTIF(Datenbank!BH:BH,Betriebeliste!A256)","v":50},{"$f":"MATCH(A256,Datenbank!BH:BH,0)","v":6691},25,{"$f":"COUNTIF(INDIRECT(\"Datenbank!BG\"&AB256&\":BG\"&AB256+AA256-1),\">=\"&Meldungen!$J$5)","v":0},{"$nulls":5},0]
["525","USA: Fort Collins, CO (525)","K2","US126",0,{"$nulls":21},{"$f":"COUNTIF(Datenbank!BH:BH,Betriebeliste!A257)","v":1},{"$f":"MATCH(A257,Datenbank!BH:BH,0)","v":6741},0,{"$f":"COUNTIF(INDIRECT(\"Datenbank!BG\"&AB257&\":BG\"&AB257+AA257-1),\">=\"&Meldungen!$J$5)","v":0},{"$nulls":5},0]
["526","Estland: Tallin (526)","K46","EST01",0,{"$nulls":21},{"$f":"COUNTIF(Datenbank!BH:BH,Betriebeliste!A258)","v":1},{"$f":"MATCH(A258,Datenbank!BH:BH,0)","v":6742},0,{"$f":"COUNTIF(INDIRECT(\"Datenbank!BG\"&AB258&\":BG\"&AB258+AA258-1),\">=\"&Meldungen!$J$5)","v":0},{"$nulls":5},0]
["527","Tschechien: Jablonec [Gablonz] (527)","K48","CZE03",0,{"$nulls":21},{"$f":"COUNTIF(Datenbank!BH:BH,Betriebeliste!A259)","v":13},{"$f":"MATCH(A259,Datenbank!BH:BH,0)","v":6743},4,{"$f":"COUNTIF(INDIRECT(\"Datenbank!BG\"&AB259&\":BG\"&AB259+AA259-1),\">=\"&Meldungen!$J$5)","v":0},{"$nulls":5},0]
["528","Irland: Dublin (528)","K41","IRL01",0,{"$nulls":21},{"$f":"COUNTIF(Datenbank!BH:BH,Betriebeliste!A260)","v":2},{"$f":"MATCH(A260,Datenbank!BH:BH,0)","v":6756},{"$f":"COUNTA(INDIRECT(\"Datenbank!B\"&AB260&\":B\"&AB260+AA260-1))","v":0},{"$f":"COUNTIF(INDIRECT(\"Datenbank!BG\"&AB260&\":BG\"&AB260+AA260-1),\">=\"&Meldungen!$J$5)","v":0},{"$nulls":5},{"$f":"AB260-AA259-AB259","v":0}]
["530","Südafrika: Cape Town [Kapstadt] (530)","K5","ZAF01",0,{"$nulls":21},{"$f":"COUNTIF(Datenbank!BH:BH,Betriebeliste!A261)","v":1},{"$f":"MATCH(A261,Datenbank!BH:BH,0)","v":6758},0,{"$f":"COUNTIF(INDIRECT(\"Datenbank!BG\"&AB261&\":BG\"&AB261+AA261-1),\">=\"&Meldungen!$J$5)","v":0},{"$nulls":5},0]
["533","Ukraine: Kiew (533)","K4C","UKR05",0,{"$nulls":21},{"$f":"COUNTIF(Datenbank!BH:BH,Betriebeliste!A262)","v":29},{"$f":"MATCH(A262,Datenbank!BH:BH,0)","v":6759},0,{"$f":"COUNTIF(INDIRECT(\"Datenbank!BG\"&AB262&\":BG\"&AB262+AA262-1),\">=\"&Meldungen!$J$5)","v":0},{"$nulls":5},0]
["534","USA: Milwaukee, WI (534)","K23","US201",0,{"$nulls":21},{"$f":"COUNTIF(Datenbank!BH:BH,Betriebeliste!A263)","v":7},{"$f":"MATCH(A263,Datenbank!BH:BH,0)","v":6788},0,{"$f":"COUNTIF(INDIRECT(\"Datenbank!BG\"&AB263&\":BG\"&AB263+AA263-1),\">=\"&Meldungen!$J$5)","v":0},{"$nulls":5},0]
["536","Kanada: Quebec, QC (536)","K1","CAN13",0,{"$nulls":21},{"$f":"COUNTIF(Datenbank!BH:BH,Betriebeliste!A264)","v":1},{"$f":"MATCH(A264,Datenbank!BH:BH,0)","v":6795},0,{"$f":"COUNTIF(INDIRECT(\"Datenbank!BG\"&AB264&\":BG\"&AB264+AA264-1),\">=\"&Meldungen!$J$5)","v":0},{"$nulls":5},0]
["537","USA: Washington DC (537)","K21","US232",0,{"$nulls":21},{"$f":"COUNTIF(Datenbank!BH:BH,Betriebeliste!A265)","v":6},{"$f":"MATCH(A265,Datenbank!BH:BH,0)","v":6796},0,{"$f":"COUNTIF(INDIRECT(\"Datenbank!BG\"&AB265&\":BG\"&AB265+AA265-1),\">=\"&Meldungen!$J$5)","v":0},{"$nulls":5},0]
["538","USA: Kansas City, KS (538)","K2","US136",0,{"$nulls":21},{"$f":"COUNTIF(Datenbank!BH:BH,Betriebeliste!A266)","v":3},{"$f":"MATCH(A266,Datenbank!BH:BH,0)","v":6802},0,{"$f":"COUNTIF(INDIRECT(\"Datenbank!BG\"&AB266&\":BG\"&AB266+AA266-1),\">=\"&Meldungen!$J$5)","v":0},{"$nulls":5},0]
["539","Belarus: Vitebsk (539)","K4G","BLR04",0,{"$nulls":21},{"$f":"COUNTIF(Datenbank!BH:BH,Betriebeliste!A267)","v":3},{"$f":"MATCH(A267,Datenbank!BH:BH,0)","v":6805},0,{"$f":"COUNTIF(INDIRECT(\"Datenbank!BG\"&AB267&\":BG\"&AB267+AA267-1),\">=\"&Meldungen!$J$5)","v":0},{"$nulls":5},0]
["541","USA: West Allis, WI (541)","K23","US233",0,{"$nulls":21},{"$f":"COUNTIF(Datenbank!BH:BH,Betriebeliste!A268)","v":1},{"$f":"MATCH(A268,Datenbank!BH:BH,0)","v":6808},0,{"$f":"COUNTIF(INDIRECT(\"Datenbank!BG\"&AB268&\":BG\"&AB268+AA268-1),\">=\"&Meldungen!$J$5)","v":0},{"$nulls":5},0]
["542","China: Shanghai (542)","K6","CHN07",0,{"$nulls":21},{"$f":"COUNTIF(Datenbank!BH:BH,Betriebeliste!A269)","v":2},{"$f":"MATCH(A269,Datenbank!BH:BH,0)","v":6809},0,{"$f":"COUNTIF(INDIRECT(\"Datenbank!BG\"&AB269&\":BG\"&AB269+AA269-1),\">=\"&Meldungen!$J$5)","v":0},{"$nulls":5},0]
["543","Ukraine: Odessa (543)","K4C","UKR10",0,{"$nulls":21},{"$f":"COUNTIF(Datenbank!BH:BH,Betriebeliste!A270)","v":9},{"$f":"MATCH(A270,Datenbank!BH:BH,0)","v":6811},0,{"$f":"COUNTIF(INDIRECT(\"Datenbank!BG\"&AB270&\":BG\"&AB270+AA270-1),\">=\"&Meldungen!$J$5)","v":0},{"$nulls":5},0]
["544","Ukraine: Nikolajew (544)","K4C","UKR09",0,{"$nulls":21},{"$f":"COUNTIF(Datenbank!BH:BH,Betriebeliste!A271)","v":2},{"$f":"MATCH(A271,Datenbank!BH:BH,0)","v":6820},0,{"$f":"COUNTIF(INDIRECT(\"Datenbank!BG\"&AB271&\":BG\"&AB271+AA271-1),\">=\"&Meldungen!$J$5)","v":0},{"$nulls":5},0]
["546","Ungarn: Debrecen (546)","K4F","HUN02",0,{"$nulls":21},{"$f":"COUNTIF(Datenbank!BH:BH,Betriebeliste!A272)","v":1},{"$f":"MATCH(A272,Datenbank!BH:BH,0)","v":6822},0,{"$f":"COUNTIF(INDIRECT(\"Datenbank!BG\"&AB272&\":BG\"&AB272+AA272-1),\">=\"&Meldungen!$J$5)","v":0},{"$nulls":5},0]
["549","USA: Minneapolis, MN (549)","K23","US202",0,{"$nulls":21},{"$f":"COUNTIF(Datenbank!BH:BH,Betriebeliste!A273)","v":4},{"$f":"MATCH(A273,Datenbank!BH:BH,0)","v":6823},0,{"$f":"COUNTIF(INDIRECT(\"Datenbank!BG\"&AB273&\":BG\"&AB273+AA273-1),\">=\"&Meldungen!$J$5)","v":0},{"$nulls":5},0]
["551","Südkorea: Busan [Pusan] (551)","K6","KOR01",0,{"$nulls":21},{"$f":"COUNTIF(Datenbank!BH:BH,Betriebeliste!A274)","v":2},{"$f":"MATCH(A274,Datenbank!BH:BH,0)","v":6827},0,{"$f":"COUNTIF(INDIRECT(\"Datenbank!BG\"&AB274&\":BG\"&AB274+AA274-1),\">=\"&Meldungen!$J$5)","v":0},{"$nulls":5},0]
["552","Australien: Perth (552)","K7","AUS12",0,{"$nulls":21},{"$f":"COUNTIF(Datenbank!BH:BH,Betriebeliste!A275)","v":5},{"$f":"MATCH(A275,Datenbank!BH:BH,0)","v":6829},0,{"$f":"COUNTIF(INDIRECT(\"Datenbank!BG\"&AB275&\":BG\"&AB275+AA275-1),\">=\"&Meldungen!$J$5)","v":0},{"$nulls":5},0]
["553","Ungarn: Miskolc (553)","K4F","HUN03",0,{"$nulls":21},{"$f":"COUNTIF(Datenbank!BH:BH,Betriebeliste!A276)","v":4},{"$f":"MATCH(A276,Datenbank!BH:BH,0)","v":6834},0,{"$f":"COUNTIF(INDIRECT(\"Datenbank!BG\"&AB276&\":BG\"&AB276+AA276-1),\">=\"&Meldungen!$J$5)","v":0},{"$nulls":5},0]
["558","China: Shenyang, Mukden (558)","K6","CHN08",0,{"$nulls":21},{"$f":"COUNTIF(Datenbank!BH:BH,Betriebeliste!A277)","v":1},{"$f":"MATCH(A277,Datenbank!BH:BH,0)","v":6838},0,{"$f":"COUNTIF(INDIRECT(\"Datenbank!BG\"&AB277&\":BG\"&AB277+AA277-1),\">=\"&Meldungen!$J$5)","v":0},{"$nulls":5},0]
["559","China: Peking (559)","K6","CHN06",0,{"$nulls":21},{"$f":"COUNTIF(Datenbank!BH:BH,Betriebeliste!A278)","v":1},{"$f":"MATCH(A278,Datenbank!BH:BH,0)","v":6839},0,{"$f":"COUNTIF(INDIRECT(\"Datenbank!BG\"&AB278&\":BG\"&AB278+AA278-1),\">=\"&Meldungen!$J$5)","v":0},{"$nulls":5},0]
["560","Italien: Parma (560)","K4B1","ITA16",0,{"$nulls":21},{"$f":"COUNTIF(Datenbank!BH:BH,Betriebeliste!A279)","v":1},{"$f":"MATCH(A279,Datenbank!BH:BH,0)","v":6840},0,{"$f":"COUNTIF(INDIRECT(\"Datenbank!BG\"&AB279&\":BG\"&AB279+AA279-1),\">=\"&Meldungen!$J$5)","v":0},{"$nulls":5},0]
["561","Italien: Palermo (561)","K4B2","ITA15",0,{"$nulls":21},{"$f":"COUNTIF(Datenbank!BH:BH,Betriebeliste!A280)","v":2},{"$f":"MATCH(A280,Datenbank!BH:BH,0)","v":6841},0,{"$f":"COUNTIF(INDIRECT(\"Datenbank!BG\"&AB280&\":BG\"&AB280+AA280-1),\">=\"&Meldungen!$J$5)","v":0},{"$nulls":5},0]
["562","Italien: Perugia (562)","K4B2","ITA18",0,{"$nulls":21},{"$f":"COUNTIF(Datenbank!BH:BH,Betriebeliste!A281)","v":2},{"$f":"MATCH(A281,Datenbank!BH:BH,0)","v":6843},0,{"$f":"COUNTIF(INDIRECT(\"Datenbank!BG\"&AB281&\":BG\"&AB281+AA281-1),\">=\"&Meldungen!$J$5)","v":0},{"$nulls":5},0]
["563","USA: Portland, OR (563)","K2","US214",0,{"$nulls":21},{"$f":"COUNTIF(Datenbank!BH:BH,Betriebeliste!A282)","v":7},{"$f":"MATCH(A282,Datenbank!BH:BH,0)","v":6845},0,{"$f":"COUNTIF(INDIRECT(\"Datenbank!BG\"&AB282&\":BG\"&AB282+AA282-1),\">=\"&Meldungen!$J$5)","v":0},{"$nulls":5},0]
["564","USA: Salt Lake Garfield and Western, UT (564)","K2","US217",0,{"$nulls":21},{"$f":"COUNTIF(Datenbank!BH:BH,Betriebeliste!A283)","v":2},{"$f":"MATCH(A283,Datenbank!BH:BH,0)","v":6852},0,{"$f":"COUNTIF(INDIRECT(\"Datenbank!BG\"&AB283&\":BG\"&AB283+AA283-1),\">=\"&Meldungen!$J$5)","v":0},{"$nulls":5},0]
["565","Kanada: Saskatoon, SK (565)","K1","CAN15",0,{"$nulls":21},{"$f":"COUNTIF(Datenbank!BH:BH,Betriebeliste!A284)","v":2},{"$f":"MATCH(A284,Datenbank!BH:BH,0)","v":6854},0,{"$f":"COUNTIF(INDIRECT(\"Datenbank!BG\"&AB284&\":BG\"&AB284+AA284-1),\">=\"&Meldungen!$J$5)","v":0},{"$nulls":5},0]
["566","USA: San Diego, CA (566)","K22","US218",0,{"$nulls":21},{"$f":"COUNTIF(Datenbank!BH:BH,Betriebeliste!A285)","v":2},{"$f":"MATCH(A285,Datenbank!BH:BH,0)","v":6856},0,{"$f":"COUNTIF(INDIRECT(\"Datenbank!BG\"&AB285&\":BG\"&AB285+AA285-1),\">=\"&Meldungen!$J$5)","v":0},{"$nulls":5},0]
["567","USA: Seashore Electric Railway, ME (567)","K2","US222",0,{"$nulls":21},{"$f":"COUNTIF(Datenbank!BH:BH,Betriebeliste!A286)","v":8},{"$f":"MATCH(A286,Datenbank!BH:BH,0)","v":6858},0,{"$f":"COUNTIF(INDIRECT(\"Datenbank!BG\"&AB286&\":BG\"&AB286+AA286-1),\">=\"&Meldungen!$J$5)","v":0},{"$nulls":5},0]
["568","Schweden: Sundsvall (568)","K46","SWE14",0,{"$nulls":21},{"$f":"COUNTIF(Datenbank!BH:BH,Betriebeliste!A287)","v":5},{"$f":"MATCH(A287,Datenbank!BH:BH,0)","v":6866},0,{"$f":"COUNTIF(INDIRECT(\"Datenbank!BG\"&AB287&\":BG\"&AB287+AA287-1),\">=\"&Meldungen!$J$5)","v":0},{"$nulls":5},0]
["572","Moldau: Chisinau [Kisinev] (572)","K4C","MDA01",0,{"$nulls":21},{"$f":"COUNTIF(Datenbank!BH:BH,Betriebeliste!A288)","v":2},{"$f":"MATCH(A288,Datenbank!BH:BH,0)","v":6871},0,{"$f":"COUNTIF(INDIRECT(\"Datenbank!BG\"&AB288&\":BG\"&AB288+AA288-1),\">=\"&Meldungen!$J$5)","v":0},{"$nulls":5},0]
["574","Australien: Hobart (574)","K7","AUS08",0,{"$nulls":21},{"$f":"COUNTIF(Datenbank!BH:BH,Betriebeliste!A289)","v":2},{"$f":"MATCH(A289,Datenbank!BH:BH,0)","v":6873},0,{"$f":"COUNTIF(INDIRECT(\"Datenbank!BG\"&AB289&\":BG\"&AB289+AA289-1),\">=\"&Meldungen!$J$5)","v":0},{"$nulls":5},0]
["577","Kanada: Hamilton, ON (577)","K1","CAN04",0,{"$nulls":21},{"$f":"COUNTIF(Datenbank!BH:BH,Betriebeliste!A290)","v":4},{"$f":"MATCH(A290,Datenbank!BH:BH,0)","v":6875},0,{"$f":"COUNTIF(INDIRECT(\"Datenbank!BG\"&AB290&\":BG\"&AB290+AA290-1),\">=\"&Meldungen!$J$5)","v":0},{"$nulls":5},0]
["578","Litauen: Kaunas (578)","K46","LTU01",0,{"$nulls":21},{"$f":"COUNTIF(Datenbank!BH:BH,Betriebeliste!A291)","v":2},{"$f":"MATCH(A291,Datenbank!BH:BH,0)","v":6879},0,{"$f":"COUNTIF(INDIRECT(\"Datenbank!BG\"&AB291&\":BG\"&AB291+AA291-1),\">=\"&Meldungen!$J$5)","v":0},{"$nulls":5},0]
["579","Schweden: Gävle (579)","K46","SWE01",0,{"$nulls":21},{"$f":"COUNTIF(Datenbank!BH:BH,Betriebeliste!A292)","v":2},{"$f":"MATCH(A292,Datenbank!BH:BH,0)","v":6881},0,{"$f":"COUNTIF(INDIRECT(\"Datenbank!BG\"&AB292&\":BG\"&AB292+AA292-1),\">=\"&Meldungen!$J$5)","v":0},{"$nulls":5},0]
["580","USA: Fort Dodge, IA (580)","K23","US127",0,{"$nulls":21},{"$f":"COUNTIF(Datenbank!BH:BH,Betriebeliste!A293)","v":3},{"$f":"MATCH(A293,Datenbank!BH:BH,0)","v":6883},0,{"$f":"COUNTIF(INDIRECT(\"Datenbank!BG\"&AB293&\":BG\"&AB293+AA293-1),\">=\"&Meldungen!$J$5)","v":0},{"$nulls":5},0]
["581","Frankreich: Evian-Ies-Bains (581)","K44","FRA08",0,{"$nulls":21},{"$f":"COUNTIF(Datenbank!BH:BH,Betriebeliste!A294)","v":1},{"$f":"MATCH(A294,Datenbank!BH:BH,0)","v":6886},0,{"$f":"COUNTIF(INDIRECT(\"Datenbank!BG\"&AB294&\":BG\"&AB294+AA294-1),\">=\"&Meldungen!$J$5)","v":0},{"$nulls":5},0]
["582","USA: Dallas, TX (582)","K2","US121",0,{"$nulls":21},{"$f":"COUNTIF(Datenbank!BH:BH,Betriebeliste!A295)","v":2},{"$f":"MATCH(A295,Datenbank!BH:BH,0)","v":6887},0,{"$f":"COUNTIF(INDIRECT(\"Datenbank!BG\"&AB295&\":BG\"&AB295+AA295-1),\">=\"&Meldungen!$J$5)","v":0},{"$nulls":5},0]
["583","USA: Detroit, MI (583)","K23","US125",0,{"$nulls":21},{"$f":"COUNTIF(Datenbank!BH:BH,Betriebeliste!A296)","v":1},{"$f":"MATCH(A296,Datenbank!BH:BH,0)","v":6889},0,{"$f":"COUNTIF(INDIRECT(\"Datenbank!BG\"&AB296&\":BG\"&AB296+AA296-1),\">=\"&Meldungen!$J$5)","v":0},{"$nulls":5},0]
["584","USA: St. Louis, MO (584)","K2","US228",0,{"$nulls":21},{"$f":"COUNTIF(Datenbank!BH:BH,Betriebeliste!A297)","v":3},{"$f":"MATCH(A297,Datenbank!BH:BH,0)","v":6890},0,{"$f":"COUNTIF(INDIRECT(\"Datenbank!BG\"&AB297&\":BG\"&AB297+AA297-1),\">=\"&Meldungen!$J$5)","v":0},{"$nulls":5},0]
["585","USA: Springfield, IL (585)","K23","US227",0,{"$nulls":21},{"$f":"COUNTIF(Datenbank!BH:BH,Betriebeliste!A298)","v":2},{"$f":"MATCH(A298,Datenbank!BH:BH,0)","v":6893},0,{"$f":"COUNTIF(INDIRECT(\"Datenbank!BG\"&AB298&\":BG\"&AB298+AA298-1),\">=\"&Meldungen!$J$5)","v":0},{"$nulls":5},0]
["586","USA: Lehigh Valley Transit Comp., PA (586)","K21","US140",0,{"$nulls":21},{"$f":"COUNTIF(Datenbank!BH:BH,Betriebeliste!A299)","v":6},{"$f":"MATCH(A299,Datenbank!BH:BH,0)","v":6895},0,{"$f":"COUNTIF(INDIRECT(\"Datenbank!BG\"&AB299&\":BG\"&AB299+AA299-1),\">=\"&Meldungen!$J$5)","v":0},{"$nulls":5},0]
["587","USA: Conestoga Transit Comp., PA (587)","K21","US118",0,{"$nulls":21},{"$f":"COUNTIF(Datenbank!BH:BH,Betriebeliste!A300)","v":2},{"$f":"MATCH(A300,Datenbank!BH:BH,0)","v":6901},0,{"$f":"COUNTIF(INDIRECT(\"Datenbank!BG\"&AB300&\":BG\"&AB300+AA300-1),\">=\"&Meldungen!$J$5)","v":0},{"$nulls":5},0]
["588","USA: Sand Springs Railway, OK (588)","K2","US221",0,{"$nulls":21},{"$f":"COUNTIF(Datenbank!BH:BH,Betriebeliste!A301)","v":2},{"$f":"MATCH(A301,Datenbank!BH:BH,0)","v":6903},0,{"$f":"COUNTIF(INDIRECT(\"Datenbank!BG\"&AB301&\":BG\"&AB301+AA301-1),\">=\"&Meldungen!$J$5)","v":0},{"$nulls":5},0]
["589","Kanada: Niagara St. Catherines and Toronto Ry, ON (589)","K1","CAN11",0,{"$nulls":21},{"$f":"COUNTIF(Datenbank!BH:BH,Betriebeliste!A302)","v":7},{"$f":"MATCH(A302,Datenbank!BH:BH,0)","v":6905},0,{"$f":"COUNTIF(INDIRECT(\"Datenbank!BG\"&AB302&\":BG\"&AB302+AA302-1),\">=\"&Meldungen!$J$5)","v":0},{"$nulls":5},0]
["590","USA: Cleveland, OH (590)","K23","US116",0,{"$nulls":21},{"$f":"COUNTIF(Datenbank!BH:BH,Betriebeliste!A303)","v":3},{"$f":"MATCH(A303,Datenbank!BH:BH,0)","v":6912},0,{"$f":"COUNTIF(INDIRECT(\"Datenbank!BG\"&AB303&\":BG\"&AB303+AA303-1),\">=\"&Meldungen!$J$5)","v":0},{"$nulls":5},0]
["591","USA: Petaluma & Santa Rosa RR , CA (591)","K22","US211",0,{"$nulls":21},{"$f":"COUNTIF(Datenbank!BH:BH,Betriebeliste!A304)","v":3},{"$f":"MATCH(A304,Datenbank!BH:BH,0)","v":6915},0,{"$f":"COUNTIF(INDIRECT(\"Datenbank!BG\"&AB304&\":BG\"&AB304+AA304-1),\">=\"&Meldungen!$J$5)","v":0},{"$nulls":5},0]
["592","Vereinigtes Königreich: Staly Bridge, Hyde, Mossley & Dukinfield Tramways (592)","K4121","GB229",0,{"$nulls":21},{"$f":"COUNTIF(Datenbank!BH:BH,Betriebeliste!A305)","v":1},{"$f":"MATCH(A305,Datenbank!BH:BH,0)","v":6918},0,{"$f":"COUNTIF(INDIRECT(\"Datenbank!BG\"&AB305&\":BG\"&AB305+AA305-1),\">=\"&Meldungen!$J$5)","v":0},{"$nulls":5},0]
["593","Vereinigtes Königreich: Hull, Yorkshire (593)","K412","GB134",0,{"$nulls":21},{"$f":"COUNTIF(Datenbank!BH:BH,Betriebeliste!A306)","v":2},{"$f":"MATCH(A306,Datenbank!BH:BH,0)","v":6919},0,{"$f":"COUNTIF(INDIRECT(\"Datenbank!BG\"&AB306&\":BG\"&AB306+AA306-1),\">=\"&Meldungen!$J$5)","v":0},{"$nulls":5},0]
["594","Irland: Hill of Howth Tramway (594)","K41","IRL02",0,{"$nulls":21},{"$f":"COUNTIF(Datenbank!BH:BH,Betriebeliste!A307)","v":3},{"$f":"MATCH(A307,Datenbank!BH:BH,0)","v":6921},0,{"$f":"COUNTIF(INDIRECT(\"Datenbank!BG\"&AB307&\":BG\"&AB307+AA307-1),\">=\"&Meldungen!$J$5)","v":0},{"$nulls":5},0]
["596","USA: Allentown, PA (596)","K21","US102",0,{"$nulls":21},{"$f":"COUNTIF(Datenbank!BH:BH,Betriebeliste!A308)","v":1},{"$f":"MATCH(A308,Datenbank!BH:BH,0)","v":6924},0,{"$f":"COUNTIF(INDIRECT(\"Datenbank!BG\"&AB308&\":BG\"&AB308+AA308-1),\">=\"&Meldungen!$J$5)","v":0},{"$nulls":5},0]
["597","Lettland: Liepaja [Libau] (597)","K46","LVA02",0,{"$nulls":21},{"$f":"COUNTIF(Datenbank!BH:BH,Betriebeliste!A309)","v":1},{"$f":"MATCH(A309,Datenbank!BH:BH,0)","v":6925},0,{"$f":"COUNTIF(INDIRECT(\"Datenbank!BG\"&AB309&\":BG\"&AB309+AA309-1),\">=\"&Meldungen!$J$5)","v":0},{"$nulls":5},0]
["599","Vereinigtes Königreich: Stirling (599)","K411","GB230",0,{"$nulls":21},{"$f":"COUNTIF(Datenbank!BH:BH,Betriebeliste!A310)","v":1},{"$f":"MATCH(A310,Datenbank!BH:BH,0)","v":6926},0,{"$f":"COUNTIF(INDIRECT(\"Datenbank!BG\"&AB310&\":BG\"&AB310+AA310-1),\">=\"&Meldungen!$J$5)","v":0},{"$nulls":5},0]
["600","Vereinigtes Königreich: Walsall (600)","K412","GB237",0,{"$nulls":21},{"$f":"COUNTIF(Datenbank!BH:BH,Betriebeliste!A311)","v":3},{"$f":"MATCH(A311,Datenbank!BH:BH,0)","v":6927},0,{"$f":"COUNTIF(INDIRECT(\"Datenbank!BG\"&AB311&\":BG\"&AB311+AA311-1),\">=\"&Meldungen!$J$5)","v":0},{"$nulls":5},0]
["601","USA: Youngstown, OH (601)","K23","US236",0,{"$nulls":21},{"$f":"COUNTIF(Datenbank!BH:BH,Betriebeliste!A312)","v":1},{"$f":"MATCH(A312,Datenbank!BH:BH,0)","v":6930},0,{"$f":"COUNTIF(INDIRECT(\"Datenbank!BG\"&AB312&\":BG\"&AB312+AA312-1),\">=\"&Meldungen!$J$5)","v":0},{"$nulls":5},0]
["602","Usbekistan: Taschkent (602)","K6","UZB01",0,{"$nulls":21},{"$f":"COUNTIF(Datenbank!BH:BH,Betriebeliste!A313)","v":9},{"$f":"MATCH(A313,Datenbank!BH:BH,0)","v":6931},0,{"$f":"COUNTIF(INDIRECT(\"Datenbank!BG\"&AB313&\":BG\"&AB313+AA313-1),\">=\"&Meldungen!$J$5)","v":0},{"$nulls":5},0]
["603","Kanada: Vancouver, BC (603)","K1","CAN18",0,{"$nulls":21},{"$f":"COUNTIF(Datenbank!BH:BH,Betriebeliste!A314)","v":2},{"$f":"MATCH(A314,Datenbank!BH:BH,0)","v":6940},0,{"$f":"COUNTIF(INDIRECT(\"Datenbank!BG\"&AB314&\":BG\"&AB314+AA314-1),\">=\"&Meldungen!$J$5)","v":0},{"$nulls":5},0]
["607","Kanada: Saint John's, NL (607)","K1","CAN14",0,{"$nulls":21},{"$f":"COUNTIF(Datenbank!BH:BH,Betriebeliste!A315)","v":1},{"$f":"MATCH(A315,Datenbank!BH:BH,0)","v":6942},0,{"$f":"COUNTIF(INDIRECT(\"Datenbank!BG\"&AB315&\":BG\"&AB315+AA315-1),\">=\"&Meldungen!$J$5)","v":0},{"$nulls":5},0]
["608","USA: Norfolk, VA (608)","K2","US209",0,{"$nulls":21},{"$f":"COUNTIF(Datenbank!BH:BH,Betriebeliste!A316)","v":2},{"$f":"MATCH(A316,Datenbank!BH:BH,0)","v":6943},0,{"$f":"COUNTIF(INDIRECT(\"Datenbank!BG\"&AB316&\":BG\"&AB316+AA316-1),\">=\"&Meldungen!$J$5)","v":0},{"$nulls":5},0]
["609","Polen: Chorzow [Königshütte] (609)","K47","POL04",0,{"$nulls":21},{"$f":"COUNTIF(Datenbank!BH:BH,Betriebeliste!A317)","v":1},{"$f":"MATCH(A317,Datenbank!BH:BH,0)","v":6945},1,{"$f":"COUNTIF(INDIRECT(\"Datenbank!BG\"&AB317&\":BG\"&AB317+AA317-1),\">=\"&Meldungen!$J$5)","v":0},{"$nulls":5},0]
["610","Italien: Brescia (610)","K4B1","ITA04",0,{"$nulls":21},{"$f":"COUNTIF(Datenbank!BH:BH,Betriebeliste!A318)","v":1},{"$f":"MATCH(A318,Datenbank!BH:BH,0)","v":6946},0,{"$f":"COUNTIF(INDIRECT(\"Datenbank!BG\"&AB318&\":BG\"&AB318+AA318-1),\">=\"&Meldungen!$J$5)","v":0},{"$nulls":5},0]
["612","Vereinigtes Königreich: Merthyr (612)","K413","GB210",0,{"$nulls":21},{"$f":"COUNTIF(Datenbank!BH:BH,Betriebeliste!A319)","v":2},{"$f":"MATCH(A319,Datenbank!BH:BH,0)","v":6947},0,{"$f":"COUNTIF(INDIRECT(\"Datenbank!BG\"&AB319&\":BG\"&AB319+AA319-1),\">=\"&Meldungen!$J$5)","v":0},{"$nulls":5},0]
["613","Vereinigtes Königreich: Luton (613)","K413","GB207",0,{"$nulls":21},{"$f":"COUNTIF(Datenbank!BH:BH,Betriebeliste!A320)","v":1},{"$f":"MATCH(A320,Datenbank!BH:BH,0)","v":6949},0,{"$f":"COUNTIF(INDIRECT(\"Datenbank!BG\"&AB320&\":BG\"&AB320+AA320-1),\">=\"&Meldungen!$J$5)","v":0},{"$nulls":5},0]
["614","Tschechien: Olomouc [Olmütz] (614)","K48","CZE08",0,{"$nulls":21},{"$f":"COUNTIF(Datenbank!BH:BH,Betriebeliste!A321)","v":7},{"$f":"MATCH(A321,Datenbank!BH:BH,0)","v":6950},3,{"$f":"COUNTIF(INDIRECT(\"Datenbank!BG\"&AB321&\":BG\"&AB321+AA321-1),\">=\"&Meldungen!$J$5)","v":0},{"$nulls":5},0]
["615","Kanada: Ottawa, ON (615)","K1","CAN12",0,{"$nulls":21},{"$f":"COUNTIF(Datenbank!BH:BH,Betriebeliste!A322)","v":1},{"$f":"MATCH(A322,Datenbank!BH:BH,0)","v":6957},0,{"$f":"COUNTIF(INDIRECT(\"Datenbank!BG\"&AB322&\":BG\"&AB322+AA322-1),\">=\"&Meldungen!$J$5)","v":0},{"$nulls":5},0]
["617","Italien: Biella (617)","K4B1","ITA01",0,{"$nulls":21},{"$f":"COUNTIF(Datenbank!BH:BH,Betriebeliste!A323)","v":1},{"$f":"MATCH(A323,Datenbank!BH:BH,0)","v":6958},0,{"$f":"COUNTIF(INDIRECT(\"Datenbank!BG\"&AB323&\":BG\"&AB323+AA323-1),\">=\"&Meldungen!$J$5)","v":0},{"$nulls":5},0]
["618","USA: Des Moines, IA (618)","K23","US124",0,{"$nulls":21},{"$f":"COUNTIF(Datenbank!BH:BH,Betriebeliste!A324)","v":5},{"$f":"MATCH(A324,Datenbank!BH:BH,0)","v":6959},{"$f":"COUNTA(INDIRECT(\"Datenbank!B\"&AB324&\":B\"&AB324+AA324-1))","v":0},{"$f":"COUNTIF(INDIRECT(\"Datenbank!BG\"&AB324&\":BG\"&AB324+AA324-1),\">=\"&Meldungen!$J$5)","v":0},{"$nulls":5},{"$f":"AB324-AA323-AB323","v":0}]
["619","Vereinigtes Königreich: Torquay (619)","K413","GB234",0,{"$nulls":21},{"$f":"COUNTIF(Datenbank!BH:BH,Betriebeliste!A325)","v":2},{"$f":"MATCH(A325,Datenbank!BH:BH,0)","v":6964},0,{"$f":"COUNTIF(INDIRECT(\"Datenbank!BG\"&AB325&\":BG\"&AB325+AA325-1),\">=\"&Meldungen!$J$5)","v":0},{"$nulls":5},0]
["620","Vereinigtes Königreich: Portsdown & Horndean Light Railway (620)","K413","GB218",0,{"$nulls":21},{"$f":"COUNTIF(Datenbank!BH:BH,Betriebeliste!A326)","v":2},{"$f":"MATCH(A326,Datenbank!BH:BH,0)","v":6966},0,{"$f":"COUNTIF(INDIRECT(\"Datenbank!BG\"&AB326&\":BG\"&AB326+AA326-1),\">=\"&Meldungen!$J$5)","v":0},{"$nulls":5},0]
["621","USA: Sacramento, CA (621)","K22","US216",0,{"$nulls":21},{"$f":"COUNTIF(Datenbank!BH:BH,Betriebeliste!A327)","v":2},{"$f":"MATCH(A327,Datenbank!BH:BH,0)","v":6968},0,{"$f":"COUNTIF(INDIRECT(\"Datenbank!BG\"&AB327&\":BG\"&AB327+AA327-1),\">=\"&Meldungen!$J$5)","v":0},{"$nulls":5},0]
["622","USA: San Francisco, CA (622)","K22","US219",0,{"$nulls":21},{"$f":"COUNTIF(Datenbank!BH:BH,Betriebeliste!A328)","v":5},{"$f":"MATCH(A328,Datenbank!BH:BH,0)","v":6970},0,{"$f":"COUNTIF(INDIRECT(\"Datenbank!BG\"&AB328&\":BG\"&AB328+AA328-1),\">=\"&Meldungen!$J$5)","v":0},{"$nulls":5},0]
["623","Vereinigtes Königreich: Giants Causeway (623)","K411","GB128",0,{"$nulls":21},{"$f":"COUNTIF(Datenbank!BH:BH,Betriebeliste!A329)","v":4},{"$f":"MATCH(A329,Datenbank!BH:BH,0)","v":6975},0,{"$f":"COUNTIF(INDIRECT(\"Datenbank!BG\"&AB329&\":BG\"&AB329+AA329-1),\">=\"&Meldungen!$J$5)","v":0},{"$nulls":5},0]
["624","USA: Lackawanna & Wyoming Valley RR , PA (624)","K21","US139",0,{"$nulls":21},{"$f":"COUNTIF(Datenbank!BH:BH,Betriebeliste!A330)","v":3},{"$f":"MATCH(A330,Datenbank!BH:BH,0)","v":6979},0,{"$f":"COUNTIF(INDIRECT(\"Datenbank!BG\"&AB330&\":BG\"&AB330+AA330-1),\">=\"&Meldungen!$J$5)","v":0},{"$nulls":5},0]
["625","Vereinigtes Königreich: Salford (625)","K4121","GB222",0,{"$nulls":21},{"$f":"COUNTIF(Datenbank!BH:BH,Betriebeliste!A331)","v":2},{"$f":"MATCH(A331,Datenbank!BH:BH,0)","v":6982},0,{"$f":"COUNTIF(INDIRECT(\"Datenbank!BG\"&AB331&\":BG\"&AB331+AA331-1),\">=\"&Meldungen!$J$5)","v":0},{"$nulls":5},0]
["626","Vereinigtes Königreich: South Shields (626)","K411","GB225",0,{"$nulls":21},{"$f":"COUNTIF(Datenbank!BH:BH,Betriebeliste!A332)","v":2},{"$f":"MATCH(A332,Datenbank!BH:BH,0)","v":6984},0,{"$f":"COUNTIF(INDIRECT(\"Datenbank!BG\"&AB332&\":BG\"&AB332+AA332-1),\">=\"&Meldungen!$J$5)","v":0},{"$nulls":5},0]
["627","Tschechien: Mariánské Lázně [Marienbad] (627)","K48","CZE05",0,{"$nulls":21},{"$f":"COUNTIF(Datenbank!BH:BH,Betriebeliste!A333)","v":3},{"$f":"MATCH(A333,Datenbank!BH:BH,0)","v":6986},0,{"$f":"COUNTIF(INDIRECT(\"Datenbank!BG\"&AB333&\":BG\"&AB333+AA333-1),\">=\"&Meldungen!$J$5)","v":0},{"$nulls":5},0]
["628","Vereinigtes Königreich: Fintona (628)","K411","GB126",0,{"$nulls":21},{"$f":"COUNTIF(Datenbank!BH:BH,Betriebeliste!A334)","v":3},{"$f":"MATCH(A334,Datenbank!BH:BH,0)","v":6989},0,{"$f":"COUNTIF(INDIRECT(\"Datenbank!BG\"&AB334&\":BG\"&AB334+AA334-1),\">=\"&Meldungen!$J$5)","v":0},{"$nulls":5},0]
["630","USA: Buffalo, NY (630)","K21","US112",0,{"$nulls":21},{"$f":"COUNTIF(Datenbank!BH:BH,Betriebeliste!A335)","v":1},{"$f":"MATCH(A335,Datenbank!BH:BH,0)","v":6992},0,{"$f":"COUNTIF(INDIRECT(\"Datenbank!BG\"&AB335&\":BG\"&AB335+AA335-1),\">=\"&Meldungen!$J$5)","v":0},{"$nulls":5},0]
["631","Kanada: Sudbury, ON (631)","K1","CAN16",0,{"$nulls":21},{"$f":"COUNTIF(Datenbank!BH:BH,Betriebeliste!A336)","v":1},{"$f":"MATCH(A336,Datenbank!BH:BH,0)","v":6993},0,{"$f":"COUNTIF(INDIRECT(\"Datenbank!BG\"&AB336&\":BG\"&AB336+AA336-1),\">=\"&Meldungen!$J$5)","v":0},{"$nulls":5},0]
["632","USA: New Bedford, MA (632)","K21","US204",0,{"$nulls":21},{"$f":"COUNTIF(Datenbank!BH:BH,Betriebeliste!A337)","v":1},{"$f":"MATCH(A337,Datenbank!BH:BH,0)","v":6994},0,{"$f":"COUNTIF(INDIRECT(\"Datenbank!BG\"&AB337&\":BG\"&AB337+AA337-1),\">=\"&Meldungen!$J$5)","v":0},{"$nulls":5},0]
["634","USA: Omaha, NE (634)","K2","US210",0,{"$nulls":21},{"$f":"COUNTIF(Datenbank!BH:BH,Betriebeliste!A338)","v":1},{"$f":"MATCH(A338,Datenbank!BH:BH,0)","v":6995},0,{"$f":"COUNTIF(INDIRECT(\"Datenbank!BG\"&AB338&\":BG\"&AB338+AA338-1),\">=\"&Meldungen!$J$5)","v":0},{"$nulls":5},0]
["635","Vereinigtes Königreich: Wakefield (635)","K4121","GB236",0,{"$nulls":21},{"$f":"COUNTIF(Datenbank!BH:BH,Betriebeliste!A339)","v":1},{"$f":"MATCH(A339,Datenbank!BH:BH,0)","v":6996},0,{"$f":"COUNTIF(INDIRECT(\"Datenbank!BG\"&AB339&\":BG\"&AB339+AA339-1),\">=\"&Meldungen!$J$5)","v":0},{"$nulls":5},0]
["636","Vereinigtes Königreich: Oldham (636)","K4121","GB216",0,{"$nulls":21},{"$f":"COUNTIF(Datenbank!BH:BH,Betriebeliste!A340)","v":1},{"$f":"MATCH(A340,Datenbank!BH:BH,0)","v":6997},0,{"$f":"COUNTIF(INDIRECT(\"Datenbank!BG\"&AB340&\":BG\"&AB340+AA340-1),\">=\"&Meldungen!$J$5)","v":0},{"$nulls":5},0]
["637","Vereinigtes Königreich: Belfast (637)","K411","GB104",0,{"$nulls":21},{"$f":"COUNTIF(Datenbank!BH:BH,Betriebeliste!A341)","v":1},{"$f":"MATCH(A341,Datenbank!BH:BH,0)","v":6998},0,{"$f":"COUNTIF(INDIRECT(\"Datenbank!BG\"&AB341&\":BG\"&AB341+AA341-1),\">=\"&Meldungen!$J$5)","v":0},{"$nulls":5},0]
["639","Vereinigtes Königreich: Bournemouth (639)","K413","GB110",0,{"$nulls":21},{"$f":"COUNTIF(Datenbank!BH:BH,Betriebeliste!A342)","v":2},{"$f":"MATCH(A342,Datenbank!BH:BH,0)","v":6999},0,{"$f":"COUNTIF(INDIRECT(\"Datenbank!BG\"&AB342&\":BG\"&AB342+AA342-1),\">=\"&Meldungen!$J$5)","v":0},{"$nulls":5},0]
["641","USA: Biddeford & Saco RR, ME (641)","K2","US109",0,{"$nulls":21},{"$f":"COUNTIF(Datenbank!BH:BH,Betriebeliste!A343)","v":1},{"$f":"MATCH(A343,Datenbank!BH:BH,0)","v":7001},0,{"$f":"COUNTIF(INDIRECT(\"Datenbank!BG\"&AB343&\":BG\"&AB343+AA343-1),\">=\"&Meldungen!$J$5)","v":0},{"$nulls":5},0]
["642","USA: Newark, NJ (642)","K21","US208",0,{"$nulls":21},{"$f":"COUNTIF(Datenbank!BH:BH,Betriebeliste!A344)","v":1},{"$f":"MATCH(A344,Datenbank!BH:BH,0)","v":7002},0,{"$f":"COUNTIF(INDIRECT(\"Datenbank!BG\"&AB344&\":BG\"&AB344+AA344-1),\">=\"&Meldungen!$J$5)","v":0},{"$nulls":5},0]
["648","USA: Glendale & Montrose Railway , CA (648)","K22","US130",0,{"$nulls":21},{"$f":"COUNTIF(Datenbank!BH:BH,Betriebeliste!A345)","v":1},{"$f":"MATCH(A345,Datenbank!BH:BH,0)","v":7003},0,{"$f":"COUNTIF(INDIRECT(\"Datenbank!BG\"&AB345&\":BG\"&AB345+AA345-1),\">=\"&Meldungen!$J$5)","v":0},{"$nulls":5},0]
["649","China: Hongkong (649)","K6","CHN05",0,{"$nulls":21},{"$f":"COUNTIF(Datenbank!BH:BH,Betriebeliste!A346)","v":15},{"$f":"MATCH(A346,Datenbank!BH:BH,0)","v":7004},0,{"$f":"COUNTIF(INDIRECT(\"Datenbank!BG\"&AB346&\":BG\"&AB346+AA346-1),\">=\"&Meldungen!$J$5)","v":0},{"$nulls":5},0]
["652","USA: Key System, CA (652)","K22","US138",0,{"$nulls":21},{"$f":"COUNTIF(Datenbank!BH:BH,Betriebeliste!A347)","v":2},{"$f":"MATCH(A347,Datenbank!BH:BH,0)","v":7019},0,{"$f":"COUNTIF(INDIRECT(\"Datenbank!BG\"&AB347&\":BG\"&AB347+AA347-1),\">=\"&Meldungen!$J$5)","v":0},{"$nulls":5},0]
["653","Japan: Tokio (653)","K61","JPN17",0,{"$nulls":21},{"$f":"COUNTIF(Datenbank!BH:BH,Betriebeliste!A348)","v":2},{"$f":"MATCH(A348,Datenbank!BH:BH,0)","v":7021},0,{"$f":"COUNTIF(INDIRECT(\"Datenbank!BG\"&AB348&\":BG\"&AB348+AA348-1),\">=\"&Meldungen!$J$5)","v":0},{"$nulls":5},0]
["654","Japan: Yokohama (654)","K61","JPN20",0,{"$nulls":21},{"$f":"COUNTIF(Datenbank!BH:BH,Betriebeliste!A349)","v":1},{"$f":"MATCH(A349,Datenbank!BH:BH,0)","v":7023},0,{"$f":"COUNTIF(INDIRECT(\"Datenbank!BG\"&AB349&\":BG\"&AB349+AA349-1),\">=\"&Meldungen!$J$5)","v":0},{"$nulls":5},0]
["656","Italien: San Remo (656)","K4B1","ITA22",0,{"$nulls":21},{"$f":"COUNTIF(Datenbank!BH:BH,Betriebeliste!A350)","v":1},{"$f":"MATCH(A350,Datenbank!BH:BH,0)","v":7024},1,{"$f":"COUNTIF(INDIRECT(\"Datenbank!BG\"&AB350&\":BG\"&AB350+AA350-1),\">=\"&Meldungen!$J$5)","v":0},{"$nulls":5},0]
["657","USA: Bamberger Electric Railroad, UT (657)","K2","US108",0,{"$nulls":21},{"$f":"COUNTIF(Datenbank!BH:BH,Betriebeliste!A351)","v":1},{"$f":"MATCH(A351,Datenbank!BH:BH,0)","v":7025},0,{"$f":"COUNTIF(INDIRECT(\"Datenbank!BG\"&AB351&\":BG\"&AB351+AA351-1),\">=\"&Meldungen!$J$5)","v":0},{"$nulls":5},0]
["658","USA: Hershey Transit Company [HTC], PA (658)","K21","US132",0,{"$nulls":21},{"$f":"COUNTIF(Datenbank!BH:BH,Betriebeliste!A352)","v":4},{"$f":"MATCH(A352,Datenbank!BH:BH,0)","v":7026},0,{"$f":"COUNTIF(INDIRECT(\"Datenbank!BG\"&AB352&\":BG\"&AB352+AA352-1),\">=\"&Meldungen!$J$5)","v":0},{"$nulls":5},0]
["659","USA: Hagerstown & Frederick Railway, MD (659)","K21","US131",0,{"$nulls":21},{"$f":"COUNTIF(Datenbank!BH:BH,Betriebeliste!A353)","v":1},{"$f":"MATCH(A353,Datenbank!BH:BH,0)","v":7030},0,{"$f":"COUNTIF(INDIRECT(\"Datenbank!BG\"&AB353&\":BG\"&AB353+AA353-1),\">=\"&Meldungen!$J$5)","v":0},{"$nulls":5},0]
["660","Vereinigtes Königreich: Londonderry (660)","K411","GB206",0,{"$nulls":21},{"$f":"COUNTIF(Datenbank!BH:BH,Betriebeliste!A354)","v":1},{"$f":"MATCH(A354,Datenbank!BH:BH,0)","v":7031},0,{"$f":"COUNTIF(INDIRECT(\"Datenbank!BG\"&AB354&\":BG\"&AB354+AA354-1),\">=\"&Meldungen!$J$5)","v":0},{"$nulls":5},0]
["661","Vereinigtes Königreich: Cleethorpes (661)","K412","GB117",0,{"$nulls":21},{"$f":"COUNTIF(Datenbank!BH:BH,Betriebeliste!A355)","v":1},{"$f":"MATCH(A355,Datenbank!BH:BH,0)","v":7032},0,{"$f":"COUNTIF(INDIRECT(\"Datenbank!BG\"&AB355&\":BG\"&AB355+AA355-1),\">=\"&Meldungen!$J$5)","v":0},{"$nulls":5},0]
["662","USA: Purdue University, West Lafayette, IN (662)","K23","US215",0,{"$nulls":21},{"$f":"COUNTIF(Datenbank!BH:BH,Betriebeliste!A356)","v":1},{"$f":"MATCH(A356,Datenbank!BH:BH,0)","v":7033},0,{"$f":"COUNTIF(INDIRECT(\"Datenbank!BG\"&AB356&\":BG\"&AB356+AA356-1),\">=\"&Meldungen!$J$5)","v":0},{"$nulls":5},0]
["663","USA: Utica & Mohawk Valley, NY (663)","K21","US231",0,{"$nulls":21},{"$f":"COUNTIF(Datenbank!BH:BH,Betriebeliste!A357)","v":1},{"$f":"MATCH(A357,Datenbank!BH:BH,0)","v":7034},0,{"$f":"COUNTIF(INDIRECT(\"Datenbank!BG\"&AB357&\":BG\"&AB357+AA357-1),\">=\"&Meldungen!$J$5)","v":0},{"$nulls":5},0]
["664","Vereinigtes Königreich: Falkirk & District Tramway Co (664)","K411","GB125",0,{"$nulls":21},{"$f":"COUNTIF(Datenbank!BH:BH,Betriebeliste!A358)","v":1},{"$f":"MATCH(A358,Datenbank!BH:BH,0)","v":7035},0,{"$f":"COUNTIF(INDIRECT(\"Datenbank!BG\"&AB358&\":BG\"&AB358+AA358-1),\">=\"&Meldungen!$J$5)","v":0},{"$nulls":5},0]
["665","USA: Black River Traction Company, NY (665)","K21","US110",0,{"$nulls":21},{"$f":"COUNTIF(Datenbank!BH:BH,Betriebeliste!A359)","v":1},{"$f":"MATCH(A359,Datenbank!BH:BH,0)","v":7036},0,{"$f":"COUNTIF(INDIRECT(\"Datenbank!BG\"&AB359&\":BG\"&AB359+AA359-1),\">=\"&Meldungen!$J$5)","v":0},{"$nulls":5},0]
["669","Kanada: Calgary, AL (669)","K1","CAN01",0,{"$nulls":21},{"$f":"COUNTIF(Datenbank!BH:BH,Betriebeliste!A360)","v":1},{"$f":"MATCH(A360,Datenbank!BH:BH,0)","v":7037},0,{"$f":"COUNTIF(INDIRECT(\"Datenbank!BG\"&AB360&\":BG\"&AB360+AA360-1),\">=\"&Meldungen!$J$5)","v":0},{"$nulls":5},0]
["670","Neuseeland: Auckland (670)","K7","NZL01",0,{"$nulls":21},{"$f":"COUNTIF(Datenbank!BH:BH,Betriebeliste!A361)","v":1},{"$f":"MATCH(A361,Datenbank!BH:BH,0)","v":7038},0,{"$f":"COUNTIF(INDIRECT(\"Datenbank!BG\"&AB361&\":BG\"&AB361+AA361-1),\">=\"&Meldungen!$J$5)","v":0},{"$nulls":5},0]
["671","USA: New Haven, CT (671)","K21","US205",0,{"$nulls":21},{"$f":"COUNTIF(Datenbank!BH:BH,Betriebeliste!A362)","v":4},{"$f":"MATCH(A362,Datenbank!BH:BH,0)","v":7039},0,{"$f":"COUNTIF(INDIRECT(\"Datenbank!BG\"&AB362&\":BG\"&AB362+AA362-1),\">=\"&Meldungen!$J$5)","v":0},{"$nulls":5},0]
["672","Kanada: Montreal, QC (672)","K1","CAN06",0,{"$nulls":21},{"$f":"COUNTIF(Datenbank!BH:BH,Betriebeliste!A363)","v":1},{"$f":"MATCH(A363,Datenbank!BH:BH,0)","v":7043},0,{"$f":"COUNTIF(INDIRECT(\"Datenbank!BG\"&AB363&\":BG\"&AB363+AA363-1),\">=\"&Meldungen!$J$5)","v":0},{"$nulls":5},0]
["673","USA: Chicago South Shore Line, IL (673)","K23","US113",0,{"$nulls":21},{"$f":"COUNTIF(Datenbank!BH:BH,Betriebeliste!A364)","v":1},{"$f":"MATCH(A364,Datenbank!BH:BH,0)","v":7044},0,{"$f":"COUNTIF(INDIRECT(\"Datenbank!BG\"&AB364&\":BG\"&AB364+AA364-1),\">=\"&Meldungen!$J$5)","v":0},{"$nulls":5},0]
["674","Vereinigtes Königreich: Preston (674)","K4121","GB220",0,{"$nulls":21},{"$f":"COUNTIF(Datenbank!BH:BH,Betriebeliste!A365)","v":1},{"$f":"MATCH(A365,Datenbank!BH:BH,0)","v":7045},0,{"$f":"COUNTIF(INDIRECT(\"Datenbank!BG\"&AB365&\":BG\"&AB365+AA365-1),\">=\"&Meldungen!$J$5)","v":0},{"$nulls":5},0]
["675","Kanada: London & Port Stanley Railway, ON (675)","K1","CAN05",0,{"$nulls":21},{"$f":"COUNTIF(Datenbank!BH:BH,Betriebeliste!A366)","v":2},{"$f":"MATCH(A366,Datenbank!BH:BH,0)","v":7046},0,{"$f":"COUNTIF(INDIRECT(\"Datenbank!BG\"&AB366&\":BG\"&AB366+AA366-1),\">=\"&Meldungen!$J$5)","v":0},{"$nulls":5},0]
["678","Spanien: Cadiz (678)","K45","ESP05",0,{"$nulls":21},{"$f":"COUNTIF(Datenbank!BH:BH,Betriebeliste!A367)","v":1},{"$f":"MATCH(A367,Datenbank!BH:BH,0)","v":7048},0,{"$f":"COUNTIF(INDIRECT(\"Datenbank!BG\"&AB367&\":BG\"&AB367+AA367-1),\">=\"&Meldungen!$J$5)","v":0},{"$nulls":5},0]
["680","Kanada: Edmonton, AL (680)","K1","CAN02",0,{"$nulls":21},{"$f":"COUNTIF(Datenbank!BH:BH,Betriebeliste!A368)","v":1},{"$f":"MATCH(A368,Datenbank!BH:BH,0)","v":7049},0,{"$f":"COUNTIF(INDIRECT(\"Datenbank!BG\"&AB368&\":BG\"&AB368+AA368-1),\">=\"&Meldungen!$J$5)","v":0},{"$nulls":5},0]
["682","Kanada: Halifax, NS (682)","K1","CAN03",0,{"$nulls":21},{"$f":"COUNTIF(Datenbank!BH:BH,Betriebeliste!A369)","v":1},{"$f":"MATCH(A369,Datenbank!BH:BH,0)","v":7050},0,{"$f":"COUNTIF(INDIRECT(\"Datenbank!BG\"&AB369&\":BG\"&AB369+AA369-1),\">=\"&Meldungen!$J$5)","v":0},{"$nulls":5},0]
["686","Lettland: Daugavpils [Dünaburg] (686)","K46","LVA01",0,{"$nulls":21},{"$f":"COUNTIF(Datenbank!BH:BH,Betriebeliste!A370)","v":1},{"$f":"MATCH(A370,Datenbank!BH:BH,0)","v":7051},0,{"$f":"COUNTIF(INDIRECT(\"Datenbank!BG\"&AB370&\":BG\"&AB370+AA370-1),\">=\"&Meldungen!$J$5)","v":0},{"$nulls":5},0]
["687","Lettland: Riga (687)","K46","LVA03",0,{"$nulls":21},{"$f":"COUNTIF(Datenbank!BH:BH,Betriebeliste!A371)","v":1},{"$f":"MATCH(A371,Datenbank!BH:BH,0)","v":7052},0,{"$f":"COUNTIF(INDIRECT(\"Datenbank!BG\"&AB371&\":BG\"&AB371+AA371-1),\">=\"&Meldungen!$J$5)","v":0},{"$nulls":5},0]
["688","Polen: Częstochowa [Tschenstochau] (688)","K47","POL05",0,{"$nulls":21},{"$f":"COUNTIF(Datenbank!BH:BH,Betriebeliste!A372)","v":1},{"$f":"MATCH(A372,Datenbank!BH:BH,0)","v":7053},0,{"$f":"COUNTIF(INDIRECT(\"Datenbank!BG\"&AB372&\":BG\"&AB372+AA372-1),\">=\"&Meldungen!$J$5)","v":0},{"$nulls":5},0]
["691","Portugal: Almada, Metro Sul do Tejo (691)","K45","PRT01",0,{"$nulls":21},{"$f":"COUNTIF(Datenbank!BH:BH,Betriebeliste!A373)","v":1},{"$f":"MATCH(A373,Datenbank!BH:BH,0)","v":7054},0,{"$f":"COUNTIF(INDIRECT(\"Datenbank!BG\"&AB373&\":BG\"&AB373+AA373-1),\">=\"&Meldungen!$J$5)","v":0},{"$nulls":5},0]
["692","Indien: Calcutta (692)","K6","IND01",0,{"$nulls":21},{"$f":"COUNTIF(Datenbank!BH:BH,Betriebeliste!A374)","v":1},{"$f":"MATCH(A374,Datenbank!BH:BH,0)","v":7055},0,{"$f":"COUNTIF(INDIRECT(\"Datenbank!BG\"&AB374&\":BG\"&AB374+AA374-1),\">=\"&Meldungen!$J$5)","v":0},{"$nulls":5},0]
["693","Nordkorea: Pjöngjang (693)","K6","PRK01",0,{"$nulls":21},{"$f":"COUNTIF(Datenbank!BH:BH,Betriebeliste!A375)","v":1},{"$f":"MATCH(A375,Datenbank!BH:BH,0)","v":7056},0,{"$f":"COUNTIF(INDIRECT(\"Datenbank!BG\"&AB375&\":BG\"&AB375+AA375-1),\">=\"&Meldungen!$J$5)","v":0},{"$nulls":5},0]
["694","Syrien: Damaskus (694)","K6","SYR01",0,{"$nulls":21},{"$f":"COUNTIF(Datenbank!BH:BH,Betriebeliste!A376)","v":3},{"$f":"MATCH(A376,Datenbank!BH:BH,0)","v":7057},0,{"$f":"COUNTIF(INDIRECT(\"Datenbank!BG\"&AB376&\":BG\"&AB376+AA376-1),\">=\"&Meldungen!$J$5)","v":0},{"$nulls":5},0]
["695","Italien: Terni (695)","K4B2","ITA23",0,{"$nulls":21},{"$f":"COUNTIF(Datenbank!BH:BH,Betriebeliste!A377)","v":1},{"$f":"MATCH(A377,Datenbank!BH:BH,0)","v":7060},0,{"$f":"COUNTIF(INDIRECT(\"Datenbank!BG\"&AB377&\":BG\"&AB377+AA377-1),\">=\"&Meldungen!$J$5)","v":0},{"$nulls":5},0]
["697","Tschechien: Ostrava [Mährisch Ostrau] (697)","K48","CZE09",0,{"$nulls":21},{"$f":"COUNTIF(Datenbank!BH:BH,Betriebeliste!A378)","v":20},{"$f":"MATCH(A378,Datenbank!BH:BH,0)","v":7061},9,{"$f":"COUNTIF(INDIRECT(\"Datenbank!BG\"&AB378&\":BG\"&AB378+AA378-1),\">=\"&Meldungen!$J$5)","v":0},{"$nulls":5},0]
["698","Tschechien: Plzen[Pilsen] (698)","K48","CZE10",0,{"$nulls":21},{"$f":"COUNTIF(Datenbank!BH:BH,Betriebeliste!A379)","v":4},{"$f":"MATCH(A379,Datenbank!BH:BH,0)","v":7081},0,{"$f":"COUNTIF(INDIRECT(\"Datenbank!BG\"&AB379&\":BG\"&AB379+AA379-1),\">=\"&Meldungen!$J$5)","v":0},{"$nulls":5},0]
["699","Tschechien: Most [Brüx] (699)","K48","CZE06",0,{"$nulls":21},{"$f":"COUNTIF(Datenbank!BH:BH,Betriebeliste!A380)","v":5},{"$f":"MATCH(A380,Datenbank!BH:BH,0)","v":7085},4,{"$f":"COUNTIF(INDIRECT(\"Datenbank!BG\"&AB380&\":BG\"&AB380+AA380-1),\">=\"&Meldungen!$J$5)","v":0},{"$nulls":5},0]
["700","Slowakei: Kosice [Kaschau] (700)","K4F","SVK02",0,{"$nulls":21},{"$f":"COUNTIF(Datenbank!BH:BH,Betriebeliste!A381)","v":3},{"$f":"MATCH(A381,Datenbank!BH:BH,0)","v":7090},0,{"$f":"COUNTIF(INDIRECT(\"Datenbank!BG\"&AB381&\":BG\"&AB381+AA381-1),\">=\"&Meldungen!$J$5)","v":0},{"$nulls":5},0]
["712","Frankreich: Nizza [Nice] (712)","K44","FRA24",0,{"$nulls":21},{"$f":"COUNTIF(Datenbank!BH:BH,Betriebeliste!A382)","v":2},{"$f":"MATCH(A382,Datenbank!BH:BH,0)","v":7093},0,{"$f":"COUNTIF(INDIRECT(\"Datenbank!BG\"&AB382&\":BG\"&AB382+AA382-1),\">=\"&Meldungen!$J$5)","v":0},{"$nulls":5},0]
["734","Slowakei: Bratislava [Pressburg] (734)","K4F","SVK01",0,{"$nulls":21},{"$f":"COUNTIF(Datenbank!BH:BH,Betriebeliste!A383)","v":1},{"$f":"MATCH(A383,Datenbank!BH:BH,0)","v":7095},0,{"$f":"COUNTIF(INDIRECT(\"Datenbank!BG\"&AB383&\":BG\"&AB383+AA383-1),\">=\"&Meldungen!$J$5)","v":0},{"$nulls":5},0]
["736","Rumänien: Sibiu [Hermannstadt] (736)","K4E","ROU14",0,{"$nulls":21},{"$f":"COUNTIF(Datenbank!BH:BH,Betriebeliste!A384)","v":7},{"$f":"MATCH(A384,Datenbank!BH:BH,0)","v":7096},7,{"$f":"COUNTIF(INDIRECT(\"Datenbank!BG\"&AB384&\":BG\"&AB384+AA384-1),\">=\"&Meldungen!$J$5)","v":0},{"$nulls":5},0]
["738","Tschechien: Teplice [Teplitz-Schönau] (738)","K48","CZE13",0,{"$nulls":21},{"$f":"COUNTIF(Datenbank!BH:BH,Betriebeliste!A385)","v":4},{"$f":"MATCH(A385,Datenbank!BH:BH,0)","v":7103},4,{"$f":"COUNTIF(INDIRECT(\"Datenbank!BG\"&AB385&\":BG\"&AB385+AA385-1),\">=\"&Meldungen!$J$5)","v":0},{"$nulls":5},0]
["740","Österreich: Baden bei Wien (740)","K49","AUT01",0,{"$nulls":21},{"$f":"COUNTIF(Datenbank!BH:BH,Betriebeliste!A386)","v":1},{"$f":"MATCH(A386,Datenbank!BH:BH,0)","v":7107},0,{"$f":"COUNTIF(INDIRECT(\"Datenbank!BG\"&AB386&\":BG\"&AB386+AA386-1),\">=\"&Meldungen!$J$5)","v":0},{"$nulls":5},0]
["741","Russland: Archangelsk (741)","K4H","RUS01",0,{"$nulls":21},{"$f":"COUNTIF(Datenbank!BH:BH,Betriebeliste!A387)","v":9},{"$f":"MATCH(A387,Datenbank!BH:BH,0)","v":7108},0,{"$f":"COUNTIF(INDIRECT(\"Datenbank!BG\"&AB387&\":BG\"&AB387+AA387-1),\">=\"&Meldungen!$J$5)","v":0},{"$nulls":5},0]
["745","Kroatien: Osijek (745)","K4F","HRV02",0,{"$nulls":21},{"$f":"COUNTIF(Datenbank!BH:BH,Betriebeliste!A388)","v":12},{"$f":"MATCH(A388,Datenbank!BH:BH,0)","v":7117},{"$f":"COUNTA(INDIRECT(\"Datenbank!B\"&AB388&\":B\"&AB388+AA388-1))","v":11},{"$f":"COUNTIF(INDIRECT(\"Datenbank!BG\"&AB388&\":BG\"&AB388+AA388-1),\">=\"&Meldungen!$J$5)","v":0},{"$nulls":5},{"$f":"AB388-AA387-AB387","v":0}]
["747","Bulgarien: Russe (747)","K4E","BGR01",0,{"$nulls":21},{"$f":"COUNTIF(Datenbank!BH:BH,Betriebeliste!A389)","v":1},{"$f":"MATCH(A389,Datenbank!BH:BH,0)","v":7129},1,{"$f":"COUNTIF(INDIRECT(\"Datenbank!BG\"&AB389&\":BG\"&AB389+AA389-1),\">=\"&Meldungen!$J$5)","v":0},{"$nulls":5},0]
["748","Venezuela: Caracas (748)","K3","VEN01",0,{"$nulls":21},{"$f":"COUNTIF(Datenbank!BH:BH,Betriebeliste!A390)","v":1},{"$f":"MATCH(A390,Datenbank!BH:BH,0)","v":7130},0,{"$f":"COUNTIF(INDIRECT(\"Datenbank!BG\"&AB390&\":BG\"&AB390+AA390-1),\">=\"&Meldungen!$J$5)","v":0},{"$nulls":5},0]
["749","Rumänien: Brasov [Kronstadt] (749)","K4E","ROU04",0,{"$nulls":21},{"$f":"COUNTIF(Datenbank!BH:BH,Betriebeliste!A391)","v":4},{"$f":"MATCH(A391,Datenbank!BH:BH,0)","v":7131},4,{"$f":"COUNTIF(INDIRECT(\"Datenbank!BG\"&AB391&\":BG\"&AB391+AA391-1),\">=\"&Meldungen!$J$5)","v":0},{"$nulls":5},0]
["758","Ukraine: Charkiw [Charkow] (758)","K4C","UKR01",0,{"$nulls":21},{"$f":"COUNTIF(Datenbank!BH:BH,Betriebeliste!A392)","v":6},{"$f":"MATCH(A392,Datenbank!BH:BH,0)","v":7135},0,{"$f":"COUNTIF(INDIRECT(\"Datenbank!BG\"&AB392&\":BG\"&AB392+AA392-1),\">=\"&Meldungen!$J$5)","v":0},{"$nulls":5},0]
["759","Belarus: Minsk (759)","K4G","BLR02",0,{"$nulls":21},{"$f":"COUNTIF(Datenbank!BH:BH,Betriebeliste!A393)","v":12},{"$f":"MATCH(A393,Datenbank!BH:BH,0)","v":7141},0,{"$f":"COUNTIF(INDIRECT(\"Datenbank!BG\"&AB393&\":BG\"&AB393+AA393-1),\">=\"&Meldungen!$J$5)","v":0},{"$nulls":5},0]
["761","Litauen: Klaipèdia [Memel] (761)","K46","LTU02",0,{"$nulls":21},{"$f":"COUNTIF(Datenbank!BH:BH,Betriebeliste!A394)","v":1},{"$f":"MATCH(A394,Datenbank!BH:BH,0)","v":7153},0,{"$f":"COUNTIF(INDIRECT(\"Datenbank!BG\"&AB394&\":BG\"&AB394+AA394-1),\">=\"&Meldungen!$J$5)","v":0},{"$nulls":5},0]
["762","Rumänien: Arad (762)","K4E","ROU01",0,{"$nulls":21},{"$f":"COUNTIF(Datenbank!BH:BH,Betriebeliste!A395)","v":1},{"$f":"MATCH(A395,Datenbank!BH:BH,0)","v":7154},0,{"$f":"COUNTIF(INDIRECT(\"Datenbank!BG\"&AB395&\":BG\"&AB395+AA395-1),\">=\"&Meldungen!$J$5)","v":0},{"$nulls":5},0]
["763","Argentinien: Mendoza (763)","K3","ARG02",0,{"$nulls":21},{"$f":"COUNTIF(Datenbank!BH:BH,Betriebeliste!A396)","v":1},{"$f":"MATCH(A396,Datenbank!BH:BH,0)","v":7155},0,{"$f":"COUNTIF(INDIRECT(\"Datenbank!BG\"&AB396&\":BG\"&AB396+AA396-1),\">=\"&Meldungen!$J$5)","v":0},{"$nulls":5},0]
["764","Bolivien: La Paz (764)","K3","BOL01",0,{"$nulls":21},{"$f":"COUNTIF(Datenbank!BH:BH,Betriebeliste!A397)","v":1},{"$f":"MATCH(A397,Datenbank!BH:BH,0)","v":7156},0,{"$f":"COUNTIF(INDIRECT(\"Datenbank!BG\"&AB397&\":BG\"&AB397+AA397-1),\">=\"&Meldungen!$J$5)","v":0},{"$nulls":5},0]
["765","Tunesien: Tunis (765)","K5","TUN01",0,{"$nulls":21},{"$f":"COUNTIF(Datenbank!BH:BH,Betriebeliste!A398)","v":6},{"$f":"MATCH(A398,Datenbank!BH:BH,0)","v":7157},6,{"$f":"COUNTIF(INDIRECT(\"Datenbank!BG\"&AB398&\":BG\"&AB398+AA398-1),\">=\"&Meldungen!$J$5)","v":0},{"$nulls":5},0]
["766","Australien: Geelong (766)","K7","AUS07",0,{"$nulls":21},{"$f":"COUNTIF(Datenbank!BH:BH,Betriebeliste!A399)","v":1},{"$f":"MATCH(A399,Datenbank!BH:BH,0)","v":7163},0,{"$f":"COUNTIF(INDIRECT(\"Datenbank!BG\"&AB399&\":BG\"&AB399+AA399-1),\">=\"&Meldungen!$J$5)","v":0},{"$nulls":5},0]
["767","Australien: Sydney (767)","K7","AUS14",0,{"$nulls":21},{"$f":"COUNTIF(Datenbank!BH:BH,Betriebeliste!A400)","v":1},{"$f":"MATCH(A400,Datenbank!BH:BH,0)","v":7164},0,{"$f":"COUNTIF(INDIRECT(\"Datenbank!BG\"&AB400&\":BG\"&AB400+AA400-1),\">=\"&Meldungen!$J$5)","v":0},{"$nulls":5},0]
["768","Aserbeidschan: Baku (768)","K6","AZE01",0,{"$nulls":21},{"$f":"COUNTIF(Datenbank!BH:BH,Betriebeliste!A401)","v":1},{"$f":"MATCH(A401,Datenbank!BH:BH,0)","v":7165},0,{"$f":"COUNTIF(INDIRECT(\"Datenbank!BG\"&AB401&\":BG\"&AB401+AA401-1),\">=\"&Meldungen!$J$5)","v":0},{"$nulls":5},0]
["769","Belarus: Masyr (769)","K4G","BLR01",0,{"$nulls":21},{"$f":"COUNTIF(Datenbank!BH:BH,Betriebeliste!A402)","v":1},{"$f":"MATCH(A402,Datenbank!BH:BH,0)","v":7166},0,{"$f":"COUNTIF(INDIRECT(\"Datenbank!BG\"&AB402&\":BG\"&AB402+AA402-1),\">=\"&Meldungen!$J$5)","v":0},{"$nulls":5},0]
["770","Belarus: Nawapolazk (770)","K4G","BLR03",0,{"$nulls":21},{"$f":"COUNTIF(Datenbank!BH:BH,Betriebeliste!A403)","v":1},{"$f":"MATCH(A403,Datenbank!BH:BH,0)","v":7167},0,{"$f":"COUNTIF(INDIRECT(\"Datenbank!BG\"&AB403&\":BG\"&AB403+AA403-1),\">=\"&Meldungen!$J$5)","v":0},{"$nulls":5},0]
["771","Brasilien: Belo Horizonte (771)","K3","BRA01",0,{"$nulls":21},{"$f":"COUNTIF(Datenbank!BH:BH,Betriebeliste!A404)","v":1},{"$f":"MATCH(A404,Datenbank!BH:BH,0)","v":7168},0,{"$f":"COUNTIF(INDIRECT(\"Datenbank!BG\"&AB404&\":BG\"&AB404+AA404-1),\">=\"&Meldungen!$J$5)","v":0},{"$nulls":5},0]
["772","Brasilien: Campinas (772)","K3","BRA02",0,{"$nulls":21},{"$f":"COUNTIF(Datenbank!BH:BH,Betriebeliste!A405)","v":1},{"$f":"MATCH(A405,Datenbank!BH:BH,0)","v":7169},0,{"$f":"COUNTIF(INDIRECT(\"Datenbank!BG\"&AB405&\":BG\"&AB405+AA405-1),\">=\"&Meldungen!$J$5)","v":0},{"$nulls":5},0]
["773","Brasilien: Campos do Jordao (773)","K3","BRA03",0,{"$nulls":21},{"$f":"COUNTIF(Datenbank!BH:BH,Betriebeliste!A406)","v":1},{"$f":"MATCH(A406,Datenbank!BH:BH,0)","v":7170},0,{"$f":"COUNTIF(INDIRECT(\"Datenbank!BG\"&AB406&\":BG\"&AB406+AA406-1),\">=\"&Meldungen!$J$5)","v":0},{"$nulls":5},0]
["774","Brasilien: Itatinga (774)","K3","BRA04",0,{"$nulls":21},{"$f":"COUNTIF(Datenbank!BH:BH,Betriebeliste!A407)","v":1},{"$f":"MATCH(A407,Datenbank!BH:BH,0)","v":7171},0,{"$f":"COUNTIF(INDIRECT(\"Datenbank!BG\"&AB407&\":BG\"&AB407+AA407-1),\">=\"&Meldungen!$J$5)","v":0},{"$nulls":5},0]
["775","Brasilien: Recife (775)","K3","BRA05",0,{"$nulls":21},{"$f":"COUNTIF(Datenbank!BH:BH,Betriebeliste!A408)","v":1},{"$f":"MATCH(A408,Datenbank!BH:BH,0)","v":7172},0,{"$f":"COUNTIF(INDIRECT(\"Datenbank!BG\"&AB408&\":BG\"&AB408+AA408-1),\">=\"&Meldungen!$J$5)","v":0},{"$nulls":5},0]
["776","Brasilien: São Paulo (776)","K3","BRA07",0,{"$nulls":21},{"$f":"COUNTIF(Datenbank!BH:BH,Betriebeliste!A409)","v":1},{"$f":"MATCH(A409,Datenbank!BH:BH,0)","v":7173},0,{"$f":"COUNTIF(INDIRECT(\"Datenbank!BG\"&AB409&\":BG\"&AB409+AA409-1),\">=\"&Meldungen!$J$5)","v":0},{"$nulls":5},0]
["777","Chile: Valparaiso (777)","K3","CHL01",0,{"$nulls":21},{"$f":"COUNTIF(Datenbank!BH:BH,Betriebeliste!A410)","v":1},{"$f":"MATCH(A410,Datenbank!BH:BH,0)","v":7174},0,{"$f":"COUNTIF(INDIRECT(\"Datenbank!BG\"&AB410&\":BG\"&AB410+AA410-1),\">=\"&Meldungen!$J$5)","v":0},{"$nulls":5},0]
["778","China: Anshan (778)","K6","CHN01",0,{"$nulls":21},{"$f":"COUNTIF(Datenbank!BH:BH,Betriebeliste!A411)","v":1},{"$f":"MATCH(A411,Datenbank!BH:BH,0)","v":7175},0,{"$f":"COUNTIF(INDIRECT(\"Datenbank!BG\"&AB411&\":BG\"&AB411+AA411-1),\">=\"&Meldungen!$J$5)","v":0},{"$nulls":5},0]
["779","China: Changchun (779)","K6","CHN02",0,{"$nulls":21},{"$f":"COUNTIF(Datenbank!BH:BH,Betriebeliste!A412)","v":1},{"$f":"MATCH(A412,Datenbank!BH:BH,0)","v":7176},0,{"$f":"COUNTIF(INDIRECT(\"Datenbank!BG\"&AB412&\":BG\"&AB412+AA412-1),\">=\"&Meldungen!$J$5)","v":0},{"$nulls":5},0]
["780","China: Dalian (780)","K6","CHN03",0,{"$nulls":21},{"$f":"COUNTIF(Datenbank!BH:BH,Betriebeliste!A413)","v":1},{"$f":"MATCH(A413,Datenbank!BH:BH,0)","v":7177},0,{"$f":"COUNTIF(INDIRECT(\"Datenbank!BG\"&AB413&\":BG\"&AB413+AA413-1),\">=\"&Meldungen!$J$5)","v":0},{"$nulls":5},0]
["781","China: Harbin (781)","K6","CHN04",0,{"$nulls":21},{"$f":"COUNTIF(Datenbank!BH:BH,Betriebeliste!A414)","v":1},{"$f":"MATCH(A414,Datenbank!BH:BH,0)","v":7178},0,{"$f":"COUNTIF(INDIRECT(\"Datenbank!BG\"&AB414&\":BG\"&AB414+AA414-1),\">=\"&Meldungen!$J$5)","v":0},{"$nulls":5},0]
["782","China: Tuen Mun (782)","K6","CHN09",0,{"$nulls":21},{"$f":"COUNTIF(Datenbank!BH:BH,Betriebeliste!A415)","v":1},{"$f":"MATCH(A415,Datenbank!BH:BH,0)","v":7179},0,{"$f":"COUNTIF(INDIRECT(\"Datenbank!BG\"&AB415&\":BG\"&AB415+AA415-1),\">=\"&Meldungen!$J$5)","v":0},{"$nulls":5},0]
["783","Georgien: Tiflis (783)","K6","GEO01",0,{"$nulls":21},{"$f":"COUNTIF(Datenbank!BH:BH,Betriebeliste!A416)","v":1},{"$f":"MATCH(A416,Datenbank!BH:BH,0)","v":7180},0,{"$f":"COUNTIF(INDIRECT(\"Datenbank!BG\"&AB416&\":BG\"&AB416+AA416-1),\">=\"&Meldungen!$J$5)","v":0},{"$nulls":5},0]
["784","Japan: Enoshima (784)","K61","JPN01",0,{"$nulls":21},{"$f":"COUNTIF(Datenbank!BH:BH,Betriebeliste!A417)","v":1},{"$f":"MATCH(A417,Datenbank!BH:BH,0)","v":7181},0,{"$f":"COUNTIF(INDIRECT(\"Datenbank!BG\"&AB417&\":BG\"&AB417+AA417-1),\">=\"&Meldungen!$J$5)","v":0},{"$nulls":5},0]
["785","Japan: Fukui  (785)","K61","JPN02",0,{"$nulls":21},{"$f":"COUNTIF(Datenbank!BH:BH,Betriebeliste!A418)","v":1},{"$f":"MATCH(A418,Datenbank!BH:BH,0)","v":7182},0,{"$f":"COUNTIF(INDIRECT(\"Datenbank!BG\"&AB418&\":BG\"&AB418+AA418-1),\">=\"&Meldungen!$J$5)","v":0},{"$nulls":5},0]
["786","Japan: Gifu (786)","K61","JPN03",0,{"$nulls":21},{"$f":"COUNTIF(Datenbank!BH:BH,Betriebeliste!A419)","v":1},{"$f":"MATCH(A419,Datenbank!BH:BH,0)","v":7183},0,{"$f":"COUNTIF(INDIRECT(\"Datenbank!BG\"&AB419&\":BG\"&AB419+AA419-1),\">=\"&Meldungen!$J$5)","v":0},{"$nulls":5},0]
["787","Japan: Hakodate (787)","K61","JPN04",0,{"$nulls":21},{"$f":"COUNTIF(Datenbank!BH:BH,Betriebeliste!A420)","v":1},{"$f":"MATCH(A420,Datenbank!BH:BH,0)","v":7184},0,{"$f":"COUNTIF(INDIRECT(\"Datenbank!BG\"&AB420&\":BG\"&AB420+AA420-1),\">=\"&Meldungen!$J$5)","v":0},{"$nulls":5},0]
["788","Japan: Hiroshima (788)","K61","JPN05",0,{"$nulls":21},{"$f":"COUNTIF(Datenbank!BH:BH,Betriebeliste!A421)","v":1},{"$f":"MATCH(A421,Datenbank!BH:BH,0)","v":7185},0,{"$f":"COUNTIF(INDIRECT(\"Datenbank!BG\"&AB421&\":BG\"&AB421+AA421-1),\">=\"&Meldungen!$J$5)","v":0},{"$nulls":5},0]
["789","Japan: Kagoshima (789)","K61","JPN06",0,{"$nulls":21},{"$f":"COUNTIF(Datenbank!BH:BH,Betriebeliste!A422)","v":1},{"$f":"MATCH(A422,Datenbank!BH:BH,0)","v":7186},0,{"$f":"COUNTIF(INDIRECT(\"Datenbank!BG\"&AB422&\":BG\"&AB422+AA422-1),\">=\"&Meldungen!$J$5)","v":0},{"$nulls":5},0]
["790","Japan: Kitakyushu (790)","K61","JPN07",0,{"$nulls":21},{"$f":"COUNTIF(Datenbank!BH:BH,Betriebeliste!A423)","v":1},{"$f":"MATCH(A423,Datenbank!BH:BH,0)","v":7187},0,{"$f":"COUNTIF(INDIRECT(\"Datenbank!BG\"&AB423&\":BG\"&AB423+AA423-1),\">=\"&Meldungen!$J$5)","v":0},{"$nulls":5},0]
["791","Japan: Kochi (791)","K61","JPN08",0,{"$nulls":21},{"$f":"COUNTIF(Datenbank!BH:BH,Betriebeliste!A424)","v":1},{"$f":"MATCH(A424,Datenbank!BH:BH,0)","v":7188},0,{"$f":"COUNTIF(INDIRECT(\"Datenbank!BG\"&AB424&\":BG\"&AB424+AA424-1),\">=\"&Meldungen!$J$5)","v":0},{"$nulls":5},0]
["792","Japan: Kumamoto (792)","K61","JPN09",0,{"$nulls":21},{"$f":"COUNTIF(Datenbank!BH:BH,Betriebeliste!A425)","v":1},{"$f":"MATCH(A425,Datenbank!BH:BH,0)","v":7189},0,{"$f":"COUNTIF(INDIRECT(\"Datenbank!BG\"&AB425&\":BG\"&AB425+AA425-1),\">=\"&Meldungen!$J$5)","v":0},{"$nulls":5},0]
["793","Japan: Kyoto (793)","K61","JPN10",0,{"$nulls":21},{"$f":"COUNTIF(Datenbank!BH:BH,Betriebeliste!A426)","v":1},{"$f":"MATCH(A426,Datenbank!BH:BH,0)","v":7190},0,{"$f":"COUNTIF(INDIRECT(\"Datenbank!BG\"&AB426&\":BG\"&AB426+AA426-1),\">=\"&Meldungen!$J$5)","v":0},{"$nulls":5},0]
["794","Japan: Matsuyama (794)","K61","JPN11",0,{"$nulls":21},{"$f":"COUNTIF(Datenbank!BH:BH,Betriebeliste!A427)","v":1},{"$f":"MATCH(A427,Datenbank!BH:BH,0)","v":7191},0,{"$f":"COUNTIF(INDIRECT(\"Datenbank!BG\"&AB427&\":BG\"&AB427+AA427-1),\">=\"&Meldungen!$J$5)","v":0},{"$nulls":5},0]
["795","Japan: Nagasaki (795)","K61","JPN12",0,{"$nulls":21},{"$f":"COUNTIF(Datenbank!BH:BH,Betriebeliste!A428)","v":1},{"$f":"MATCH(A428,Datenbank!BH:BH,0)","v":7192},0,{"$f":"COUNTIF(INDIRECT(\"Datenbank!BG\"&AB428&\":BG\"&AB428+AA428-1),\">=\"&Meldungen!$J$5)","v":0},{"$nulls":5},0]
["796","Japan: Okayama (796)","K61","JPN13",0,{"$nulls":21},{"$f":"COUNTIF(Datenbank!BH:BH,Betriebeliste!A429)","v":1},{"$f":"MATCH(A429,Datenbank!BH:BH,0)","v":7193},0,{"$f":"COUNTIF(INDIRECT(\"Datenbank!BG\"&AB429&\":BG\"&AB429+AA429-1),\">=\"&Meldungen!$J$5)","v":0},{"$nulls":5},0]
["797","Japan: Osaka (797)","K61","JPN14",0,{"$nulls":21},{"$f":"COUNTIF(Datenbank!BH:BH,Betriebeliste!A430)","v":1},{"$f":"MATCH(A430,Datenbank!BH:BH,0)","v":7194},0,{"$f":"COUNTIF(INDIRECT(\"Datenbank!BG\"&AB430&\":BG\"&AB430+AA430-1),\">=\"&Meldungen!$J$5)","v":0},{"$nulls":5},0]
["798","Japan: Sapporo (798)","K61","JPN15",0,{"$nulls":21},{"$f":"COUNTIF(Datenbank!BH:BH,Betriebeliste!A431)","v":1},{"$f":"MATCH(A431,Datenbank!BH:BH,0)","v":7195},0,{"$f":"COUNTIF(INDIRECT(\"Datenbank!BG\"&AB431&\":BG\"&AB431+AA431-1),\">=\"&Meldungen!$J$5)","v":0},{"$nulls":5},0]
["799","Japan: Takaoka (799)","K61","JPN16",0,{"$nulls":21},{"$f":"COUNTIF(Datenbank!BH:BH,Betriebeliste!A432)","v":1},{"$f":"MATCH(A432,Datenbank!BH:BH,0)","v":7196},0,{"$f":"COUNTIF(INDIRECT(\"Datenbank!BG\"&AB432&\":BG\"&AB432+AA432-1),\">=\"&Meldungen!$J$5)","v":0},{"$nulls":5},0]
["800","Japan: Toyama (800)","K61","JPN18",0,{"$nulls":21},{"$f":"COUNTIF(Datenbank!BH:BH,Betriebeliste!A433)","v":1},{"$f":"MATCH(A433,Datenbank!BH:BH,0)","v":7197},0,{"$f":"COUNTIF(INDIRECT(\"Datenbank!BG\"&AB433&\":BG\"&AB433+AA433-1),\">=\"&Meldungen!$J$5)","v":0},{"$nulls":5},0]
["801","Japan: Toyohashi (801)","K61","JPN19",0,{"$nulls":21},{"$f":"COUNTIF(Datenbank!BH:BH,Betriebeliste!A434)","v":1},{"$f":"MATCH(A434,Datenbank!BH:BH,0)","v":7198},0,{"$f":"COUNTIF(INDIRECT(\"Datenbank!BG\"&AB434&\":BG\"&AB434+AA434-1),\">=\"&Meldungen!$J$5)","v":0},{"$nulls":5},0]
["802","Mexiko: Guadalajara (802)","K3","MEX01",0,{"$nulls":21},{"$f":"COUNTIF(Datenbank!BH:BH,Betriebeliste!A435)","v":1},{"$f":"MATCH(A435,Datenbank!BH:BH,0)","v":7199},0,{"$f":"COUNTIF(INDIRECT(\"Datenbank!BG\"&AB435&\":BG\"&AB435+AA435-1),\">=\"&Meldungen!$J$5)","v":0},{"$nulls":5},0]
["803","Mexiko: Monterrey (803)","K3","MEX03",0,{"$nulls":21},{"$f":"COUNTIF(Datenbank!BH:BH,Betriebeliste!A436)","v":1},{"$f":"MATCH(A436,Datenbank!BH:BH,0)","v":7200},0,{"$f":"COUNTIF(INDIRECT(\"Datenbank!BG\"&AB436&\":BG\"&AB436+AA436-1),\">=\"&Meldungen!$J$5)","v":0},{"$nulls":5},0]
["804","Mexiko: Veracruz (804)","K3","MEX04",0,{"$nulls":21},{"$f":"COUNTIF(Datenbank!BH:BH,Betriebeliste!A437)","v":1},{"$f":"MATCH(A437,Datenbank!BH:BH,0)","v":7201},0,{"$f":"COUNTIF(INDIRECT(\"Datenbank!BG\"&AB437&\":BG\"&AB437+AA437-1),\">=\"&Meldungen!$J$5)","v":0},{"$nulls":5},0]
["805","Paraguay: Asuncion (805)","K3","PRY01",0,{"$nulls":21},{"$f":"COUNTIF(Datenbank!BH:BH,Betriebeliste!A438)","v":1},{"$f":"MATCH(A438,Datenbank!BH:BH,0)","v":7202},0,{"$f":"COUNTIF(INDIRECT(\"Datenbank!BG\"&AB438&\":BG\"&AB438+AA438-1),\">=\"&Meldungen!$J$5)","v":0},{"$nulls":5},0]
["806","Rumänien: Botoșani [Botoschan] (806)","K4E","ROU02",0,{"$nulls":21},{"$f":"COUNTIF(Datenbank!BH:BH,Betriebeliste!A439)","v":1},{"$f":"MATCH(A439,Datenbank!BH:BH,0)","v":7203},0,{"$f":"COUNTIF(INDIRECT(\"Datenbank!BG\"&AB439&\":BG\"&AB439+AA439-1),\">=\"&Meldungen!$J$5)","v":0},{"$nulls":5},0]
["807","Rumänien: Brăila (807)","K4E","ROU03",0,{"$nulls":21},{"$f":"COUNTIF(Datenbank!BH:BH,Betriebeliste!A440)","v":1},{"$f":"MATCH(A440,Datenbank!BH:BH,0)","v":7204},0,{"$f":"COUNTIF(INDIRECT(\"Datenbank!BG\"&AB440&\":BG\"&AB440+AA440-1),\">=\"&Meldungen!$J$5)","v":0},{"$nulls":5},0]
["808","Rumänien: Cluj-Napoca [Klausenburg] (808)","K4E","ROU06",0,{"$nulls":21},{"$f":"COUNTIF(Datenbank!BH:BH,Betriebeliste!A441)","v":1},{"$f":"MATCH(A441,Datenbank!BH:BH,0)","v":7205},0,{"$f":"COUNTIF(INDIRECT(\"Datenbank!BG\"&AB441&\":BG\"&AB441+AA441-1),\">=\"&Meldungen!$J$5)","v":0},{"$nulls":5},0]
["809","Rumänien: Constanța [Konstanza] (809)","K4E","ROU07",0,{"$nulls":21},{"$f":"COUNTIF(Datenbank!BH:BH,Betriebeliste!A442)","v":1},{"$f":"MATCH(A442,Datenbank!BH:BH,0)","v":7206},0,{"$f":"COUNTIF(INDIRECT(\"Datenbank!BG\"&AB442&\":BG\"&AB442+AA442-1),\">=\"&Meldungen!$J$5)","v":0},{"$nulls":5},0]
["810","Rumänien: Craiova (810)","K4E","ROU08",0,{"$nulls":21},{"$f":"COUNTIF(Datenbank!BH:BH,Betriebeliste!A443)","v":1},{"$f":"MATCH(A443,Datenbank!BH:BH,0)","v":7207},0,{"$f":"COUNTIF(INDIRECT(\"Datenbank!BG\"&AB443&\":BG\"&AB443+AA443-1),\">=\"&Meldungen!$J$5)","v":0},{"$nulls":5},0]
["811","Rumänien: Galați [Galatz] (811)","K4E","ROU09",0,{"$nulls":21},{"$f":"COUNTIF(Datenbank!BH:BH,Betriebeliste!A444)","v":1},{"$f":"MATCH(A444,Datenbank!BH:BH,0)","v":7208},0,{"$f":"COUNTIF(INDIRECT(\"Datenbank!BG\"&AB444&\":BG\"&AB444+AA444-1),\">=\"&Meldungen!$J$5)","v":0},{"$nulls":5},0]
["812","Rumänien: Iași [Jassy] (812)","K4E","ROU10",0,{"$nulls":21},{"$f":"COUNTIF(Datenbank!BH:BH,Betriebeliste!A445)","v":1},{"$f":"MATCH(A445,Datenbank!BH:BH,0)","v":7209},0,{"$f":"COUNTIF(INDIRECT(\"Datenbank!BG\"&AB445&\":BG\"&AB445+AA445-1),\">=\"&Meldungen!$J$5)","v":0},{"$nulls":5},0]
["813","Rumänien: Oradea [Großwardein] (813)","K4E","ROU11",0,{"$nulls":21},{"$f":"COUNTIF(Datenbank!BH:BH,Betriebeliste!A446)","v":1},{"$f":"MATCH(A446,Datenbank!BH:BH,0)","v":7210},0,{"$f":"COUNTIF(INDIRECT(\"Datenbank!BG\"&AB446&\":BG\"&AB446+AA446-1),\">=\"&Meldungen!$J$5)","v":0},{"$nulls":5},0]
["814","Rumänien: Ploiești (814)","K4E","ROU12",0,{"$nulls":21},{"$f":"COUNTIF(Datenbank!BH:BH,Betriebeliste!A447)","v":1},{"$f":"MATCH(A447,Datenbank!BH:BH,0)","v":7211},0,{"$f":"COUNTIF(INDIRECT(\"Datenbank!BG\"&AB447&\":BG\"&AB447+AA447-1),\">=\"&Meldungen!$J$5)","v":0},{"$nulls":5},0]
["815","Rumänien: Reșița [Reschitz] (815)","K4E","ROU13",0,{"$nulls":21},{"$f":"COUNTIF(Datenbank!BH:BH,Betriebeliste!A448)","v":1},{"$f":"MATCH(A448,Datenbank!BH:BH,0)","v":7212},0,{"$f":"COUNTIF(INDIRECT(\"Datenbank!BG\"&AB448&\":BG\"&AB448+AA448-1),\">=\"&Meldungen!$J$5)","v":0},{"$nulls":5},0]
["816","Rumänien: Timișoara [Temeswar] (816)","K4E","ROU15",0,{"$nulls":21},{"$f":"COUNTIF(Datenbank!BH:BH,Betriebeliste!A449)","v":1},{"$f":"MATCH(A449,Datenbank!BH:BH,0)","v":7213},0,{"$f":"COUNTIF(INDIRECT(\"Datenbank!BG\"&AB449&\":BG\"&AB449+AA449-1),\">=\"&Meldungen!$J$5)","v":0},{"$nulls":5},0]
["817","Russland: Astrachan (817)","K4H","RUS02",0,{"$nulls":21},{"$f":"COUNTIF(Datenbank!BH:BH,Betriebeliste!A450)","v":1},{"$f":"MATCH(A450,Datenbank!BH:BH,0)","v":7214},0,{"$f":"COUNTIF(INDIRECT(\"Datenbank!BG\"&AB450&\":BG\"&AB450+AA450-1),\">=\"&Meldungen!$J$5)","v":0},{"$nulls":5},0]
["818","Russland: Atschinsk (818)","K4H","RUS03",0,{"$nulls":21},{"$f":"COUNTIF(Datenbank!BH:BH,Betriebeliste!A451)","v":1},{"$f":"MATCH(A451,Datenbank!BH:BH,0)","v":7215},0,{"$f":"COUNTIF(INDIRECT(\"Datenbank!BG\"&AB451&\":BG\"&AB451+AA451-1),\">=\"&Meldungen!$J$5)","v":0},{"$nulls":5},0]
["819","Russland: Barnaul (819)","K4H","RUS04",0,{"$nulls":21},{"$f":"COUNTIF(Datenbank!BH:BH,Betriebeliste!A452)","v":1},{"$f":"MATCH(A452,Datenbank!BH:BH,0)","v":7216},{"$f":"COUNTA(INDIRECT(\"Datenbank!B\"&AB452&\":B\"&AB452+AA452-1))","v":0},{"$f":"COUNTIF(INDIRECT(\"Datenbank!BG\"&AB452&\":BG\"&AB452+AA452-1),\">=\"&Meldungen!$J$5)","v":0},{"$nulls":5},{"$f":"AB452-AA451-AB451","v":0}]
["820","Russland: Irkutsk (820)","K4H","RUS05",0,{"$nulls":21},{"$f":"COUNTIF(Datenbank!BH:BH,Betriebeliste!A453)","v":1},{"$f":"MATCH(A453,Datenbank!BH:BH,0)","v":7217},0,{"$f":"COUNTIF(INDIRECT(\"Datenbank!BG\"&AB453&\":BG\"&AB453+AA453-1),\">=\"&Meldungen!$J$5)","v":0},{"$nulls":5},0]
["821","Russland: Iwanowo (821)","K4G","RUS06",0,{"$nulls":21},{"$f":"COUNTIF(Datenbank!BH:BH,Betriebeliste!A454)","v":1},{"$f":"MATCH(A454,Datenbank!BH:BH,0)","v":7218},0,{"$f":"COUNTIF(INDIRECT(\"Datenbank!BG\"&AB454&\":BG\"&AB454+AA454-1),\">=\"&Meldungen!$J$5)","v":0},{"$nulls":5},0]
["822","Russland: Jaroslawl (822)","K4G","RUS07",0,{"$nulls":21},{"$f":"COUNTIF(Datenbank!BH:BH,Betriebeliste!A455)","v":1},{"$f":"MATCH(A455,Datenbank!BH:BH,0)","v":7219},0,{"$f":"COUNTIF(INDIRECT(\"Datenbank!BG\"&AB455&\":BG\"&AB455+AA455-1),\">=\"&Meldungen!$J$5)","v":0},{"$nulls":5},0]
["823","Russland: Jekatarinburg [Swerdlowsk] (823)","K4H","RUS08",0,{"$nulls":21},{"$f":"COUNTIF(Datenbank!BH:BH,Betriebeliste!A456)","v":1},{"$f":"MATCH(A456,Datenbank!BH:BH,0)","v":7220},0,{"$f":"COUNTIF(INDIRECT(\"Datenbank!BG\"&AB456&\":BG\"&AB456+AA456-1),\">=\"&Meldungen!$J$5)","v":0},{"$nulls":5},0]
["824","Russland: Kasan (824)","K4H","RUS10",0,{"$nulls":21},{"$f":"COUNTIF(Datenbank!BH:BH,Betriebeliste!A457)","v":1},{"$f":"MATCH(A457,Datenbank!BH:BH,0)","v":7221},0,{"$f":"COUNTIF(INDIRECT(\"Datenbank!BG\"&AB457&\":BG\"&AB457+AA457-1),\">=\"&Meldungen!$J$5)","v":0},{"$nulls":5},0]
["825","Russland: Kemerowo (825)","K4H","RUS11",0,{"$nulls":21},{"$f":"COUNTIF(Datenbank!BH:BH,Betriebeliste!A458)","v":1},{"$f":"MATCH(A458,Datenbank!BH:BH,0)","v":7222},0,{"$f":"COUNTIF(INDIRECT(\"Datenbank!BG\"&AB458&\":BG\"&AB458+AA458-1),\">=\"&Meldungen!$J$5)","v":0},{"$nulls":5},0]
["826","Russland: Krasnoturjinsk (826)","K4H","RUS12",0,{"$nulls":21},{"$f":"COUNTIF(Datenbank!BH:BH,Betriebeliste!A459)","v":1},{"$f":"MATCH(A459,Datenbank!BH:BH,0)","v":7223},0,{"$f":"COUNTIF(INDIRECT(\"Datenbank!BG\"&AB459&\":BG\"&AB459+AA459-1),\">=\"&Meldungen!$J$5)","v":0},{"$nulls":5},0]
["827","Russland: Lipezk (827)","K4G","RUS13",0,{"$nulls":21},{"$f":"COUNTIF(Datenbank!BH:BH,Betriebeliste!A460)","v":1},{"$f":"MATCH(A460,Datenbank!BH:BH,0)","v":7224},0,{"$f":"COUNTIF(INDIRECT(\"Datenbank!BG\"&AB460&\":BG\"&AB460+AA460-1),\">=\"&Meldungen!$J$5)","v":0},{"$nulls":5},0]
["828","Russland: Magnitogorsk (828)","K4H","RUS14",0,{"$nulls":21},{"$f":"COUNTIF(Datenbank!BH:BH,Betriebeliste!A461)","v":1},{"$f":"MATCH(A461,Datenbank!BH:BH,0)","v":7225},0,{"$f":"COUNTIF(INDIRECT(\"Datenbank!BG\"&AB461&\":BG\"&AB461+AA461-1),\">=\"&Meldungen!$J$5)","v":0},{"$nulls":5},0]
["829","Russland: Molotschnoje (829)","K4G","RUS15",0,{"$nulls":21},{"$f":"COUNTIF(Datenbank!BH:BH,Betriebeliste!A462)","v":1},{"$f":"MATCH(A462,Datenbank!BH:BH,0)","v":7226},0,{"$f":"COUNTIF(INDIRECT(\"Datenbank!BG\"&AB462&\":BG\"&AB462+AA462-1),\">=\"&Meldungen!$J$5)","v":0},{"$nulls":5},0]
["830","Russland: Nischni Nowgorod [Gorki] (830)","K4H","RUS17",0,{"$nulls":21},{"$f":"COUNTIF(Datenbank!BH:BH,Betriebeliste!A463)","v":1},{"$f":"MATCH(A463,Datenbank!BH:BH,0)","v":7227},0,{"$f":"COUNTIF(INDIRECT(\"Datenbank!BG\"&AB463&\":BG\"&AB463+AA463-1),\">=\"&Meldungen!$J$5)","v":0},{"$nulls":5},0]
["831","Russland: Nischni Tagil (831)","K4H","RUS18",0,{"$nulls":21},{"$f":"COUNTIF(Datenbank!BH:BH,Betriebeliste!A464)","v":1},{"$f":"MATCH(A464,Datenbank!BH:BH,0)","v":7228},0,{"$f":"COUNTIF(INDIRECT(\"Datenbank!BG\"&AB464&\":BG\"&AB464+AA464-1),\">=\"&Meldungen!$J$5)","v":0},{"$nulls":5},0]
["832","Russland: Noginsk (832)","K4G","RUS19",0,{"$nulls":21},{"$f":"COUNTIF(Datenbank!BH:BH,Betriebeliste!A465)","v":1},{"$f":"MATCH(A465,Datenbank!BH:BH,0)","v":7229},0,{"$f":"COUNTIF(INDIRECT(\"Datenbank!BG\"&AB465&\":BG\"&AB465+AA465-1),\">=\"&Meldungen!$J$5)","v":0},{"$nulls":5},0]
["833","Russland: Nowokusnezk (833)","K4G","RUS20",0,{"$nulls":21},{"$f":"COUNTIF(Datenbank!BH:BH,Betriebeliste!A466)","v":1},{"$f":"MATCH(A466,Datenbank!BH:BH,0)","v":7230},0,{"$f":"COUNTIF(INDIRECT(\"Datenbank!BG\"&AB466&\":BG\"&AB466+AA466-1),\">=\"&Meldungen!$J$5)","v":0},{"$nulls":5},0]
["834","Russland: Orsk (834)","K4H","RUS21",0,{"$nulls":21},{"$f":"COUNTIF(Datenbank!BH:BH,Betriebeliste!A467)","v":1},{"$f":"MATCH(A467,Datenbank!BH:BH,0)","v":7231},0,{"$f":"COUNTIF(INDIRECT(\"Datenbank!BG\"&AB467&\":BG\"&AB467+AA467-1),\">=\"&Meldungen!$J$5)","v":0},{"$nulls":5},0]
["835","Russland: Rostow am Don (835)","K4H","RUS22",0,{"$nulls":21},{"$f":"COUNTIF(Datenbank!BH:BH,Betriebeliste!A468)","v":1},{"$f":"MATCH(A468,Datenbank!BH:BH,0)","v":7232},0,{"$f":"COUNTIF(INDIRECT(\"Datenbank!BG\"&AB468&\":BG\"&AB468+AA468-1),\">=\"&Meldungen!$J$5)","v":0},{"$nulls":5},0]
["836","Russland: Salawat (836)","K4H","RUS23",0,{"$nulls":21},{"$f":"COUNTIF(Datenbank!BH:BH,Betriebeliste!A469)","v":1},{"$f":"MATCH(A469,Datenbank!BH:BH,0)","v":7233},0,{"$f":"COUNTIF(INDIRECT(\"Datenbank!BG\"&AB469&\":BG\"&AB469+AA469-1),\">=\"&Meldungen!$J$5)","v":0},{"$nulls":5},0]
["837","Russland: Stary Oskol (837)","K4G","RUS28",0,{"$nulls":21},{"$f":"COUNTIF(Datenbank!BH:BH,Betriebeliste!A470)","v":1},{"$f":"MATCH(A470,Datenbank!BH:BH,0)","v":7234},0,{"$f":"COUNTIF(INDIRECT(\"Datenbank!BG\"&AB470&\":BG\"&AB470+AA470-1),\">=\"&Meldungen!$J$5)","v":0},{"$nulls":5},0]
["838","Russland: Tscherepowez  (838)","K4G","RUS31",0,{"$nulls":21},{"$f":"COUNTIF(Datenbank!BH:BH,Betriebeliste!A471)","v":1},{"$f":"MATCH(A471,Datenbank!BH:BH,0)","v":7235},0,{"$f":"COUNTIF(INDIRECT(\"Datenbank!BG\"&AB471&\":BG\"&AB471+AA471-1),\">=\"&Meldungen!$J$5)","v":0},{"$nulls":5},0]
["839","Russland: Twer [Kalinin] (839)","K4G","RUS33",0,{"$nulls":21},{"$f":"COUNTIF(Datenbank!BH:BH,Betriebeliste!A472)","v":1},{"$f":"MATCH(A472,Datenbank!BH:BH,0)","v":7236},0,{"$f":"COUNTIF(INDIRECT(\"Datenbank!BG\"&AB472&\":BG\"&AB472+AA472-1),\">=\"&Meldungen!$J$5)","v":0},{"$nulls":5},0]
["840","Russland: Ufa (840)","K4H","RUS34",0,{"$nulls":21},{"$f":"COUNTIF(Datenbank!BH:BH,Betriebeliste!A473)","v":1},{"$f":"MATCH(A473,Datenbank!BH:BH,0)","v":7237},0,{"$f":"COUNTIF(INDIRECT(\"Datenbank!BG\"&AB473&\":BG\"&AB473+AA473-1),\">=\"&Meldungen!$J$5)","v":0},{"$nulls":5},0]
["841","Russland: Ust-Kataw (841)","K4H","RUS35",0,{"$nulls":21},{"$f":"COUNTIF(Datenbank!BH:BH,Betriebeliste!A474)","v":1},{"$f":"MATCH(A474,Datenbank!BH:BH,0)","v":7238},0,{"$f":"COUNTIF(INDIRECT(\"Datenbank!BG\"&AB474&\":BG\"&AB474+AA474-1),\">=\"&Meldungen!$J$5)","v":0},{"$nulls":5},0]
["842","Russland: Wladiwostok (842)","K6","RUS36",0,{"$nulls":21},{"$f":"COUNTIF(Datenbank!BH:BH,Betriebeliste!A475)","v":1},{"$f":"MATCH(A475,Datenbank!BH:BH,0)","v":7239},0,{"$f":"COUNTIF(INDIRECT(\"Datenbank!BG\"&AB475&\":BG\"&AB475+AA475-1),\">=\"&Meldungen!$J$5)","v":0},{"$nulls":5},0]
["843","Russland: Woltschansk (843)","K4H","RUS40",0,{"$nulls":21},{"$f":"COUNTIF(Datenbank!BH:BH,Betriebeliste!A476)","v":1},{"$f":"MATCH(A476,Datenbank!BH:BH,0)","v":7240},0,{"$f":"COUNTIF(INDIRECT(\"Datenbank!BG\"&AB476&\":BG\"&AB476+AA476-1),\">=\"&Meldungen!$J$5)","v":0},{"$nulls":5},0]
["844","Russland: Wolgograd [Stalingrad] (844)","K4H","RUS37",0,{"$nulls":21},{"$f":"COUNTIF(Datenbank!BH:BH,Betriebeliste!A477)","v":1},{"$f":"MATCH(A477,Datenbank!BH:BH,0)","v":7241},0,{"$f":"COUNTIF(INDIRECT(\"Datenbank!BG\"&AB477&\":BG\"&AB477+AA477-1),\">=\"&Meldungen!$J$5)","v":0},{"$nulls":5},0]
["845","Russland: Wologda (845)","K4G","RUS38",0,{"$nulls":21},{"$f":"COUNTIF(Datenbank!BH:BH,Betriebeliste!A478)","v":1},{"$f":"MATCH(A478,Datenbank!BH:BH,0)","v":7242},0,{"$f":"COUNTIF(INDIRECT(\"Datenbank!BG\"&AB478&\":BG\"&AB478+AA478-1),\">=\"&Meldungen!$J$5)","v":0},{"$nulls":5},0]
["846","Russland: Wolsk (846)","K4H","RUS39",0,{"$nulls":21},{"$f":"COUNTIF(Datenbank!BH:BH,Betriebeliste!A479)","v":1},{"$f":"MATCH(A479,Datenbank!BH:BH,0)","v":7243},0,{"$f":"COUNTIF(INDIRECT(\"Datenbank!BG\"&AB479&\":BG\"&AB479+AA479-1),\">=\"&Meldungen!$J$5)","v":0},{"$nulls":5},0]
["847","Russland: Woronesch (847)","K4G","RUS41",0,{"$nulls":21},{"$f":"COUNTIF(Datenbank!BH:BH,Betriebeliste!A480)","v":1},{"$f":"MATCH(A480,Datenbank!BH:BH,0)","v":7244},0,{"$f":"COUNTIF(INDIRECT(\"Datenbank!BG\"&AB480&\":BG\"&AB480+AA480-1),\">=\"&Meldungen!$J$5)","v":0},{"$nulls":5},0]
["848","Singapur (848)","K6","SGP01",0,{"$nulls":21},{"$f":"COUNTIF(Datenbank!BH:BH,Betriebeliste!A481)","v":1},{"$f":"MATCH(A481,Datenbank!BH:BH,0)","v":7245},0,{"$f":"COUNTIF(INDIRECT(\"Datenbank!BG\"&AB481&\":BG\"&AB481+AA481-1),\">=\"&Meldungen!$J$5)","v":0},{"$nulls":5},0]
["849","Türkei: Ankara (849)","K4D","TUR01",0,{"$nulls":21},{"$f":"COUNTIF(Datenbank!BH:BH,Betriebeliste!A482)","v":1},{"$f":"MATCH(A482,Datenbank!BH:BH,0)","v":7246},0,{"$f":"COUNTIF(INDIRECT(\"Datenbank!BG\"&AB482&\":BG\"&AB482+AA482-1),\">=\"&Meldungen!$J$5)","v":0},{"$nulls":5},0]
["850","Türkei: Antalya (850)","K4D","TUR02",0,{"$nulls":21},{"$f":"COUNTIF(Datenbank!BH:BH,Betriebeliste!A483)","v":1},{"$f":"MATCH(A483,Datenbank!BH:BH,0)","v":7247},0,{"$f":"COUNTIF(INDIRECT(\"Datenbank!BG\"&AB483&\":BG\"&AB483+AA483-1),\">=\"&Meldungen!$J$5)","v":0},{"$nulls":5},0]
["851","Türkei: Bursa (851)","K4D","TUR03",0,{"$nulls":21},{"$f":"COUNTIF(Datenbank!BH:BH,Betriebeliste!A484)","v":1},{"$f":"MATCH(A484,Datenbank!BH:BH,0)","v":7248},0,{"$f":"COUNTIF(INDIRECT(\"Datenbank!BG\"&AB484&\":BG\"&AB484+AA484-1),\">=\"&Meldungen!$J$5)","v":0},{"$nulls":5},0]
["852","Türkei: Eskishehir (852)","K4D","TUR04",0,{"$nulls":21},{"$f":"COUNTIF(Datenbank!BH:BH,Betriebeliste!A485)","v":1},{"$f":"MATCH(A485,Datenbank!BH:BH,0)","v":7249},0,{"$f":"COUNTIF(INDIRECT(\"Datenbank!BG\"&AB485&\":BG\"&AB485+AA485-1),\">=\"&Meldungen!$J$5)","v":0},{"$nulls":5},0]
["853","Türkei: Izmir (853)","K4D","TUR06",0,{"$nulls":21},{"$f":"COUNTIF(Datenbank!BH:BH,Betriebeliste!A486)","v":1},{"$f":"MATCH(A486,Datenbank!BH:BH,0)","v":7250},0,{"$f":"COUNTIF(INDIRECT(\"Datenbank!BG\"&AB486&\":BG\"&AB486+AA486-1),\">=\"&Meldungen!$J$5)","v":0},{"$nulls":5},0]
["854","Türkei: Konya (854)","K4D","TUR07",0,{"$nulls":21},{"$f":"COUNTIF(Datenbank!BH:BH,Betriebeliste!A487)","v":1},{"$f":"MATCH(A487,Datenbank!BH:BH,0)","v":7251},0,{"$f":"COUNTIF(INDIRECT(\"Datenbank!BG\"&AB487&\":BG\"&AB487+AA487-1),\">=\"&Meldungen!$J$5)","v":0},{"$nulls":5},0]
["855","Ukraine: Jewpatorija [Eupatoria] (855)","K4C","UKR03",0,{"$nulls":21},{"$f":"COUNTIF(Datenbank!BH:BH,Betriebeliste!A488)","v":1},{"$f":"MATCH(A488,Datenbank!BH:BH,0)","v":7252},0,{"$f":"COUNTIF(INDIRECT(\"Datenbank!BG\"&AB488&\":BG\"&AB488+AA488-1),\">=\"&Meldungen!$J$5)","v":0},{"$nulls":5},0]
["856","Ukraine: Konotop (856)","K4C","UKR06",0,{"$nulls":21},{"$f":"COUNTIF(Datenbank!BH:BH,Betriebeliste!A489)","v":1},{"$f":"MATCH(A489,Datenbank!BH:BH,0)","v":7253},0,{"$f":"COUNTIF(INDIRECT(\"Datenbank!BG\"&AB489&\":BG\"&AB489+AA489-1),\">=\"&Meldungen!$J$5)","v":0},{"$nulls":5},0]
["857","Ukraine: Saporischschja (857)","K4C","UKR11",0,{"$nulls":21},{"$f":"COUNTIF(Datenbank!BH:BH,Betriebeliste!A490)","v":1},{"$f":"MATCH(A490,Datenbank!BH:BH,0)","v":7254},0,{"$f":"COUNTIF(INDIRECT(\"Datenbank!BG\"&AB490&\":BG\"&AB490+AA490-1),\">=\"&Meldungen!$J$5)","v":0},{"$nulls":5},0]
["858","Ukraine: Schytomyr [Schitomir] (858)","K4C","UKR12",0,{"$nulls":21},{"$f":"COUNTIF(Datenbank!BH:BH,Betriebeliste!A491)","v":1},{"$f":"MATCH(A491,Datenbank!BH:BH,0)","v":7255},0,{"$f":"COUNTIF(INDIRECT(\"Datenbank!BG\"&AB491&\":BG\"&AB491+AA491-1),\">=\"&Meldungen!$J$5)","v":0},{"$nulls":5},0]
["859","Ukraine: Kostjantyniwka (859)","K4C","UKR07",0,{"$nulls":21},{"$f":"COUNTIF(Datenbank!BH:BH,Betriebeliste!A492)","v":1},{"$f":"MATCH(A492,Datenbank!BH:BH,0)","v":7256},0,{"$f":"COUNTIF(INDIRECT(\"Datenbank!BG\"&AB492&\":BG\"&AB492+AA492-1),\">=\"&Meldungen!$J$5)","v":0},{"$nulls":5},0]
["860","Ukraine: Ternopil (860)","K4C","UKR13",0,{"$nulls":21},{"$f":"COUNTIF(Datenbank!BH:BH,Betriebeliste!A493)","v":1},{"$f":"MATCH(A493,Datenbank!BH:BH,0)","v":7257},0,{"$f":"COUNTIF(INDIRECT(\"Datenbank!BG\"&AB493&\":BG\"&AB493+AA493-1),\">=\"&Meldungen!$J$5)","v":0},{"$nulls":5},0]
["861","Ukraine: Winnyzja [Winniza] (861)","K4C","UKR14",0,{"$nulls":21},{"$f":"COUNTIF(Datenbank!BH:BH,Betriebeliste!A494)","v":1},{"$f":"MATCH(A494,Datenbank!BH:BH,0)","v":7258},0,{"$f":"COUNTIF(INDIRECT(\"Datenbank!BG\"&AB494&\":BG\"&AB494+AA494-1),\">=\"&Meldungen!$J$5)","v":0},{"$nulls":5},0]
["862","USA: Atlanta, GA (862)","K2","US104",0,{"$nulls":21},{"$f":"COUNTIF(Datenbank!BH:BH,Betriebeliste!A495)","v":1},{"$f":"MATCH(A495,Datenbank!BH:BH,0)","v":7259},0,{"$f":"COUNTIF(INDIRECT(\"Datenbank!BG\"&AB495&\":BG\"&AB495+AA495-1),\">=\"&Meldungen!$J$5)","v":0},{"$nulls":5},0]
["863","USA: Chicago, IL (863)","K23","US114",0,{"$nulls":21},{"$f":"COUNTIF(Datenbank!BH:BH,Betriebeliste!A496)","v":1},{"$f":"MATCH(A496,Datenbank!BH:BH,0)","v":7260},0,{"$f":"COUNTIF(INDIRECT(\"Datenbank!BG\"&AB496&\":BG\"&AB496+AA496-1),\">=\"&Meldungen!$J$5)","v":0},{"$nulls":5},0]
["864","USA: Denver, CO (864)","K2","US122",0,{"$nulls":21},{"$f":"COUNTIF(Datenbank!BH:BH,Betriebeliste!A497)","v":1},{"$f":"MATCH(A497,Datenbank!BH:BH,0)","v":7261},0,{"$f":"COUNTIF(INDIRECT(\"Datenbank!BG\"&AB497&\":BG\"&AB497+AA497-1),\">=\"&Meldungen!$J$5)","v":0},{"$nulls":5},0]
["865","USA: Fort Worth, TX (865)","K2","US128",0,{"$nulls":21},{"$f":"COUNTIF(Datenbank!BH:BH,Betriebeliste!A498)","v":1},{"$f":"MATCH(A498,Datenbank!BH:BH,0)","v":7262},0,{"$f":"COUNTIF(INDIRECT(\"Datenbank!BG\"&AB498&\":BG\"&AB498+AA498-1),\">=\"&Meldungen!$J$5)","v":0},{"$nulls":5},0]
["866","USA: Houston, TX (866)","K2","US134",0,{"$nulls":21},{"$f":"COUNTIF(Datenbank!BH:BH,Betriebeliste!A499)","v":1},{"$f":"MATCH(A499,Datenbank!BH:BH,0)","v":7263},0,{"$f":"COUNTIF(INDIRECT(\"Datenbank!BG\"&AB499&\":BG\"&AB499+AA499-1),\">=\"&Meldungen!$J$5)","v":0},{"$nulls":5},0]
["867","USA: Kenosha, WI (867)","K23","US137",0,{"$nulls":21},{"$f":"COUNTIF(Datenbank!BH:BH,Betriebeliste!A500)","v":1},{"$f":"MATCH(A500,Datenbank!BH:BH,0)","v":7264},0,{"$f":"COUNTIF(INDIRECT(\"Datenbank!BG\"&AB500&\":BG\"&AB500+AA500-1),\">=\"&Meldungen!$J$5)","v":0},{"$nulls":5},0]
["868","USA: Los Angeles, CA (868)","K22","US141",0,{"$nulls":21},{"$f":"COUNTIF(Datenbank!BH:BH,Betriebeliste!A501)","v":1},{"$f":"MATCH(A501,Datenbank!BH:BH,0)","v":7265},0,{"$f":"COUNTIF(INDIRECT(\"Datenbank!BG\"&AB501&\":BG\"&AB501+AA501-1),\">=\"&Meldungen!$J$5)","v":0},{"$nulls":5},0]
["869","USA: Pittsburgh, PA (869)","K21","US213",0,{"$nulls":21},{"$f":"COUNTIF(Datenbank!BH:BH,Betriebeliste!A502)","v":1},{"$f":"MATCH(A502,Datenbank!BH:BH,0)","v":7266},0,{"$f":"COUNTIF(INDIRECT(\"Datenbank!BG\"&AB502&\":BG\"&AB502+AA502-1),\">=\"&Meldungen!$J$5)","v":0},{"$nulls":5},0]
["870","USA: San José (870)","K22","US220",0,{"$nulls":21},{"$f":"COUNTIF(Datenbank!BH:BH,Betriebeliste!A503)","v":1},{"$f":"MATCH(A503,Datenbank!BH:BH,0)","v":7267},0,{"$f":"COUNTIF(INDIRECT(\"Datenbank!BG\"&AB503&\":BG\"&AB503+AA503-1),\">=\"&Meldungen!$J$5)","v":0},{"$nulls":5},0]
["871","USA: Seattle, WA (871)","K2","US224",0,{"$nulls":21},{"$f":"COUNTIF(Datenbank!BH:BH,Betriebeliste!A504)","v":1},{"$f":"MATCH(A504,Datenbank!BH:BH,0)","v":7268},0,{"$f":"COUNTIF(INDIRECT(\"Datenbank!BG\"&AB504&\":BG\"&AB504+AA504-1),\">=\"&Meldungen!$J$5)","v":0},{"$nulls":5},0]
["872","USA: Takoma, WA (872)","K2","US229",0,{"$nulls":21},{"$f":"COUNTIF(Datenbank!BH:BH,Betriebeliste!A505)","v":1},{"$f":"MATCH(A505,Datenbank!BH:BH,0)","v":7269},0,{"$f":"COUNTIF(INDIRECT(\"Datenbank!BG\"&AB505&\":BG\"&AB505+AA505-1),\">=\"&Meldungen!$J$5)","v":0},{"$nulls":5},0]
["1101","Vereinigtes Königreich: Bolton (1101)","K4121","GB109",0,{"$nulls":21},{"$f":"COUNTIF(Datenbank!BH:BH,Betriebeliste!A506)","v":3},{"$f":"MATCH(A506,Datenbank!BH:BH,0)","v":7270},0,{"$f":"COUNTIF(INDIRECT(\"Datenbank!BG\"&AB506&\":BG\"&AB506+AA506-1),\">=\"&Meldungen!$J$5)","v":0},{"$nulls":5},0]
["1102","Vereinigtes Königreich: Halifax (1102)","K4121","GB131",0,{"$nulls":21},{"$f":"COUNTIF(Datenbank!BH:BH,Betriebeliste!A507)","v":4},{"$f":"MATCH(A507,Datenbank!BH:BH,0)","v":7273},0,{"$f":"COUNTIF(INDIRECT(\"Datenbank!BG\"&AB507&\":BG\"&AB507+AA507-1),\">=\"&Meldungen!$J$5)","v":0},{"$nulls":5},0]
["1103","Vereinigtes Königreich: St.  Helens (1103)","K413","GB228",0,{"$nulls":21},{"$f":"COUNTIF(Datenbank!BH:BH,Betriebeliste!A508)","v":1},{"$f":"MATCH(A508,Datenbank!BH:BH,0)","v":7277},0,{"$f":"COUNTIF(INDIRECT(\"Datenbank!BG\"&AB508&\":BG\"&AB508+AA508-1),\">=\"&Meldungen!$J$5)","v":0},{"$nulls":5},0]
["1106","Vereinigtes Königreich: Birkenhead (1106)","K4121","GB105",0,{"$nulls":21},{"$f":"COUNTIF(Datenbank!BH:BH,Betriebeliste!A509)","v":2},{"$f":"MATCH(A509,Datenbank!BH:BH,0)","v":7278},0,{"$f":"COUNTIF(INDIRECT(\"Datenbank!BG\"&AB509&\":BG\"&AB509+AA509-1),\">=\"&Meldungen!$J$5)","v":0},{"$nulls":5},0]
["1109","Vereinigtes Königreich: Newcastle (1109)","K411","GB213",0,{"$nulls":21},{"$f":"COUNTIF(Datenbank!BH:BH,Betriebeliste!A510)","v":3},{"$f":"MATCH(A510,Datenbank!BH:BH,0)","v":7280},0,{"$f":"COUNTIF(INDIRECT(\"Datenbank!BG\"&AB510&\":BG\"&AB510+AA510-1),\">=\"&Meldungen!$J$5)","v":0},{"$nulls":5},0]
["1111","Vereinigtes Königreich: Brighton (1111)","K413","GB112",0,{"$nulls":21},{"$f":"COUNTIF(Datenbank!BH:BH,Betriebeliste!A511)","v":5},{"$f":"MATCH(A511,Datenbank!BH:BH,0)","v":7283},0,{"$f":"COUNTIF(INDIRECT(\"Datenbank!BG\"&AB511&\":BG\"&AB511+AA511-1),\">=\"&Meldungen!$J$5)","v":0},{"$nulls":5},0]
["1112","Vereinigtes Königreich: Eastbourne (1112)","K413","GB123",0,{"$nulls":21},{"$f":"COUNTIF(Datenbank!BH:BH,Betriebeliste!A512)","v":1},{"$f":"MATCH(A512,Datenbank!BH:BH,0)","v":7288},0,{"$f":"COUNTIF(INDIRECT(\"Datenbank!BG\"&AB512&\":BG\"&AB512+AA512-1),\">=\"&Meldungen!$J$5)","v":0},{"$nulls":5},0]
["1113","Vereinigtes Königreich: Darwen (1113)","K4121","GB121",0,{"$nulls":21},{"$f":"COUNTIF(Datenbank!BH:BH,Betriebeliste!A513)","v":4},{"$f":"MATCH(A513,Datenbank!BH:BH,0)","v":7289},0,{"$f":"COUNTIF(INDIRECT(\"Datenbank!BG\"&AB513&\":BG\"&AB513+AA513-1),\">=\"&Meldungen!$J$5)","v":0},{"$nulls":5},0]
["1117","Vereinigtes Königreich: Northampton (1117)","K413","GB214",0,{"$nulls":21},{"$f":"COUNTIF(Datenbank!BH:BH,Betriebeliste!A514)","v":1},{"$f":"MATCH(A514,Datenbank!BH:BH,0)","v":7293},0,{"$f":"COUNTIF(INDIRECT(\"Datenbank!BG\"&AB514&\":BG\"&AB514+AA514-1),\">=\"&Meldungen!$J$5)","v":0},{"$nulls":5},0]
["1119","Vereinigtes Königreich: Huddersfield (1119)","K4121","GB133",0,{"$nulls":21},{"$f":"COUNTIF(Datenbank!BH:BH,Betriebeliste!A515)","v":5},{"$f":"MATCH(A515,Datenbank!BH:BH,0)","v":7294},0,{"$f":"COUNTIF(INDIRECT(\"Datenbank!BG\"&AB515&\":BG\"&AB515+AA515-1),\">=\"&Meldungen!$J$5)","v":0},{"$nulls":5},0]
["1120","Vereinigtes Königreich: Nottingham (1120)","K412","GB215",0,{"$nulls":21},{"$f":"COUNTIF(Datenbank!BH:BH,Betriebeliste!A516)","v":7},{"$f":"MATCH(A516,Datenbank!BH:BH,0)","v":7299},{"$f":"COUNTA(INDIRECT(\"Datenbank!B\"&AB516&\":B\"&AB516+AA516-1))","v":0},{"$f":"COUNTIF(INDIRECT(\"Datenbank!BG\"&AB516&\":BG\"&AB516+AA516-1),\">=\"&Meldungen!$J$5)","v":0},{"$nulls":5},{"$f":"AB516-AA515-AB515","v":0}]
["1122","Vereinigtes Königreich: Wolverhampton (1122)","K412","GB239",0,{"$nulls":21},{"$f":"COUNTIF(Datenbank!BH:BH,Betriebeliste!A517)","v":1},{"$f":"MATCH(A517,Datenbank!BH:BH,0)","v":7306},0,{"$f":"COUNTIF(INDIRECT(\"Datenbank!BG\"&AB517&\":BG\"&AB517+AA517-1),\">=\"&Meldungen!$J$5)","v":0},{"$nulls":5},0]
["1123","Vereinigtes Königreich: Coventry (1123)","K412","GB118",0,{"$nulls":21},{"$f":"COUNTIF(Datenbank!BH:BH,Betriebeliste!A518)","v":5},{"$f":"MATCH(A518,Datenbank!BH:BH,0)","v":7307},0,{"$f":"COUNTIF(INDIRECT(\"Datenbank!BG\"&AB518&\":BG\"&AB518+AA518-1),\">=\"&Meldungen!$J$5)","v":0},{"$nulls":5},0]
["1125","Vereinigtes Königreich: West Hartlepool (1125)","K411","GB238",0,{"$nulls":21},{"$f":"COUNTIF(Datenbank!BH:BH,Betriebeliste!A519)","v":1},{"$f":"MATCH(A519,Datenbank!BH:BH,0)","v":7312},0,{"$f":"COUNTIF(INDIRECT(\"Datenbank!BG\"&AB519&\":BG\"&AB519+AA519-1),\">=\"&Meldungen!$J$5)","v":0},{"$nulls":5},0]
["1128","Vereinigtes Königreich: Bristol (1128)","K413","GB113",0,{"$nulls":21},{"$f":"COUNTIF(Datenbank!BH:BH,Betriebeliste!A520)","v":6},{"$f":"MATCH(A520,Datenbank!BH:BH,0)","v":7313},0,{"$f":"COUNTIF(INDIRECT(\"Datenbank!BG\"&AB520&\":BG\"&AB520+AA520-1),\">=\"&Meldungen!$J$5)","v":0},{"$nulls":5},0]
["1129","Vereinigtes Königreich: Swansea (1129)","K413","GB233",0,{"$nulls":21},{"$f":"COUNTIF(Datenbank!BH:BH,Betriebeliste!A521)","v":3},{"$f":"MATCH(A521,Datenbank!BH:BH,0)","v":7319},0,{"$f":"COUNTIF(INDIRECT(\"Datenbank!BG\"&AB521&\":BG\"&AB521+AA521-1),\">=\"&Meldungen!$J$5)","v":0},{"$nulls":5},0]
["1130","Vereinigtes Königreich: Bath (1130)","K413","GB102",0,{"$nulls":21},{"$f":"COUNTIF(Datenbank!BH:BH,Betriebeliste!A522)","v":4},{"$f":"MATCH(A522,Datenbank!BH:BH,0)","v":7322},0,{"$f":"COUNTIF(INDIRECT(\"Datenbank!BG\"&AB522&\":BG\"&AB522+AA522-1),\">=\"&Meldungen!$J$5)","v":0},{"$nulls":5},0]
["1131","Vereinigtes Königreich: Cardlff (1131)","K413","GB115",0,{"$nulls":21},{"$f":"COUNTIF(Datenbank!BH:BH,Betriebeliste!A523)","v":5},{"$f":"MATCH(A523,Datenbank!BH:BH,0)","v":7326},0,{"$f":"COUNTIF(INDIRECT(\"Datenbank!BG\"&AB523&\":BG\"&AB523+AA523-1),\">=\"&Meldungen!$J$5)","v":0},{"$nulls":5},0]
["1132","Vereinigtes Königreich: Plymouth (1132)","K413","GB217",0,{"$nulls":21},{"$f":"COUNTIF(Datenbank!BH:BH,Betriebeliste!A524)","v":3},{"$f":"MATCH(A524,Datenbank!BH:BH,0)","v":7331},0,{"$f":"COUNTIF(INDIRECT(\"Datenbank!BG\"&AB524&\":BG\"&AB524+AA524-1),\">=\"&Meldungen!$J$5)","v":0},{"$nulls":5},0]
["1133","Vereinigtes Königreich: Portsmouth (1133)","K413","GB219",0,{"$nulls":21},{"$f":"COUNTIF(Datenbank!BH:BH,Betriebeliste!A525)","v":2},{"$f":"MATCH(A525,Datenbank!BH:BH,0)","v":7334},0,{"$f":"COUNTIF(INDIRECT(\"Datenbank!BG\"&AB525&\":BG\"&AB525+AA525-1),\">=\"&Meldungen!$J$5)","v":0},{"$nulls":5},0]
["1134","Vereinigtes Königreich: Hastings (1134)","K413","GB132",0,{"$nulls":21},{"$f":"COUNTIF(Datenbank!BH:BH,Betriebeliste!A526)","v":3},{"$f":"MATCH(A526,Datenbank!BH:BH,0)","v":7336},0,{"$f":"COUNTIF(INDIRECT(\"Datenbank!BG\"&AB526&\":BG\"&AB526+AA526-1),\">=\"&Meldungen!$J$5)","v":0},{"$nulls":5},0]
["1201","Frankreich: Paris (1201)","K44","FRA26",0,{"$nulls":21},{"$f":"COUNTIF(Datenbank!BH:BH,Betriebeliste!A527)","v":25},{"$f":"MATCH(A527,Datenbank!BH:BH,0)","v":7339},3,{"$f":"COUNTIF(INDIRECT(\"Datenbank!BG\"&AB527&\":BG\"&AB527+AA527-1),\">=\"&Meldungen!$J$5)","v":0},{"$nulls":5},0]
["1202","Frankreich: Maubeuge (1202)","K44","FRA17",0,{"$nulls":21},{"$f":"COUNTIF(Datenbank!BH:BH,Betriebeliste!A528)","v":1},{"$f":"MATCH(A528,Datenbank!BH:BH,0)","v":7364},1,{"$f":"COUNTIF(INDIRECT(\"Datenbank!BG\"&AB528&\":BG\"&AB528+AA528-1),\">=\"&Meldungen!$J$5)","v":0},{"$nulls":5},0]
["1203","Frankreich: Aix (1203)","K44","FRA01",0,{"$nulls":21},{"$f":"COUNTIF(Datenbank!BH:BH,Betriebeliste!A529)","v":1},{"$f":"MATCH(A529,Datenbank!BH:BH,0)","v":7365},0,{"$f":"COUNTIF(INDIRECT(\"Datenbank!BG\"&AB529&\":BG\"&AB529+AA529-1),\">=\"&Meldungen!$J$5)","v":0},{"$nulls":5},0]
["1204","Frankreich: St. Avold (1204)","K44","FRA28",0,{"$nulls":21},{"$f":"COUNTIF(Datenbank!BH:BH,Betriebeliste!A530)","v":1},{"$f":"MATCH(A530,Datenbank!BH:BH,0)","v":7366},1,{"$f":"COUNTIF(INDIRECT(\"Datenbank!BG\"&AB530&\":BG\"&AB530+AA530-1),\">=\"&Meldungen!$J$5)","v":0},{"$nulls":5},0]
["1205","Frankreich: Noveant-Gorze (1205)","K44","FRA25",0,{"$nulls":21},{"$f":"COUNTIF(Datenbank!BH:BH,Betriebeliste!A531)","v":3},{"$f":"MATCH(A531,Datenbank!BH:BH,0)","v":7367},3,{"$f":"COUNTIF(INDIRECT(\"Datenbank!BG\"&AB531&\":BG\"&AB531+AA531-1),\">=\"&Meldungen!$J$5)","v":0},{"$nulls":5},0]
["1207","Frankreich: Cannes (1207)","K44","FRA05",0,{"$nulls":21},{"$f":"COUNTIF(Datenbank!BH:BH,Betriebeliste!A532)","v":1},{"$f":"MATCH(A532,Datenbank!BH:BH,0)","v":7370},0,{"$f":"COUNTIF(INDIRECT(\"Datenbank!BG\"&AB532&\":BG\"&AB532+AA532-1),\">=\"&Meldungen!$J$5)","v":0},{"$nulls":5},0]
["1301","Niederlande: Enschede (1301)","K42","NLD07",0,{"$nulls":21},{"$f":"COUNTIF(Datenbank!BH:BH,Betriebeliste!A533)","v":2},{"$f":"MATCH(A533,Datenbank!BH:BH,0)","v":7371},0,{"$f":"COUNTIF(INDIRECT(\"Datenbank!BG\"&AB533&\":BG\"&AB533+AA533-1),\">=\"&Meldungen!$J$5)","v":0},{"$nulls":5},0]
["1302","Niederlande: Vlissingen (1302)","K42","NLD16",0,{"$nulls":21},{"$f":"COUNTIF(Datenbank!BH:BH,Betriebeliste!A534)","v":3},{"$f":"MATCH(A534,Datenbank!BH:BH,0)","v":7373},0,{"$f":"COUNTIF(INDIRECT(\"Datenbank!BG\"&AB534&\":BG\"&AB534+AA534-1),\">=\"&Meldungen!$J$5)","v":0},{"$nulls":5},0]
["1401","Italien: Como (1401)","K4B1","ITA05",0,{"$nulls":21},{"$f":"COUNTIF(Datenbank!BH:BH,Betriebeliste!A535)","v":10},{"$f":"MATCH(A535,Datenbank!BH:BH,0)","v":7376},7,{"$f":"COUNTIF(INDIRECT(\"Datenbank!BG\"&AB535&\":BG\"&AB535+AA535-1),\">=\"&Meldungen!$J$5)","v":0},{"$nulls":5},0]
["1501","Schweiz: St. Moritz (1501)","K4A","CHE26",0,{"$nulls":21},{"$f":"COUNTIF(Datenbank!BH:BH,Betriebeliste!A536)","v":4},{"$f":"MATCH(A536,Datenbank!BH:BH,0)","v":7386},0,{"$f":"COUNTIF(INDIRECT(\"Datenbank!BG\"&AB536&\":BG\"&AB536+AA536-1),\">=\"&Meldungen!$J$5)","v":0},{"$nulls":5},0]
["1601","Griechenland: Athen (1601)","K4D","GRC01",0,{"$nulls":21},{"$f":"COUNTIF(Datenbank!BH:BH,Betriebeliste!A537)","v":23},{"$f":"MATCH(A537,Datenbank!BH:BH,0)","v":7390},2,{"$f":"COUNTIF(INDIRECT(\"Datenbank!BG\"&AB537&\":BG\"&AB537+AA537-1),\">=\"&Meldungen!$J$5)","v":0},{"$nulls":5},0]
["1701","Kroatien: Rijeka (1701)","K4F","HRV03",0,{"$nulls":21},{"$f":"COUNTIF(Datenbank!BH:BH,Betriebeliste!A538)","v":8},{"$f":"MATCH(A538,Datenbank!BH:BH,0)","v":7413},2,{"$f":"COUNTIF(INDIRECT(\"Datenbank!BG\"&AB538&\":BG\"&AB538+AA538-1),\">=\"&Meldungen!$J$5)","v":0},{"$nulls":5},0]
["2101","Österreich: Graz, Tramway Museum Graz (2101)","K49","AUT05",0,{"$nulls":21},{"$f":"COUNTIF(Datenbank!BH:BH,Betriebeliste!A539)","v":2},{"$f":"MATCH(A539,Datenbank!BH:BH,0)","v":7421},2,{"$f":"COUNTIF(INDIRECT(\"Datenbank!BG\"&AB539&\":BG\"&AB539+AA539-1),\">=\"&Meldungen!$J$5)","v":2},{"$nulls":5},0]
["2102","Österreich: Innsbruck, Tiroler MuseumsBahnen (2102)","K49","AUT07",0,{"$nulls":21},{"$f":"COUNTIF(Datenbank!BH:BH,Betriebeliste!A540)","v":1},{"$f":"MATCH(A540,Datenbank!BH:BH,0)","v":7423},0,{"$f":"COUNTIF(INDIRECT(\"Datenbank!BG\"&AB540&\":BG\"&AB540+AA540-1),\">=\"&Meldungen!$J$5)","v":0},{"$nulls":5},0]
["2104","Österreich: Wien, Verkehrsmuseum Remise (2104)","K49","AUT17",0,{"$nulls":21},{"$f":"COUNTIF(Datenbank!BH:BH,Betriebeliste!A541)","v":12},{"$f":"MATCH(A541,Datenbank!BH:BH,0)","v":7424},12,{"$f":"COUNTIF(INDIRECT(\"Datenbank!BG\"&AB541&\":BG\"&AB541+AA541-1),\">=\"&Meldungen!$J$5)","v":9},{"$nulls":5},0]
["2106","Österreich: Museumstramway Mariazell–Erlaufsee (2106)","K49","AUT12",0,{"$nulls":21},{"$f":"COUNTIF(Datenbank!BH:BH,Betriebeliste!A542)","v":3},{"$f":"MATCH(A542,Datenbank!BH:BH,0)","v":7436},{"$f":"COUNTA(INDIRECT(\"Datenbank!B\"&AB542&\":B\"&AB542+AA542-1))","v":3},{"$f":"COUNTIF(INDIRECT(\"Datenbank!BG\"&AB542&\":BG\"&AB542+AA542-1),\">=\"&Meldungen!$J$5)","v":1}]
["2107","Österreich: Museumsbahn Ebelsberg-St. Florian (2107)","K49","AUT11",0,{"$nulls":21},{"$f":"COUNTIF(Datenbank!BH:BH,Betriebeliste!A543)","v":13},{"$f":"MATCH(A543,Datenbank!BH:BH,0)","v":7439},13,{"$f":"COUNTIF(INDIRECT(\"Datenbank!BG\"&AB543&\":BG\"&AB543+AA543-1),\">=\"&Meldungen!$J$5)","v":7}]
["2111","Australien: Adelaide St. Kilda Tramway Museum (2111)","K7","AUS02",0,{"$nulls":21},{"$f":"COUNTIF(Datenbank!BH:BH,Betriebeliste!A544)","v":1},{"$f":"MATCH(A544,Datenbank!BH:BH,0)","v":7452},0,{"$f":"COUNTIF(INDIRECT(\"Datenbank!BG\"&AB544&\":BG\"&AB544+AA544-1),\">=\"&Meldungen!$J$5)","v":0}]
["2112","Australien: Ballerat Tramway Museum (2112)","K7","AUS03",0,{"$nulls":21},{"$f":"COUNTIF(Datenbank!BH:BH,Betriebeliste!A545)","v":1},{"$f":"MATCH(A545,Datenbank!BH:BH,0)","v":7453},0,{"$f":"COUNTIF(INDIRECT(\"Datenbank!BG\"&AB545&\":BG\"&AB545+AA545-1),\">=\"&Meldungen!$J$5)","v":0}]
["2113","Australien: Brisbane Ferny-Grove Tramway Museum (2113)","K7","AUS06",0,{"$nulls":21},{"$f":"COUNTIF(Datenbank!BH:BH,Betriebeliste!A546)","v":1},{"$f":"MATCH(A546,Datenbank!BH:BH,0)","v":7454},0,{"$f":"COUNTIF(INDIRECT(\"Datenbank!BG\"&AB546&\":BG\"&AB546+AA546-1),\">=\"&Meldungen!$J$5)","v":0}]
["2114","Australien: Museum Kilmore (2114)","K7","AUS11",0,{"$nulls":21},{"$f":"COUNTIF(Datenbank!BH:BH,Betriebeliste!A547)","v":1},{"$f":"MATCH(A547,Datenbank!BH:BH,0)","v":7455},0,{"$f":"COUNTIF(INDIRECT(\"Datenbank!BG\"&AB547&\":BG\"&AB547+AA547-1),\">=\"&Meldungen!$J$5)","v":0}]
["2115","Australien: Victor Harbour Pferdebahn (2115)","K7","AUS16",0,{"$nulls":21},{"$f":"COUNTIF(Datenbank!BH:BH,Betriebeliste!A548)","v":1},{"$f":"MATCH(A548,Datenbank!BH:BH,0)","v":7456},0,{"$f":"COUNTIF(INDIRECT(\"Datenbank!BG\"&AB548&\":BG\"&AB548+AA548-1),\">=\"&Meldungen!$J$5)","v":0}]
["2116","Australien: Sydney Loftus Tramway Museum (2116)","K7","AUS15",0,{"$nulls":21},{"$f":"COUNTIF(Datenbank!BH:BH,Betriebeliste!A549)","v":1},{"$f":"MATCH(A549,Datenbank!BH:BH,0)","v":7457},0,{"$f":"COUNTIF(INDIRECT(\"Datenbank!BG\"&AB549&\":BG\"&AB549+AA549-1),\">=\"&Meldungen!$J$5)","v":0}]
["2117","Australien: Bendigo Tram Museum (2117)","K7","AUS04",0,{"$nulls":21},{"$f":"COUNTIF(Datenbank!BH:BH,Betriebeliste!A550)","v":1},{"$f":"MATCH(A550,Datenbank!BH:BH,0)","v":7458},0,{"$f":"COUNTIF(INDIRECT(\"Datenbank!BG\"&AB550&\":BG\"&AB550+AA550-1),\">=\"&Meldungen!$J$5)","v":0}]
["2118","Australien: Hobart Tasmanian Transport Museum (2118)","K7","AUS09",0,{"$nulls":21},{"$f":"COUNTIF(Datenbank!BH:BH,Betriebeliste!A551)","v":1},{"$f":"MATCH(A551,Datenbank!BH:BH,0)","v":7459},0,{"$f":"COUNTIF(INDIRECT(\"Datenbank!BG\"&AB551&\":BG\"&AB551+AA551-1),\">=\"&Meldungen!$J$5)","v":0}]
["2119","Australien: Rockhampton Archer Park and Steam Tram Museum (2119)","K7","AUS13",0,{"$nulls":21},{"$f":"COUNTIF(Datenbank!BH:BH,Betriebeliste!A552)","v":1},{"$f":"MATCH(A552,Datenbank!BH:BH,0)","v":7460},0,{"$f":"COUNTIF(INDIRECT(\"Datenbank!BG\"&AB552&\":BG\"&AB552+AA552-1),\">=\"&Meldungen!$J$5)","v":0}]
["2131","Belgien: Museumbahn TTA  Érezée - Lamorménil (2131)","K43","BEL09",0,{"$nulls":21},{"$f":"COUNTIF(Datenbank!BH:BH,Betriebeliste!A553)","v":1},{"$f":"MATCH(A553,Datenbank!BH:BH,0)","v":7461},0,{"$f":"COUNTIF(INDIRECT(\"Datenbank!BG\"&AB553&\":BG\"&AB553+AA553-1),\">=\"&Meldungen!$J$5)","v":0}]
["2132","Belgien: Antw.-Groenenhoek, Tram- en Autobusmuseum (2132)","K43","BEL02",0,{"$nulls":21},{"$f":"COUNTIF(Datenbank!BH:BH,Betriebeliste!A554)","v":1},{"$f":"MATCH(A554,Datenbank!BH:BH,0)","v":7462},0,{"$f":"COUNTIF(INDIRECT(\"Datenbank!BG\"&AB554&\":BG\"&AB554+AA554-1),\">=\"&Meldungen!$J$5)","v":0}]
["2133","Belgien: Brüssel Trammuseum Woluwe (2133)","K43","BEL04",0,{"$nulls":21},{"$f":"COUNTIF(Datenbank!BH:BH,Betriebeliste!A555)","v":1},{"$f":"MATCH(A555,Datenbank!BH:BH,0)","v":7463},0,{"$f":"COUNTIF(INDIRECT(\"Datenbank!BG\"&AB555&\":BG\"&AB555+AA555-1),\">=\"&Meldungen!$J$5)","v":0}]
["2134","Belgien: Schepdaal, Straßenbahnmuseum (2134)","K43","BEL13",0,{"$nulls":21},{"$f":"COUNTIF(Datenbank!BH:BH,Betriebeliste!A556)","v":2},{"$f":"MATCH(A556,Datenbank!BH:BH,0)","v":7464},0,{"$f":"COUNTIF(INDIRECT(\"Datenbank!BG\"&AB556&\":BG\"&AB556+AA556-1),\">=\"&Meldungen!$J$5)","v":0}]
["2136","Belgien: Thuin, Straßenbahnmuseum (2136)","K43","BEL14",0,{"$nulls":21},{"$f":"COUNTIF(Datenbank!BH:BH,Betriebeliste!A557)","v":3},{"$f":"MATCH(A557,Datenbank!BH:BH,0)","v":7466},3,{"$f":"COUNTIF(INDIRECT(\"Datenbank!BG\"&AB557&\":BG\"&AB557+AA557-1),\">=\"&Meldungen!$J$5)","v":0}]
["2161","Kanada: Museum Calgary Heritage Park (2161)","K1","CAN07",0,{"$nulls":21},{"$f":"COUNTIF(Datenbank!BH:BH,Betriebeliste!A558)","v":1},{"$f":"MATCH(A558,Datenbank!BH:BH,0)","v":7469},0,{"$f":"COUNTIF(INDIRECT(\"Datenbank!BG\"&AB558&\":BG\"&AB558+AA558-1),\">=\"&Meldungen!$J$5)","v":0}]
["2162","Kanada: Museum Exporail, Saint-Pierre, QC (2162)","K1","CAN08",0,{"$nulls":21},{"$f":"COUNTIF(Datenbank!BH:BH,Betriebeliste!A559)","v":1},{"$f":"MATCH(A559,Datenbank!BH:BH,0)","v":7470},0,{"$f":"COUNTIF(INDIRECT(\"Datenbank!BG\"&AB559&\":BG\"&AB559+AA559-1),\">=\"&Meldungen!$J$5)","v":0}]
["2163","Kanada: Museum Fort Edmonton (2163)","K1","CAN09",0,{"$nulls":21},{"$f":"COUNTIF(Datenbank!BH:BH,Betriebeliste!A560)","v":1},{"$f":"MATCH(A560,Datenbank!BH:BH,0)","v":7471},0,{"$f":"COUNTIF(INDIRECT(\"Datenbank!BG\"&AB560&\":BG\"&AB560+AA560-1),\">=\"&Meldungen!$J$5)","v":0}]
["2164","Kanada: Museum Hamilton County Radial Railway, Milton, ON (2164)","K1","CAN10",0,{"$nulls":21},{"$f":"COUNTIF(Datenbank!BH:BH,Betriebeliste!A561)","v":1},{"$f":"MATCH(A561,Datenbank!BH:BH,0)","v":7472},0,{"$f":"COUNTIF(INDIRECT(\"Datenbank!BG\"&AB561&\":BG\"&AB561+AA561-1),\">=\"&Meldungen!$J$5)","v":0}]
["2171","Schweiz: Tram-Museum Bern (2171)","K4A","CHE28",0,{"$nulls":21},{"$f":"COUNTIF(Datenbank!BH:BH,Betriebeliste!A562)","v":1},{"$f":"MATCH(A562,Datenbank!BH:BH,0)","v":7473},0,{"$f":"COUNTIF(INDIRECT(\"Datenbank!BG\"&AB562&\":BG\"&AB562+AA562-1),\">=\"&Meldungen!$J$5)","v":0}]
["2172","Schweiz: Tram-Museum Zürich (2172)","K4A","CHE29",0,{"$nulls":21},{"$f":"COUNTIF(Datenbank!BH:BH,Betriebeliste!A563)","v":1},{"$f":"MATCH(A563,Datenbank!BH:BH,0)","v":7474},0,{"$f":"COUNTIF(INDIRECT(\"Datenbank!BG\"&AB563&\":BG\"&AB563+AA563-1),\">=\"&Meldungen!$J$5)","v":0}]
["2173","Schweiz: Museumsbahn Blonay–Chamby (2173)","K4A","CHE18",0,{"$nulls":21},{"$f":"COUNTIF(Datenbank!BH:BH,Betriebeliste!A564)","v":1},{"$f":"MATCH(A564,Datenbank!BH:BH,0)","v":7475},0,{"$f":"COUNTIF(INDIRECT(\"Datenbank!BG\"&AB564&\":BG\"&AB564+AA564-1),\">=\"&Meldungen!$J$5)","v":0}]
["2191","Tschechien: Techn. Museum Brünn (2191)","K48","CZE12",0,{"$nulls":21},{"$f":"COUNTIF(Datenbank!BH:BH,Betriebeliste!A565)","v":1},{"$f":"MATCH(A565,Datenbank!BH:BH,0)","v":7476},0,{"$f":"COUNTIF(INDIRECT(\"Datenbank!BG\"&AB565&\":BG\"&AB565+AA565-1),\">=\"&Meldungen!$J$5)","v":0}]
["2192","Tschechien: Museum Prag (2192)","K48","CZE07",0,{"$nulls":21},{"$f":"COUNTIF(Datenbank!BH:BH,Betriebeliste!A566)","v":1},{"$f":"MATCH(A566,Datenbank!BH:BH,0)","v":7477},0,{"$f":"COUNTIF(INDIRECT(\"Datenbank!BG\"&AB566&\":BG\"&AB566+AA566-1),\">=\"&Meldungen!$J$5)","v":0}]
["2201","Dänemark: Ringsted-Jystrup, Sporvejsmuseet Skjoldenæsholm (2201)","K46","DNK04",0,{"$nulls":21},{"$f":"COUNTIF(Datenbank!BH:BH,Betriebeliste!A567)","v":1},{"$f":"MATCH(A567,Datenbank!BH:BH,0)","v":7478},0,{"$f":"COUNTIF(INDIRECT(\"Datenbank!BG\"&AB567&\":BG\"&AB567+AA567-1),\">=\"&Meldungen!$J$5)","v":0}]
["2211","Frankreich: Museumsbahn Lille Amitram (2211)","K44","FRA21",0,{"$nulls":21},{"$f":"COUNTIF(Datenbank!BH:BH,Betriebeliste!A568)","v":1},{"$f":"MATCH(A568,Datenbank!BH:BH,0)","v":7479},0,{"$f":"COUNTIF(INDIRECT(\"Datenbank!BG\"&AB568&\":BG\"&AB568+AA568-1),\">=\"&Meldungen!$J$5)","v":0}]
["2212","Frankreich: Museum Paris (2212)","K44","FRA20",0,{"$nulls":21},{"$f":"COUNTIF(Datenbank!BH:BH,Betriebeliste!A569)","v":1},{"$f":"MATCH(A569,Datenbank!BH:BH,0)","v":7480},0,{"$f":"COUNTIF(INDIRECT(\"Datenbank!BG\"&AB569&\":BG\"&AB569+AA569-1),\">=\"&Meldungen!$J$5)","v":0}]
["2221","Vereinigtes Königreich: Museum Birmingham (2221)","K412","GB211",0,{"$nulls":21},{"$f":"COUNTIF(Datenbank!BH:BH,Betriebeliste!A570)","v":1},{"$f":"MATCH(A570,Datenbank!BH:BH,0)","v":7481},0,{"$f":"COUNTIF(INDIRECT(\"Datenbank!BG\"&AB570&\":BG\"&AB570+AA570-1),\">=\"&Meldungen!$J$5)","v":0}]
["2222","Vereinigtes Königreich: Carlton Colville East Anglia Transport  Museum (2222)","K412","GB116",0,{"$nulls":21},{"$f":"COUNTIF(Datenbank!BH:BH,Betriebeliste!A571)","v":1},{"$f":"MATCH(A571,Datenbank!BH:BH,0)","v":7482},0,{"$f":"COUNTIF(INDIRECT(\"Datenbank!BG\"&AB571&\":BG\"&AB571+AA571-1),\">=\"&Meldungen!$J$5)","v":0}]
["2223","Vereinigtes Königreich: Beamish  Museumsbahn (2223)","K411","GB103",0,{"$nulls":21},{"$f":"COUNTIF(Datenbank!BH:BH,Betriebeliste!A572)","v":1},{"$f":"MATCH(A572,Datenbank!BH:BH,0)","v":7483},0,{"$f":"COUNTIF(INDIRECT(\"Datenbank!BG\"&AB572&\":BG\"&AB572+AA572-1),\">=\"&Meldungen!$J$5)","v":0}]
["2224","Vereinigtes Königreich: Crich National Tramway Museum (2224)","K412","GB119",0,{"$nulls":21},{"$f":"COUNTIF(Datenbank!BH:BH,Betriebeliste!A573)","v":1},{"$f":"MATCH(A573,Datenbank!BH:BH,0)","v":7484},0,{"$f":"COUNTIF(INDIRECT(\"Datenbank!BG\"&AB573&\":BG\"&AB573+AA573-1),\">=\"&Meldungen!$J$5)","v":0}]
["2225","Vereinigtes Königreich: Museum Gateshead (2225)","K411","GB212",0,{"$nulls":21},{"$f":"COUNTIF(Datenbank!BH:BH,Betriebeliste!A574)","v":1},{"$f":"MATCH(A574,Datenbank!BH:BH,0)","v":7485},0,{"$f":"COUNTIF(INDIRECT(\"Datenbank!BG\"&AB574&\":BG\"&AB574+AA574-1),\">=\"&Meldungen!$J$5)","v":0}]
["2226","Vereinigtes Königreich: Manchester Heaton Park Museumsbahn (2226)","K4121","GB209",0,{"$nulls":21},{"$f":"COUNTIF(Datenbank!BH:BH,Betriebeliste!A575)","v":1},{"$f":"MATCH(A575,Datenbank!BH:BH,0)","v":7486},0,{"$f":"COUNTIF(INDIRECT(\"Datenbank!BG\"&AB575&\":BG\"&AB575+AA575-1),\">=\"&Meldungen!$J$5)","v":0}]
["2227","Vereinigtes Königreich: Seaton Tourist Tram (2227)","K413","GB223",0,{"$nulls":21},{"$f":"COUNTIF(Datenbank!BH:BH,Betriebeliste!A576)","v":1},{"$f":"MATCH(A576,Datenbank!BH:BH,0)","v":7487},0,{"$f":"COUNTIF(INDIRECT(\"Datenbank!BG\"&AB576&\":BG\"&AB576+AA576-1),\">=\"&Meldungen!$J$5)","v":0}]
["2281","Niederlande: Amsterdam Electrische Museumtramlijn (2281)","K42","NLD03",0,{"$nulls":21},{"$f":"COUNTIF(Datenbank!BH:BH,Betriebeliste!A577)","v":2},{"$f":"MATCH(A577,Datenbank!BH:BH,0)","v":7488},2,{"$f":"COUNTIF(INDIRECT(\"Datenbank!BG\"&AB577&\":BG\"&AB577+AA577-1),\">=\"&Meldungen!$J$5)","v":2}]
["2282","Niederlande: Arnheim Nederlands Openluchtmuseum (2282)","K42","NLD04",0,{"$nulls":21},{"$f":"COUNTIF(Datenbank!BH:BH,Betriebeliste!A578)","v":1},{"$f":"MATCH(A578,Datenbank!BH:BH,0)","v":7490},0,{"$f":"COUNTIF(INDIRECT(\"Datenbank!BG\"&AB578&\":BG\"&AB578+AA578-1),\">=\"&Meldungen!$J$5)","v":0}]
["2283","Niederlande: Museum Utrecht (2283)","K42","NLD10",0,{"$nulls":21},{"$f":"COUNTIF(Datenbank!BH:BH,Betriebeliste!A579)","v":1},{"$f":"MATCH(A579,Datenbank!BH:BH,0)","v":7491},0,{"$f":"COUNTIF(INDIRECT(\"Datenbank!BG\"&AB579&\":BG\"&AB579+AA579-1),\">=\"&Meldungen!$J$5)","v":0}]
["2341","Schweden: Museum Kiruna (2341)","K46","SWE07",0,{"$nulls":21},{"$f":"COUNTIF(Datenbank!BH:BH,Betriebeliste!A580)","v":1},{"$f":"MATCH(A580,Datenbank!BH:BH,0)","v":7492},0,{"$f":"COUNTIF(INDIRECT(\"Datenbank!BG\"&AB580&\":BG\"&AB580+AA580-1),\">=\"&Meldungen!$J$5)","v":0}]
["2342","Schweden: Museum Malmköping (2342)","K46","SWE08",0,{"$nulls":21},{"$f":"COUNTIF(Datenbank!BH:BH,Betriebeliste!A581)","v":1},{"$f":"MATCH(A581,Datenbank!BH:BH,0)","v":7493},0,{"$f":"COUNTIF(INDIRECT(\"Datenbank!BG\"&AB581&\":BG\"&AB581+AA581-1),\">=\"&Meldungen!$J$5)","v":0}]
["2343","Schweden: Museum Malmö (2343)","K46","SWE09",0,{"$nulls":21},{"$f":"COUNTIF(Datenbank!BH:BH,Betriebeliste!A582)","v":1},{"$f":"MATCH(A582,Datenbank!BH:BH,0)","v":7494},0,{"$f":"COUNTIF(INDIRECT(\"Datenbank!BG\"&AB582&\":BG\"&AB582+AA582-1),\">=\"&Meldungen!$J$5)","v":0}]
["2344","Schweden: Museumsbahn Mariefred (2344)","K46","SWE10",0,{"$nulls":21},{"$f":"COUNTIF(Datenbank!BH:BH,Betriebeliste!A583)","v":1},{"$f":"MATCH(A583,Datenbank!BH:BH,0)","v":7495},0,{"$f":"COUNTIF(INDIRECT(\"Datenbank!BG\"&AB583&\":BG\"&AB583+AA583-1),\">=\"&Meldungen!$J$5)","v":0}]
["2401","USA: Arden Trolley Museum, PA (2401)","K21","US103",0,{"$nulls":21},{"$f":"COUNTIF(Datenbank!BH:BH,Betriebeliste!A584)","v":1},{"$f":"MATCH(A584,Datenbank!BH:BH,0)","v":7496},0,{"$f":"COUNTIF(INDIRECT(\"Datenbank!BG\"&AB584&\":BG\"&AB584+AA584-1),\">=\"&Meldungen!$J$5)","v":0}]
["2402","USA: Baltimore Trolley Museum, MD (2402)","K21","US106",0,{"$nulls":21},{"$f":"COUNTIF(Datenbank!BH:BH,Betriebeliste!A585)","v":1},{"$f":"MATCH(A585,Datenbank!BH:BH,0)","v":7497},0,{"$f":"COUNTIF(INDIRECT(\"Datenbank!BG\"&AB585&\":BG\"&AB585+AA585-1),\">=\"&Meldungen!$J$5)","v":0}]
["2403","USA: Shore Line Trolley Museum, East Haven, CT (2403)","K21","US225",0,{"$nulls":21},{"$f":"COUNTIF(Datenbank!BH:BH,Betriebeliste!A586)","v":1},{"$f":"MATCH(A586,Datenbank!BH:BH,0)","v":7498},0,{"$f":"COUNTIF(INDIRECT(\"Datenbank!BG\"&AB586&\":BG\"&AB586+AA586-1),\">=\"&Meldungen!$J$5)","v":0}]
["2404","USA: Colorado Railroad Museum, Golden, CO (2404)","K2","US117",0,{"$nulls":21},{"$f":"COUNTIF(Datenbank!BH:BH,Betriebeliste!A587)","v":1},{"$f":"MATCH(A587,Datenbank!BH:BH,0)","v":7499},0,{"$f":"COUNTIF(INDIRECT(\"Datenbank!BG\"&AB587&\":BG\"&AB587+AA587-1),\">=\"&Meldungen!$J$5)","v":0}]
["2405","USA: Denver, Forney Museum of Transportation (2405)","K2","US123",0,{"$nulls":21},{"$f":"COUNTIF(Datenbank!BH:BH,Betriebeliste!A588)","v":1},{"$f":"MATCH(A588,Datenbank!BH:BH,0)","v":7500},0,{"$f":"COUNTIF(INDIRECT(\"Datenbank!BG\"&AB588&\":BG\"&AB588+AA588-1),\">=\"&Meldungen!$J$5)","v":0}]
["2406","USA: Fox River Museum, South Elgin, IL (2406)","K23","US129",0,{"$nulls":21},{"$f":"COUNTIF(Datenbank!BH:BH,Betriebeliste!A589)","v":1},{"$f":"MATCH(A589,Datenbank!BH:BH,0)","v":7501},0,{"$f":"COUNTIF(INDIRECT(\"Datenbank!BG\"&AB589&\":BG\"&AB589+AA589-1),\">=\"&Meldungen!$J$5)","v":0}]
["2407","USA: Illinois Railway Museum, Union, IL (2407)","K23","US135",0,{"$nulls":21},{"$f":"COUNTIF(Datenbank!BH:BH,Betriebeliste!A590)","v":1},{"$f":"MATCH(A590,Datenbank!BH:BH,0)","v":7502},0,{"$f":"COUNTIF(INDIRECT(\"Datenbank!BG\"&AB590&\":BG\"&AB590+AA590-1),\">=\"&Meldungen!$J$5)","v":0}]
["2410","USA: Southern California Railway Museum, Perris, CA (2410)","K22","US226",0,{"$nulls":21},{"$f":"COUNTIF(Datenbank!BH:BH,Betriebeliste!A591)","v":1},{"$f":"MATCH(A591,Datenbank!BH:BH,0)","v":7503},0,{"$f":"COUNTIF(INDIRECT(\"Datenbank!BG\"&AB591&\":BG\"&AB591+AA591-1),\">=\"&Meldungen!$J$5)","v":0}]
["2411","USA: Western Railway Museum, Rio Vista, CA (2411)","K22","US234",0,{"$nulls":21},{"$f":"COUNTIF(Datenbank!BH:BH,Betriebeliste!A592)","v":1},{"$f":"MATCH(A592,Datenbank!BH:BH,0)","v":7504},0,{"$f":"COUNTIF(INDIRECT(\"Datenbank!BG\"&AB592&\":BG\"&AB592+AA592-1),\">=\"&Meldungen!$J$5)","v":0}]
["2412","USA: Seashore Trolley Museum, Kennebunkport, ME (2412)","K21","US223",0,{"$nulls":21},{"$f":"COUNTIF(Datenbank!BH:BH,Betriebeliste!A593)","v":1},{"$f":"MATCH(A593,Datenbank!BH:BH,0)","v":7505},0,{"$f":"COUNTIF(INDIRECT(\"Datenbank!BG\"&AB593&\":BG\"&AB593+AA593-1),\">=\"&Meldungen!$J$5)","v":0}]
["2413","USA: Trolleyville, Olmsted, OH (2413)","K23","US230",0,{"$nulls":21},{"$f":"COUNTIF(Datenbank!BH:BH,Betriebeliste!A594)","v":1},{"$f":"MATCH(A594,Datenbank!BH:BH,0)","v":7506},0,{"$f":"COUNTIF(INDIRECT(\"Datenbank!BG\"&AB594&\":BG\"&AB594+AA594-1),\">=\"&Meldungen!$J$5)","v":0}]
["2414","USA: Connecticut Trolley Museum, East Windsor, CT (2414)","K21","US119",0,{"$nulls":21},{"$f":"COUNTIF(Datenbank!BH:BH,Betriebeliste!A595)","v":1},{"$f":"MATCH(A595,Datenbank!BH:BH,0)","v":7507},0,{"$f":"COUNTIF(INDIRECT(\"Datenbank!BG\"&AB595&\":BG\"&AB595+AA595-1),\">=\"&Meldungen!$J$5)","v":0}]
["2415","USA: Yakima Valley Trolley Museum, WA (2415)","K2","US235",0,{"$nulls":21},{"$f":"COUNTIF(Datenbank!BH:BH,Betriebeliste!A596)","v":1},{"$f":"MATCH(A596,Datenbank!BH:BH,0)","v":7508},0,{"$f":"COUNTIF(INDIRECT(\"Datenbank!BG\"&AB596&\":BG\"&AB596+AA596-1),\">=\"&Meldungen!$J$5)","v":0}]
["2416","USA: National Capital Trolley Museum, Colesville, MD (2416)","K21","US203",0,{"$nulls":21},{"$f":"COUNTIF(Datenbank!BH:BH,Betriebeliste!A597)","v":1},{"$f":"MATCH(A597,Datenbank!BH:BH,0)","v":7509},0,{"$f":"COUNTIF(INDIRECT(\"Datenbank!BG\"&AB597&\":BG\"&AB597+AA597-1),\">=\"&Meldungen!$J$5)","v":0}]

{"sheet":"Datenbank","index":47,"n_rows":7543,"n_cols":60,"rows_kept":1125,"cut":true,"hidden":true,"bounds":{"rows_first":500,"rows_last":125,"rows_between":500,"halvings":2}}
["Bild-ID","Signatur","Aufnahmeort","WT","WN","Linie","Bemerkung","TT","MM","JJ","Fotograf","BN","Anlass","0","1","2","3","4","5","6","7","8","9","10","11","12","13","14","15","16","17","18","19","20","21","22","23","24","25","26","27","28","29","30","31","32","33","34","35","36","37","38","39","40","41","42","43","44","Eingestellt","Spalte1"]
["16-001","VDVA-0016-001","Endstation Berliner Tor","2xTw ","108","2","",null,null,1935,"Friedrich Grünwald","16",1,false,false,false,false,false,false,false,false,false,false,false,false,false,false,false,false,false,false,false,false,false,false,false,false,false,false,false,false,false,false,false,false,false,false,false,false,false,false,false,false,false,false,false,false,false,"2020-01-01",{"$f":"LEFT(A2,FIND(\"-\",A2)-1)","v":"16"}]
["16-002","VDVA-0016-002","Paradeplatz am Berliner Tor","2xTw ","171","1","SL 1 kommt aus der Breiten Straße und fährt Richtung Rennbahn",null,null,1935,"Friedrich Grünwald","16",1,false,false,false,false,false,false,false,false,false,false,false,false,false,false,false,false,false,false,false,false,false,false,false,false,false,false,false,false,false,false,false,false,false,false,false,false,false,false,false,false,false,false,false,false,false,"2020-01-01","16"]
["16-003","VDVA-0016-003","Paradeplatz am Berliner Tor","2xTw  \n2xBw ","175 \n500","1 \n1","SL 1 kommt aus der Breiten Straße und fährt Richtung Rennbahn",null,null,1936,"Friedrich Grünwald","16",1,false,false,false,false,false,false,false,false,false,false,false,false,false,false,false,false,false,false,false,false,false,false,false,false,false,false,false,false,false,false,false,false,false,false,false,false,false,false,false,false,false,false,false,false,false,"2020-01-01","16"]
["16-004","VDVA-0016-004","","2xBw ","490","3","",{"$nulls":3},"Emil Konrad","16",1,false,false,false,false,false,false,false,false,false,false,false,false,false,false,false,false,false,false,false,false,false,false,false,false,false,false,false,false,false,false,false,false,false,false,false,false,false,false,false,false,false,false,false,false,false,"2020-01-01","16"]
["16-005","VDVA-0016-005","","2xBw ","14","1","",{"$nulls":3},"","16",1,false,false,false,false,false,false,false,false,false,false,false,false,false,false,false,false,false,false,false,false,false,false,false,false,false,false,false,false,false,false,false,false,false,false,false,false,false,false,false,false,false,false,false,false,false,"2020-01-01","16"]
["16-006","VDVA-0016-006","","2xBw ","470","","",{"$nulls":3},"","16",1,false,false,false,false,false,false,false,false,false,false,false,false,false,false,false,false,false,false,false,false,false,false,false,false,false,false,false,false,false,false,false,false,false,false,false,false,false,false,false,false,false,false,false,false,false,"2020-01-01","16"]
["16-007","VDVA-0016-007","","2xTw ","176","","",{"$nulls":3},"Werkfoto","16",1,false,false,false,false,false,false,false,false,false,false,false,false,false,false,false,false,false,false,false,false,false,false,false,false,false,false,false,false,false,false,false,false,false,false,false,false,false,false,false,false,false,false,false,false,false,"2020-01-01","16"]
["16-008","VDVA-0016-008","Kardinal Stefano WyszynskI Straße","4xTw  \n4xTw "," \n713","2 \n2","",6,2,1986,"Günter H. Köhler","16",1,false,false,false,false,false,false,false,false,false,false,false,false,false,false,false,false,false,false,false,false,false,false,false,false,false,false,false,false,false,false,false,false,false,false,false,false,false,false,false,false,false,false,false,false,false,"2020-01-01","16"]
["16-009","VDVA-0016-009","vor dem Hauptbahnhof","2xTw ","121","4","",{"$nulls":3},"Werner Klein","16",1,false,false,false,false,false,false,false,false,false,false,false,false,false,false,false,false,false,false,false,false,false,false,false,false,false,false,false,false,false,false,false,false,false,false,false,false,false,false,false,false,false,false,false,false,false,"2020-01-01","16"]
["16-010","VDVA-0016-010","","Sommer-Bw  \n2xTw "," \n159","3 \n3","",{"$nulls":3},"Werner Klein","16",1,false,false,false,false,false,false,false,false,false,false,false,false,false,false,false,false,false,false,false,false,false,false,false,false,false,false,false,false,false,false,false,false,false,false,false,false,false,false,false,false,false,false,false,false,false,"2020-01-01","16"]
["16-011","VDVA-0016-011","","2xBw  \n2xTw "," \n149","7 \n7","",{"$nulls":3},"","16",1,false,false,false,false,false,false,false,false,false,false,false,false,false,false,false,false,false,false,false,false,false,false,false,false,false,false,false,false,false,false,false,false,false,false,false,false,false,false,false,false,false,false,false,false,false,"2020-01-01","16"]
["16-012","VDVA-0016-012","Hafen, am Oderufer","2xBw  \n2xTw "," \n231","6 \n6","KSW",5,8,1972,"Maximilian Krafft","16",1,false,false,false,false,false,false,false,false,false,false,false,false,false,false,false,false,false,false,false,false,false,false,false,false,false,false,false,false,false,false,false,false,false,false,false,false,false,false,false,false,false,false,false,false,false,"2020-01-01","16"]
["16-013","VDVA-0016-013","","2xBw  \n2xTw ","519 \n138","2 \n2","Bw ex Karlsruhe",{"$nulls":3},"","16",1,false,false,false,false,false,false,false,false,false,false,false,false,false,false,false,false,false,false,false,false,false,false,false,false,false,false,false,false,false,false,false,false,false,false,false,false,false,false,false,false,false,false,false,false,false,"2020-01-01","16"]
["16-014","VDVA-0016-014","","2xTw ","","3","",{"$nulls":3},"","16",1,false,false,false,false,false,false,false,false,false,false,false,false,false,false,false,false,false,false,false,false,false,false,false,false,false,false,false,false,false,false,false,false,false,false,false,false,false,false,false,false,false,false,false,false,false,"2020-01-01","16"]
["16-015","VDVA-0016-015","vor dem Hauptbahnhof","2xTw ","9","6","",{"$nulls":3},"Wolfgang von Linstow","16",1,false,false,false,false,false,false,false,false,false,false,false,false,false,false,false,false,false,false,false,false,false,false,false,false,false,false,false,false,false,false,false,false,false,false,false,false,false,false,false,false,false,false,false,false,false,"2020-01-01","16"]
["16-016","VDVA-0016-016","am Flughafen","2xTw ","166","1","",null,null,1939,"Wolfgang von Linstow","16",1,false,false,false,false,false,false,false,false,false,false,false,false,false,false,false,false,false,false,false,false,false,false,false,false,false,false,false,false,false,false,false,false,false,false,false,false,false,false,false,false,false,false,false,false,false,"2020-01-01","16"]
["16-017","VDVA-0016-017","am Flughafen","2xTw ","184","1","",null,null,1939,"Wolfgang von Linstow","16",1,false,false,false,false,false,false,false,false,false,false,false,false,false,false,false,false,false,false,false,false,false,false,false,false,false,false,false,false,false,false,false,false,false,false,false,false,false,false,false,false,false,false,false,false,false,"2020-01-01","16"]
["16-018","VDVA-0016-018","vor dem Hauptbahnhof","2xTw ","117","4","",{"$nulls":3},"Wolfgang von Linstow","16",1,false,false,false,false,false,false,false,false,false,false,false,false,false,false,false,false,false,false,false,false,false,false,false,false,false,false,false,false,false,false,false,false,false,false,false,false,false,false,false,false,false,false,false,false,false,"2020-01-01","16"]
["16-019","VDVA-0016-019","","2xBw  \n2xTw  \n2xTw "," \n  \n115","2 \n2 \n2","",{"$nulls":3},"Wolfgang von Linstow","16",1,false,false,false,false,false,false,false,false,false,false,false,false,false,false,false,false,false,false,false,false,false,false,false,false,false,false,false,false,false,false,false,false,false,false,false,false,false,false,false,false,false,false,false,false,false,"2020-01-01","16"]
["16-020","VDVA-0016-020","Depot","2xTw ","90","","",{"$nulls":3},"Wolfgang von Linstow","16",1,false,false,false,false,false,false,false,false,false,false,false,false,false,false,false,false,false,false,false,false,false,false,false,false,false,false,false,false,false,false,false,false,false,false,false,false,false,false,false,false,false,false,false,false,false,"2020-01-01","16"]
["16-021","VDVA-0016-021","","2xBw ","308","9","",{"$nulls":3},"Horst Michelke","16",1,false,false,false,false,false,false,false,false,false,false,false,false,false,false,false,false,false,false,false,false,false,false,false,false,false,false,false,false,false,false,false,false,false,false,false,false,false,false,false,false,false,false,false,false,false,"2020-01-01","16"]
["16-022","VDVA-0016-022","","2xBw ","535","6","",{"$nulls":3},"Horst Michelke","16",1,false,false,false,false,false,false,false,false,false,false,false,false,false,false,false,false,false,false,false,false,false,false,false,false,false,false,false,false,false,false,false,false,false,false,false,false,false,false,false,false,false,false,false,false,false,"2020-01-01","16"]
["16-023","VDVA-0016-023","","2xBw ","474","","",{"$nulls":3},"Horst Michelke","16",1,false,false,false,false,false,false,false,false,false,false,false,false,false,false,false,false,false,false,false,false,false,false,false,false,false,false,false,false,false,false,false,false,false,false,false,false,false,false,false,false,false,false,false,false,false,"2020-01-01","16"]
["16-024","VDVA-0016-024","Kardinal Stefano WyszynskI Straße","2xTw  \n2xBw ","211 \n353","3 \n3","Polnischer KSW Zug",6,5,1986,"Günter H. Köhler","16",1,false,false,false,false,false,false,false,false,false,false,false,false,false,false,false,false,false,false,false,false,false,false,false,false,false,false,false,false,false,false,false,false,false,false,false,false,false,false,false,false,false,false,false,false,false,"2020-01-01","16"]
["16-025","VDVA-0016-025","Aleea Wyzwolenia","2xTw  \n2xBw ","105 \n332","3 \n3","Polnischer KSW Zug",6,5,1986,"Günter H. Köhler","16",1,false,false,false,false,false,false,false,false,false,false,false,false,false,false,false,false,false,false,false,false,false,false,false,false,false,false,false,false,false,false,false,false,false,false,false,false,false,false,false,false,false,false,false,false,false,"2020-01-01","16"]
["16-026","VDVA-0016-026","","2xTw ","4","5","",null,10,1957,"Krümmel","16",1,false,false,false,false,false,false,false,false,false,false,false,false,false,false,false,false,false,false,false,false,false,false,false,false,false,false,false,false,false,false,false,false,false,false,false,false,false,false,false,false,false,false,false,false,false,"2020-01-01","16"]
["16-027","VDVA-0016-027","","2xTw  \n2xBw ","2 \n16","9 \n9","",null,10,1957,"Krümmel","16",1,false,false,false,false,false,false,false,false,false,false,false,false,false,false,false,false,false,false,false,false,false,false,false,false,false,false,false,false,false,false,false,false,false,false,false,false,false,false,false,false,false,false,false,false,false,"2020-01-01","16"]
["16-028","VDVA-0016-028","","2xBw  \n2xTw "," \n279","6 \n6","",null,9,1974,"Horst Golzsch","16",1,false,false,false,false,false,false,false,false,false,false,false,false,false,false,false,false,false,false,false,false,false,false,false,false,false,false,false,false,false,false,false,false,false,false,false,false,false,false,false,false,false,false,false,false,false,"2020-01-01","16"]
["16-029","VDVA-0016-029","","2xTw  \n2xBw "," \n526","6 \n6","",null,9,1974,"Horst Golzsch","16",1,false,false,false,false,false,false,false,false,false,false,false,false,false,false,false,false,false,false,false,false,false,false,false,false,false,false,false,false,false,false,false,false,false,false,false,false,false,false,false,false,false,false,false,false,false,"2020-01-01","16"]
["16-030","VDVA-0016-030","","2xBw  \n2xTw "," \n128","4 \n4","",null,8,1974,"Horst Golzsch","16",1,false,false,false,false,false,false,false,false,false,false,false,false,false,false,false,false,false,false,false,false,false,false,false,false,false,false,false,false,false,false,false,false,false,false,false,false,false,false,false,false,false,false,false,false,false,"2020-01-01","16"]
["16-031","VDVA-0016-031","","2xBw  \n2xTw "," \n208","4 \n4","",null,9,1974,"Horst Golzsch","16",1,false,false,false,false,false,false,false,false,false,false,false,false,false,false,false,false,false,false,false,false,false,false,false,false,false,false,false,false,false,false,false,false,false,false,false,false,false,false,false,false,false,false,false,false,false,"2020-01-01","16"]
["16-032","VDVA-0016-032","","2xTw  \n2xBw ","225 \n ","1 \n1","",null,11,1974,"Horst Golzsch","16",1,false,false,false,false,false,false,false,false,false,false,false,false,false,false,false,false,false,false,false,false,false,false,false,false,false,false,false,false,false,false,false,false,false,false,false,false,false,false,false,false,false,false,false,false,false,"2020-01-01","16"]
["16-033","VDVA-0016-033","","2xTw  \n2xBw ","115 \n ","2 \n2","",null,10,1957,"Krümmel","16",1,false,false,false,false,false,false,false,false,false,false,false,false,false,false,false,false,false,false,false,false,false,false,false,false,false,false,false,false,false,false,false,false,false,false,false,false,false,false,false,false,false,false,false,false,false,"2020-01-01","16"]
["16-034","VDVA-0042-222",null,"2xTw","108","2","(ehemals Bild 42-222)",null,null,1938,"Friedrich Grünwald","16",1,false,false,false,false,false,false,false,false,false,false,false,false,false,false,false,false,false,false,false,false,false,false,false,false,false,false,false,false,false,false,false,false,false,false,false,false,false,false,false,false,false,false,false,false,false,"2020-01-01","16"]
["45-001",null,null,"2xBw  \n2xTw ","59 \n "," \n ",{"$nulls":5},"45",1,false,false,false,false,false,false,false,false,false,false,false,false,false,false,false,false,false,false,false,false,false,false,false,false,false,false,false,false,false,false,false,false,false,false,false,false,false,false,false,false,false,false,false,false,false,"2020-01-01","45"]
["45-002",null,null,"2xTw ","7",{"$nulls":5},"Peter Boehm","45",1,false,false,false,false,false,false,false,false,false,false,false,false,false,false,false,false,false,false,false,false,false,false,false,false,false,false,false,false,false,false,false,false,false,false,false,false,false,false,false,false,false,false,false,false,false,"2020-01-01","45"]
["45-003",null,"Bad Warmbrunn, Schloßplatz","2xTw ","8",{"$nulls":3},7,1939,"Peter Boehm","45",1,false,false,false,false,false,false,false,false,false,false,false,false,false,false,false,false,false,false,false,false,false,false,false,false,false,false,false,false,false,false,false,false,false,false,false,false,false,false,false,false,false,false,false,false,false,"2020-01-01","45"]
["45-004",null,null,"2xBw ","71",null,"Hirschberger Thalbahn",{"$nulls":4},"45",1,false,false,false,false,false,false,false,false,false,false,false,false,false,false,false,false,false,false,false,false,false,false,false,false,false,false,false,false,false,false,false,false,false,false,false,false,false,false,false,false,false,false,false,false,false,"2020-01-01","45"]
["45-005",null,null,"2xTw ","18",null,"Hirschberger Thalbahn",{"$nulls":4},"45",1,false,false,false,false,false,false,false,false,false,false,false,false,false,false,false,false,false,false,false,false,false,false,false,false,false,false,false,false,false,false,false,false,false,false,false,false,false,false,false,false,false,false,false,false,false,"2020-01-01","45"]
["45-006",null,null,"2xTw  \n2xBw  \n2xBw "," \n  \n68"," \n  \n ",{"$nulls":4},"Peter Boehm","45",1,false,false,false,false,false,false,false,false,false,false,false,false,false,false,false,false,false,false,false,false,false,false,false,false,false,false,false,false,false,false,false,false,false,false,false,false,false,false,false,false,false,false,false,false,false,"2020-01-01","45"]
["45-007",null,"Himmelreich","2xBw ","78",null,"ex Kiew",null,7,1939,"Peter Boehm","45",1,false,false,false,false,false,false,false,false,false,false,false,false,false,false,false,false,false,false,false,false,false,false,false,false,false,false,false,false,false,false,false,false,false,false,false,false,false,false,false,false,false,false,false,false,false,"2020-01-01","45"]
["45-008",null,null,"2xBw ","84",{"$nulls":6},"45",1,false,false,false,false,false,false,false,false,false,false,false,false,false,false,false,false,false,false,false,false,false,false,false,false,false,false,false,false,false,false,false,false,false,false,false,false,false,false,false,false,false,false,false,false,false,"2020-01-01","45"]
["45-009",null,null,"2xTw ","19",{"$nulls":6},"45",1,false,false,false,false,false,false,false,false,false,false,false,false,false,false,false,false,false,false,false,false,false,false,false,false,false,false,false,false,false,false,false,false,false,false,false,false,false,false,false,false,false,false,false,false,false,"2020-01-01","45"]
["45-010",null,null,"ArbTw  \nArbBw ","3 \n "," \n ",{"$nulls":5},"45",1,false,false,false,false,false,false,false,false,false,false,false,false,false,false,false,false,false,false,false,false,false,false,false,false,false,false,false,false,false,false,false,false,false,false,false,false,false,false,false,false,false,false,false,false,false,"2020-01-01","45"]
["45-015",null,null,"2xTw ","2",{"$nulls":6},"45",1,false,false,false,false,false,false,false,false,false,false,false,false,false,false,false,false,false,false,false,false,false,false,false,false,false,false,false,false,false,false,false,false,false,false,false,false,false,false,false,false,false,false,false,false,false,"2020-01-01","45"]
["45-016",null,null,"2xBw  \n2xBw ","53 \n "," \n ",{"$nulls":5},"45",1,false,false,false,false,false,false,false,false,false,false,false,false,false,false,false,false,false,false,false,false,false,false,false,false,false,false,false,false,false,false,false,false,false,false,false,false,false,false,false,false,false,false,false,false,false,"2020-01-01","45"]
["45-020",null,null,"2xBw ","59",{"$nulls":6},"45",1,false,false,false,false,false,false,false,false,false,false,false,false,false,false,false,false,false,false,false,false,false,false,false,false,false,false,false,false,false,false,false,false,false,false,false,false,false,false,false,false,false,false,false,false,false,"2020-01-01","45"]
["45-022",null,"Hotel Rosengarten","2xBw ","57",null,"Halbstehwagen",null,5,1944,"Klaus Bromme","45",1,false,false,false,false,false,false,false,false,false,false,false,false,false,false,false,false,false,false,false,false,false,false,false,false,false,false,false,false,false,false,false,false,false,false,false,false,false,false,false,false,false,false,false,false,false,"2020-01-01","45"]
["45-023",null,"Hotel Rosengarten","2xBw ","83",{"$nulls":6},"45",1,false,false,false,false,false,false,false,false,false,false,false,false,false,false,false,false,false,false,false,false,false,false,false,false,false,false,false,false,false,false,false,false,false,false,false,false,false,false,false,false,false,false,false,false,false,"2020-01-01","45"]
["45-024",null,null,"2xTw ","12",{"$nulls":6},"45",1,false,false,false,false,false,false,false,false,false,false,false,false,false,false,false,false,false,false,false,false,false,false,false,false,false,false,false,false,false,false,false,false,false,false,false,false,false,false,false,false,false,false,false,false,false,"2020-01-01","45"]
["45-025",null,null,"2xBw  \n2xTw ","85 \n8"," \n ",{"$nulls":3},1941,null,"45",1,false,false,false,false,false,false,false,false,false,false,false,false,false,false,false,false,false,false,false,false,false,false,false,false,false,false,false,false,false,false,false,false,false,false,false,false,false,false,false,false,false,false,false,false,false,"2020-01-01","45"]
["45-026",null,null,"2xTw ","10",null,"historisch",{"$nulls":3},"Werkfoto","45",1,false,false,false,false,false,false,false,false,false,false,false,false,false,false,false,false,false,false,false,false,false,false,false,false,false,false,false,false,false,false,false,false,false,false,false,false,false,false,false,false,false,false,false,false,false,"2020-01-01","45"]
["45-027",null,null,"2xTw ","19",null,"HITAG.Wumag Görlitz, Baujahr 1926",null,5,1944,"Klaus Bromme","45",1,false,false,false,false,false,false,false,false,false,false,false,false,false,false,false,false,false,false,false,false,false,false,false,false,false,false,false,false,false,false,false,false,false,false,false,false,false,false,false,false,false,false,false,false,false,"2020-01-01","45"]
["45-028",null,null,"2xTw ","17",null,"HITAG",null,2,1944,"Klaus Bromme","45",1,false,false,false,false,false,false,false,false,false,false,false,false,false,false,false,false,false,false,false,false,false,false,false,false,false,false,false,false,false,false,false,false,false,false,false,false,false,false,false,false,false,false,false,false,false,"2020-01-01","45"]
["45-029",null,null,"2xTw  \n2xTw ","16 \n15"," \n ","HITAG",null,5,1944,"Klaus Bromme","45",1,false,false,false,false,false,false,false,false,false,false,false,false,false,false,false,false,false,false,false,false,false,false,false,false,false,false,false,false,false,false,false,false,false,false,false,false,false,false,false,false,false,false,false,false,false,"2020-01-01","45"]
["45-030",null,null,"2xTw ","13",{"$nulls":3},5,1944,"Klaus Bromme","45",1,false,false,false,false,false,false,false,false,false,false,false,false,false,false,false,false,false,false,false,false,false,false,false,false,false,false,false,false,false,false,false,false,false,false,false,false,false,false,false,false,false,false,false,false,false,"2020-01-01","45"]
["45-031",null,null,"2xTw ","10",null,"historisch",{"$nulls":4},"45",1,false,false,false,false,false,false,false,false,false,false,false,false,false,false,false,false,false,false,false,false,false,false,false,false,false,false,false,false,false,false,false,false,false,false,false,false,false,false,false,false,false,false,false,false,false,"2020-01-01","45"]
["45-032",null,null,"2xTw ","8",null,"HITAG, Waggonfabrik Gotha",null,5,1944,"Klaus Bromme","45",1,false,false,false,false,false,false,false,false,false,false,false,false,false,false,false,false,false,false,false,false,false,false,false,false,false,false,false,false,false,false,false,false,false,false,false,false,false,false,false,false,false,false,false,false,false,"2020-01-01","45"]
["45-033",null,null,"2xBw  \n2xTw "," \n4"," \n ","Tw 4 ehem. Bw 74, Selbstbau der HITAG",null,2,1944,"Klaus Bromme","45",1,false,false,false,false,false,false,false,false,false,false,false,false,false,false,false,false,false,false,false,false,false,false,false,false,false,false,false,false,false,false,false,false,false,false,false,false,false,false,false,false,false,false,false,false,false,"2020-01-01","45"]
["45-034",null,null,"ArbTw ","3",null,"HITAG. Tw 3 Bj. 1900",null,5,1944,"Klaus Bromme","45",1,false,false,false,false,false,false,false,false,false,false,false,false,false,false,false,false,false,false,false,false,false,false,false,false,false,false,false,false,false,false,false,false,false,false,false,false,false,false,false,false,false,false,false,false,false,"2020-01-01","45"]
["45-035",null,null,"2xTw ","7",null,"HITAG. Umbauwagen",null,5,1944,"Klaus Bromme","45",1,false,false,false,false,false,false,false,false,false,false,false,false,false,false,false,false,false,false,false,false,false,false,false,false,false,false,false,false,false,false,false,false,false,false,false,false,false,false,false,false,false,false,false,false,false,"2020-01-01","45"]
["45-036",null,null,"2xTw ","2",null,"HITAG, Umbauwagen",null,5,1944,"Klaus Bromme","45",1,false,false,false,false,false,false,false,false,false,false,false,false,false,false,false,false,false,false,false,false,false,false,false,false,false,false,false,false,false,false,false,false,false,false,false,false,false,false,false,false,false,false,false,false,false,"2020-01-01","45"]
["45-037",null,"Betriebshof Herischdorf","ArbTw  \nArbTw ","1 \n3"," \n ",null,null,5,1944,"Klaus Bromme","45",1,false,false,false,false,false,false,false,false,false,false,false,false,false,false,false,false,false,false,false,false,false,false,false,false,false,false,false,false,false,false,false,false,false,false,false,false,false,false,false,false,false,false,false,false,false,"2020-01-01","45"]
["45-038",null,null,"2xBw  \n2xTw "," \n8"," \n ",{"$nulls":3},1944,null,"45",1,false,false,false,false,false,false,false,false,false,false,false,false,false,false,false,false,false,false,false,false,false,false,false,false,false,false,false,false,false,false,false,false,false,false,false,false,false,false,false,false,false,false,false,false,false,"2020-01-01","45"]
["45-039",null,null,"2xBw ","84",null,"Eigenbau der HITAG (Polsterwagen)",null,5,1944,"Klaus Bromme","45",1,false,false,false,false,false,false,false,false,false,false,false,false,false,false,false,false,false,false,false,false,false,false,false,false,false,false,false,false,false,false,false,false,false,false,false,false,false,false,false,false,false,false,false,false,false,"2020-01-01",{"$f":"LEFT(A66,FIND(\"-\",A66)-1)","v":"45"}]
["45-040",null,null,"2xBw ","50",null,"ex Liegnitz",null,5,1944,"Klaus Bromme","45",1,false,false,false,false,false,false,false,false,false,false,false,false,false,false,false,false,false,false,false,false,false,false,false,false,false,false,false,false,false,false,false,false,false,false,false,false,false,false,false,false,false,false,false,false,false,"2020-01-01","45"]
["45-041",null,null,"2xBw ","55",null,"Baujahr 1900",null,5,1944,"Klaus Bromme","45",1,false,false,false,false,false,false,false,false,false,false,false,false,false,false,false,false,false,false,false,false,false,false,false,false,false,false,false,false,false,false,false,false,false,false,false,false,false,false,false,false,false,false,false,false,false,"2020-01-01","45"]
["45-042",null,null,"Post-Bw ","82",null,"HITAG. Ehemaliger Gasbahn- Motorwagen Bj 1897",null,2,1944,"Klaus Bromme","45",1,false,false,false,false,false,false,false,false,false,false,false,false,false,false,false,false,false,false,false,false,false,false,false,false,false,false,false,false,false,false,false,false,false,false,false,false,false,false,false,false,false,false,false,false,false,"2020-01-01","45"]
["45-043",null,null,"2xBw ","80",null,"HITAG. Ehemaliger Gasbahn Anhänger (Bj. 1897)",null,2,1944,"Klaus Bromme","45",1,false,false,false,false,false,false,false,false,false,false,false,false,false,false,false,false,false,false,false,false,false,false,false,false,false,false,false,false,false,false,false,false,false,false,false,false,false,false,false,false,false,false,false,false,false,"2020-01-01","45"]
["45-044",null,null,"2xBw ","77",null,"HITAG. Ehemalige Strab. Kiew",null,2,1944,"Klaus Bromme","45",1,false,false,false,false,false,false,false,false,false,false,false,false,false,false,false,false,false,false,false,false,false,false,false,false,false,false,false,false,false,false,false,false,false,false,false,false,false,false,false,false,false,false,false,false,false,"2020-01-01","45"]
["45-045",null,null,"2xBw ","67",null,"HITAG. Ehemal. Triebwagen Bj. 1900",null,2,1944,"Klaus Bromme","45",1,false,false,false,false,false,false,false,false,false,false,false,false,false,false,false,false,false,false,false,false,false,false,false,false,false,false,false,false,false,false,false,false,false,false,false,false,false,false,false,false,false,false,false,false,false,"2020-01-01","45"]
["45-050",null,"Höf","2xBw  \n2xBw  \n2xTw "," \n  \n9"," \n  \n ",{"$nulls":3},1940,null,"45",1,false,false,false,false,false,false,false,false,false,false,false,false,false,false,false,false,false,false,false,false,false,false,false,false,false,false,false,false,false,false,false,false,false,false,false,false,false,false,false,false,false,false,false,false,false,"2020-01-01","45"]
["45-051",null,null,"2xBw  \n2xTw "," \n12"," \n ",{"$nulls":3},1940,null,"45",1,false,false,false,false,false,false,false,false,false,false,false,false,false,false,false,false,false,false,false,false,false,false,false,false,false,false,false,false,false,false,false,false,false,false,false,false,false,false,false,false,false,false,false,false,false,"2020-01-01","45"]
["114-001","VDVA-0114-001","Großmöllen","4xBw  \n4xTw ","36 \n18"," \n ","Strandbahn an der Abfahrtstelle neben dem Staatsbahnhof",null,null,1924,null,"114",1,false,false,false,false,false,false,false,false,false,false,false,false,false,false,false,false,false,false,false,false,false,false,false,false,false,false,false,false,false,false,false,false,false,false,false,false,false,false,false,false,false,false,false,false,false,"2020-01-01","114"]
["114-002","VDVA-0114-002","Depot Buchwaldstraße",{"$nulls":3},"für Stadtbahn und Strandbahn zuständig",{"$nulls":4},"114",1,false,false,false,false,false,false,false,false,false,false,false,false,false,false,false,false,false,false,false,false,false,false,false,false,false,false,false,false,false,false,false,false,false,false,false,false,false,false,false,false,false,false,false,false,false,"2020-01-01","114"]
["114-003","VDVA-0114-003","Depot Buchwaldstraße","2xTw ","23",null,"für Stadtbahn und Strandbahn zuständig",{"$nulls":3},"Hans Engel","114",1,false,false,false,false,false,false,false,false,false,false,false,false,false,false,false,false,false,false,false,false,false,false,false,false,false,false,false,false,false,false,false,false,false,false,false,false,false,false,false,false,false,false,false,false,false,"2020-01-01","114"]
["114-004","VDVA-0114-004",null,"4xBw ","39",null,"Strandbahn Bw",{"$nulls":4},"114",1,false,false,false,false,false,false,false,false,false,false,false,false,false,false,false,false,false,false,false,false,false,false,false,false,false,false,false,false,false,false,false,false,false,false,false,false,false,false,false,false,false,false,false,false,false,"2020-01-01","114"]
["114-006","VDVA-0114-006","Staatsbahnhof","2xTw ","1",{"$nulls":6},"114",1,false,false,false,false,false,false,false,false,false,false,false,false,false,false,false,false,false,false,false,false,false,false,false,false,false,false,false,false,false,false,false,false,false,false,false,false,false,false,false,false,false,false,false,false,false,"2020-01-01","114"]
["114-007","VDVA-0114-007","Hauptbahnhof","2xTw ","1",{"$nulls":6},"114",1,false,false,false,false,false,false,false,false,false,false,false,false,false,false,false,false,false,false,false,false,false,false,false,false,false,false,false,false,false,false,false,false,false,false,false,false,false,false,false,false,false,false,false,false,false,"2020-01-01","114"]
["114-008","VDVA-0114-008","Hauptbahnhof","2xTw ","4",null,"abfahrbereit nach Rogzow",{"$nulls":4},"114",1,false,false,false,false,false,false,false,false,false,false,false,false,false,false,false,false,false,false,false,false,false,false,false,false,false,false,false,false,false,false,false,false,false,false,false,false,false,false,false,false,false,false,false,false,false,"2020-01-01","114"]
["114-011","VDVA-0114-011","Friedrich-Wllhelm-Platz","2xTw ","7",null,"historisch",null,null,1914,null,"114",1,false,false,false,false,false,false,false,false,false,false,false,false,false,false,false,false,false,false,false,false,false,false,false,false,false,false,false,false,false,false,false,false,false,false,false,false,false,false,false,false,false,false,false,false,false,"2020-01-01","114"]
["114-012","VDVA-0114-012","Danziger Straße","2xTw ","2",null,"historisch",{"$nulls":4},"114",1,false,false,false,false,false,false,false,false,false,false,false,false,false,false,false,false,false,false,false,false,false,false,false,false,false,false,false,false,false,false,false,false,false,false,false,false,false,false,false,false,false,false,false,false,false,"2020-01-01","114"]
["115-001",null,"Blücherplatz","2xTw ","3",null,"Ringlinie in Richtung Bahnhof",null,null,1911,null,"115",1,false,false,false,false,false,false,false,false,false,false,false,false,false,false,false,false,false,false,false,false,false,false,false,false,false,false,false,false,false,false,false,false,false,false,false,false,false,false,false,false,false,false,false,false,false,"2020-01-01","115"]
["115-002",null,"Neutorstraße","2xTw ","3",{"$nulls":4},1910,null,"115",1,false,false,false,false,false,false,false,false,false,false,false,false,false,false,false,false,false,false,false,false,false,false,false,false,false,false,false,false,false,false,false,false,false,false,false,false,false,false,false,false,false,false,false,false,false,"2020-01-01","115"]
["115-003",null,"Betriebshof","2xTw ","4",{"$nulls":4},1910,null,"115",1,false,false,false,false,false,false,false,false,false,false,false,false,false,false,false,false,false,false,false,false,false,false,false,false,false,false,false,false,false,false,false,false,false,false,false,false,false,false,false,false,false,false,false,false,false,"2020-01-01","115"]
["116-001",null,"eine Vorstadtstraße","2xTw ","25","2",{"$nulls":3},1935,null,"116",1,false,false,false,false,false,false,false,false,false,false,false,false,false,false,false,false,false,false,false,false,false,false,false,false,false,false,false,false,false,false,false,false,false,false,false,false,false,false,false,false,false,false,false,false,false,"2020-01-01","116"]
["116-002",null,null,"2xTw ","19",{"$nulls":4},1935,"Willy Esch","116",1,false,false,false,false,false,false,false,false,false,false,false,false,false,false,false,false,false,false,false,false,false,false,false,false,false,false,false,false,false,false,false,false,false,false,false,false,false,false,false,false,false,false,false,false,false,"2020-01-01","116"]
["116-003",null,null,"2xTw ","36","1","in Richtung Vogelsang",null,null,1937,"Willy Esch","116",1,false,false,false,false,false,false,false,false,false,false,false,false,false,false,false,false,false,false,false,false,false,false,false,false,false,false,false,false,false,false,false,false,false,false,false,false,false,false,false,false,false,false,false,false,false,"2020-01-01","116"]
["116-004",null,null,"2xTw ","20",{"$nulls":5},"Willy Esch","116",1,false,false,false,false,false,false,false,false,false,false,false,false,false,false,false,false,false,false,false,false,false,false,false,false,false,false,false,false,false,false,false,false,false,false,false,false,false,false,false,false,false,false,false,false,false,"2020-01-01","116"]
["116-005",null,null,"2xTw  \n2xBw "," \n49"," \n ","Bw 49 ex Pirmasens",null,null,1942,"Willy Esch","116",1,false,false,false,false,false,false,false,false,false,false,false,false,false,false,false,false,false,false,false,false,false,false,false,false,false,false,false,false,false,false,false,false,false,false,false,false,false,false,false,false,false,false,false,false,false,"2020-01-01","116"]
["116-007",null,"In einer Vorstadtstraße","2xTw ","1",null,"historisch",null,null,1895,"Werkfoto","116",1,false,false,false,false,false,false,false,false,false,false,false,false,false,false,false,false,false,false,false,false,false,false,false,false,false,false,false,false,false,false,false,false,false,false,false,false,false,false,false,false,false,false,false,false,false,"2020-01-01","116"]
["116-008",null,null,"2xTw ","52","3","ex Remscheid",null,null,1942,"Willy Esch","116",1,false,false,false,false,false,false,false,false,false,false,false,false,false,false,false,false,false,false,false,false,false,false,false,false,false,false,false,false,false,false,false,false,false,false,false,false,false,false,false,false,false,false,false,false,false,"2020-01-01","116"]
["116-009",null,null,"2xTw ","16","3",{"$nulls":3},1942,"Willy Esch","116",1,false,false,false,false,false,false,false,false,false,false,false,false,false,false,false,false,false,false,false,false,false,false,false,false,false,false,false,false,false,false,false,false,false,false,false,false,false,false,false,false,false,false,false,false,false,"2020-01-01","116"]
["117-001","VDVA-0117-001","Nordbahnhof","2xTw ","20","E",{"$nulls":5},"117",1,false,false,false,false,false,false,false,false,false,false,false,false,false,false,false,false,false,false,false,false,false,false,false,false,false,false,false,false,false,false,false,false,false,false,false,false,false,false,false,false,false,false,false,false,false,"2020-01-01","117"]
["117-002","VDVA-0117-002","Hauptbahnhof","2xTw ","77","4","Auf dem Vorplatz des Hauptbahnhofs hatten die Linien 1 bis 4 jeweils ihre eigenenen Wartegleise",null,null,1938,null,"117",1,false,false,false,false,false,false,false,false,false,false,false,false,false,false,false,false,false,false,false,false,false,false,false,false,false,false,false,false,false,false,false,false,false,false,false,false,false,false,false,false,false,false,false,false,false,"2020-01-01","117"]
["117-003","VDVA-0117-003",null,"ArbTw ","353",null,"Schlepper",{"$nulls":4},"117",1,false,false,false,false,false,false,false,false,false,false,false,false,false,false,false,false,false,false,false,false,false,false,false,false,false,false,false,false,false,false,false,false,false,false,false,false,false,false,false,false,false,false,false,false,false,"2020-01-01","117"]
["117-004","VDVA-0117-004",null,"2xTw ","7",null,"mit 2 Stangen zur doppelpoligen Stromabnahme",null,null,1898,"MAN Werkfoto","117",1,false,false,false,false,false,false,false,false,false,false,false,false,false,false,false,false,false,false,false,false,false,false,false,false,false,false,false,false,false,false,false,false,false,false,false,false,false,false,false,false,false,false,false,false,false,"2020-01-01","117"]
["117-005","VDVA-0117-005","Endstation Devau","2xTw  \n2xBw ","79 \n265","2 \n2",{"$nulls":3},1937,"Klaus Bromme","117",1,false,false,false,false,false,false,false,false,false,false,false,false,false,false,false,false,false,false,false,false,false,false,false,false,false,false,false,false,false,false,false,false,false,false,false,false,false,false,false,false,false,false,false,false,false,"2020-01-01","117"]
["117-006","VDVA-0117-006","Endstation Devau","2xTw ","158",{"$nulls":4},1937,"Klaus Bromme","117",1,false,false,false,false,false,false,false,false,false,false,false,false,false,false,false,false,false,false,false,false,false,false,false,false,false,false,false,false,false,false,false,false,false,false,false,false,false,false,false,false,false,false,false,false,false,"2020-01-01","117"]
["117-007","VDVA-0117-007","Endstation Krematorium","2xTw  \n2xBw ","74 \n238","8 \n8","Steinfurthzug zur Abfahrt bereit nach Ponarth-West",null,null,1937,"Claus von den Driesch","117",1,false,false,false,false,false,false,false,false,false,false,false,false,false,false,false,false,false,false,false,false,false,false,false,false,false,false,false,false,false,false,false,false,false,false,false,false,false,false,false,false,false,false,false,false,false,"2020-01-01","117"]
["117-008","VDVA-0117-008","Hauptbahniiof","2xBw  \n2xTw "," \n17","4 \n4",{"$nulls":3},1942,null,"117",1,false,false,false,false,false,false,false,false,false,false,false,false,false,false,false,false,false,false,false,false,false,false,false,false,false,false,false,false,false,false,false,false,false,false,false,false,false,false,false,false,false,false,false,false,false,"2020-01-01","117"]
["117-009","VDVA-0117-009","Königstor?","2xTw  \n2xBw ","83 \n225","7 \n7",{"$nulls":5},"117",1,false,false,false,false,false,false,false,false,false,false,false,false,false,false,false,false,false,false,false,false,false,false,false,false,false,false,false,false,false,false,false,false,false,false,false,false,false,false,false,false,false,false,false,false,false,"2020-01-01","117"]
["117-010","VDVA-0117-010","Betriebshof Cosse",{"$nulls":8},"117",1,false,false,false,false,false,false,false,false,false,false,false,false,false,false,false,false,false,false,false,false,false,false,false,false,false,false,false,false,false,false,false,false,false,false,false,false,false,false,false,false,false,false,false,false,false,"2020-01-01","117"]
["117-011","VDVA-0117-011","Hauptbahnhof","ArbTw  \nArbBw ","AlO \n "," \n ","Schienenreinigungszug",{"$nulls":3},"Willy Esch","117",1,false,false,false,false,false,false,false,false,false,false,false,false,false,false,false,false,false,false,false,false,false,false,false,false,false,false,false,false,false,false,false,false,false,false,false,false,false,false,false,false,false,false,false,false,false,"2020-01-01","117"]
["117-012","VDVA-0117-012",null,"ArbTw ","A7",{"$nulls":5},"Willy Esch","117",1,false,false,false,false,false,false,false,false,false,false,false,false,false,false,false,false,false,false,false,false,false,false,false,false,false,false,false,false,false,false,false,false,false,false,false,false,false,false,false,false,false,false,false,false,false,"2020-01-01","117"]
["117-013","VDVA-0117-013",null,"Obusanhänger  \nObus "," \n203"," \n ","ex Kiew",{"$nulls":3},"Willy Esch","117",1,false,false,false,false,false,false,false,false,false,false,false,false,false,false,false,false,false,false,false,false,false,false,false,false,false,false,false,false,false,false,false,false,false,false,false,false,false,false,false,false,false,false,false,false,false,"2020-01-01","117"]
["117-014","VDVA-0117-014",null,"Obus ","204",null,"ex Kiew",{"$nulls":3},"Willy Esch","117",1,false,false,false,false,false,false,false,false,false,false,false,false,false,false,false,false,false,false,false,false,false,false,false,false,false,false,false,false,false,false,false,false,false,false,false,false,false,false,false,false,false,false,false,false,false,"2020-01-01","117"]
["117-015","VDVA-0117-015","Kneiphöfsche Langgasse","2xTw  \n2xTw ","55 \n121","2 \n3",{"$nulls":3},1930,"Friedrich Grünwald","117",1,false,false,false,false,false,false,false,false,false,false,false,false,false,false,false,false,false,false,false,false,false,false,false,false,false,false,false,false,false,false,false,false,false,false,false,false,false,false,false,false,false,false,false,false,false,"2020-01-01","117"]
["117-016","VDVA-0117-016",null,"2xTw ","153","1",{"$nulls":5},"117",1,false,false,false,false,false,false,false,false,false,false,false,false,false,false,false,false,false,false,false,false,false,false,false,false,false,false,false,false,false,false,false,false,false,false,false,false,false,false,false,false,false,false,false,false,false,"2020-01-01","117"]
["117-017","VDVA-0117-017",null,"2xTw ","19","4",{"$nulls":3},1942,"Prasuhn","117",1,false,false,false,false,false,false,false,false,false,false,false,false,false,false,false,false,false,false,false,false,false,false,false,false,false,false,false,false,false,false,false,false,false,false,false,false,false,false,false,false,false,false,false,false,false,"2020-01-01","117"]
["117-018","VDVA-0117-018","Kneiphöfsche Langgasse, Schloß","2xTw ","155","1",{"$nulls":3},1930,"Friedrich Grünwald","117",1,false,false,false,false,false,false,false,false,false,false,false,false,false,false,false,false,false,false,false,false,false,false,false,false,false,false,false,false,false,false,false,false,false,false,false,false,false,false,false,false,false,false,false,false,false,"2020-01-01","117"]
["117-019","VDVA-0117-019",null,"2xTw  \n2xBw ","131 \n ","13 \n13",{"$nulls":3},1939,"Werner Klein","117",1,false,false,false,false,false,false,false,false,false,false,false,false,false,false,false,false,false,false,false,false,false,false,false,false,false,false,false,false,false,false,false,false,false,false,false,false,false,false,false,false,false,false,false,false,false,"2020-01-01","117"]
["117-020","VDVA-0117-020","Endstation Hardershof","2xBw  \n2xTw "," \n128","12 \n12",{"$nulls":3},1941,null,"117",1,false,false,false,false,false,false,false,false,false,false,false,false,false,false,false,false,false,false,false,false,false,false,false,false,false,false,false,false,false,false,false,false,false,false,false,false,false,false,false,false,false,false,false,false,false,"2020-01-01","117"]
["117-021","VDVA-0117-021","Hauptbahnhof","2xTw  \n2xTw  \n2xTw  \n2xTw ","48 \n147 \n8 \n82","2 \n4 \n3 \n ",{"$nulls":3},1930,"Friedrich Grünwald","117",1,false,false,false,false,false,false,false,false,false,false,false,false,false,false,false,false,false,false,false,false,false,false,false,false,false,false,false,false,false,false,false,false,false,false,false,false,false,false,false,false,false,false,false,false,false,"2020-01-01","117"]
["117-022","VDVA-0117-022",null,"2xTw  \n2xTw ","108 \n97"," \n ","historisch, beide Tw mit 2 Stangen zur doppelpollgen Stromabnahme",{"$nulls":4},"117",1,false,false,false,false,false,false,false,false,false,false,false,false,false,false,false,false,false,false,false,false,false,false,false,false,false,false,false,false,false,false,false,false,false,false,false,false,false,false,false,false,false,false,false,false,false,"2020-01-01","117"]
["117-023","VDVA-0117-023","Nordbahnhof","Bus ","3844",{"$nulls":5},"Willy Esch","117",1,false,false,false,false,false,false,false,false,false,false,false,false,false,false,false,false,false,false,false,false,false,false,false,false,false,false,false,false,false,false,false,false,false,false,false,false,false,false,false,false,false,false,false,false,false,"2020-01-01","117"]
["117-024","VDVA-0117-024","Schloß","2xTw ","30","5",{"$nulls":5},"117",1,false,false,false,false,false,false,false,false,false,false,false,false,false,false,false,false,false,false,false,false,false,false,false,false,false,false,false,false,false,false,false,false,false,false,false,false,false,false,false,false,false,false,false,false,false,"2020-01-01","117"]
["117-025","VDVA-0117-025","Hauptbahnhof","2xBw  \n2xTw ","202 \n55","2 \n2",{"$nulls":5},"117",1,false,false,false,false,false,false,false,false,false,false,false,false,false,false,false,false,false,false,false,false,false,false,false,false,false,false,false,false,false,false,false,false,false,false,false,false,false,false,false,false,false,false,false,false,false,"2020-01-01","117"]
["117-026","VDVA-0117-026","Depot Dirschauer Straße",{"$nulls":3},"ehemaliger Gotha Bw",29,8,1993,"Günter H. Köhler","117",1,false,false,false,false,false,false,false,false,false,false,false,false,false,false,false,false,false,false,false,false,false,false,false,false,false,false,false,false,false,false,false,false,false,false,false,false,false,false,false,false,false,false,false,false,false,"2020-01-01","117"]
["117-027","VDVA-0117-027","Depot Dlrschauer Straße","Bus ","3844",null,null,29,8,1993,"Günter H. Köhler","117",1,false,false,false,false,false,false,false,false,false,false,false,false,false,false,false,false,false,false,false,false,false,false,false,false,false,false,false,false,false,false,false,false,false,false,false,false,false,false,false,false,false,false,false,false,false,"2020-01-01","117"]
["117-028","VDVA-0117-028","Depot Dirschauer Straße, Depoteinfahrt","4xTw ","409",null,null,29,8,1993,"Günter H. Köhler","117",1,false,false,false,false,false,false,false,false,false,false,false,false,false,false,false,false,false,false,false,false,false,false,false,false,false,false,false,false,false,false,false,false,false,false,false,false,false,false,false,false,false,false,false,false,false,"2020-01-01","117"]
["117-029","VDVA-0117-029",null,"4xTw ","432","6",null,29,8,1993,"Günter H. Köhler","117",1,false,false,false,false,false,false,false,false,false,false,false,false,false,false,false,false,false,false,false,false,false,false,false,false,false,false,false,false,false,false,false,false,false,false,false,false,false,false,false,false,false,false,false,false,false,"2020-01-01","117"]
["117-030","VDVA-0117-030",null,"4xTw  \n4xTw "," \n234","8 \n8",null,25,8,1993,"Günter H. Köhler","117",1,false,false,false,false,false,false,false,false,false,false,false,false,false,false,false,false,false,false,false,false,false,false,false,false,false,false,false,false,false,false,false,false,false,false,false,false,false,false,false,false,false,false,false,false,false,"2020-01-01","117"]
["118-001","VDVA-0118-001",null,"Standseil-bahnwagen ",{"$nulls":6},"Günter Stetza","118",1,false,false,false,false,false,false,false,false,false,false,false,false,false,false,false,false,false,false,false,false,false,false,false,false,false,false,false,false,false,false,false,false,false,false,false,false,false,false,false,false,false,false,false,false,false,"2020-01-01","118"]
["118-002",null,null,"Standseil-bahn ",{"$nulls":7},"118",1,false,false,false,false,false,false,false,false,false,false,false,false,false,false,false,false,false,false,false,false,false,false,false,false,false,false,false,false,false,false,false,false,false,false,false,false,false,false,false,false,false,false,false,false,false,"2020-01-01","118"]
["119-001",null,null,"2xTw ","10","2","ex Hagen",{"$nulls":3},"Willy Esch","119",1,false,false,false,false,false,false,false,false,false,false,false,false,false,false,false,false,false,false,false,false,false,false,false,false,false,false,false,false,false,false,false,false,false,false,false,false,false,false,false,false,false,false,false,false,false,"2020-01-01","119"]
["119-002",null,null,"2xTw  \n2xBw "," \n "," \n ","Tw ex Hagen",{"$nulls":3},"Willy Esch","119",1,false,false,false,false,false,false,false,false,false,false,false,false,false,false,false,false,false,false,false,false,false,false,false,false,false,false,false,false,false,false,false,false,false,false,false,false,false,false,false,false,false,false,false,false,false,"2020-01-01","119"]
["119-003",null,"Fletscherplatz","2xTw ","11",{"$nulls":5},"Claus von den Driesch","119",1,false,false,false,false,false,false,false,false,false,false,false,false,false,false,false,false,false,false,false,false,false,false,false,false,false,false,false,false,false,false,false,false,false,false,false,false,false,false,false,false,false,false,false,false,false,"2020-01-01","119"]
["119-005",null,null,"Busanhänger  \nBus "," \n "," \n ",{"$nulls":4},"Willy Esch","119",1,false,false,false,false,false,false,false,false,false,false,false,false,false,false,false,false,false,false,false,false,false,false,false,false,false,false,false,false,false,false,false,false,false,false,false,false,false,false,false,false,false,false,false,false,false,"2020-01-01",{"$f":"LEFT(A130,FIND(\"-\",A130)-1)","v":"119"}]
["121-001","VDVA-0121-001",null,"4xTw ","155",{"$nulls":4},1939,"Friedrich Grünwald","121",1,false,false,false,false,false,false,false,false,false,false,false,false,false,false,false,false,false,false,false,false,false,false,false,false,false,false,false,false,false,false,false,false,false,false,false,false,false,false,false,false,false,false,false,false,false,"2020-01-01","121"]
["121-002","VDVA-0121-002","Markt","4xTw ","241","1",{"$nulls":3},1931,"Friedrich Grünwald","121",1,false,false,false,false,false,false,false,false,false,false,false,false,false,false,false,false,false,false,false,false,false,false,false,false,false,false,false,false,false,false,false,false,false,false,false,false,false,false,false,false,false,false,false,false,false,"2020-01-01","121"]
["121-003","VDVA-0121-003",null,"4xTw ","303","1","Richtung Langfuhr",null,null,1931,"Friedrich Grünwald","121",1,false,false,false,false,false,false,false,false,false,false,false,false,false,false,false,false,false,false,false,false,false,false,false,false,false,false,false,false,false,false,false,false,false,false,false,false,false,false,false,false,false,false,false,false,false,"2020-01-01","121"]
["121-004","VDVA-0121-004",null,"4xBw ","371","1",{"$nulls":3},1931,"Friedrich Grünwald","121",1,false,false,false,false,false,false,false,false,false,false,false,false,false,false,false,false,false,false,false,false,false,false,false,false,false,false,false,false,false,false,false,false,false,false,false,false,false,false,false,false,false,false,false,false,false,"2020-01-01","121"]
["121-005",null,null,"4xTw ","151","10","Linie Oliva-Glettgau",{"$nulls":3},"Klaus Bromme","121",1,false,false,false,false,false,false,false,false,false,false,false,false,false,false,false,false,false,false,false,false,false,false,false,false,false,false,false,false,false,false,false,false,false,false,false,false,false,false,false,false,false,false,false,false,false,"2020-01-01","121"]
["121-006",null,null,"4xTw  \nBw ","241 \n ","10 \n10","Linie Oliva-Glettgau",null,null,1941,"Klaus Bromme","121",1,false,false,false,false,false,false,false,false,false,false,false,false,false,false,false,false,false,false,false,false,false,false,false,false,false,false,false,false,false,false,false,false,false,false,false,false,false,false,false,false,false,false,false,false,false,"2020-01-01","121"]
["121-007",null,null,"4xTw ","244","10","Linie Oliva-Glettgau",{"$nulls":3},"Klaus Bromme","121",1,false,false,false,false,false,false,false,false,false,false,false,false,false,false,false,false,false,false,false,false,false,false,false,false,false,false,false,false,false,false,false,false,false,false,false,false,false,false,false,false,false,false,false,false,false,"2020-01-01","121"]
["121-008",null,"Endstation Oliva","4xTw  \nBw ","303 \n ","2 \n2","Vorortbahn Danzig-Oliva",null,null,1939,"Klaus Bromme","121",1,false,false,false,false,false,false,false,false,false,false,false,false,false,false,false,false,false,false,false,false,false,false,false,false,false,false,false,false,false,false,false,false,false,false,false,false,false,false,false,false,false,false,false,false,false,"2020-01-01","121"]
["121-009",null,null,"4xBw ","364",null,"Vorortbahn Danzig-Oliva",{"$nulls":3},"Klaus Bromme","121",1,false,false,false,false,false,false,false,false,false,false,false,false,false,false,false,false,false,false,false,false,false,false,false,false,false,false,false,false,false,false,false,false,false,false,false,false,false,false,false,false,false,false,false,false,false,"2020-01-01","121"]
["121-010",null,null,"4xTw  \nTw ","242 \n157","10 \n10","Kreuzung in einer Ausweiche auf der eingleisigen Strecke Ollva-Glettkau",{"$nulls":4},"121",1,false,false,false,false,false,false,false,false,false,false,false,false,false,false,false,false,false,false,false,false,false,false,false,false,false,false,false,false,false,false,false,false,false,false,false,false,false,false,false,false,false,false,false,false,false,"2020-01-01","121"]
["121-011",null,null,"4xTw ","157","1",null,7,1,1945,"Karl Matern","121",1,false,false,false,false,false,false,false,false,false,false,false,false,false,false,false,false,false,false,false,false,false,false,false,false,false,false,false,false,false,false,false,false,false,false,false,false,false,false,false,false,false,false,false,false,false,"2020-01-01","121"]
["121-012",null,null,"4xBw  \n2xTw "," \n158","1 \n1",null,7,1,1945,"Karl Matern","121",1,false,false,false,false,false,false,false,false,false,false,false,false,false,false,false,false,false,false,false,false,false,false,false,false,false,false,false,false,false,false,false,false,false,false,false,false,false,false,false,false,false,false,false,false,false,"2020-01-01","121"]
["121-013",null,null,"4xTw ","158","1",null,7,1,1945,null,"121",1,false,false,false,false,false,false,false,false,false,false,false,false,false,false,false,false,false,false,false,false,false,false,false,false,false,false,false,false,false,false,false,false,false,false,false,false,false,false,false,false,false,false,false,false,false,"2020-01-01","121"]
["121-014",null,null,"2xTw ","246","5",null,7,1,1945,"Karl Matern","121",1,false,false,false,false,false,false,false,false,false,false,false,false,false,false,false,false,false,false,false,false,false,false,false,false,false,false,false,false,false,false,false,false,false,false,false,false,false,false,false,false,false,false,false,false,false,"2020-01-01","121"]
["121-015",null,null,"2xBw  \n2xBw  \n2xTw "," \n  \n249","4 \n4 \n4",null,7,1,1945,"Karl Matern","121",1,false,false,false,false,false,false,false,false,false,false,false,false,false,false,false,false,false,false,false,false,false,false,false,false,false,false,false,false,false,false,false,false,false,false,false,false,false,false,false,false,false,false,false,false,false,"2020-01-01","121"]
["121-016",null,null,"2xTw ","252","5",null,7,1,1945,"Karl Matern","121",1,false,false,false,false,false,false,false,false,false,false,false,false,false,false,false,false,false,false,false,false,false,false,false,false,false,false,false,false,false,false,false,false,false,false,false,false,false,false,false,false,false,false,false,false,false,"2020-01-01","121"]
["121-017",null,null,"2xBw  \n2xBw  \n2xTw "," \n  \n262","5 \n5 \n5",null,7,1,1945,"Karl Matern","121",1,false,false,false,false,false,false,false,false,false,false,false,false,false,false,false,false,false,false,false,false,false,false,false,false,false,false,false,false,false,false,false,false,false,false,false,false,false,false,false,false,false,false,false,false,false,"2020-01-01","121"]
["121-018",null,null,"2xBw  \nTw "," \n284","8 \n8","Bw: KSW\nRichtung Neufahrwasser",7,1,1945,"Karl Matern","121",1,false,false,false,false,false,false,false,false,false,false,false,false,false,false,false,false,false,false,false,false,false,false,false,false,false,false,false,false,false,false,false,false,false,false,false,false,false,false,false,false,false,false,false,false,false,"2020-01-01","121"]
["121-019",null,null,"Tw ","286","8",null,7,1,1945,null,"121",1,false,false,false,false,false,false,false,false,false,false,false,false,false,false,false,false,false,false,false,false,false,false,false,false,false,false,false,false,false,false,false,false,false,false,false,false,false,false,false,false,false,false,false,false,false,"2020-01-01","121"]
["121-020",null,null,"4xBw  \n4xTw "," \n301","2 \n2",null,7,1,1945,"Karl Matern","121",1,false,false,false,false,false,false,false,false,false,false,false,false,false,false,false,false,false,false,false,false,false,false,false,false,false,false,false,false,false,false,false,false,false,false,false,false,false,false,false,false,false,false,false,false,false,"2020-01-01","121"]
["121-021",null,null,"4xTw  \n2xBw ","232 \n ","7 \n7",{"$nulls":3},1943,null,"121",1,false,false,false,false,false,false,false,false,false,false,false,false,false,false,false,false,false,false,false,false,false,false,false,false,false,false,false,false,false,false,false,false,false,false,false,false,false,false,false,false,false,false,false,false,false,"2020-01-01","121"]
["121-022",null,null,"4xTw  \n2xBw ","105 \n ","7 \n7",{"$nulls":3},1941,null,"121",1,false,false,false,false,false,false,false,false,false,false,false,false,false,false,false,false,false,false,false,false,false,false,false,false,false,false,false,false,false,false,false,false,false,false,false,false,false,false,false,false,false,false,false,false,false,"2020-01-01","121"]
["121-023",null,null,"4xTw ","240","1",{"$nulls":3},1941,null,"121",1,false,false,false,false,false,false,false,false,false,false,false,false,false,false,false,false,false,false,false,false,false,false,false,false,false,false,false,false,false,false,false,false,false,false,false,false,false,false,false,false,false,false,false,false,false,"2020-01-01","121"]
["121-024",null,null,"2xBw  \n2xTw "," \n266","5 \n5",{"$nulls":3},1941,null,"121",1,false,false,false,false,false,false,false,false,false,false,false,false,false,false,false,false,false,false,false,false,false,false,false,false,false,false,false,false,false,false,false,false,false,false,false,false,false,false,false,false,false,false,false,false,false,"2020-01-01","121"]
["121-025",null,null,"4xTw  \n4xBw ","302 \n ","2 \n2",{"$nulls":3},1941,null,"121",1,false,false,false,false,false,false,false,false,false,false,false,false,false,false,false,false,false,false,false,false,false,false,false,false,false,false,false,false,false,false,false,false,false,false,false,false,false,false,false,false,false,false,false,false,false,"2020-01-01","121"]
["121-026",null,null,"2xTw  \nBw ","280 \n "," \n ","Richtung Neufahrwasser",null,null,1941,null,"121",1,false,false,false,false,false,false,false,false,false,false,false,false,false,false,false,false,false,false,false,false,false,false,false,false,false,false,false,false,false,false,false,false,false,false,false,false,false,false,false,false,false,false,false,false,false,"2020-01-01","121"]
["121-027",null,null,"Bw  \n2xTw "," \n272","2 \n2",{"$nulls":3},1941,null,"121",1,false,false,false,false,false,false,false,false,false,false,false,false,false,false,false,false,false,false,false,false,false,false,false,false,false,false,false,false,false,false,false,false,false,false,false,false,false,false,false,false,false,false,false,false,false,"2020-01-01","121"]
["121-028",null,null,"Pferdebahnwagen ","28",null,"historisch",null,null,1890,"Werkfoto","121",1,false,false,false,false,false,false,false,false,false,false,false,false,false,false,false,false,false,false,false,false,false,false,false,false,false,false,false,false,false,false,false,false,false,false,false,false,false,false,false,false,false,false,false,false,false,"2020-01-01","121"]
["121-030",null,"Gdingen","Bw  \nObus  \nTw "," \n  \n "," \n  \n ",{"$nulls":4},"Dieter Waltking","121",1,false,false,false,false,false,false,false,false,false,false,false,false,false,false,false,false,false,false,false,false,false,false,false,false,false,false,false,false,false,false,false,false,false,false,false,false,false,false,false,false,false,false,false,false,false,"2020-01-01","121"]
["121-031",null,"Gdingen","Bw  \nTw "," \n "," \n ",{"$nulls":4},"Dieter Waltking","121",1,false,false,false,false,false,false,false,false,false,false,false,false,false,false,false,false,false,false,false,false,false,false,false,false,false,false,false,false,false,false,false,false,false,false,false,false,false,false,false,false,false,false,false,false,false,"2020-01-01","121"]
["121-032",null,"Oliva","6xGelTw ","3102","2",null,4,6,1974,"Peter Boehm","121",1,false,false,false,false,false,false,false,false,false,false,false,false,false,false,false,false,false,false,false,false,false,false,false,false,false,false,false,false,false,false,false,false,false,false,false,false,false,false,false,false,false,false,false,false,false,"2020-01-01","121"]
["121-033","VDVA-0121-033","Markt","4xTw  \n4xBw ","306 \n ","2 \n2",{"$nulls":3},1931,"Friedrich Grünwald","121",1,false,false,false,false,false,false,false,false,false,false,false,false,false,false,false,false,false,false,false,false,false,false,false,false,false,false,false,false,false,false,false,false,false,false,false,false,false,false,false,false,false,false,false,false,false,"2020-01-01","121"]
["121-034",null,null,"ArbTw ","915",{"$nulls":6},"121",1,false,false,false,false,false,false,false,false,false,false,false,false,false,false,false,false,false,false,false,false,false,false,false,false,false,false,false,false,false,false,false,false,false,false,false,false,false,false,false,false,false,false,false,false,false,"2020-01-01","121"]
["121-035","VDVA-0121-035",{"$nulls":4},"Spezielle Oberleitungsführung",null,null,1936,"Friedrich Grünwald","121",1,false,false,false,false,false,false,false,false,false,false,false,false,false,false,false,false,false,false,false,false,false,false,false,false,false,false,false,false,false,false,false,false,false,false,false,false,false,false,false,false,false,false,false,false,false,"2020-01-01","121"]
["122-001",null,null,"2xTw ","14",null,"in 1926 von Düsseldorf übernommen",{"$nulls":4},"122",1,false,false,false,false,false,false,false,false,false,false,false,false,false,false,false,false,false,false,false,false,false,false,false,false,false,false,false,false,false,false,false,false,false,false,false,false,false,false,false,false,false,false,false,false,false,"2020-01-01","122"]
["122-004",null,"Bahnhof","2xTw ","12",{"$nulls":4},1938,"Peter Boehm","122",1,false,false,false,false,false,false,false,false,false,false,false,false,false,false,false,false,false,false,false,false,false,false,false,false,false,false,false,false,false,false,false,false,false,false,false,false,false,false,false,false,false,false,false,false,false,"2020-01-01","122"]
["122-005",null,null,"2xTw ","5",null,"Einer der ersten Straßenbahn Tw In Landsberg aus dem Jahr 1899",null,null,1938,"Peter Boehm","122",1,false,false,false,false,false,false,false,false,false,false,false,false,false,false,false,false,false,false,false,false,false,false,false,false,false,false,false,false,false,false,false,false,false,false,false,false,false,false,false,false,false,false,false,false,false,"2020-01-01","122"]
["125-001",null,null,"2xTw ","10",{"$nulls":4},1940,"Willy Esch","125",1,false,false,false,false,false,false,false,false,false,false,false,false,false,false,false,false,false,false,false,false,false,false,false,false,false,false,false,false,false,false,false,false,false,false,false,false,false,false,false,false,false,false,false,false,false,"2020-01-01","125"]
["125-002",null,null,"2xTw ","13",{"$nulls":4},1940,"Willy Esch","125",1,false,false,false,false,false,false,false,false,false,false,false,false,false,false,false,false,false,false,false,false,false,false,false,false,false,false,false,false,false,false,false,false,false,false,false,false,false,false,false,false,false,false,false,false,false,"2020-01-01","125"]
["125-003",null,null,"2xTw  \n2xBw ","4 \n "," \n ",{"$nulls":3},1940,"Willy Esch","125",1,false,false,false,false,false,false,false,false,false,false,false,false,false,false,false,false,false,false,false,false,false,false,false,false,false,false,false,false,false,false,false,false,false,false,false,false,false,false,false,false,false,false,false,false,false,"2020-01-01","125"]
["125-004",null,null,"Obus  \nObus-anhänger ","10 \n "," \n ",{"$nulls":3},1940,"Willy Esch","125",1,false,false,false,false,false,false,false,false,false,false,false,false,false,false,false,false,false,false,false,false,false,false,false,false,false,false,false,false,false,false,false,false,false,false,false,false,false,false,false,false,false,false,false,false,false,"2020-01-01","125"]
["125-005",null,null,"Obus ","4",{"$nulls":4},1940,"Willy Esch","125",1,false,false,false,false,false,false,false,false,false,false,false,false,false,false,false,false,false,false,false,false,false,false,false,false,false,false,false,false,false,false,false,false,false,false,false,false,false,false,false,false,false,false,false,false,false,"2020-01-01","125"]
["125-007",null,null,"2xTw ","5",{"$nulls":4},1920,null,"125",1,false,false,false,false,false,false,false,false,false,false,false,false,false,false,false,false,false,false,false,false,false,false,false,false,false,false,false,false,false,false,false,false,false,false,false,false,false,false,false,false,false,false,false,false,false,"2020-01-01","125"]
["125-008",null,null,"2xTw ","15",{"$nulls":4},1930,null,"125",1,false,false,false,false,false,false,false,false,false,false,false,false,false,false,false,false,false,false,false,false,false,false,false,false,false,false,false,false,false,false,false,false,false,false,false,false,false,false,false,false,false,false,false,false,false,"2020-01-01","125"]
["128-001","VDVA-0128-001","Am Ring","2xTw ","1024","5","Richtung Klein Tschansch",null,null,1935,"Friedrich Grünwald","128",1,false,false,false,false,false,false,false,false,false,false,false,false,false,false,false,false,false,false,false,false,false,false,false,false,false,false,false,false,false,false,false,false,false,false,false,false,false,false,false,false,false,false,false,false,false,"2020-01-01","128"]
["128-002","VDVA-0128-002",null,"2xBw  \n2xTw "," \n1353","11 \n11",null,null,7,1975,null,"128",1,false,false,false,false,false,false,false,false,false,false,false,false,false,false,false,false,false,false,false,false,false,false,false,false,false,false,false,false,false,false,false,false,false,false,false,false,false,false,false,false,false,false,false,false,false,"2020-01-01","128"]
["128-003","VDVA-0128-003",null,"2xTw  \n2xBw  \n2xBw ","1100 \n  \n ","14 \n14 \n14",{"$nulls":3},1942,null,"128",1,false,false,false,false,false,false,false,false,false,false,false,false,false,false,false,false,false,false,false,false,false,false,false,false,false,false,false,false,false,false,false,false,false,false,false,false,false,false,false,false,false,false,false,false,false,"2020-01-01","128"]
["128-004","VDVA-0128-004",null,"2xBw ","3653",{"$nulls":6},"128",1,false,false,false,false,false,false,false,false,false,false,false,false,false,false,false,false,false,false,false,false,false,false,false,false,false,false,false,false,false,false,false,false,false,false,false,false,false,false,false,false,false,false,false,false,false,"2020-01-01","128"]
["128-005","VDVA-0128-005",null,"2xBw ","3414","7",{"$nulls":4},"Emil Konrad","128",1,false,false,false,false,false,false,false,false,false,false,false,false,false,false,false,false,false,false,false,false,false,false,false,false,false,false,false,false,false,false,false,false,false,false,false,false,false,false,false,false,false,false,false,false,false,"2020-01-01","128"]
["128-006","VDVA-0128-006",null,"2xTw ","1151","18E",{"$nulls":4},"Hermann Kühne","128",1,false,false,false,false,false,false,false,false,false,false,false,false,false,false,false,false,false,false,false,false,false,false,false,false,false,false,false,false,false,false,false,false,false,false,false,false,false,false,false,false,false,false,false,false,false,"2020-01-01","128"]
["128-007","VDVA-0128-007",null,"4xTw ",null,"26",{"$nulls":5},"128",1,false,false,false,false,false,false,false,false,false,false,false,false,false,false,false,false,false,false,false,false,false,false,false,false,false,false,false,false,false,false,false,false,false,false,false,false,false,false,false,false,false,false,false,false,false,"2020-01-01","128"]
["128-008","VDVA-0128-008",null,"2xBw ","3614","18E",{"$nulls":4},"Hermann Kühne","128",1,false,false,false,false,false,false,false,false,false,false,false,false,false,false,false,false,false,false,false,false,false,false,false,false,false,false,false,false,false,false,false,false,false,false,false,false,false,false,false,false,false,false,false,false,false,"2020-01-01","128"]
["128-009","VDVA-0128-009",null,"2xBw ","3463","1E",{"$nulls":4},"Emil Konrad","128",1,false,false,false,false,false,false,false,false,false,false,false,false,false,false,false,false,false,false,false,false,false,false,false,false,false,false,false,false,false,false,false,false,false,false,false,false,false,false,false,false,false,false,false,false,false,"2020-01-01","128"]
["128-010","VDVA-0128-010",null,"2xTw ","1064","12",{"$nulls":4},"Horst Michelke","128",1,false,false,false,false,false,false,false,false,false,false,false,false,false,false,false,false,false,false,false,false,false,false,false,false,false,false,false,false,false,false,false,false,false,false,false,false,false,false,false,false,false,false,false,false,false,"2020-01-01","128"]
["128-011","VDVA-0128-011",null,"2xBw ","3419","4E",{"$nulls":4},"Emil Konrad","128",1,false,false,false,false,false,false,false,false,false,false,false,false,false,false,false,false,false,false,false,false,false,false,false,false,false,false,false,false,false,false,false,false,false,false,false,false,false,false,false,false,false,false,false,false,false,"2020-01-01","128"]
["128-012","VDVA-0128-012",null,"2xBw ","3601",{"$nulls":5},"Emil Konrad","128",1,false,false,false,false,false,false,false,false,false,false,false,false,false,false,false,false,false,false,false,false,false,false,false,false,false,false,false,false,false,false,false,false,false,false,false,false,false,false,false,false,false,false,false,false,false,"2020-01-01","128"]
["128-013","VDVA-0128-013",null,"2xBw ","3837",{"$nulls":5},"Emil Konrad","128",1,false,false,false,false,false,false,false,false,false,false,false,false,false,false,false,false,false,false,false,false,false,false,false,false,false,false,false,false,false,false,false,false,false,false,false,false,false,false,false,false,false,false,false,false,false,"2020-01-01","128"]
["128-014","VDVA-0128-014",null,"2xBw ","3244","22",{"$nulls":4},"Horst Michelke","128",1,false,false,false,false,false,false,false,false,false,false,false,false,false,false,false,false,false,false,false,false,false,false,false,false,false,false,false,false,false,false,false,false,false,false,false,false,false,false,false,false,false,false,false,false,false,"2020-01-01","128"]
["128-015","VDVA-0128-015",null,"2xBw ","3652","21",{"$nulls":4},"Emil Konrad","128",1,false,false,false,false,false,false,false,false,false,false,false,false,false,false,false,false,false,false,false,false,false,false,false,false,false,false,false,false,false,false,false,false,false,false,false,false,false,false,false,false,false,false,false,false,false,"2020-01-01","128"]
["128-016","VDVA-0128-016",null,"2xBw ","3876",{"$nulls":5},"Emil Konrad","128",1,false,false,false,false,false,false,false,false,false,false,false,false,false,false,false,false,false,false,false,false,false,false,false,false,false,false,false,false,false,false,false,false,false,false,false,false,false,false,false,false,false,false,false,false,false,"2020-01-01","128"]
["128-017","VDVA-0128-017",null,"2xTw  \n2xBw  \n2xBw ","1041 \n  \n3513","7 \n7 \n7",null,null,7,1975,null,"128",1,false,false,false,false,false,false,false,false,false,false,false,false,false,false,false,false,false,false,false,false,false,false,false,false,false,false,false,false,false,false,false,false,false,false,false,false,false,false,false,false,false,false,false,false,false,"2020-01-01","128"]
["128-018","VDVA-0128-018",null,"2xBw ","3802","4",{"$nulls":4},"Emil Konrad","128",1,false,false,false,false,false,false,false,false,false,false,false,false,false,false,false,false,false,false,false,false,false,false,false,false,false,false,false,false,false,false,false,false,false,false,false,false,false,false,false,false,false,false,false,false,false,"2020-01-01","128"]
["128-019","VDVA-0128-019",null,"2xBw ","3901",{"$nulls":5},"Emil Konrad","128",1,false,false,false,false,false,false,false,false,false,false,false,false,false,false,false,false,false,false,false,false,false,false,false,false,false,false,false,false,false,false,false,false,false,false,false,false,false,false,false,false,false,false,false,false,false,"2020-01-01","128"]
["128-020","VDVA-0128-020",null,"2xBw ","3406","25",{"$nulls":4},"Emil Konrad","128",1,false,false,false,false,false,false,false,false,false,false,false,false,false,false,false,false,false,false,false,false,false,false,false,false,false,false,false,false,false,false,false,false,false,false,false,false,false,false,false,false,false,false,false,false,false,"2020-01-01",{"$f":"LEFT(A194,FIND(\"-\",A194)-1)","v":"128"}]
["128-021","VDVA-0128-021",null,"2xBw ","3405","7",{"$nulls":4},"Emil Konrad","128",1,false,false,false,false,false,false,false,false,false,false,false,false,false,false,false,false,false,false,false,false,false,false,false,false,false,false,false,false,false,false,false,false,false,false,false,false,false,false,false,false,false,false,false,false,false,"2020-01-01","128"]
["128-022","VDVA-0128-022",null,"2xBw ","3912",{"$nulls":5},"Emil Konrad","128",1,false,false,false,false,false,false,false,false,false,false,false,false,false,false,false,false,false,false,false,false,false,false,false,false,false,false,false,false,false,false,false,false,false,false,false,false,false,false,false,false,false,false,false,false,false,"2020-01-01","128"]
["128-023","VDVA-0128-023",null,"2xBw ","3913",{"$nulls":6},"128",1,false,false,false,false,false,false,false,false,false,false,false,false,false,false,false,false,false,false,false,false,false,false,false,false,false,false,false,false,false,false,false,false,false,false,false,false,false,false,false,false,false,false,false,false,false,"2020-01-01","128"]
["128-024","VDVA-0128-024",null,"2xBw ","3209",{"$nulls":5},"Emil Konrad","128",1,false,false,false,false,false,false,false,false,false,false,false,false,false,false,false,false,false,false,false,false,false,false,false,false,false,false,false,false,false,false,false,false,false,false,false,false,false,false,false,false,false,false,false,false,false,"2020-01-01","128"]
["128-025","VDVA-0128-025",null,"2xBw ","3067","10",{"$nulls":4},"Emil Konrad","128",1,false,false,false,false,false,false,false,false,false,false,false,false,false,false,false,false,false,false,false,false,false,false,false,false,false,false,false,false,false,false,false,false,false,false,false,false,false,false,false,false,false,false,false,false,false,"2020-01-01","128"]
["128-026","VDVA-0128-026",null,"2xBw ","5642",{"$nulls":5},"Emil Konrad","128",1,false,false,false,false,false,false,false,false,false,false,false,false,false,false,false,false,false,false,false,false,false,false,false,false,false,false,false,false,false,false,false,false,false,false,false,false,false,false,false,false,false,false,false,false,false,"2020-01-01","128"]
["128-027","VDVA-0128-027",null,"2xBw ","1229",{"$nulls":5},"Emil Konrad","128",1,false,false,false,false,false,false,false,false,false,false,false,false,false,false,false,false,false,false,false,false,false,false,false,false,false,false,false,false,false,false,false,false,false,false,false,false,false,false,false,false,false,false,false,false,false,"2020-01-01","128"]
["128-028","VDVA-0128-028",null,"4xTw ","2014","25",{"$nulls":4},"Emil Konrad","128",1,false,false,false,false,false,false,false,false,false,false,false,false,false,false,false,false,false,false,false,false,false,false,false,false,false,false,false,false,false,false,false,false,false,false,false,false,false,false,false,false,false,false,false,false,false,"2020-01-01","128"]
["128-029","VDVA-0128-029",null,"2xTw ",{"$nulls":6},"Emil Konrad","128",1,false,false,false,false,false,false,false,false,false,false,false,false,false,false,false,false,false,false,false,false,false,false,false,false,false,false,false,false,false,false,false,false,false,false,false,false,false,false,false,false,false,false,false,false,false,"2020-01-01","128"]
["128-030","VDVA-0128-030",null,"2xTw ","1727",{"$nulls":5},"Emil Konrad","128",1,false,false,false,false,false,false,false,false,false,false,false,false,false,false,false,false,false,false,false,false,false,false,false,false,false,false,false,false,false,false,false,false,false,false,false,false,false,false,false,false,false,false,false,false,false,"2020-01-01","128"]
["128-031","VDVA-0128-031",null,"2xTw ","1709",{"$nulls":5},"Emil Konrad","128",1,false,false,false,false,false,false,false,false,false,false,false,false,false,false,false,false,false,false,false,false,false,false,false,false,false,false,false,false,false,false,false,false,false,false,false,false,false,false,false,false,false,false,false,false,false,"2020-01-01","128"]
["128-032","VDVA-0128-032",null,"4xTw  \n2xBw ","2043 \n ","11 \n11",{"$nulls":4},"Emil Konrad","128",1,false,false,false,false,false,false,false,false,false,false,false,false,false,false,false,false,false,false,false,false,false,false,false,false,false,false,false,false,false,false,false,false,false,false,false,false,false,false,false,false,false,false,false,false,false,"2020-01-01","128"]
["128-033","VDVA-0128-033",null,"2xBw  \n2xTw ","3088 \n ","18E \n18E",{"$nulls":4},"Emil Konrad","128",1,false,false,false,false,false,false,false,false,false,false,false,false,false,false,false,false,false,false,false,false,false,false,false,false,false,false,false,false,false,false,false,false,false,false,false,false,false,false,false,false,false,false,false,false,false,"2020-01-01","128"]
["128-034","VDVA-0128-034",null,"2xBw  \n2xTw ","3206 \n1133","18E \n18E",{"$nulls":4},"Emil Konrad","128",1,false,false,false,false,false,false,false,false,false,false,false,false,false,false,false,false,false,false,false,false,false,false,false,false,false,false,false,false,false,false,false,false,false,false,false,false,false,false,false,false,false,false,false,false,false,"2020-01-01","128"]
["128-035","VDVA-0128-035",null,"2xBw  \n2xTw ","3005 \n1197"," \n ",{"$nulls":4},"Emil Konrad","128",1,false,false,false,false,false,false,false,false,false,false,false,false,false,false,false,false,false,false,false,false,false,false,false,false,false,false,false,false,false,false,false,false,false,false,false,false,false,false,false,false,false,false,false,false,false,"2020-01-01","128"]
["128-036","VDVA-0128-036",null,"2xBw ","3096","18",{"$nulls":4},"Emil Konrad","128",1,false,false,false,false,false,false,false,false,false,false,false,false,false,false,false,false,false,false,false,false,false,false,false,false,false,false,false,false,false,false,false,false,false,false,false,false,false,false,false,false,false,false,false,false,false,"2020-01-01","128"]
["128-037","VDVA-0128-037",null,"2xBw ","3469","1E",{"$nulls":4},"Emil Konrad","128",1,false,false,false,false,false,false,false,false,false,false,false,false,false,false,false,false,false,false,false,false,false,false,false,false,false,false,false,false,false,false,false,false,false,false,false,false,false,false,false,false,false,false,false,false,false,"2020-01-01","128"]
["128-038","VDVA-0128-038",null,"ArbTw ","C-019",{"$nulls":5},"Horst Michelke","128",1,false,false,false,false,false,false,false,false,false,false,false,false,false,false,false,false,false,false,false,false,false,false,false,false,false,false,false,false,false,false,false,false,false,false,false,false,false,false,false,false,false,false,false,false,false,"2020-01-01","128"]
["128-039","VDVA-0128-039","Gartenstraße/Teichstraße","2xTw  \n2xTw ","1501B \n1501A"," \n ","Lazarett Doppel-Tw",null,1,1945,"Rudolf Klitscher","128",1,false,false,false,false,false,false,false,false,false,false,false,false,false,false,false,false,false,false,false,false,false,false,false,false,false,false,false,false,false,false,false,false,false,false,false,false,false,false,false,false,false,false,false,false,false,"2020-01-01","128"]
["128-040","VDVA-0128-040","Am Dominikaner","4xTw ","2012","5","Mit Scherenstromabnehmer",null,1,1945,"Rudolf Klitscher","128",1,false,false,false,false,false,false,false,false,false,false,false,false,false,false,false,false,false,false,false,false,false,false,false,false,false,false,false,false,false,false,false,false,false,false,false,false,false,false,false,false,false,false,false,false,false,"2020-01-01","128"]
["128-041","VDVA-0128-041","Memelland/Sternstraße","2xTw ","1070","8",null,null,1,1945,"Rudolf Klitscher","128",1,false,false,false,false,false,false,false,false,false,false,false,false,false,false,false,false,false,false,false,false,false,false,false,false,false,false,false,false,false,false,false,false,false,false,false,false,false,false,false,false,false,false,false,false,false,"2020-01-01","128"]
["128-042","VDVA-0128-042",null,"2xTw  \n2xBw  \n2xBw ","1402 \n  \n ","4 \n4 \n4",null,null,7,1975,null,"128",1,false,false,false,false,false,false,false,false,false,false,false,false,false,false,false,false,false,false,false,false,false,false,false,false,false,false,false,false,false,false,false,false,false,false,false,false,false,false,false,false,false,false,false,false,false,"2020-01-01","128"]
["128-043","VDVA-0128-043","Benderplatz","ArbTw ","1830","A","Tw als Lieferwgen",null,1,1945,"Rudolf Klitscher","128",1,false,false,false,false,false,false,false,false,false,false,false,false,false,false,false,false,false,false,false,false,false,false,false,false,false,false,false,false,false,false,false,false,false,false,false,false,false,false,false,false,false,false,false,false,false,"2020-01-01","128"]
["128-044","VDVA-0128-044","Betriebshof"," ArbTw "," G082"," \n ",null,25,8,1992,"Günter H. Köhler","128",1,false,false,false,false,false,false,false,false,false,false,false,false,false,false,false,false,false,false,false,false,false,false,false,false,false,false,false,false,false,false,false,false,false,false,false,false,false,false,false,false,false,false,false,false,false,"2020-01-01","128"]
["128-046","VDVA-0128-046",null,"4xTw ","330",null,"historisch",{"$nulls":3},"Werkfoto","128",1,false,false,false,false,false,false,false,false,false,false,false,false,false,false,false,false,false,false,false,false,false,false,false,false,false,false,false,false,false,false,false,false,false,false,false,false,false,false,false,false,false,false,false,false,false,"2020-01-01","128"]
["128-047","VDVA-0128-047",null,"2xTw ","66","15","auf der Strecke Lohestraße- Oswitz",{"$nulls":3},"Werkfoto","128",1,false,false,false,false,false,false,false,false,false,false,false,false,false,false,false,false,false,false,false,false,false,false,false,false,false,false,false,false,false,false,false,false,false,false,false,false,false,false,false,false,false,false,false,false,false,"2020-01-01","128"]
["128-048","VDVA-0128-048","Betriebshof","4xTw ","313","16",{"$nulls":5},"128",1,false,false,false,false,false,false,false,false,false,false,false,false,false,false,false,false,false,false,false,false,false,false,false,false,false,false,false,false,false,false,false,false,false,false,false,false,false,false,false,false,false,false,false,false,false,"2020-01-01","128"]
["128-049","VDVA-0128-049",null,"2xTw  \n2xBw ","1214 \n3038","1 \n1","SL 1 in Richtung Flughafen",null,null,1943,null,"128",1,false,false,false,false,false,false,false,false,false,false,false,false,false,false,false,false,false,false,false,false,false,false,false,false,false,false,false,false,false,false,false,false,false,false,false,false,false,false,false,false,false,false,false,false,false,"2020-01-01","128"]
["128-050","VDVA-0128-050",null,"Sommer-Bw ","191",null,"historisch",{"$nulls":4},"128",1,false,false,false,false,false,false,false,false,false,false,false,false,false,false,false,false,false,false,false,false,false,false,false,false,false,false,false,false,false,false,false,false,false,false,false,false,false,false,false,false,false,false,false,false,false,"2020-01-01","128"]
["128-051","VDVA-0128-051","Betriebshof","2xTw  \nArbBw ","39 \n "," \n ","historischer Tw 39 mit Sprengwagen",{"$nulls":3},"Ladislav Reznicek","128",1,false,false,false,false,false,false,false,false,false,false,false,false,false,false,false,false,false,false,false,false,false,false,false,false,false,false,false,false,false,false,false,false,false,false,false,false,false,false,false,false,false,false,false,false,false,"2020-01-01","128"]
["128-052","VDVA-0128-052",null,"Sommer-Bw ","5692","11",{"$nulls":4},"Horst Golzsch","128",1,false,false,false,false,false,false,false,false,false,false,false,false,false,false,false,false,false,false,false,false,false,false,false,false,false,false,false,false,false,false,false,false,false,false,false,false,false,false,false,false,false,false,false,false,false,"2020-01-01","128"]
["157-001",null,null,"2xTw ","15",{"$nulls":6},"157",1,false,false,false,false,false,false,false,false,false,false,false,false,false,false,false,false,false,false,false,false,false,false,false,false,false,false,false,false,false,false,false,false,false,false,false,false,false,false,false,false,false,false,false,false,false,"2020-01-01","157"]
["157-002",null,null,"2xTw ","16",{"$nulls":6},"157",1,false,false,false,false,false,false,false,false,false,false,false,false,false,false,false,false,false,false,false,false,false,false,false,false,false,false,false,false,false,false,false,false,false,false,false,false,false,false,false,false,false,false,false,false,false,"2020-01-01","157"]
["157-003",null,null,"2xTw  \n2xTw ","22 \n28"," \n ",{"$nulls":5},"157",1,false,false,false,false,false,false,false,false,false,false,false,false,false,false,false,false,false,false,false,false,false,false,false,false,false,false,false,false,false,false,false,false,false,false,false,false,false,false,false,false,false,false,false,false,false,"2020-01-01","157"]
["157-004",null,null,"2xTw  \n2xBw ","63 \n41"," \n ",{"$nulls":5},"157",1,false,false,false,false,false,false,false,false,false,false,false,false,false,false,false,false,false,false,false,false,false,false,false,false,false,false,false,false,false,false,false,false,false,false,false,false,false,false,false,false,false,false,false,false,false,"2020-01-01","157"]
["157-005",null,"Adolf-Hitler-Allee, Abstellgleise","2xTw ","64",{"$nulls":6},"157",1,false,false,false,false,false,false,false,false,false,false,false,false,false,false,false,false,false,false,false,false,false,false,false,false,false,false,false,false,false,false,false,false,false,false,false,false,false,false,false,false,false,false,false,false,false,"2020-01-01","157"]
["157-006",null,null,"2xTw ","24","R",{"$nulls":5},"157",1,false,false,false,false,false,false,false,false,false,false,false,false,false,false,false,false,false,false,false,false,false,false,false,false,false,false,false,false,false,false,false,false,false,false,false,false,false,false,false,false,false,false,false,false,false,"2020-01-01","157"]
["157-007",null,null,"2xTw ","28",{"$nulls":5},"Peter Boehm","157",1,false,false,false,false,false,false,false,false,false,false,false,false,false,false,false,false,false,false,false,false,false,false,false,false,false,false,false,false,false,false,false,false,false,false,false,false,false,false,false,false,false,false,false,false,false,"2020-01-01","157"]
["157-008",null,null,"2xTw ","54",{"$nulls":5},"Peter Boehm","157",1,false,false,false,false,false,false,false,false,false,false,false,false,false,false,false,false,false,false,false,false,false,false,false,false,false,false,false,false,false,false,false,false,false,false,false,false,false,false,false,false,false,false,false,false,false,"2020-01-01","157"]
["157-009",null,null,"2xTw ","16",{"$nulls":5},"Peter Boehm","157",1,false,false,false,false,false,false,false,false,false,false,false,false,false,false,false,false,false,false,false,false,false,false,false,false,false,false,false,false,false,false,false,false,false,false,false,false,false,false,false,false,false,false,false,false,false,"2020-01-01","157"]
["157-010",null,null,"2xTw ","22",{"$nulls":5},"Peter Boehm","157",1,false,false,false,false,false,false,false,false,false,false,false,false,false,false,false,false,false,false,false,false,false,false,false,false,false,false,false,false,false,false,false,false,false,false,false,false,false,false,false,false,false,false,false,false,false,"2020-01-01","157"]
["157-011",null,null,"2xTw ","57",{"$nulls":5},"Peter Boehm","157",1,false,false,false,false,false,false,false,false,false,false,false,false,false,false,false,false,false,false,false,false,false,false,false,false,false,false,false,false,false,false,false,false,false,false,false,false,false,false,false,false,false,false,false,false,false,"2020-01-01","157"]
["157-012",null,null,"2xTw  \n2xBw  \n2xTw ","43 \n  \n "," \n  \n ",{"$nulls":4},"Peter Boehm","157",1,false,false,false,false,false,false,false,false,false,false,false,false,false,false,false,false,false,false,false,false,false,false,false,false,false,false,false,false,false,false,false,false,false,false,false,false,false,false,false,false,false,false,false,false,false,"2020-01-01","157"]
["157-013",null,null,"2xBw ","21",{"$nulls":5},"Werkfoto","157",1,false,false,false,false,false,false,false,false,false,false,false,false,false,false,false,false,false,false,false,false,false,false,false,false,false,false,false,false,false,false,false,false,false,false,false,false,false,false,false,false,false,false,false,false,false,"2020-01-01","157"]
["157-014",null,null,"ArbTw ",null,null,"Schneefegemaschine",null,null,1899,null,"157",1,false,false,false,false,false,false,false,false,false,false,false,false,false,false,false,false,false,false,false,false,false,false,false,false,false,false,false,false,false,false,false,false,false,false,false,false,false,false,false,false,false,false,false,false,false,"2020-01-01","157"]
["158-001",null,null,"2xTw ","7",null,"ex Essen",{"$nulls":4},"158",1,false,false,false,false,false,false,false,false,false,false,false,false,false,false,false,false,false,false,false,false,false,false,false,false,false,false,false,false,false,false,false,false,false,false,false,false,false,false,false,false,false,false,false,false,false,"2020-01-01","158"]
["158-002",null,"Bahnhof","2xTw ","8",null,"ex Essen",{"$nulls":4},"158",1,false,false,false,false,false,false,false,false,false,false,false,false,false,false,false,false,false,false,false,false,false,false,false,false,false,false,false,false,false,false,false,false,false,false,false,false,false,false,false,false,false,false,false,false,false,"2020-01-01","158"]
["158-003",null,"Bahnhof","2xBw  \n2xTw ","25 \n "," \n ",{"$nulls":5},"158",1,false,false,false,false,false,false,false,false,false,false,false,false,false,false,false,false,false,false,false,false,false,false,false,false,false,false,false,false,false,false,false,false,false,false,false,false,false,false,false,false,false,false,false,false,false,"2020-01-01","158"]
["158-004",null,"Gr. Beckem","2xTw  \n2xBw ","17 \n20"," \n ",{"$nulls":3},1939,"Peter Boehm","158",1,false,false,false,false,false,false,false,false,false,false,false,false,false,false,false,false,false,false,false,false,false,false,false,false,false,false,false,false,false,false,false,false,false,false,false,false,false,false,false,false,false,false,false,false,false,"2020-01-01","158"]
["158-005",null,null,"2xBw ","19",{"$nulls":6},"158",1,false,false,false,false,false,false,false,false,false,false,false,false,false,false,false,false,false,false,false,false,false,false,false,false,false,false,false,false,false,false,false,false,false,false,false,false,false,false,false,false,false,false,false,false,false,"2020-01-01","158"]
["158-006",null,"Bahnhof","2xBw ","22",{"$nulls":6},"158",1,false,false,false,false,false,false,false,false,false,false,false,false,false,false,false,false,false,false,false,false,false,false,false,false,false,false,false,false,false,false,false,false,false,false,false,false,false,false,false,false,false,false,false,false,false,"2020-01-01","158"]
["158-007",null,null,"2xTw ","33",null,"ex Zwickau",{"$nulls":3},"Peter Boehm","158",1,false,false,false,false,false,false,false,false,false,false,false,false,false,false,false,false,false,false,false,false,false,false,false,false,false,false,false,false,false,false,false,false,false,false,false,false,false,false,false,false,false,false,false,false,false,"2020-01-01","158"]
["158-008",null,null,"Bus ","4",{"$nulls":6},"158",1,false,false,false,false,false,false,false,false,false,false,false,false,false,false,false,false,false,false,false,false,false,false,false,false,false,false,false,false,false,false,false,false,false,false,false,false,false,false,false,false,false,false,false,false,false,"2020-01-01","158"]
["158-009",null,null,"2xBw  \n2xTw "," \n14","2 \n2",{"$nulls":3},1942,null,"158",1,false,false,false,false,false,false,false,false,false,false,false,false,false,false,false,false,false,false,false,false,false,false,false,false,false,false,false,false,false,false,false,false,false,false,false,false,false,false,false,false,false,false,false,false,false,"2020-01-01","158"]
["159-001","VDVA-0159-001",null,"4xBw  \n4xTw "," \n45"," \n ",{"$nulls":4},"Emil Konrad","159",1,false,false,false,false,false,false,false,false,false,false,false,false,false,false,false,false,false,false,false,false,false,false,false,false,false,false,false,false,false,false,false,false,false,false,false,false,false,false,false,false,false,false,false,false,false,"2020-01-01","159"]
["159-002","VDVA-0159-002",null,"4xTw ","109",{"$nulls":5},"Emil Konrad","159",1,false,false,false,false,false,false,false,false,false,false,false,false,false,false,false,false,false,false,false,false,false,false,false,false,false,false,false,false,false,false,false,false,false,false,false,false,false,false,false,false,false,false,false,false,false,"2020-01-01","159"]
["159-003","VDVA-0159-003",null,"4xTw ","143","1","Umbau von 785mm auf 1435mm",{"$nulls":3},"Emil Konrad","159",1,false,false,false,false,false,false,false,false,false,false,false,false,false,false,false,false,false,false,false,false,false,false,false,false,false,false,false,false,false,false,false,false,false,false,false,false,false,false,false,false,false,false,false,false,false,"2020-01-01","159"]
["159-004","VDVA-0159-004",null,"4xTw ","49",null,"785mm",{"$nulls":3},"Emil Konrad","159",1,false,false,false,false,false,false,false,false,false,false,false,false,false,false,false,false,false,false,false,false,false,false,false,false,false,false,false,false,false,false,false,false,false,false,false,false,false,false,false,false,false,false,false,false,false,"2020-01-01","159"]
["159-005","VDVA-0159-005",null,"4xBw ","69",null,"785mm",{"$nulls":3},"Emil Konrad","159",1,false,false,false,false,false,false,false,false,false,false,false,false,false,false,false,false,false,false,false,false,false,false,false,false,false,false,false,false,false,false,false,false,false,false,false,false,false,false,false,false,false,false,false,false,false,"2020-01-01","159"]
["159-006","VDVA-0159-006",null,"4xBw  \n4xBw "," \n2"," \n ","Kleinbahn Rauten-Ratibor",{"$nulls":3},"Emil Konrad","159",1,false,false,false,false,false,false,false,false,false,false,false,false,false,false,false,false,false,false,false,false,false,false,false,false,false,false,false,false,false,false,false,false,false,false,false,false,false,false,false,false,false,false,false,false,false,"2020-01-01","159"]
["159-007","VDVA-0159-007",null,"4xTw ","102",{"$nulls":5},"Peter Boehm","159",1,false,false,false,false,false,false,false,false,false,false,false,false,false,false,false,false,false,false,false,false,false,false,false,false,false,false,false,false,false,false,false,false,false,false,false,false,false,false,false,false,false,false,false,false,false,"2020-01-01","159"]
["159-008","VDVA-0159-008",null,"4xTw ","143",null,"Umbau von 785mm auf 1435mm",{"$nulls":3},"Peter Boehm","159",1,false,false,false,false,false,false,false,false,false,false,false,false,false,false,false,false,false,false,false,false,false,false,false,false,false,false,false,false,false,false,false,false,false,false,false,false,false,false,false,false,false,false,false,false,false,"2020-01-01","159"]
["159-009","VDVA-0159-009","Endstation Richtersdorf","2xTw ","117","4","steht für Dienstfahrten zur Verfügung",26,8,1992,"Günter H. Köhler","159",1,false,false,false,false,false,false,false,false,false,false,false,false,false,false,false,false,false,false,false,false,false,false,false,false,false,false,false,false,false,false,false,false,false,false,false,false,false,false,false,false,false,false,false,false,false,"2020-01-01","159"]
["159-010","VDVA-0159-010",{"$nulls":4},"Kleinbahn Rauten-Ratibor",{"$nulls":3},"Peter Boehm","159",1,false,false,false,false,false,false,false,false,false,false,false,false,false,false,false,false,false,false,false,false,false,false,false,false,false,false,false,false,false,false,false,false,false,false,false,false,false,false,false,false,false,false,false,false,false,"2020-01-01",{"$f":"LEFT(A258,FIND(\"-\",A258)-1)","v":"159"}]
["159-011","VDVA-0159-011","Depot","Bw ","62",{"$nulls":5},"Emil Konrad","159",1,false,false,false,false,false,false,false,false,false,false,false,false,false,false,false,false,false,false,false,false,false,false,false,false,false,false,false,false,false,false,false,false,false,false,false,false,false,false,false,false,false,false,false,false,false,"2020-01-01","159"]
["159-012","VDVA-0159-012",null,"2xTw  \n2xBw ","1305 \n ","4 \n4",null,9,5,1980,null,"159",1,false,false,false,false,false,false,false,false,false,false,false,false,false,false,false,false,false,false,false,false,false,false,false,false,false,false,false,false,false,false,false,false,false,false,false,false,false,false,false,false,false,false,false,false,false,"2020-01-01","159"]
["160-001","VDVA-0160-001",null,"2xTw ","303",{"$nulls":5},"Peter Boehm","160",1,false,false,false,false,false,false,false,false,false,false,false,false,false,false,false,false,false,false,false,false,false,false,false,false,false,false,false,false,false,false,false,false,false,false,false,false,false,false,false,false,false,false,false,false,false,"2020-01-01","160"]
["160-002","VDVA-0160-002",null,"2xTw ","116",null,"Schlesische Kleinbahn",{"$nulls":3},"Emil Konrad","160",1,false,false,false,false,false,false,false,false,false,false,false,false,false,false,false,false,false,false,false,false,false,false,false,false,false,false,false,false,false,false,false,false,false,false,false,false,false,false,false,false,false,false,false,false,false,"2020-01-01","160"]
["160-003","VDVA-0160-003",null,"4xTw ","137","6","Schlesische Kleinbahn, ex Köslin",{"$nulls":3},"Emil Konrad","160",1,false,false,false,false,false,false,false,false,false,false,false,false,false,false,false,false,false,false,false,false,false,false,false,false,false,false,false,false,false,false,false,false,false,false,false,false,false,false,false,false,false,false,false,false,false,"2020-01-01","160"]
["160-004","VDVA-0160-004",null,"4xBw  \n4xTw "," \n "," \n ","Schlesische Kleinbahn",{"$nulls":3},"Emil Konrad","160",1,false,false,false,false,false,false,false,false,false,false,false,false,false,false,false,false,false,false,false,false,false,false,false,false,false,false,false,false,false,false,false,false,false,false,false,false,false,false,false,false,false,false,false,false,false,"2020-01-01","160"]
["160-005","VDVA-0160-005",null,"4xBw ","9",null,"Schlesische Kleinbahn",{"$nulls":3},"Emil Konrad","160",1,false,false,false,false,false,false,false,false,false,false,false,false,false,false,false,false,false,false,false,false,false,false,false,false,false,false,false,false,false,false,false,false,false,false,false,false,false,false,false,false,false,false,false,false,false,"2020-01-01","160"]
["160-006","VDVA-0160-006",null,"4xBw ","292",null,"Schlesische Kleinbahn, ex Köslin",{"$nulls":3},"Emil Konrad","160",1,false,false,false,false,false,false,false,false,false,false,false,false,false,false,false,false,false,false,false,false,false,false,false,false,false,false,false,false,false,false,false,false,false,false,false,false,false,false,false,false,false,false,false,false,false,"2020-01-01","160"]
["160-007","VDVA-0160-007",null,"2xTw ","308",{"$nulls":5},"Emil Konrad","160",1,false,false,false,false,false,false,false,false,false,false,false,false,false,false,false,false,false,false,false,false,false,false,false,false,false,false,false,false,false,false,false,false,false,false,false,false,false,false,false,false,false,false,false,false,false,"2020-01-01","160"]
["160-008","VDVA-0160-008",null,"2xBw  \n2xTw "," \n337"," \n ","Schlesische Kleinbahn",{"$nulls":3},"Emil Konrad","160",1,false,false,false,false,false,false,false,false,false,false,false,false,false,false,false,false,false,false,false,false,false,false,false,false,false,false,false,false,false,false,false,false,false,false,false,false,false,false,false,false,false,false,false,false,false,"2020-01-01","160"]
["160-009","VDVA-0160-009",null,"2xBw ","409","2","Schlesische Kleinbahn",{"$nulls":3},"Emil Konrad","160",1,false,false,false,false,false,false,false,false,false,false,false,false,false,false,false,false,false,false,false,false,false,false,false,false,false,false,false,false,false,false,false,false,false,false,false,false,false,false,false,false,false,false,false,false,false,"2020-01-01","160"]
["160-010","VDVA-0160-010",null,"4xTw ","35",{"$nulls":5},"Emil Konrad","160",1,false,false,false,false,false,false,false,false,false,false,false,false,false,false,false,false,false,false,false,false,false,false,false,false,false,false,false,false,false,false,false,false,false,false,false,false,false,false,false,false,false,false,false,false,false,"2020-01-01","160"]
["160-011","VDVA-0160-011",null,"4xTw ","138",{"$nulls":5},"Emil Konrad","160",1,false,false,false,false,false,false,false,false,false,false,false,false,false,false,false,false,false,false,false,false,false,false,false,false,false,false,false,false,false,false,false,false,false,false,false,false,false,false,false,false,false,false,false,false,false,"2020-01-01","160"]
["160-012","VDVA-0160-012",null,"4xBw ","48",{"$nulls":5},"Emil Konrad","160",1,false,false,false,false,false,false,false,false,false,false,false,false,false,false,false,false,false,false,false,false,false,false,false,false,false,false,false,false,false,false,false,false,false,false,false,false,false,false,false,false,false,false,false,false,false,"2020-01-01","160"]
["160-013","VDVA-0160-013",null,"2xTw ","308",{"$nulls":4},1940,"Emil Konrad","160",1,false,false,false,false,false,false,false,false,false,false,false,false,false,false,false,false,false,false,false,false,false,false,false,false,false,false,false,false,false,false,false,false,false,false,false,false,false,false,false,false,false,false,false,false,false,"2020-01-01","160"]
["160-014","VDVA-0160-014",null,"2xBw  \n2xTw "," \n1156","15 \n15",{"$nulls":3},1965,"Ladislav Reznicek","160",1,false,false,false,false,false,false,false,false,false,false,false,false,false,false,false,false,false,false,false,false,false,false,false,false,false,false,false,false,false,false,false,false,false,false,false,false,false,false,false,false,false,false,false,false,false,"2020-01-01","160"]
["160-015","VDVA-0160-015",null,"2xTw  \n2xBw ","927 \n ","13 \n13",{"$nulls":3},1964,"Ladislav Reznicek","160",1,false,false,false,false,false,false,false,false,false,false,false,false,false,false,false,false,false,false,false,false,false,false,false,false,false,false,false,false,false,false,false,false,false,false,false,false,false,false,false,false,false,false,false,false,false,"2020-01-01","160"]
["160-016","VDVA-0160-016",null,"ArbTw  \nArbBw ","782 \n "," \n ",null,6,9,1965,"J. Lehnhart","160",1,false,false,false,false,false,false,false,false,false,false,false,false,false,false,false,false,false,false,false,false,false,false,false,false,false,false,false,false,false,false,false,false,false,false,false,false,false,false,false,false,false,false,false,false,false,"2020-01-01","160"]
["160-017","VDVA-0160-017",null,"4xTw ","138",null,"ex Köslin",null,null,1940,"Emil Konrad","160",1,false,false,false,false,false,false,false,false,false,false,false,false,false,false,false,false,false,false,false,false,false,false,false,false,false,false,false,false,false,false,false,false,false,false,false,false,false,false,false,false,false,false,false,false,false,"2020-01-01","160"]
["160-018","VDVA-0160-018","zwischen Kattowitz und Laurahütte","2xTw ","320",{"$nulls":4},1940,"Emil Konrad","160",1,false,false,false,false,false,false,false,false,false,false,false,false,false,false,false,false,false,false,false,false,false,false,false,false,false,false,false,false,false,false,false,false,false,false,false,false,false,false,false,false,false,false,false,false,false,"2020-01-01","160"]
["160-019","VDVA-0160-019","Bythom (früher Beuthen), Plac Sikorskiego","2xTw  \n2xBw ","350 \n1031","5 \n5","Bw 1031: KSW",26,7,1966,"John H. Price","160",1,false,false,false,false,false,false,false,false,false,false,false,false,false,false,false,false,false,false,false,false,false,false,false,false,false,false,false,false,false,false,false,false,false,false,false,false,false,false,false,false,false,false,false,false,false,"2020-01-01","160"]
["160-020","VDVA-0160-020","Bahnhof Sosnowitz","2xTw ","961","15","KSW",26,7,1966,"John H. Price","160",1,false,false,false,false,false,false,false,false,false,false,false,false,false,false,false,false,false,false,false,false,false,false,false,false,false,false,false,false,false,false,false,false,false,false,false,false,false,false,false,false,false,false,false,false,false,"2020-01-01","160"]
["160-021","VDVA-0160-021","Rynek","2xTw  \n2xBw ","951 \n ","6 \n6","KSW",26,7,1966,"John H. Price","160",1,false,false,false,false,false,false,false,false,false,false,false,false,false,false,false,false,false,false,false,false,false,false,false,false,false,false,false,false,false,false,false,false,false,false,false,false,false,false,false,false,false,false,false,false,false,"2020-01-01","160"]
["161-001","VDVA-0161-001","Am Ring","2xTw ","7","1",{"$nulls":3},1939,"Peter Boehm","161",1,false,false,false,false,false,false,false,false,false,false,false,false,false,false,false,false,false,false,false,false,false,false,false,false,false,false,false,false,false,false,false,false,false,false,false,false,false,false,false,false,false,false,false,false,false,"2020-01-01","161"]
["161-002","VDVA-0161-002",null,"2xTw ","13","2",{"$nulls":4},"Peter Boehm","161",1,false,false,false,false,false,false,false,false,false,false,false,false,false,false,false,false,false,false,false,false,false,false,false,false,false,false,false,false,false,false,false,false,false,false,false,false,false,false,false,false,false,false,false,false,false,"2020-01-01","161"]
["161-003","VDVA-0161-003",null,"2xTw ","1",{"$nulls":3},7,1937,"Emil Konrad","161",1,false,false,false,false,false,false,false,false,false,false,false,false,false,false,false,false,false,false,false,false,false,false,false,false,false,false,false,false,false,false,false,false,false,false,false,false,false,false,false,false,false,false,false,false,false,"2020-01-01","161"]
["161-004","VDVA-0161-004","Braunauer Platz","4xTw ","48","6",{"$nulls":3},1931,"Friedrich Grünwald","161",1,false,false,false,false,false,false,false,false,false,false,false,false,false,false,false,false,false,false,false,false,false,false,false,false,false,false,false,false,false,false,false,false,false,false,false,false,false,false,false,false,false,false,false,false,false,"2020-01-01","161"]
["161-005","VDVA-0161-005",null,"4xTw ","106",{"$nulls":4},1931,"Friedrich Grünwald","161",1,false,false,false,false,false,false,false,false,false,false,false,false,false,false,false,false,false,false,false,false,false,false,false,false,false,false,false,false,false,false,false,false,false,false,false,false,false,false,false,false,false,false,false,false,false,"2020-01-01","161"]
["161-006","VDVA-0161-006","Braunauer Platz","4xTw ","106","E",{"$nulls":3},1931,"Friedrich Grünwald","161",1,false,false,false,false,false,false,false,false,false,false,false,false,false,false,false,false,false,false,false,false,false,false,false,false,false,false,false,false,false,false,false,false,false,false,false,false,false,false,false,false,false,false,false,false,false,"2020-01-01","161"]
["161-007","VDVA-0161-007","Braunauer Platz","4xTw ","48","6",{"$nulls":3},1931,"Friedrich Grünwald","161",1,false,false,false,false,false,false,false,false,false,false,false,false,false,false,false,false,false,false,false,false,false,false,false,false,false,false,false,false,false,false,false,false,false,false,false,false,false,false,false,false,false,false,false,false,false,"2020-01-01","161"]
["161-008","VDVA-0161-008",null,"4xTw ","42","7","Korridorlinie 7 nach Piekar",null,null,1931,"Friedrich Grünwald","161",1,false,false,false,false,false,false,false,false,false,false,false,false,false,false,false,false,false,false,false,false,false,false,false,false,false,false,false,false,false,false,false,false,false,false,false,false,false,false,false,false,false,false,false,false,false,"2020-01-01","161"]
["161-009","VDVA-0161-009","Markt","2xTw ","1118","38",null,26,8,1992,"Günter H. Köhler","161",1,false,false,false,false,false,false,false,false,false,false,false,false,false,false,false,false,false,false,false,false,false,false,false,false,false,false,false,false,false,false,false,false,false,false,false,false,false,false,false,false,false,false,false,false,false,"2020-01-01","161"]
["162-001","VDVA-0162-001","Endstelle Mittelschule in der Küstriner Altstadt","2xTw ","5",{"$nulls":4},1939,"Peter Boehm","162",1,false,false,false,false,false,false,false,false,false,false,false,false,false,false,false,false,false,false,false,false,false,false,false,false,false,false,false,false,false,false,false,false,false,false,false,false,false,false,false,false,false,false,false,false,false,"2020-01-01","162"]
["162-002","VDVA-0162-002","Haltestelle Adolf-Hitler- Straße im Stadtteil Küstrin- Altstadt","2xTw ","5",{"$nulls":5},"Peter Boehm","162",1,false,false,false,false,false,false,false,false,false,false,false,false,false,false,false,false,false,false,false,false,false,false,false,false,false,false,false,false,false,false,false,false,false,false,false,false,false,false,false,false,false,false,false,false,false,"2020-01-01","162"]
["162-004","VDVA-0162-004","Küstrin-Neustadt Hbf.","2xTw ","2",{"$nulls":6},"162",1,false,false,false,false,false,false,false,false,false,false,false,false,false,false,false,false,false,false,false,false,false,false,false,false,false,false,false,false,false,false,false,false,false,false,false,false,false,false,false,false,false,false,false,false,false,"2020-01-01","162"]
["163-001",null,null,"2xTw ","13",{"$nulls":4},1939,"Peter Boehm","163",1,false,false,false,false,false,false,false,false,false,false,false,false,false,false,false,false,false,false,false,false,false,false,false,false,false,false,false,false,false,false,false,false,false,false,false,false,false,false,false,false,false,false,false,false,false,"2020-01-01","163"]
["163-002",null,"Stadttheater/Hauptpost","2xTw  \n2xBw ","35 \n ","5 \n5",{"$nulls":3},1939,"Friedrich Grünwald","163",1,false,false,false,false,false,false,false,false,false,false,false,false,false,false,false,false,false,false,false,false,false,false,false,false,false,false,false,false,false,false,false,false,false,false,false,false,false,false,false,false,false,false,false,false,false,"2020-01-01","163"]
["163-003",null,null,"2xTw ","36","6",{"$nulls":4},"Peter Boehm","163",1,false,false,false,false,false,false,false,false,false,false,false,false,false,false,false,false,false,false,false,false,false,false,false,false,false,false,false,false,false,false,false,false,false,false,false,false,false,false,false,false,false,false,false,false,false,"2020-01-01","163"]
["163-004",null,null,"2xBw  \n2xTw  \n2xTw "," \n74 \n ","3 \n3 \n3",{"$nulls":4},"Peter Boehm","163",1,false,false,false,false,false,false,false,false,false,false,false,false,false,false,false,false,false,false,false,false,false,false,false,false,false,false,false,false,false,false,false,false,false,false,false,false,false,false,false,false,false,false,false,false,false,"2020-01-01","163"]
["163-005",null,null,"2xBw  \n2xTw "," \n93","7 \n7",{"$nulls":4},"Peter Boehm","163",1,false,false,false,false,false,false,false,false,false,false,false,false,false,false,false,false,false,false,false,false,false,false,false,false,false,false,false,false,false,false,false,false,false,false,false,false,false,false,false,false,false,false,false,false,false,"2020-01-01","163"]
["163-006",{"$nulls":4},"7",{"$nulls":4},"Emil Konrad","163",1,false,false,false,false,false,false,false,false,false,false,false,false,false,false,false,false,false,false,false,false,false,false,false,false,false,false,false,false,false,false,false,false,false,false,false,false,false,false,false,false,false,false,false,false,false,"2020-01-01","163"]
["163-007",null,null,"2xTw  \n2xBw  \n2xTw ","30 \n  \n77","3 \n3 \n7",{"$nulls":5},"163",1,false,false,false,false,false,false,false,false,false,false,false,false,false,false,false,false,false,false,false,false,false,false,false,false,false,false,false,false,false,false,false,false,false,false,false,false,false,false,false,false,false,false,false,false,false,"2020-01-01","163"]
["163-008",null,null,"2xTw  \n2xBw "," \n65","1 \n1",{"$nulls":3},1939,"Peter Boehm","163",1,false,false,false,false,false,false,false,false,false,false,false,false,false,false,false,false,false,false,false,false,false,false,false,false,false,false,false,false,false,false,false,false,false,false,false,false,false,false,false,false,false,false,false,false,false,"2020-01-01","163"]
["163-009",null,null,"2xTw ",null,"4",null,3,8,1929,null,"163",1,false,false,false,false,false,false,false,false,false,false,false,false,false,false,false,false,false,false,false,false,false,false,false,false,false,false,false,false,false,false,false,false,false,false,false,false,false,false,false,false,false,false,false,false,false,"2020-01-01","163"]
["163-010",null,null,"2xTw ","76","5",{"$nulls":4},"Hans Engel","163",1,false,false,false,false,false,false,false,false,false,false,false,false,false,false,false,false,false,false,false,false,false,false,false,false,false,false,false,false,false,false,false,false,false,false,false,false,false,false,false,false,false,false,false,false,false,"2020-01-01","163"]
["163-011",null,null,"2xTw  \n2xBw ","105 \n ","5 \n5",{"$nulls":4},"Ladislav Reznicek","163",1,false,false,false,false,false,false,false,false,false,false,false,false,false,false,false,false,false,false,false,false,false,false,false,false,false,false,false,false,false,false,false,false,false,false,false,false,false,false,false,false,false,false,false,false,false,"2020-01-01","163"]
["163-012",null,null,"2xTw  \n2xBw ","109 \n ","5 \n5",{"$nulls":4},"Ladislav Reznicek","163",1,false,false,false,false,false,false,false,false,false,false,false,false,false,false,false,false,false,false,false,false,false,false,false,false,false,false,false,false,false,false,false,false,false,false,false,false,false,false,false,false,false,false,false,false,false,"2020-01-01","163"]
["163-013",null,null,"2xTw ","125","4",{"$nulls":4},"Ladislav Reznicek","163",1,false,false,false,false,false,false,false,false,false,false,false,false,false,false,false,false,false,false,false,false,false,false,false,false,false,false,false,false,false,false,false,false,false,false,false,false,false,false,false,false,false,false,false,false,false,"2020-01-01","163"]
["163-014",null,"Bahnhof","4xTw ","163",{"$nulls":5},"Ladislav Reznicek","163",1,false,false,false,false,false,false,false,false,false,false,false,false,false,false,false,false,false,false,false,false,false,false,false,false,false,false,false,false,false,false,false,false,false,false,false,false,false,false,false,false,false,false,false,false,false,"2020-01-01","163"]
["163-015",null,null,"2xBw ","7",{"$nulls":4},1966,"Ladislav Reznicek","163",1,false,false,false,false,false,false,false,false,false,false,false,false,false,false,false,false,false,false,false,false,false,false,false,false,false,false,false,false,false,false,false,false,false,false,false,false,false,false,false,false,false,false,false,false,false,"2020-01-01","163"]
["163-016",null,null,"2xBw ","25",{"$nulls":4},1966,"Ladislav Reznicek","163",1,false,false,false,false,false,false,false,false,false,false,false,false,false,false,false,false,false,false,false,false,false,false,false,false,false,false,false,false,false,false,false,false,false,false,false,false,false,false,false,false,false,false,false,false,false,"2020-01-01","163"]
["163-017",null,null,"2xBw ","29",{"$nulls":4},1966,"Ladislav Reznicek","163",1,false,false,false,false,false,false,false,false,false,false,false,false,false,false,false,false,false,false,false,false,false,false,false,false,false,false,false,false,false,false,false,false,false,false,false,false,false,false,false,false,false,false,false,false,false,"2020-01-01","163"]
["163-018",null,null,"2xBw ","10",{"$nulls":4},1966,"Ladislav Reznicek","163",1,false,false,false,false,false,false,false,false,false,false,false,false,false,false,false,false,false,false,false,false,false,false,false,false,false,false,false,false,false,false,false,false,false,false,false,false,false,false,false,false,false,false,false,false,false,"2020-01-01","163"]
["163-019",null,null,"2xBw ","11",{"$nulls":4},1966,"Ladislav Reznicek","163",1,false,false,false,false,false,false,false,false,false,false,false,false,false,false,false,false,false,false,false,false,false,false,false,false,false,false,false,false,false,false,false,false,false,false,false,false,false,false,false,false,false,false,false,false,false,"2020-01-01","163"]
["163-020",null,null,"2xBw ","23",{"$nulls":4},1966,"Ladislav Reznicek","163",1,false,false,false,false,false,false,false,false,false,false,false,false,false,false,false,false,false,false,false,false,false,false,false,false,false,false,false,false,false,false,false,false,false,false,false,false,false,false,false,false,false,false,false,false,false,"2020-01-01","163"]
["163-021",null,null,"2xBw ","31",{"$nulls":4},1961,null,"163",1,false,false,false,false,false,false,false,false,false,false,false,false,false,false,false,false,false,false,false,false,false,false,false,false,false,false,false,false,false,false,false,false,false,false,false,false,false,false,false,false,false,false,false,false,false,"2020-01-01","163"]
["163-022",null,null,"4xTw ","152",{"$nulls":4},1961,null,"163",1,false,false,false,false,false,false,false,false,false,false,false,false,false,false,false,false,false,false,false,false,false,false,false,false,false,false,false,false,false,false,false,false,false,false,false,false,false,false,false,false,false,false,false,false,false,"2020-01-01","163"]
["163-023",null,null,"2xTw ","93",{"$nulls":4},1965,null,"163",1,false,false,false,false,false,false,false,false,false,false,false,false,false,false,false,false,false,false,false,false,false,false,false,false,false,false,false,false,false,false,false,false,false,false,false,false,false,false,false,false,false,false,false,false,false,"2020-01-01","163"]
["163-024",null,null,"2xTw ","122",null,null,4,7,1968,"Horst Michelke","163",1,false,false,false,false,false,false,false,false,false,false,false,false,false,false,false,false,false,false,false,false,false,false,false,false,false,false,false,false,false,false,false,false,false,false,false,false,false,false,false,false,false,false,false,false,false,"2020-01-01","163"]
["163-025",null,null,"4xTw ","153",null,null,4,7,1968,"Horst Michelke","163",1,false,false,false,false,false,false,false,false,false,false,false,false,false,false,false,false,false,false,false,false,false,false,false,false,false,false,false,false,false,false,false,false,false,false,false,false,false,false,false,false,false,false,false,false,false,"2020-01-01","163"]
["163-026",null,null,"2xBw ","5",null,null,5,7,1968,"Horst Michelke","163",1,false,false,false,false,false,false,false,false,false,false,false,false,false,false,false,false,false,false,false,false,false,false,false,false,false,false,false,false,false,false,false,false,false,false,false,false,false,false,false,false,false,false,false,false,false,"2020-01-01","163"]
["163-027",null,null,"2xTw ","37",{"$nulls":4},1926,null,"163",1,false,false,false,false,false,false,false,false,false,false,false,false,false,false,false,false,false,false,false,false,false,false,false,false,false,false,false,false,false,false,false,false,false,false,false,false,false,false,false,false,false,false,false,false,false,"2020-01-01","163"]
["163-028",null,"Tellnitz-Kleinbahn, Bahnhof","2xBw  \n2xTw ","34 \n "," \n ",{"$nulls":3},1921,null,"163",1,false,false,false,false,false,false,false,false,false,false,false,false,false,false,false,false,false,false,false,false,false,false,false,false,false,false,false,false,false,false,false,false,false,false,false,false,false,false,false,false,false,false,false,false,false,"2020-01-01","163"]
["163-029","VDVA-0163-029",null,"2xTw ","29","8",{"$nulls":3},1938,"Friedrich Grünwald","163",1,false,false,false,false,false,false,false,false,false,false,false,false,false,false,false,false,false,false,false,false,false,false,false,false,false,false,false,false,false,false,false,false,false,false,false,false,false,false,false,false,false,false,false,false,false,"2020-01-01",{"$f":"LEFT(A322,FIND(\"-\",A322)-1)","v":"163"}]
["163-030","VDVA-0163-030",null,"2xTw ","92","11",{"$nulls":3},1938,"Friedrich Grünwald","163",1,false,false,false,false,false,false,false,false,false,false,false,false,false,false,false,false,false,false,false,false,false,false,false,false,false,false,false,false,false,false,false,false,false,false,false,false,false,false,false,false,false,false,false,false,false,"2020-01-01","163"]
["163-031","VDVA-0163-031",null,"2xTw ","92","11",{"$nulls":3},1938,"Friedrich Grünwald","163",1,false,false,false,false,false,false,false,false,false,false,false,false,false,false,false,false,false,false,false,false,false,false,false,false,false,false,false,false,false,false,false,false,false,false,false,false,false,false,false,false,false,false,false,false,false,"2020-01-01","163"]
["163-032","VDVA-0163-032",null,"2xTw ","76","11",{"$nulls":3},1938,"Friedrich Grünwald","163",1,false,false,false,false,false,false,false,false,false,false,false,false,false,false,false,false,false,false,false,false,false,false,false,false,false,false,false,false,false,false,false,false,false,false,false,false,false,false,false,false,false,false,false,false,false,"2020-01-01","163"]
["164-001",null,null,"2xTw ","34",null,"Dieser Wagen und ein Salonwagen wurden auf der Pariser Weltausstellung 1900 gezeigt",null,null,1899,null,"164",1,false,false,false,false,false,false,false,false,false,false,false,false,false,false,false,false,false,false,false,false,false,false,false,false,false,false,false,false,false,false,false,false,false,false,false,false,false,false,false,false,false,false,false,false,false,"2020-01-01","164"]
["164-002",null,null,"4xTw ","143",null,"Linie: Prag-Zizkow-kIg. Weinberge",null,null,1899,null,"164",1,false,false,false,false,false,false,false,false,false,false,false,false,false,false,false,false,false,false,false,false,false,false,false,false,false,false,false,false,false,false,false,false,false,false,false,false,false,false,false,false,false,false,false,false,false,"2020-01-01","164"]
["164-003",null,null,"2xBw  \n2xTw "," \n ","12 \n12",{"$nulls":4},"Emil Konrad","164",1,false,false,false,false,false,false,false,false,false,false,false,false,false,false,false,false,false,false,false,false,false,false,false,false,false,false,false,false,false,false,false,false,false,false,false,false,false,false,false,false,false,false,false,false,false,"2020-01-01","164"]
["164-004",null,null,"2xBw  \n2xTw "," \n ","1 \n1",{"$nulls":4},"Emil Konrad","164",1,false,false,false,false,false,false,false,false,false,false,false,false,false,false,false,false,false,false,false,false,false,false,false,false,false,false,false,false,false,false,false,false,false,false,false,false,false,false,false,false,false,false,false,false,false,"2020-01-01","164"]
["164-005",null,"nahe am Graben","4xTw ","5115","26",null,null,5,1982,"Wolfgang Schreiner","164",1,false,false,false,false,false,false,false,false,false,false,false,false,false,false,false,false,false,false,false,false,false,false,false,false,false,false,false,false,false,false,false,false,false,false,false,false,false,false,false,false,false,false,false,false,false,"2020-01-01","164"]
["164-006",null,null,"2xTw ","485","18",null,9,4,1960,"K. Hochsteiner","164",1,false,false,false,false,false,false,false,false,false,false,false,false,false,false,false,false,false,false,false,false,false,false,false,false,false,false,false,false,false,false,false,false,false,false,false,false,false,false,false,false,false,false,false,false,false,"2020-01-01","164"]
["164-007",null,"Endschleife in Stresowitz","Obus ",null,null,"Hersteller: Tatra",{"$nulls":4},"164",1,false,false,false,false,false,false,false,false,false,false,false,false,false,false,false,false,false,false,false,false,false,false,false,false,false,false,false,false,false,false,false,false,false,false,false,false,false,false,false,false,false,false,false,false,false,"2020-01-01","164"]
["164-008",null,null,"2xTw ","2221","18",null,1,4,1960,"K. Hochsteiner","164",1,false,false,false,false,false,false,false,false,false,false,false,false,false,false,false,false,false,false,false,false,false,false,false,false,false,false,false,false,false,false,false,false,false,false,false,false,false,false,false,false,false,false,false,false,false,"2020-01-01","164"]
["164-009",null,"Wenzelsplatz","2xBw  \n2xBw  \n2xTw "," \n  \n ","11 \n11 \n11","Dritte Entgleisung",8,6,1937,null,"164",1,false,false,false,false,false,false,false,false,false,false,false,false,false,false,false,false,false,false,false,false,false,false,false,false,false,false,false,false,false,false,false,false,false,false,false,false,false,false,false,false,false,false,false,false,false,"2020-01-01","164"]
["164-010",null,"Stretagasse","2xTw ","351",null,"Entgleisung",null,null,1916,null,"164",1,false,false,false,false,false,false,false,false,false,false,false,false,false,false,false,false,false,false,false,false,false,false,false,false,false,false,false,false,false,false,false,false,false,false,false,false,false,false,false,false,false,false,false,false,false,"2020-01-01","164"]
["164-011",null,null,"Obus ",null,"K",{"$nulls":5},"164",1,false,false,false,false,false,false,false,false,false,false,false,false,false,false,false,false,false,false,false,false,false,false,false,false,false,false,false,false,false,false,false,false,false,false,false,false,false,false,false,false,false,false,false,false,false,"2020-01-01","164"]
["164-012",null,"Kleinseite, schmale Gasse","2xTw ","230","12",{"$nulls":5},"164",1,false,false,false,false,false,false,false,false,false,false,false,false,false,false,false,false,false,false,false,false,false,false,false,false,false,false,false,false,false,false,false,false,false,false,false,false,false,false,false,false,false,false,false,false,false,"2020-01-01","164"]
["164-013",null,null,"2xBw ","1060",null,null,10,4,1960,"K. Hochsteiner","164",1,false,false,false,false,false,false,false,false,false,false,false,false,false,false,false,false,false,false,false,false,false,false,false,false,false,false,false,false,false,false,false,false,false,false,false,false,false,false,false,false,false,false,false,false,false,"2020-01-01","164"]
["164-014",null,null,"2xTw ","2109","17",{"$nulls":3},1931,null,"164",1,false,false,false,false,false,false,false,false,false,false,false,false,false,false,false,false,false,false,false,false,false,false,false,false,false,false,false,false,false,false,false,false,false,false,false,false,false,false,false,false,false,false,false,false,false,"2020-01-01","164"]
["164-015",null,null,"2xBw ",null,null,"Baujahr 1908",null,null,1930,null,"164",1,false,false,false,false,false,false,false,false,false,false,false,false,false,false,false,false,false,false,false,false,false,false,false,false,false,false,false,false,false,false,false,false,false,false,false,false,false,false,false,false,false,false,false,false,false,"2020-01-01","164"]
["164-016",null,"Siegesplatz","2xBw  \n2xTw "," \n "," \n ",null,27,3,1937,null,"164",1,false,false,false,false,false,false,false,false,false,false,false,false,false,false,false,false,false,false,false,false,false,false,false,false,false,false,false,false,false,false,false,false,false,false,false,false,false,false,false,false,false,false,false,false,false,"2020-01-01","164"]
["164-017",null,null,"2xTw ","27","8",{"$nulls":3},1930,null,"164",1,false,false,false,false,false,false,false,false,false,false,false,false,false,false,false,false,false,false,false,false,false,false,false,false,false,false,false,false,false,false,false,false,false,false,false,false,false,false,false,false,false,false,false,false,false,"2020-01-01","164"]
["164-018",null,null,"Obus ","303","K",{"$nulls":5},"164",1,false,false,false,false,false,false,false,false,false,false,false,false,false,false,false,false,false,false,false,false,false,false,false,false,false,false,false,false,false,false,false,false,false,false,false,false,false,false,false,false,false,false,false,false,false,"2020-01-01","164"]
["164-019",null,null,"2xBw ","1325",{"$nulls":4},1931,null,"164",1,false,false,false,false,false,false,false,false,false,false,false,false,false,false,false,false,false,false,false,false,false,false,false,false,false,false,false,false,false,false,false,false,false,false,false,false,false,false,false,false,false,false,false,false,false,"2020-01-01","164"]
["164-020",null,null,"2xTw  \n2xBw "," \n ","2 \n2","Peter-Witt-Wagen",null,null,1936,null,"164",1,false,false,false,false,false,false,false,false,false,false,false,false,false,false,false,false,false,false,false,false,false,false,false,false,false,false,false,false,false,false,false,false,false,false,false,false,false,false,false,false,false,false,false,false,false,"2020-01-01","164"]
["164-021",null,null,"2xBw ","656",{"$nulls":4},1930,null,"164",1,false,false,false,false,false,false,false,false,false,false,false,false,false,false,false,false,false,false,false,false,false,false,false,false,false,false,false,false,false,false,false,false,false,false,false,false,false,false,false,false,false,false,false,false,false,"2020-01-01","164"]
["164-022",null,null,"2xBw ","1433","18",null,11,4,1960,"K. Hochsteiner","164",1,false,false,false,false,false,false,false,false,false,false,false,false,false,false,false,false,false,false,false,false,false,false,false,false,false,false,false,false,false,false,false,false,false,false,false,false,false,false,false,false,false,false,false,false,false,"2020-01-01","164"]
["164-023",null,"Belcredistraße","2xTw  \n2xBw  \n2xBw "," \n1030 \n ","11 \n11 \n11","Neubau einer Außenstrecke",null,10,1937,null,"164",1,false,false,false,false,false,false,false,false,false,false,false,false,false,false,false,false,false,false,false,false,false,false,false,false,false,false,false,false,false,false,false,false,false,false,false,false,false,false,false,false,false,false,false,false,false,"2020-01-01","164"]
["164-024",null,null,"Obus  \nObus  \nObus "," \n  \n "," \n  \n ",null,31,8,1936,null,"164",1,false,false,false,false,false,false,false,false,false,false,false,false,false,false,false,false,false,false,false,false,false,false,false,false,false,false,false,false,false,false,false,false,false,false,false,false,false,false,false,false,false,false,false,false,false,"2020-01-01","164"]
["164-025",null,"Zeltnergasse (Obstmarkt)","2xTw  \n2xBw "," \n ","1 \n1",null,null,4,1937,null,"164",1,false,false,false,false,false,false,false,false,false,false,false,false,false,false,false,false,false,false,false,false,false,false,false,false,false,false,false,false,false,false,false,false,false,false,false,false,false,false,false,false,false,false,false,false,false,"2020-01-01","164"]
["164-026",null,null,"2xBw  \n2xTw ","1049 \n220","14 \n6",{"$nulls":5},"164",1,false,false,false,false,false,false,false,false,false,false,false,false,false,false,false,false,false,false,false,false,false,false,false,false,false,false,false,false,false,false,false,false,false,false,false,false,false,false,false,false,false,false,false,false,false,"2020-01-01","164"]
["164-027",null,null,"4xTw ","200",{"$nulls":5},"Werkfoto","164",1,false,false,false,false,false,false,false,false,false,false,false,false,false,false,false,false,false,false,false,false,false,false,false,false,false,false,false,false,false,false,false,false,false,false,false,false,false,false,false,false,false,false,false,false,false,"2020-01-01","164"]
["164-028",null,null,"2xBw ","193",null,"Salonwagen",null,null,1905,null,"164",1,false,false,false,false,false,false,false,false,false,false,false,false,false,false,false,false,false,false,false,false,false,false,false,false,false,false,false,false,false,false,false,false,false,false,false,false,false,false,false,false,false,false,false,false,false,"2020-01-01","164"]
["164-029",null,null,"2xBw ","711",{"$nulls":6},"164",1,false,false,false,false,false,false,false,false,false,false,false,false,false,false,false,false,false,false,false,false,false,false,false,false,false,false,false,false,false,false,false,false,false,false,false,false,false,false,false,false,false,false,false,false,false,"2020-01-01","164"]
["164-030",null,null,"2xTw ","380",{"$nulls":6},"164",1,false,false,false,false,false,false,false,false,false,false,false,false,false,false,false,false,false,false,false,false,false,false,false,false,false,false,false,false,false,false,false,false,false,false,false,false,false,false,false,false,false,false,false,false,false,"2020-01-01","164"]
["164-031",null,null,"2xTw ",null,null,"Peter-Witt-Wagen",{"$nulls":3},"Emil Konrad","164",1,false,false,false,false,false,false,false,false,false,false,false,false,false,false,false,false,false,false,false,false,false,false,false,false,false,false,false,false,false,false,false,false,false,false,false,false,false,false,false,false,false,false,false,false,false,"2020-01-01","164"]
["164-032",null,null,"4xTw ","5105","17",null,10,4,1960,"K. Hochsteiner","164",1,false,false,false,false,false,false,false,false,false,false,false,false,false,false,false,false,false,false,false,false,false,false,false,false,false,false,false,false,false,false,false,false,false,false,false,false,false,false,false,false,false,false,false,false,false,"2020-01-01","164"]
["164-033",null,"Zahnradbahn nach Petrin","Zahnradbahnwagen ","2",{"$nulls":5},"Ladislav Reznicek","164",1,false,false,false,false,false,false,false,false,false,false,false,false,false,false,false,false,false,false,false,false,false,false,false,false,false,false,false,false,false,false,false,false,false,false,false,false,false,false,false,false,false,false,false,false,false,"2020-01-01","164"]
["164-034",null,null,"2xTw ","483",{"$nulls":3},4,1964,"Horst Golzsch","164",1,false,false,false,false,false,false,false,false,false,false,false,false,false,false,false,false,false,false,false,false,false,false,false,false,false,false,false,false,false,false,false,false,false,false,false,false,false,false,false,false,false,false,false,false,false,"2020-01-01","164"]
["164-035",null,null,"Obus ",null,null,"Hersteller: Tatra-CKD",null,null,1948,"John H. Price","164",1,false,false,false,false,false,false,false,false,false,false,false,false,false,false,false,false,false,false,false,false,false,false,false,false,false,false,false,false,false,false,false,false,false,false,false,false,false,false,false,false,false,false,false,false,false,"2020-01-01","164"]
["164-036",null,"Betriebshof Motol","4xTw  \n4xTw ","5099 \n5097"," \n ","Typ T1",null,null,1948,"John H. Price","164",1,false,false,false,false,false,false,false,false,false,false,false,false,false,false,false,false,false,false,false,false,false,false,false,false,false,false,false,false,false,false,false,false,false,false,false,false,false,false,false,false,false,false,false,false,false,"2020-01-01","164"]
["164-037",null,null,"4xTw  \n4xTw "," \n "," \n ","T2 Zwillingswagen (PCC Probewagen)",null,null,1948,"John H. Price","164",1,false,false,false,false,false,false,false,false,false,false,false,false,false,false,false,false,false,false,false,false,false,false,false,false,false,false,false,false,false,false,false,false,false,false,false,false,false,false,false,false,false,false,false,false,false,"2020-01-01","164"]
["164-038",null,null,"4xTw  \n4xTw "," \n6113","5 \n5",{"$nulls":3},1965,null,"164",1,false,false,false,false,false,false,false,false,false,false,false,false,false,false,false,false,false,false,false,false,false,false,false,false,false,false,false,false,false,false,false,false,false,false,false,false,false,false,false,false,false,false,false,false,false,"2020-01-01","164"]
["164-039",null,"Endstation Zlichov","4xTw ","5103",null,"Typ T1",{"$nulls":4},"164",1,false,false,false,false,false,false,false,false,false,false,false,false,false,false,false,false,false,false,false,false,false,false,false,false,false,false,false,false,false,false,false,false,false,false,false,false,false,false,false,false,false,false,false,false,false,"2020-01-01","164"]
["164-040",null,"Endstation Zlichov","4xTw ","5016","4","Typ T1",{"$nulls":4},"164",1,false,false,false,false,false,false,false,false,false,false,false,false,false,false,false,false,false,false,false,false,false,false,false,false,false,false,false,false,false,false,false,false,false,false,false,false,false,false,false,false,false,false,false,false,false,"2020-01-01","164"]
["164-041",null,null,"4xTw ","5094","4","Typ T1",{"$nulls":4},"164",1,false,false,false,false,false,false,false,false,false,false,false,false,false,false,false,false,false,false,false,false,false,false,false,false,false,false,false,false,false,false,false,false,false,false,false,false,false,false,false,false,false,false,false,false,false,"2020-01-01","164"]
["164-042",null,null,"4xTw ","5102","17","Typ T1",{"$nulls":4},"164",1,false,false,false,false,false,false,false,false,false,false,false,false,false,false,false,false,false,false,false,false,false,false,false,false,false,false,false,false,false,false,false,false,false,false,false,false,false,false,false,false,false,false,false,false,false,"2020-01-01","164"]
["164-043",null,null,"2xBw  \n2xTw ","1457 \n2052"," \n ",{"$nulls":3},1964,"Emil Konrad","164",1,false,false,false,false,false,false,false,false,false,false,false,false,false,false,false,false,false,false,false,false,false,false,false,false,false,false,false,false,false,false,false,false,false,false,false,false,false,false,false,false,false,false,false,false,false,"2020-01-01","164"]
["164-044",null,null,"4xTw ","5092","17","Typ T1",{"$nulls":3},"Horst Golzsch","164",1,false,false,false,false,false,false,false,false,false,false,false,false,false,false,false,false,false,false,false,false,false,false,false,false,false,false,false,false,false,false,false,false,false,false,false,false,false,false,false,false,false,false,false,false,false,"2020-01-01","164"]
["164-045",null,null,"2xBw  \n2xTw "," \n425","6 \n6",{"$nulls":4},"S. Zaikind","164",1,false,false,false,false,false,false,false,false,false,false,false,false,false,false,false,false,false,false,false,false,false,false,false,false,false,false,false,false,false,false,false,false,false,false,false,false,false,false,false,false,false,false,false,false,false,"2020-01-01","164"]
["164-046",null,null,"2xBw  \n2xTw "," \n5070","2 \n2",{"$nulls":4},"S. Zaikind","164",1,false,false,false,false,false,false,false,false,false,false,false,false,false,false,false,false,false,false,false,false,false,false,false,false,false,false,false,false,false,false,false,false,false,false,false,false,false,false,false,false,false,false,false,false,false,"2020-01-01","164"]
["164-047",null,null,"Dienstwagen ","2066",{"$nulls":3},10,1971,"Horst Golzsch","164",1,false,false,false,false,false,false,false,false,false,false,false,false,false,false,false,false,false,false,false,false,false,false,false,false,false,false,false,false,false,false,false,false,false,false,false,false,false,false,false,false,false,false,false,false,false,"2020-01-01","164"]
["164-048",null,null,"4xTw ",null,null,"PCC-Tw",{"$nulls":3},"S. Zaikind","164",1,false,false,false,false,false,false,false,false,false,false,false,false,false,false,false,false,false,false,false,false,false,false,false,false,false,false,false,false,false,false,false,false,false,false,false,false,false,false,false,false,false,false,false,false,false,"2020-01-01","164"]
["164-049",null,null,"2xBw  \n2xTw ","1558 \n3087","20 \n20",{"$nulls":3},1964,"Emil Konrad","164",1,false,false,false,false,false,false,false,false,false,false,false,false,false,false,false,false,false,false,false,false,false,false,false,false,false,false,false,false,false,false,false,false,false,false,false,false,false,false,false,false,false,false,false,false,false,"2020-01-01","164"]
["164-050",null,null,"6xGelTw ","7000",{"$nulls":4},1966,"Horst Golzsch","164",1,false,false,false,false,false,false,false,false,false,false,false,false,false,false,false,false,false,false,false,false,false,false,false,false,false,false,false,false,false,false,false,false,false,false,false,false,false,false,false,false,false,false,false,false,false,"2020-01-01","164"]
["164-051",null,null,"Sommer-Bw ",{"$nulls":7},"164",1,false,false,false,false,false,false,false,false,false,false,false,false,false,false,false,false,false,false,false,false,false,false,false,false,false,false,false,false,false,false,false,false,false,false,false,false,false,false,false,false,false,false,false,false,false,"2020-01-01","164"]
["164-052",null,null,"2xTw ",null,null,"Tw der Privatstraßenbahn Praha-Liben-Vysooany",{"$nulls":4},"164",1,false,false,false,false,false,false,false,false,false,false,false,false,false,false,false,false,false,false,false,false,false,false,false,false,false,false,false,false,false,false,false,false,false,false,false,false,false,false,false,false,false,false,false,false,false,"2020-01-01","164"]
["164-053",null,null,"2xTw ","1",null,"Praha-Liben-Vysooany",{"$nulls":4},"164",1,false,false,false,false,false,false,false,false,false,false,false,false,false,false,false,false,false,false,false,false,false,false,false,false,false,false,false,false,false,false,false,false,false,false,false,false,false,false,false,false,false,false,false,false,false,"2020-01-01","164"]
["164-054",null,null,"Pferdebahnwagen ","6",{"$nulls":6},"164",1,false,false,false,false,false,false,false,false,false,false,false,false,false,false,false,false,false,false,false,false,false,false,false,false,false,false,false,false,false,false,false,false,false,false,false,false,false,false,false,false,false,false,false,false,false,"2020-01-01","164"]
["164-055",null,null,"Sommer-Bw ","206",{"$nulls":6},"164",1,false,false,false,false,false,false,false,false,false,false,false,false,false,false,false,false,false,false,false,false,false,false,false,false,false,false,false,false,false,false,false,false,false,false,false,false,false,false,false,false,false,false,false,false,false,"2020-01-01","164"]
["164-056",null,null,"Sommer-Tw ",null,null,"Zweiter Wagen der ersten Prager elektrischen Straßenbahn",null,null,1891,null,"164",1,false,false,false,false,false,false,false,false,false,false,false,false,false,false,false,false,false,false,false,false,false,false,false,false,false,false,false,false,false,false,false,false,false,false,false,false,false,false,false,false,false,false,false,false,false,"2020-01-01","164"]
["164-057",null,null,"2xBw ","38",{"$nulls":5},"Ladislav Reznicek","164",1,false,false,false,false,false,false,false,false,false,false,false,false,false,false,false,false,false,false,false,false,false,false,false,false,false,false,false,false,false,false,false,false,false,false,false,false,false,false,false,false,false,false,false,false,false,"2020-01-01","164"]
["164-058",null,null,"2xTw  \n2xTw ","88 \n200"," \n ","60 Jahre Straßenbahn. Jubiläumsfahrt",null,null,1962,null,"164",1,false,false,false,false,false,false,false,false,false,false,false,false,false,false,false,false,false,false,false,false,false,false,false,false,false,false,false,false,false,false,false,false,false,false,false,false,false,false,false,false,false,false,false,false,false,"2020-01-01","164"]
["164-059",null,null,"2xTw  \n2xTw  \n4xTw (Tatra T2)  \n4xTw (Tatra T1)  \nArbTw ","482 \n3074 \n5050 \n6001 \n109"," \n  \n  \n  \n ","60 Jahre Straßenbahn. \nA-Tw 109 Ist Schienen-reinigungswagen",null,null,1962,null,"164",1,false,false,false,false,false,false,false,false,false,false,false,false,false,false,false,false,false,false,false,false,false,false,false,false,false,false,false,false,false,false,false,false,false,false,false,false,false,false,false,false,false,false,false,false,false,"2020-01-01","164"]
["164-060",null,null,"2xBw ","999",{"$nulls":3},10,1971,"Horst Golzsch","164",1,false,false,false,false,false,false,false,false,false,false,false,false,false,false,false,false,false,false,false,false,false,false,false,false,false,false,false,false,false,false,false,false,false,false,false,false,false,false,false,false,false,false,false,false,false,"2020-01-01","164"]
["164-061",null,null,"4xTw  \n4xTw ","8021 \n8022","19 \n19",null,29,6,1979,"Günter Rudnicki","164",1,false,false,false,false,false,false,false,false,false,false,false,false,false,false,false,false,false,false,false,false,false,false,false,false,false,false,false,false,false,false,false,false,false,false,false,false,false,false,false,false,false,false,false,false,false,"2020-01-01",{"$f":"LEFT(A386,FIND(\"-\",A386)-1)","v":"164"}]
["164-062",null,null,"2xTw ","187",{"$nulls":6},"164",1,false,false,false,false,false,false,false,false,false,false,false,false,false,false,false,false,false,false,false,false,false,false,false,false,false,false,false,false,false,false,false,false,false,false,false,false,false,false,false,false,false,false,false,false,false,"2020-01-01","164"]
["164-063",null,null,"4xTw ","200",null,"historisch",{"$nulls":3},"Werkfoto","164",1,false,false,false,false,false,false,false,false,false,false,false,false,false,false,false,false,false,false,false,false,false,false,false,false,false,false,false,false,false,false,false,false,false,false,false,false,false,false,false,false,false,false,false,false,false,"2020-01-01","164"]
["164-064",null,null,"2xTw ","200",null,"60 Jahre Straßenbahn in Prag",null,null,1962,null,"164",1,false,false,false,false,false,false,false,false,false,false,false,false,false,false,false,false,false,false,false,false,false,false,false,false,false,false,false,false,false,false,false,false,false,false,false,false,false,false,false,false,false,false,false,false,false,"2020-01-01","164"]
["164-065",null,null,"2xTw ","200",null,"als Zweiachser",{"$nulls":4},"164",1,false,false,false,false,false,false,false,false,false,false,false,false,false,false,false,false,false,false,false,false,false,false,false,false,false,false,false,false,false,false,false,false,false,false,false,false,false,false,false,false,false,false,false,false,false,"2020-01-01","164"]
["164-066",null,null,"2xTw ","229",null,"ex private Straßenbahn HIavacek",{"$nulls":4},"164",1,false,false,false,false,false,false,false,false,false,false,false,false,false,false,false,false,false,false,false,false,false,false,false,false,false,false,false,false,false,false,false,false,false,false,false,false,false,false,false,false,false,false,false,false,false,"2020-01-01","164"]
["164-067",null,null,"Sommer-Tw ","500",null,"60 Jahre Straßenbahn in Prag",null,null,1962,null,"164",1,false,false,false,false,false,false,false,false,false,false,false,false,false,false,false,false,false,false,false,false,false,false,false,false,false,false,false,false,false,false,false,false,false,false,false,false,false,false,false,false,false,false,false,false,false,"2020-01-01","164"]
["164-068",null,null,"2xTw ","2206",null,"60 Jahre Straßenbahn in Prag",null,null,1962,null,"164",1,false,false,false,false,false,false,false,false,false,false,false,false,false,false,false,false,false,false,false,false,false,false,false,false,false,false,false,false,false,false,false,false,false,false,false,false,false,false,false,false,false,false,false,false,false,"2020-01-01","164"]
["164-069",null,null,"2xTw ","3093",null,"60 Jahre Straßenbahn in Prag",null,null,1962,null,"164",1,false,false,false,false,false,false,false,false,false,false,false,false,false,false,false,false,false,false,false,false,false,false,false,false,false,false,false,false,false,false,false,false,false,false,false,false,false,false,false,false,false,false,false,false,false,"2020-01-01","164"]
["164-070",null,null,"2xTw  \n2xBw ","2002 \n ","22 \n22",{"$nulls":4},"Wolfgang Schreiner","164",1,false,false,false,false,false,false,false,false,false,false,false,false,false,false,false,false,false,false,false,false,false,false,false,false,false,false,false,false,false,false,false,false,false,false,false,false,false,false,false,false,false,false,false,false,false,"2020-01-01","164"]
["164-071",null,null,"2xTw  \n2xBw  \n2xBw ","2138 \n  \n ","13 \n13 \n13",{"$nulls":4},"Wolfgang Schreiner","164",1,false,false,false,false,false,false,false,false,false,false,false,false,false,false,false,false,false,false,false,false,false,false,false,false,false,false,false,false,false,false,false,false,false,false,false,false,false,false,false,false,false,false,false,false,false,"2020-01-01","164"]
["164-072",null,null,"2xTw ","3085",{"$nulls":6},"164",1,false,false,false,false,false,false,false,false,false,false,false,false,false,false,false,false,false,false,false,false,false,false,false,false,false,false,false,false,false,false,false,false,false,false,false,false,false,false,false,false,false,false,false,false,false,"2020-01-01","164"]
["164-073",null,null,"2xTw ","3028",{"$nulls":6},"164",1,false,false,false,false,false,false,false,false,false,false,false,false,false,false,false,false,false,false,false,false,false,false,false,false,false,false,false,false,false,false,false,false,false,false,false,false,false,false,false,false,false,false,false,false,false,"2020-01-01","164"]
["164-074",null,null,"4xTw ","5001",null,"T1-Prototyp",{"$nulls":4},"164",1,false,false,false,false,false,false,false,false,false,false,false,false,false,false,false,false,false,false,false,false,false,false,false,false,false,false,false,false,false,false,false,false,false,false,false,false,false,false,false,false,false,false,false,false,false,"2020-01-01","164"]
["164-075",null,null,"4xTw (Tatra T2)  \n4xTw (Tatra T2) ","6002 \n6001"," \n ",{"$nulls":5},"164",1,false,false,false,false,false,false,false,false,false,false,false,false,false,false,false,false,false,false,false,false,false,false,false,false,false,false,false,false,false,false,false,false,false,false,false,false,false,false,false,false,false,false,false,false,false,"2020-01-01","164"]
["164-076",null,null,"4xTw ","5120","17",{"$nulls":4},"Wolfgang Schreiner","164",1,false,false,false,false,false,false,false,false,false,false,false,false,false,false,false,false,false,false,false,false,false,false,false,false,false,false,false,false,false,false,false,false,false,false,false,false,false,false,false,false,false,false,false,false,false,"2020-01-01","164"]
["164-077",null,null,"4xTw  \n4xTw ","6145 \n6142"," \n ",{"$nulls":5},"164",1,false,false,false,false,false,false,false,false,false,false,false,false,false,false,false,false,false,false,false,false,false,false,false,false,false,false,false,false,false,false,false,false,false,false,false,false,false,false,false,false,false,false,false,false,false,"2020-01-01","164"]
["164-078",{"$nulls":5},"Denkmal für 100 km Straßenbahn",{"$nulls":4},"164",1,false,false,false,false,false,false,false,false,false,false,false,false,false,false,false,false,false,false,false,false,false,false,false,false,false,false,false,false,false,false,false,false,false,false,false,false,false,false,false,false,false,false,false,false,false,"2020-01-01","164"]
["164-079",null,null,"2xTw ","187",null,"historisch",{"$nulls":4},"164",1,false,false,false,false,false,false,false,false,false,false,false,false,false,false,false,false,false,false,false,false,false,false,false,false,false,false,false,false,false,false,false,false,false,false,false,false,false,false,false,false,false,false,false,false,false,"2020-01-01","164"]
["164-080",null,null,"4xTw (Tatra T1) ","5016",{"$nulls":6},"164",1,false,false,false,false,false,false,false,false,false,false,false,false,false,false,false,false,false,false,false,false,false,false,false,false,false,false,false,false,false,false,false,false,false,false,false,false,false,false,false,false,false,false,false,false,false,"2020-01-01","164"]
["164-081",null,null,"4xTw (Tatra T1) ","5016",{"$nulls":6},"164",1,false,false,false,false,false,false,false,false,false,false,false,false,false,false,false,false,false,false,false,false,false,false,false,false,false,false,false,false,false,false,false,false,false,false,false,false,false,false,false,false,false,false,false,false,false,"2020-01-01","164"]
["164-082",null,null,"4xTw  \n4xTw "," \n ","5 \n5","PCC Doppel Tw",null,null,1952,"Ladislav Reznicek","164",1,false,false,false,false,false,false,false,false,false,false,false,false,false,false,false,false,false,false,false,false,false,false,false,false,false,false,false,false,false,false,false,false,false,false,false,false,false,false,false,false,false,false,false,false,false,"2020-01-01","164"]
["164-083",null,null,"2xTw ","441","7",{"$nulls":3},1952,"Ladislav Reznicek","164",1,false,false,false,false,false,false,false,false,false,false,false,false,false,false,false,false,false,false,false,false,false,false,false,false,false,false,false,false,false,false,false,false,false,false,false,false,false,false,false,false,false,false,false,false,false,"2020-01-01","164"]
["164-084",null,null,"6xGelTw ","7001",null,null,15,5,1966,"Ladislav Reznicek","164",1,false,false,false,false,false,false,false,false,false,false,false,false,false,false,false,false,false,false,false,false,false,false,false,false,false,false,false,false,false,false,false,false,false,false,false,false,false,false,false,false,false,false,false,false,false,"2020-01-01","164"]
["164-085",null,null,"Obus ","496","53",{"$nulls":3},1966,"Ladislav Reznicek","164",1,false,false,false,false,false,false,false,false,false,false,false,false,false,false,false,false,false,false,false,false,false,false,false,false,false,false,false,false,false,false,false,false,false,false,false,false,false,false,false,false,false,false,false,false,false,"2020-01-01","164"]
["164-086",null,null,"ArbTw ","2002",null,"Praha-Zizkov-Kral.Vinohrady Bahn",null,null,1966,"Ladislav Reznicek","164",1,false,false,false,false,false,false,false,false,false,false,false,false,false,false,false,false,false,false,false,false,false,false,false,false,false,false,false,false,false,false,false,false,false,false,false,false,false,false,false,false,false,false,false,false,false,"2020-01-01","164"]
["164-087",null,null,"ArbBw  \nArbTw "," \n "," \n ",null,21,4,1966,"Ladislav Reznicek","164",1,false,false,false,false,false,false,false,false,false,false,false,false,false,false,false,false,false,false,false,false,false,false,false,false,false,false,false,false,false,false,false,false,false,false,false,false,false,false,false,false,false,false,false,false,false,"2020-01-01","164"]
["164-088",null,null,"ArbBw  \nArbTw "," \n "," \n ",null,21,4,1966,"Ladislav Reznicek","164",1,false,false,false,false,false,false,false,false,false,false,false,false,false,false,false,false,false,false,false,false,false,false,false,false,false,false,false,false,false,false,false,false,false,false,false,false,false,false,false,false,false,false,false,false,false,"2020-01-01","164"]
["164-089",null,null,"2xBw  \n2xTw "," \n480","16 \n16",{"$nulls":4},"Ladislav Reznicek","164",1,false,false,false,false,false,false,false,false,false,false,false,false,false,false,false,false,false,false,false,false,false,false,false,false,false,false,false,false,false,false,false,false,false,false,false,false,false,false,false,false,false,false,false,false,false,"2020-01-01","164"]
["164-090",null,"Wenzelsplatz","Tw  \nBw "," \n ","7 \n7",null,9,5,1966,"Ladislav Reznicek","164",1,false,false,false,false,false,false,false,false,false,false,false,false,false,false,false,false,false,false,false,false,false,false,false,false,false,false,false,false,false,false,false,false,false,false,false,false,false,false,false,false,false,false,false,false,false,"2020-01-01","164"]
["164-091",null,null,"ArbTw ","4092",null,"ex Hannover, Schienenschleifwagen",null,null,1966,"Ladislav Reznicek","164",1,false,false,false,false,false,false,false,false,false,false,false,false,false,false,false,false,false,false,false,false,false,false,false,false,false,false,false,false,false,false,false,false,false,false,false,false,false,false,false,false,false,false,false,false,false,"2020-01-01","164"]
["164-092",null,null,"4xTw ","5068","24",null,6,7,1968,"Horst Michelke","164",1,false,false,false,false,false,false,false,false,false,false,false,false,false,false,false,false,false,false,false,false,false,false,false,false,false,false,false,false,false,false,false,false,false,false,false,false,false,false,false,false,false,false,false,false,false,"2020-01-01","164"]
["164-093",null,null,"ArbTw ","4088",null,"Sargwagen",null,9,1971,"Horst Golzsch","164",1,false,false,false,false,false,false,false,false,false,false,false,false,false,false,false,false,false,false,false,false,false,false,false,false,false,false,false,false,false,false,false,false,false,false,false,false,false,false,false,false,false,false,false,false,false,"2020-01-01","164"]
["164-094",null,null,"ArbBw ","4538",null,"abgestellt als Verkaufswagen",null,9,1971,"Horst Golzsch","164",1,false,false,false,false,false,false,false,false,false,false,false,false,false,false,false,false,false,false,false,false,false,false,false,false,false,false,false,false,false,false,false,false,false,false,false,false,false,false,false,false,false,false,false,false,false,"2020-01-01","164"]
["164-095",null,null,"ArbBw ","4538",null,"abgestellt als Verkaufswagen",null,9,1971,"Horst Golzsch","164",1,false,false,false,false,false,false,false,false,false,false,false,false,false,false,false,false,false,false,false,false,false,false,false,false,false,false,false,false,false,false,false,false,false,false,false,false,false,false,false,false,false,false,false,false,false,"2020-01-01","164"]
["164-096",null,null,"2xBw ","1181",{"$nulls":3},9,1971,"Horst Golzsch","164",1,false,false,false,false,false,false,false,false,false,false,false,false,false,false,false,false,false,false,false,false,false,false,false,false,false,false,false,false,false,false,false,false,false,false,false,false,false,false,false,false,false,false,false,false,false,"2020-01-01","164"]
["164-097",null,null,"2xTw ","2080","9",null,null,9,1971,"Horst Golzsch","164",1,false,false,false,false,false,false,false,false,false,false,false,false,false,false,false,false,false,false,false,false,false,false,false,false,false,false,false,false,false,false,false,false,false,false,false,false,false,false,false,false,false,false,false,false,false,"2020-01-01","164"]
["164-098",null,null,"2xTw ","2109","14",null,null,9,1971,"Horst Golzsch","164",1,false,false,false,false,false,false,false,false,false,false,false,false,false,false,false,false,false,false,false,false,false,false,false,false,false,false,false,false,false,false,false,false,false,false,false,false,false,false,false,false,false,false,false,false,false,"2020-01-01","164"]
["164-099",null,null,"2xTw ","2208","9",null,null,9,1971,"Horst Golzsch","164",1,false,false,false,false,false,false,false,false,false,false,false,false,false,false,false,false,false,false,false,false,false,false,false,false,false,false,false,false,false,false,false,false,false,false,false,false,false,false,false,false,false,false,false,false,false,"2020-01-01","164"]
["164-100",null,null,"Sommer-Bw ","15",null,"ehemaliger Pferdebahnwagen",null,10,1971,"Horst Golzsch","164",1,false,false,false,false,false,false,false,false,false,false,false,false,false,false,false,false,false,false,false,false,false,false,false,false,false,false,false,false,false,false,false,false,false,false,false,false,false,false,false,false,false,false,false,false,false,"2020-01-01","164"]
["164-101",null,null,"2xTw ","444","3",null,null,1,1971,"Horst Golzsch","164",1,false,false,false,false,false,false,false,false,false,false,false,false,false,false,false,false,false,false,false,false,false,false,false,false,false,false,false,false,false,false,false,false,false,false,false,false,false,false,false,false,false,false,false,false,false,"2020-01-01","164"]
["164-102",null,null,"2xBw ","608",{"$nulls":3},10,1971,"Horst Golzsch","164",1,false,false,false,false,false,false,false,false,false,false,false,false,false,false,false,false,false,false,false,false,false,false,false,false,false,false,false,false,false,false,false,false,false,false,false,false,false,false,false,false,false,false,false,false,false,"2020-01-01","164"]
["164-103",null,null,"2xTw ","3028",{"$nulls":6},"164",1,false,false,false,false,false,false,false,false,false,false,false,false,false,false,false,false,false,false,false,false,false,false,false,false,false,false,false,false,false,false,false,false,false,false,false,false,false,false,false,false,false,false,false,false,false,"2020-01-01","164"]
["164-104",null,null,"Sommer-Tw ","500",{"$nulls":3},10,1971,"Horst Golzsch","164",1,false,false,false,false,false,false,false,false,false,false,false,false,false,false,false,false,false,false,false,false,false,false,false,false,false,false,false,false,false,false,false,false,false,false,false,false,false,false,false,false,false,false,false,false,false,"2020-01-01","164"]
["164-105","VDVA-0164-105","Motol, Depot","4xTw ","6337",null,null,21,7,1966,"John H. Price","164",1,false,false,false,false,false,false,false,false,false,false,false,false,false,false,false,false,false,false,false,false,false,false,false,false,false,false,false,false,false,false,false,false,false,false,false,false,false,false,false,false,false,false,false,false,false,"2020-01-01","164"]
["164-106","VDVA-0164-106","Vaciavske namestl (Wenzelsplatz)",{"$nulls":3},"mehrere Straßenbahnen",21,7,1966,"John H. Price","164",1,false,false,false,false,false,false,false,false,false,false,false,false,false,false,false,false,false,false,false,false,false,false,false,false,false,false,false,false,false,false,false,false,false,false,false,false,false,false,false,false,false,false,false,false,false,"2020-01-01","164"]
["164-107",null,"Wenzelsplatz","2xTw ","440","6",{"$nulls":3},1952,null,"164",1,false,false,false,false,false,false,false,false,false,false,false,false,false,false,false,false,false,false,false,false,false,false,false,false,false,false,false,false,false,false,false,false,false,false,false,false,false,false,false,false,false,false,false,false,false,"2020-01-01","164"]
["164-108","VDVA-0054-133","Nürnberg, Btf Fürther Straße","2xTw ","180","","Tw 180 aus Prag auf dem Transport ins Museum Crich in England\n(Bild auch in der Inlands-Datenbank unter Nr. 54-133 eingestellt)",20,8,1968,"Dr. Heinrich Dillmann","164",1,false,false,false,false,false,false,false,false,false,false,false,false,false,false,false,false,false,false,false,false,false,false,false,false,false,false,false,false,false,false,false,false,false,false,false,false,false,false,false,false,false,false,false,false,false,"2020-01-01","164"]
["164-109","VDVA-0054-134","Nürnberg, Btf Fürther Straße","2xTw ","180","","Tw 180 aus Prag auf dem Transport ins Museum Crich in England\n(Bild auch in der Inlands-Datenbank unter Nr. 54-134 eingestellt)",20,8,1968,"Dr. Heinrich Dillmann","164",1,false,false,false,false,false,false,false,false,false,false,false,false,false,false,false,false,false,false,false,false,false,false,false,false,false,false,false,false,false,false,false,false,false,false,false,false,false,false,false,false,false,false,false,false,false,"2020-01-01","164"]
["164-110","VDVA-0054-135","Nürnberg, Btf Fürther Straße","2xTw ","180","","Tw 180 aus Prag auf dem Transport ins Museum Crich in England\n(Bild auch in der Inlands-Datenbank unter Nr. 54-135 eingestellt)",20,8,1968,"Dr. Heinrich Dillmann","164",1,false,false,false,false,false,false,false,false,false,false,false,false,false,false,false,false,false,false,false,false,false,false,false,false,false,false,false,false,false,false,false,false,false,false,false,false,false,false,false,false,false,false,false,false,false,"2020-01-01","164"]
["164-111","VDVA-0054-136","Nürnberg, Btf Fürther Straße","2xTw ","180","","Tw 180 aus Prag auf dem Transport ins Museum Crich in England\n(Bild auch in der Inlands-Datenbank unter Nr. 54-136 eingestellt)",20,8,1968,"Dr. Heinrich Dillmann","164",1,false,false,false,false,false,false,false,false,false,false,false,false,false,false,false,false,false,false,false,false,false,false,false,false,false,false,false,false,false,false,false,false,false,false,false,false,false,false,false,false,false,false,false,false,false,"2020-01-01","164"]
["164-112","VDVA-0054-137","Nürnberg, Btf Fürther Straße","2xTw ","180","","Tw 180 aus Prag auf dem Transport ins Museum Crich in England\n(Bild auch in der Inlands-Datenbank unter Nr. 54-137 eingestellt)",20,8,1968,"Dr. Heinrich Dillmann","164",1,false,false,false,false,false,false,false,false,false,false,false,false,false,false,false,false,false,false,false,false,false,false,false,false,false,false,false,false,false,false,false,false,false,false,false,false,false,false,false,false,false,false,false,false,false,"2020-01-01","164"]
["165-001",null,null,"2xTw ",null,"1",{"$nulls":3},1943,null,"165",1,false,false,false,false,false,false,false,false,false,false,false,false,false,false,false,false,false,false,false,false,false,false,false,false,false,false,false,false,false,false,false,false,false,false,false,false,false,false,false,false,false,false,false,false,false,"2020-01-01","165"]
["165-002",null,null,"2xTw ","150","22",{"$nulls":3},1943,null,"165",1,false,false,false,false,false,false,false,false,false,false,false,false,false,false,false,false,false,false,false,false,false,false,false,false,false,false,false,false,false,false,false,false,false,false,false,false,false,false,false,false,false,false,false,false,false,"2020-01-01","165"]
["165-003",null,null,"2xTw ","113","11",{"$nulls":5},"165",1,false,false,false,false,false,false,false,false,false,false,false,false,false,false,false,false,false,false,false,false,false,false,false,false,false,false,false,false,false,false,false,false,false,false,false,false,false,false,false,false,false,false,false,false,false,"2020-01-01","165"]
["165-004",null,null,"2xTw ","75","4","ex Utrecht",null,null,1942,null,"165",1,false,false,false,false,false,false,false,false,false,false,false,false,false,false,false,false,false,false,false,false,false,false,false,false,false,false,false,false,false,false,false,false,false,false,false,false,false,false,false,false,false,false,false,false,false,"2020-01-01","165"]
["165-005",null,null,"2xTw ","415","3",{"$nulls":5},"165",1,false,false,false,false,false,false,false,false,false,false,false,false,false,false,false,false,false,false,false,false,false,false,false,false,false,false,false,false,false,false,false,false,false,false,false,false,false,false,false,false,false,false,false,false,false,"2020-01-01","165"]
["165-006",null,null,"4xGelTw ","161",{"$nulls":5},"Gerd Wolff","165",1,false,false,false,false,false,false,false,false,false,false,false,false,false,false,false,false,false,false,false,false,false,false,false,false,false,false,false,false,false,false,false,false,false,false,false,false,false,false,false,false,false,false,false,false,false,"2020-01-01","165"]
["165-007",null,null,"2xBw ","889",null,"historischer Mitteleinstiegsbeiwagen",{"$nulls":3},"Werkfoto","165",1,false,false,false,false,false,false,false,false,false,false,false,false,false,false,false,false,false,false,false,false,false,false,false,false,false,false,false,false,false,false,false,false,false,false,false,false,false,false,false,false,false,false,false,false,false,"2020-01-01","165"]
["165-008",null,null,"2xTw ","14",null,"historisch",{"$nulls":3},"Werkfoto","165",1,false,false,false,false,false,false,false,false,false,false,false,false,false,false,false,false,false,false,false,false,false,false,false,false,false,false,false,false,false,false,false,false,false,false,false,false,false,false,false,false,false,false,false,false,false,"2020-01-01","165"]
["165-009",null,"Damrak","2xTw ","456","25",null,16,9,1947,"John H. Price","165",1,false,false,false,false,false,false,false,false,false,false,false,false,false,false,false,false,false,false,false,false,false,false,false,false,false,false,false,false,false,false,false,false,false,false,false,false,false,false,false,false,false,false,false,false,false,"2020-01-01","165"]
["165-010",null,"Damrak","2xTw ","412","24",null,16,9,1947,"John H. Price","165",1,false,false,false,false,false,false,false,false,false,false,false,false,false,false,false,false,false,false,false,false,false,false,false,false,false,false,false,false,false,false,false,false,false,false,false,false,false,false,false,false,false,false,false,false,false,"2020-01-01","165"]
["165-011",null,"Damrak","2xTw ","242","5",null,16,9,1947,"John H. Price","165",1,false,false,false,false,false,false,false,false,false,false,false,false,false,false,false,false,false,false,false,false,false,false,false,false,false,false,false,false,false,false,false,false,false,false,false,false,false,false,false,false,false,false,false,false,false,"2020-01-01","165"]
["165-012",null,"Central Station","2xTw ","307","2",null,16,9,1947,"John H. Price","165",1,false,false,false,false,false,false,false,false,false,false,false,false,false,false,false,false,false,false,false,false,false,false,false,false,false,false,false,false,false,false,false,false,false,false,false,false,false,false,false,false,false,false,false,false,false,"2020-01-01","165"]
["165-013",null,null,"4xGelTw ","178","18","mit Niederflurmittelteil",null,8,1947,"N. Forbes","165",1,false,false,false,false,false,false,false,false,false,false,false,false,false,false,false,false,false,false,false,false,false,false,false,false,false,false,false,false,false,false,false,false,false,false,false,false,false,false,false,false,false,false,false,false,false,"2020-01-01",{"$f":"LEFT(A450,FIND(\"-\",A450)-1)","v":"165"}]
["165-014",null,null,"2xTw ",null,null,"mit Kriegsscheiben",15,3,1944,null,"165",1,false,false,false,false,false,false,false,false,false,false,false,false,false,false,false,false,false,false,false,false,false,false,false,false,false,false,false,false,false,false,false,false,false,false,false,false,false,false,false,false,false,false,false,false,false,"2020-01-01","165"]
["165-015",null,null,"2xTw ","411","10",{"$nulls":5},"165",1,false,false,false,false,false,false,false,false,false,false,false,false,false,false,false,false,false,false,false,false,false,false,false,false,false,false,false,false,false,false,false,false,false,false,false,false,false,false,false,false,false,false,false,false,false,"2020-01-01","165"]
["165-016",null,null,"2xBw ","627","17","mit verlängerten Plattformen",{"$nulls":4},"165",1,false,false,false,false,false,false,false,false,false,false,false,false,false,false,false,false,false,false,false,false,false,false,false,false,false,false,false,false,false,false,false,false,false,false,false,false,false,false,false,false,false,false,false,false,false,"2020-01-01","165"]
["165-017",null,null,"2xBw ","945",{"$nulls":3},4,1955,null,"165",1,false,false,false,false,false,false,false,false,false,false,false,false,false,false,false,false,false,false,false,false,false,false,false,false,false,false,false,false,false,false,false,false,false,false,false,false,false,false,false,false,false,false,false,false,false,"2020-01-01","165"]
["165-018",null,null,"3xTw ","492","26",null,10,4,1940,null,"165",1,false,false,false,false,false,false,false,false,false,false,false,false,false,false,false,false,false,false,false,false,false,false,false,false,false,false,false,false,false,false,false,false,false,false,false,false,false,false,false,false,false,false,false,false,false,"2020-01-01","165"]
["165-019",null,null,"3xTw ","492","26",null,10,4,1940,null,"165",1,false,false,false,false,false,false,false,false,false,false,false,false,false,false,false,false,false,false,false,false,false,false,false,false,false,false,false,false,false,false,false,false,false,false,false,false,false,false,false,false,false,false,false,false,false,"2020-01-01","165"]
["165-020",null,null,"3xTw ","492","26",null,10,4,1940,null,"165",1,false,false,false,false,false,false,false,false,false,false,false,false,false,false,false,false,false,false,false,false,false,false,false,false,false,false,false,false,false,false,false,false,false,false,false,false,false,false,false,false,false,false,false,false,false,"2020-01-01","165"]
["165-021",null,null,"3xTw ","492","26",null,10,4,1948,null,"165",1,false,false,false,false,false,false,false,false,false,false,false,false,false,false,false,false,false,false,false,false,false,false,false,false,false,false,false,false,false,false,false,false,false,false,false,false,false,false,false,false,false,false,false,false,false,"2020-01-01","165"]
["165-022",null,"Depot","2xTw  \n2xBw ","255 \n ","13 \n13",{"$nulls":5},"165",1,false,false,false,false,false,false,false,false,false,false,false,false,false,false,false,false,false,false,false,false,false,false,false,false,false,false,false,false,false,false,false,false,false,false,false,false,false,false,false,false,false,false,false,false,false,"2020-01-01","165"]
["165-023",null,null,"2xBw  \n2xTw ","830 \n ","8 \n8",{"$nulls":5},"165",1,false,false,false,false,false,false,false,false,false,false,false,false,false,false,false,false,false,false,false,false,false,false,false,false,false,false,false,false,false,false,false,false,false,false,false,false,false,false,false,false,false,false,false,false,false,"2020-01-01","165"]
["165-024",null,"Wittenberaergracht","2xTw ","72","19",{"$nulls":3},1935,null,"165",1,false,false,false,false,false,false,false,false,false,false,false,false,false,false,false,false,false,false,false,false,false,false,false,false,false,false,false,false,false,false,false,false,false,false,false,false,false,false,false,false,false,false,false,false,false,"2020-01-01","165"]
["165-025","VDVA-0165-025",null,"4xTw ","58",{"$nulls":4},1984,"Günter H. Köhler","165",1,false,false,false,false,false,false,false,false,false,false,false,false,false,false,false,false,false,false,false,false,false,false,false,false,false,false,false,false,false,false,false,false,false,false,false,false,false,false,false,false,false,false,false,false,false,"2020-01-01","165"]
["165-026",null,null,"2xTw ","393","18",null,null,8,1947,"N. Forbes","165",1,false,false,false,false,false,false,false,false,false,false,false,false,false,false,false,false,false,false,false,false,false,false,false,false,false,false,false,false,false,false,false,false,false,false,false,false,false,false,false,false,false,false,false,false,false,"2020-01-01","165"]
["165-027",null,null,"2xTw ","392","18",{"$nulls":5},"165",1,false,false,false,false,false,false,false,false,false,false,false,false,false,false,false,false,false,false,false,false,false,false,false,false,false,false,false,false,false,false,false,false,false,false,false,false,false,false,false,false,false,false,false,false,false,"2020-01-01","165"]
["165-028",null,null,"2xTw  \n2xBw ","480 \n ","3 \n3",{"$nulls":5},"165",1,false,false,false,false,false,false,false,false,false,false,false,false,false,false,false,false,false,false,false,false,false,false,false,false,false,false,false,false,false,false,false,false,false,false,false,false,false,false,false,false,false,false,false,false,false,"2020-01-01","165"]
["165-029",null,null,"4xGelTw ","178",null,"mit Niederflurmittelteil",{"$nulls":4},"165",1,false,false,false,false,false,false,false,false,false,false,false,false,false,false,false,false,false,false,false,false,false,false,false,false,false,false,false,false,false,false,false,false,false,false,false,false,false,false,false,false,false,false,false,false,false,"2020-01-01","165"]
["165-030",null,null,"2xBw ",{"$nulls":7},"165",1,false,false,false,false,false,false,false,false,false,false,false,false,false,false,false,false,false,false,false,false,false,false,false,false,false,false,false,false,false,false,false,false,false,false,false,false,false,false,false,false,false,false,false,false,false,"2020-01-01","165"]
["165-031",null,null,"3xTw ","491","11",{"$nulls":3},1948,null,"165",1,false,false,false,false,false,false,false,false,false,false,false,false,false,false,false,false,false,false,false,false,false,false,false,false,false,false,false,false,false,false,false,false,false,false,false,false,false,false,false,false,false,false,false,false,false,"2020-01-01","165"]
["165-032",null,null,"4xGelTw ","161",null,"mit Niederflurmittelteil",10,5,1947,null,"165",1,false,false,false,false,false,false,false,false,false,false,false,false,false,false,false,false,false,false,false,false,false,false,false,false,false,false,false,false,false,false,false,false,false,false,false,false,false,false,false,false,false,false,false,false,false,"2020-01-01","165"]
["165-033",null,"Centraal Bahnhof","2xTw ","219","26",null,11,10,1946,"C. von Mechelen","165",1,false,false,false,false,false,false,false,false,false,false,false,false,false,false,false,false,false,false,false,false,false,false,false,false,false,false,false,false,false,false,false,false,false,false,false,false,false,false,false,false,false,false,false,false,false,"2020-01-01","165"]
["165-034",null,"Rivierenlaan","2xBw  \n2xTw "," \n341","25 \n25",null,27,2,1947,"C. von Mechelen","165",1,false,false,false,false,false,false,false,false,false,false,false,false,false,false,false,false,false,false,false,false,false,false,false,false,false,false,false,false,false,false,false,false,false,false,false,false,false,false,false,false,false,false,false,false,false,"2020-01-01","165"]
["165-035",null,null,"2xTw ","28","14",{"$nulls":3},1947,"B. Kühne","165",1,false,false,false,false,false,false,false,false,false,false,false,false,false,false,false,false,false,false,false,false,false,false,false,false,false,false,false,false,false,false,false,false,false,false,false,false,false,false,false,false,false,false,false,false,false,"2020-01-01","165"]
["165-036",null,null,"2xTw ","286","24","verladen auf Güterwagen",20,5,1946,null,"165",1,false,false,false,false,false,false,false,false,false,false,false,false,false,false,false,false,false,false,false,false,false,false,false,false,false,false,false,false,false,false,false,false,false,false,false,false,false,false,false,false,false,false,false,false,false,"2020-01-01","165"]
["165-037",null,"Sloterdyk","Pferdebahnwagen ","569","12","historisch",null,7,1916,null,"165",1,false,false,false,false,false,false,false,false,false,false,false,false,false,false,false,false,false,false,false,false,false,false,false,false,false,false,false,false,false,false,false,false,false,false,false,false,false,false,false,false,false,false,false,false,false,"2020-01-01","165"]
["165-038",null,"Remise Sloten","Pferdebahnwagen ","5",{"$nulls":4},1919,null,"165",1,false,false,false,false,false,false,false,false,false,false,false,false,false,false,false,false,false,false,false,false,false,false,false,false,false,false,false,false,false,false,false,false,false,false,false,false,false,false,false,false,false,false,false,false,false,"2020-01-01","165"]
["165-039",null,null,"2xTw ","12","11",{"$nulls":5},"165",1,false,false,false,false,false,false,false,false,false,false,false,false,false,false,false,false,false,false,false,false,false,false,false,false,false,false,false,false,false,false,false,false,false,false,false,false,false,false,false,false,false,false,false,false,false,"2020-01-01","165"]
["165-040",null,"Leldschestraat","2xBw  \n2xTw "," \n368","1 \n1",{"$nulls":5},"165",1,false,false,false,false,false,false,false,false,false,false,false,false,false,false,false,false,false,false,false,false,false,false,false,false,false,false,false,false,false,false,false,false,false,false,false,false,false,false,false,false,false,false,false,false,false,"2020-01-01","165"]
["165-041",null,"Leldschestraat","2xBw  \n2xTw ","893 \n "," \n ",{"$nulls":5},"165",1,false,false,false,false,false,false,false,false,false,false,false,false,false,false,false,false,false,false,false,false,false,false,false,false,false,false,false,false,false,false,false,false,false,false,false,false,false,false,false,false,false,false,false,false,false,"2020-01-01","165"]
["165-042",null,"Endschleife Slootermaar","8xGelTw ","637","17",null,3,5,1962,"Dr. Heinrich Dillmann","165",1,false,false,false,false,false,false,false,false,false,false,false,false,false,false,false,false,false,false,false,false,false,false,false,false,false,false,false,false,false,false,false,false,false,false,false,false,false,false,false,false,false,false,false,false,false,"2020-01-01","165"]
["165-043",null,"Leidsestraat","Tw ","565",{"$nulls":5},"Pigellen","165",1,false,false,false,false,false,false,false,false,false,false,false,false,false,false,false,false,false,false,false,false,false,false,false,false,false,false,false,false,false,false,false,false,false,false,false,false,false,false,false,false,false,false,false,false,false,"2020-01-01","165"]
["165-044",null,null,"2xBw ","900",{"$nulls":3},4,1955,null,"165",1,false,false,false,false,false,false,false,false,false,false,false,false,false,false,false,false,false,false,false,false,false,false,false,false,false,false,false,false,false,false,false,false,false,false,false,false,false,false,false,false,false,false,false,false,false,"2020-01-01","165"]
["165-045",null,"Leidschestraat",null,null,"2 \n1",{"$nulls":5},"165",1,false,false,false,false,false,false,false,false,false,false,false,false,false,false,false,false,false,false,false,false,false,false,false,false,false,false,false,false,false,false,false,false,false,false,false,false,false,false,false,false,false,false,false,false,false,"2020-01-01","165"]
["165-046",null,null,"2xTw ","144","1",null,null,3,1957,"Reinhard Todt","165",1,false,false,false,false,false,false,false,false,false,false,false,false,false,false,false,false,false,false,false,false,false,false,false,false,false,false,false,false,false,false,false,false,false,false,false,false,false,false,false,false,false,false,false,false,false,"2020-01-01","165"]
["165-047",null,null,"2xTw ","516",{"$nulls":4},1957,"Reinhard Todt","165",1,false,false,false,false,false,false,false,false,false,false,false,false,false,false,false,false,false,false,false,false,false,false,false,false,false,false,false,false,false,false,false,false,false,false,false,false,false,false,false,false,false,false,false,false,false,"2020-01-01","165"]
["165-048",null,"Centraal Station","2xTw ","1","5",{"$nulls":3},1950,null,"165",1,false,false,false,false,false,false,false,false,false,false,false,false,false,false,false,false,false,false,false,false,false,false,false,false,false,false,false,false,false,false,false,false,false,false,false,false,false,false,false,false,false,false,false,false,false,"2020-01-01","165"]
["165-049","VDVA-0165-049",null,"Bw  \nTw ","993 \n "," \n ",{"$nulls":4},"Günter Stetza","165",1,false,false,false,false,false,false,false,false,false,false,false,false,false,false,false,false,false,false,false,false,false,false,false,false,false,false,false,false,false,false,false,false,false,false,false,false,false,false,false,false,false,false,false,false,false,"2020-01-01","165"]
["165-050","VDVA-0165-050",null,"Tw  \nBw ","496 \n ","25 \n25",{"$nulls":4},"Günter Stetza","165",1,false,false,false,false,false,false,false,false,false,false,false,false,false,false,false,false,false,false,false,false,false,false,false,false,false,false,false,false,false,false,false,false,false,false,false,false,false,false,false,false,false,false,false,false,false,"2020-01-01","165"]
["165-051","VDVA-0165-051",null,"4xBw  \n4xTw "," \n511","24 \n24",{"$nulls":4},"Günter Stetza","165",1,false,false,false,false,false,false,false,false,false,false,false,false,false,false,false,false,false,false,false,false,false,false,false,false,false,false,false,false,false,false,false,false,false,false,false,false,false,false,false,false,false,false,false,false,false,"2020-01-01","165"]
["165-052",null,null,"2xTw ","409","17",null,10,10,1953,"Ben Willemsen","165",1,false,false,false,false,false,false,false,false,false,false,false,false,false,false,false,false,false,false,false,false,false,false,false,false,false,false,false,false,false,false,false,false,false,false,false,false,false,false,false,false,false,false,false,false,false,"2020-01-01","165"]
["165-053",null,"Hauptbahnhof","Gelenkbus ","245","17",null,7,2,1957,"C. von Mechelen","165",1,false,false,false,false,false,false,false,false,false,false,false,false,false,false,false,false,false,false,false,false,false,false,false,false,false,false,false,false,false,false,false,false,false,false,false,false,false,false,false,false,false,false,false,false,false,"2020-01-01","165"]
["165-055",null,"Königspalast","Tw  \nBw ","516 \n964","17 \n17",null,7,8,1955,"C. von Mechelen","165",1,false,false,false,false,false,false,false,false,false,false,false,false,false,false,false,false,false,false,false,false,false,false,false,false,false,false,false,false,false,false,false,false,false,false,false,false,false,false,false,false,false,false,false,false,false,"2020-01-01","165"]
["165-056",null,null,"6xGelTw ","551","25",{"$nulls":3},1957,null,"165",1,false,false,false,false,false,false,false,false,false,false,false,false,false,false,false,false,false,false,false,false,false,false,false,false,false,false,false,false,false,false,false,false,false,false,false,false,false,false,false,false,false,false,false,false,false,"2020-01-01","165"]
["165-057",null,null,"6xGelTw ","551","25",{"$nulls":3},1957,null,"165",1,false,false,false,false,false,false,false,false,false,false,false,false,false,false,false,false,false,false,false,false,false,false,false,false,false,false,false,false,false,false,false,false,false,false,false,false,false,false,false,false,false,false,false,false,false,"2020-01-01","165"]
["165-058",null,null,"6xGelTw ","551",null,"Innenraum des Tw 551",null,null,1957,null,"165",1,false,false,false,false,false,false,false,false,false,false,false,false,false,false,false,false,false,false,false,false,false,false,false,false,false,false,false,false,false,false,false,false,false,false,false,false,false,false,false,false,false,false,false,false,false,"2020-01-01","165"]
["165-059",null,null,"6xGelTw ","551",null,"Fahrerstand des Tw 551",null,null,1957,null,"165",1,false,false,false,false,false,false,false,false,false,false,false,false,false,false,false,false,false,false,false,false,false,false,false,false,false,false,false,false,false,false,false,false,false,false,false,false,false,false,false,false,false,false,false,false,false,"2020-01-01","165"]
["165-060",null,null,"6xGelTw ","551",null,"Schaffnerplatz des Tw 551",null,null,1957,null,"165",1,false,false,false,false,false,false,false,false,false,false,false,false,false,false,false,false,false,false,false,false,false,false,false,false,false,false,false,false,false,false,false,false,false,false,false,false,false,false,false,false,false,false,false,false,false,"2020-01-01","165"]
["165-061",null,"Centraal Station","6xGelTw ","552","1",null,23,6,1957,"J. van den Berg jr.","165",1,false,false,false,false,false,false,false,false,false,false,false,false,false,false,false,false,false,false,false,false,false,false,false,false,false,false,false,false,false,false,false,false,false,false,false,false,false,false,false,false,false,false,false,false,false,"2020-01-01","165"]
["165-063",null,"Endstation Osdorp \"Sahara\"","6xGelTw ","644","17",null,8,9,1962,"Frits van der Gragt","165",1,false,false,false,false,false,false,false,false,false,false,false,false,false,false,false,false,false,false,false,false,false,false,false,false,false,false,false,false,false,false,false,false,false,false,false,false,false,false,false,false,false,false,false,false,false,"2020-01-01","165"]
["165-064",null,"Haltestelle Slotervaart auf der neuen Autobahn \"Connells Lelylaan\"","6xGelTw ","642","17","Eröffnungsfahrt",8,9,1962,"Frits van der Gragt","165",1,false,false,false,false,false,false,false,false,false,false,false,false,false,false,false,false,false,false,false,false,false,false,false,false,false,false,false,false,false,false,false,false,false,false,false,false,false,false,false,false,false,false,false,false,false,"2020-01-01","165"]
["165-065",null,"Ecke C. Lelylaan/\"Meer en Vaart\"","6xGelTw ","639","17","Eröffnungsfahrt",8,9,1962,"Frits van der Gragt","165",1,false,false,false,false,false,false,false,false,false,false,false,false,false,false,false,false,false,false,false,false,false,false,false,false,false,false,false,false,false,false,false,false,false,false,false,false,false,false,false,false,false,false,false,false,false,"2020-01-01","165"]
["165-074","GL-276-050","Amsterdam Centraal Station (Stationsplein)","2xBw","884","23","Museumszug\nSonderzug VDVA-Tagung",23,8,1968,"Gerd Leimbach","165",1,false,false,false,false,false,false,false,false,false,false,false,false,false,false,false,false,false,false,false,false,false,false,false,false,false,false,false,false,false,false,false,false,false,false,false,false,false,false,false,false,false,false,false,false,false,"2020-01-01","165"]
["165-081","GL-276-064","Btf Lekstraat","3xTw","908"," ","VDVA-Tagung",23,8,1968,"Gerd Leimbach","165",1,false,false,false,false,false,false,false,false,false,false,false,false,false,false,false,false,false,false,false,false,false,false,false,false,false,false,false,false,false,false,false,false,false,false,false,false,false,false,false,false,false,false,false,false,false,"2020-01-01","165"]
["165-096","GL-277-087","Amsterdam Centraal Station (Stationsplein)","3xTw","931","27","",23,8,1968,"Gerd Leimbach","165",1,false,false,false,false,false,false,false,false,false,false,false,false,false,false,false,false,false,false,false,false,false,false,false,false,false,false,false,false,false,false,false,false,false,false,false,false,false,false,false,false,false,false,false,false,false,"2020-01-01","165"]
["165-115","GL-415-035","Amstelstation (Julianaplein)","3xTw \n3xBw","896 \n ","  \n ","Sonderzug VDVA-Tagung\nMuseumswagen; offener Beiwagen",13,8,1984,"Gerd Leimbach","165",1,false,false,false,false,false,false,false,false,false,false,false,false,false,false,false,false,false,false,false,false,false,false,false,false,false,false,false,false,false,false,false,false,false,false,false,false,false,false,false,false,false,false,false,false,false,"2020-01-01","165"]
["165-130","KW-TA-1984-029","(H) R.A.I.","2xTw \n+2xBw","467  \n  ","   \n  ","Sonderzug VDVA-Tagung\nMuseumswagen",13,8,1984,"Karl-Heinz Wagner","165",1,false,false,false,false,false,false,false,false,false,false,false,false,false,false,false,false,false,false,false,false,false,false,false,false,false,false,false,false,false,false,false,false,false,false,false,false,false,false,false,false,false,false,false,false,false,"2020-01-01","165"]
["165-145","KW-TA-1984-045","Btf Havenstraat","2xArbTw","H9"," ","VDVA-Tagung",13,8,1984,"Karl-Heinz Wagner","165",1,false,false,false,false,false,false,false,false,false,false,false,false,false,false,false,false,false,false,false,false,false,false,false,false,false,false,false,false,false,false,false,false,false,false,false,false,false,false,false,false,false,false,false,false,false,"2020-01-01","165"]
["166-006",null,"Haarlem, Templiersstraat","4xBw  \n4xTw  \n4xTw ","B253 \nA254 \nA252"," \n  \n ",null,2,9,1956,"Dieter Waltking","166",1,false,false,false,false,false,false,false,false,false,false,false,false,false,false,false,false,false,false,false,false,false,false,false,false,false,false,false,false,false,false,false,false,false,false,false,false,false,false,false,false,false,false,false,false,false,"2020-01-01","166"]
["166-009",null,"Schevehingen","4xBw  \n4xTw ","604 \nA603"," \n ",null,29,9,1951,"Dieter Waltking","166",1,false,false,false,false,false,false,false,false,false,false,false,false,false,false,false,false,false,false,false,false,false,false,false,false,false,false,false,false,false,false,false,false,false,false,false,false,false,false,false,false,false,false,false,false,false,"2020-01-01","166"]
["166-032",null,"Bahnüberführung bei Heemstede","4xTw  \n4xBw "," \n "," \n ","Linie Zandvoort-Amsterdam",{"$nulls":4},"166",1,false,false,false,false,false,false,false,false,false,false,false,false,false,false,false,false,false,false,false,false,false,false,false,false,false,false,false,false,false,false,false,false,false,false,false,false,false,false,false,false,false,false,false,false,false,"2020-01-01","166"]
["166-048",null,"Amsterdam","4xBw  \n4xTw "," \n "," \n ",{"$nulls":3},1950,"Smith","166",1,false,false,false,false,false,false,false,false,false,false,false,false,false,false,false,false,false,false,false,false,false,false,false,false,false,false,false,false,false,false,false,false,false,false,false,false,false,false,false,false,false,false,false,false,false,"2020-01-01","166"]
["167-011",null,"Prijnpariljen ?","2xTw ","32","4",null,null,7,1934,null,"167",1,false,false,false,false,false,false,false,false,false,false,false,false,false,false,false,false,false,false,false,false,false,false,false,false,false,false,false,false,false,false,false,false,false,false,false,false,false,false,false,false,false,false,false,false,false,"2020-01-01","167"]
["167-016",null,"Remise","2xBw ","101",null,null,26,10,1941,"M. van Notten jr.","167",1,false,false,false,false,false,false,false,false,false,false,false,false,false,false,false,false,false,false,false,false,false,false,false,false,false,false,false,false,false,false,false,false,false,false,false,false,false,false,false,false,false,false,false,false,false,"2020-01-01","167"]
["167-037",null,"Bahnhof","Obus ","56","5",null,14,8,1984,"Günter H. Köhler","167",1,false,false,false,false,false,false,false,false,false,false,false,false,false,false,false,false,false,false,false,false,false,false,false,false,false,false,false,false,false,false,false,false,false,false,false,false,false,false,false,false,false,false,false,false,false,"2020-01-01","167"]
["168-004",null,null,"2xBw ","714",null,"ex Dortmund",null,null,1950,"Louis Clessens","168",1,false,false,false,false,false,false,false,false,false,false,false,false,false,false,false,false,false,false,false,false,false,false,false,false,false,false,false,false,false,false,false,false,false,false,false,false,false,false,false,false,false,false,false,false,false,"2020-01-01","168"]
["168-023","VDVA-0168-023","Place Saint-Lambert","2xTw ","259","18",{"$nulls":3},1956,"Günter Stetza","168",1,false,false,false,false,false,false,false,false,false,false,false,false,false,false,false,false,false,false,false,false,false,false,false,false,false,false,false,false,false,false,false,false,false,false,false,false,false,false,false,false,false,false,false,false,false,"2020-01-01","168"]
["168-038","GL-114-001","","2xBw","720","4","",null,null,1956,"Gerd Leimbach","168",1,false,false,false,false,false,false,false,false,false,false,false,false,false,false,false,false,false,false,false,false,false,false,false,false,false,false,false,false,false,false,false,false,false,false,false,false,false,false,false,false,false,false,false,false,false,"2020-01-01","168"]
["169-016",null,null,"2xTw ","4",{"$nulls":4},1953,"Louis Clessens","169",1,false,false,false,false,false,false,false,false,false,false,false,false,false,false,false,false,false,false,false,false,false,false,false,false,false,false,false,false,false,false,false,false,false,false,false,false,false,false,false,false,false,false,false,false,false,"2020-01-01","169"]
["169-017",null,null,"2xTw ","47",{"$nulls":4},1953,"Louis Clessens","169",1,false,false,false,false,false,false,false,false,false,false,false,false,false,false,false,false,false,false,false,false,false,false,false,false,false,false,false,false,false,false,false,false,false,false,false,false,false,false,false,false,false,false,false,false,false,"2020-01-01","169"]
["170-005",null,"Polygoon","4xTw  \n4xBw ","9663 \n ","63 \n63","Strecke Antwerpen-Polygoon",{"$nulls":4},"170",1,false,false,false,false,false,false,false,false,false,false,false,false,false,false,false,false,false,false,false,false,false,false,false,false,false,false,false,false,false,false,false,false,false,false,false,false,false,false,false,false,false,false,false,false,false,"2020-01-01","170"]
["170-022",null,"Grimbergen, Endhaltestelle","4xTw  \n4xBw ","10470 \n "," \n ",null,23,8,1970,"Dr. Heinrich Dillmann","170",1,false,false,false,false,false,false,false,false,false,false,false,false,false,false,false,false,false,false,false,false,false,false,false,false,false,false,false,false,false,false,false,false,false,false,false,false,false,false,false,false,false,false,false,false,false,"2020-01-01","170"]
["170-037",null,null,"4xTw ","10027","B",{"$nulls":5},"170",1,false,false,false,false,false,false,false,false,false,false,false,false,false,false,false,false,false,false,false,false,false,false,false,false,false,false,false,false,false,false,false,false,false,false,false,false,false,false,false,false,false,false,false,false,false,"2020-01-01","170"]
["170-056",null,"Depot Grimbergen",{"$nulls":6},1966,"Günter Happel","170",1,false,false,false,false,false,false,false,false,false,false,false,false,false,false,false,false,false,false,false,false,false,false,false,false,false,false,false,false,false,false,false,false,false,false,false,false,false,false,false,false,false,false,false,false,false,"2020-01-01","170"]
["170-071",{"$nulls":5},"(jetzt Bild 439-038)",{"$nulls":4},"170",1,false,false,false,false,false,false,false,false,false,false,false,false,false,false,false,false,false,false,false,false,false,false,false,false,false,false,false,false,false,false,false,false,false,false,false,false,false,false,false,false,false,false,false,false,false,"2020-01-01","170"]
["170-072",null,null,"4xBw  \n4xTw "," \n "," \n ",{"$nulls":5},"170",1,false,false,false,false,false,false,false,false,false,false,false,false,false,false,false,false,false,false,false,false,false,false,false,false,false,false,false,false,false,false,false,false,false,false,false,false,false,false,false,false,false,false,false,false,false,"2020-01-01","170"]
["170-092",{"$nulls":5},"(jetzt Bild 439-042)",{"$nulls":4},"170",1,false,false,false,false,false,false,false,false,false,false,false,false,false,false,false,false,false,false,false,false,false,false,false,false,false,false,false,false,false,false,false,false,false,false,false,false,false,false,false,false,false,false,false,false,false,"2020-01-01","170"]
["170-105",null,"Dongelberg","2xTw  \n2xBw ","AR195 \n "," \n ",{"$nulls":5},"170",1,false,false,false,false,false,false,false,false,false,false,false,false,false,false,false,false,false,false,false,false,false,false,false,false,false,false,false,false,false,false,false,false,false,false,false,false,false,false,false,false,false,false,false,false,false,"2020-01-01","170"]
["170-120",null,"Gent","3xTw ","9635","2",{"$nulls":3},1950,"Louis Clessens","170",1,false,false,false,false,false,false,false,false,false,false,false,false,false,false,false,false,false,false,false,false,false,false,false,false,false,false,false,false,false,false,false,false,false,false,false,false,false,false,false,false,false,false,false,false,false,"2020-01-01","170"]
["170-139",null,"Namur","2xTw ","9276","8",{"$nulls":4},"Louis Clessens","170",1,false,false,false,false,false,false,false,false,false,false,false,false,false,false,false,false,false,false,false,false,false,false,false,false,false,false,false,false,false,false,false,false,false,false,false,false,false,false,false,false,false,false,false,false,false,"2020-01-01","170"]
["170-154",null,"Mechelen","2xTw ","9709","1",null,null,5,1952,"Louis Clessens","170",1,false,false,false,false,false,false,false,false,false,false,false,false,false,false,false,false,false,false,false,false,false,false,false,false,false,false,false,false,false,false,false,false,false,false,false,false,false,false,false,false,false,false,false,false,false,"2020-01-01","170"]
["170-159",null,"Liege","Ellok ","9900",{"$nulls":5},"Louis Clessens","170",1,false,false,false,false,false,false,false,false,false,false,false,false,false,false,false,false,false,false,false,false,false,false,false,false,false,false,false,false,false,false,false,false,false,false,false,false,false,false,false,false,false,false,false,false,false,"2020-01-01","170"]
["170-170",{"$nulls":5},"(jetzt Bild 524-019)",{"$nulls":4},"170",1,false,false,false,false,false,false,false,false,false,false,false,false,false,false,false,false,false,false,false,false,false,false,false,false,false,false,false,false,false,false,false,false,false,false,false,false,false,false,false,false,false,false,false,false,false,"2020-01-01","170"]
["170-188",null,"Liege, Pl. St. Lamberts","Bus  \n4xTw ","100456 \n ","71 \n61",null,5,3,1961,"Louis Clessens","170",1,false,false,false,false,false,false,false,false,false,false,false,false,false,false,false,false,false,false,false,false,false,false,false,false,false,false,false,false,false,false,false,false,false,false,false,false,false,false,false,false,false,false,false,false,false,"2020-01-01","170"]
["170-207",{"$nulls":5},"(jetzt Bild 439-052)",{"$nulls":4},"170",1,false,false,false,false,false,false,false,false,false,false,false,false,false,false,false,false,false,false,false,false,false,false,false,false,false,false,false,false,false,false,false,false,false,false,false,false,false,false,false,false,false,false,false,false,false,"2020-01-01","170"]
["170-222",{"$nulls":5},"(jetzt Bild 524-042)",{"$nulls":4},"170",1,false,false,false,false,false,false,false,false,false,false,false,false,false,false,false,false,false,false,false,false,false,false,false,false,false,false,false,false,false,false,false,false,false,false,false,false,false,false,false,false,false,false,false,false,false,"2020-01-01","170"]
["171-007",null,null,"2xBw  \n4xTw ","2190 \n ","15 \n15",{"$nulls":4},"Peter Boehm","171",1,false,false,false,false,false,false,false,false,false,false,false,false,false,false,false,false,false,false,false,false,false,false,false,false,false,false,false,false,false,false,false,false,false,false,false,false,false,false,false,false,false,false,false,false,false,"2020-01-01","171"]
["171-012",null,"Bahnhof Brüssel-Nord","2xBw ","946",null,null,21,8,1970,"Dr. Heinrich Dillmann","171",1,false,false,false,false,false,false,false,false,false,false,false,false,false,false,false,false,false,false,false,false,false,false,false,false,false,false,false,false,false,false,false,false,false,false,false,false,false,false,false,false,false,false,false,false,false,"2020-01-01","171"]
["171-031",null,"Betriebshof Woluwe","PCC-Tw ",null,null,"Der PCC Wagen war nur 1948 auf Normalspur im Einsatz",null,null,1948,"J. Voerman","171",1,false,false,false,false,false,false,false,false,false,false,false,false,false,false,false,false,false,false,false,false,false,false,false,false,false,false,false,false,false,false,false,false,false,false,false,false,false,false,false,false,false,false,false,false,false,"2020-01-01","171"]
["171-045","VDVA-0171-045",null,"PCC-Tw ","7028","58","PCC Wagen",{"$nulls":3},"Günter Stetza","171",1,false,false,false,false,false,false,false,false,false,false,false,false,false,false,false,false,false,false,false,false,false,false,false,false,false,false,false,false,false,false,false,false,false,false,false,false,false,false,false,false,false,false,false,false,false,"2020-01-01","171"]
["171-060",null,null,"PCC-Tw ","7000","39","PCC Wagen ex Hamburg",null,null,1958,"R. Pletinckx","171",1,false,false,false,false,false,false,false,false,false,false,false,false,false,false,false,false,false,false,false,false,false,false,false,false,false,false,false,false,false,false,false,false,false,false,false,false,false,false,false,false,false,false,false,false,false,"2020-01-01","171"]
["171-075",null,null,"2xBw  \n2xTw ","2189 \n1359"," \n ",null,10,8,1955,"Theodor Alt","171",1,false,false,false,false,false,false,false,false,false,false,false,false,false,false,false,false,false,false,false,false,false,false,false,false,false,false,false,false,false,false,false,false,false,false,false,false,false,false,false,false,false,false,false,false,false,"2020-01-01","171"]
["171-080","GL-131-029","","4xTw","7001","45","",null,null,1957,"Gerd Leimbach","171",1,false,false,false,false,false,false,false,false,false,false,false,false,false,false,false,false,false,false,false,false,false,false,false,false,false,false,false,false,false,false,false,false,false,false,false,false,false,false,false,false,false,false,false,false,false,"2020-01-01","171"]
["171-095","GL-132-005","Blvd Anspach in Höhe Rue Henri Maus","2xBw \n2xTw","103 \n ","81 \n81","",null,null,1957,"Gerd Leimbach","171",1,false,false,false,false,false,false,false,false,false,false,false,false,false,false,false,false,false,false,false,false,false,false,false,false,false,false,false,false,false,false,false,false,false,false,false,false,false,false,false,false,false,false,false,false,false,"2020-01-01","171"]
["171-105","GL-132-016","","2xTw \n2xBw","4095 \n ","16 \n16","",null,null,1957,"Gerd Leimbach","171",1,false,false,false,false,false,false,false,false,false,false,false,false,false,false,false,false,false,false,false,false,false,false,false,false,false,false,false,false,false,false,false,false,false,false,false,false,false,false,false,false,false,false,false,false,false,"2020-01-01","171"]
["171-128","KW-TA-1970-007","","4xTw","7151"," ","",20,8,1970,"Karl-Heinz Wagner","171",1,false,false,false,false,false,false,false,false,false,false,false,false,false,false,false,false,false,false,false,false,false,false,false,false,false,false,false,false,false,false,false,false,false,false,false,false,false,false,false,false,false,false,false,false,false,"2020-01-01","171"]
["171-143","KW-TA-1980-033","Btf Woluwe (Museum)","2xTw","984"," ","VDVA-Tagung\nMuseumswagen",19,8,1980,"Karl-Heinz Wagner","171",1,false,false,false,false,false,false,false,false,false,false,false,false,false,false,false,false,false,false,false,false,false,false,false,false,false,false,false,false,false,false,false,false,false,false,false,false,false,false,false,false,false,false,false,false,false,"2020-01-01","171"]
["171-148","Brussels-005","Place Bara","2xTw","3475 ","22 ",{"$nulls":4},"Ronald Copson","171",1,false,false,false,false,false,false,false,false,false,false,false,false,false,false,false,false,false,false,false,false,false,false,false,false,false,false,false,false,false,false,false,false,false,false,false,false,false,false,false,false,false,false,false,false,false,"2020-01-01","171"]
["172-013",null,"Scheveningen","2xTw  \n4xBw ","256 \n300","8 \n8",null,3,9,1956,"Dieter Waltking","172",1,false,false,false,false,false,false,false,false,false,false,false,false,false,false,false,false,false,false,false,false,false,false,false,false,false,false,false,false,false,false,false,false,false,false,false,false,false,false,false,false,false,false,false,false,false,"2020-01-01","172"]
["172-033",null,null,"2xBw ","362","7",null,31,8,1947,null,"172",1,false,false,false,false,false,false,false,false,false,false,false,false,false,false,false,false,false,false,false,false,false,false,false,false,false,false,false,false,false,false,false,false,false,false,false,false,false,false,false,false,false,false,false,false,false,"2020-01-01","172"]
["172-051",null,null,"4xTw ","201",null,"der erste neue Haager Tw kommt auf dem Tieflader",null,6,1948,null,"172",1,false,false,false,false,false,false,false,false,false,false,false,false,false,false,false,false,false,false,false,false,false,false,false,false,false,false,false,false,false,false,false,false,false,false,false,false,false,false,false,false,false,false,false,false,false,"2020-01-01","172"]
["172-068",null,"Meer en Bos","2xBw  \nSommer-Bw  \n2xTw ","614 \n505 \n265"," \n  \n ","Jubiläumszug",20,6,1964,"Frits van der Gragt","172",1,false,false,false,false,false,false,false,false,false,false,false,false,false,false,false,false,false,false,false,false,false,false,false,false,false,false,false,false,false,false,false,false,false,false,false,false,false,false,false,false,false,false,false,false,false,"2020-01-01","172"]
["172-073",null,null,"2xTw ","307","2",{"$nulls":5},"172",1,false,false,false,false,false,false,false,false,false,false,false,false,false,false,false,false,false,false,false,false,false,false,false,false,false,false,false,false,false,false,false,false,false,false,false,false,false,false,false,false,false,false,false,false,false,"2020-01-01","172"]
["172-088","GL-278-011","","4xTw","1015","6","",25,8,1968,"Gerd Leimbach","172",1,false,false,false,false,false,false,false,false,false,false,false,false,false,false,false,false,false,false,false,false,false,false,false,false,false,false,false,false,false,false,false,false,false,false,false,false,false,false,false,false,false,false,false,false,false,"2020-01-01","172"]
["172-103","GL-417-029","Scheveningen, Schleife Strandweg","4xTw","1321","11","PCC",16,8,1984,"Gerd Leimbach","172",1,false,false,false,false,false,false,false,false,false,false,false,false,false,false,false,false,false,false,false,false,false,false,false,false,false,false,false,false,false,false,false,false,false,false,false,false,false,false,false,false,false,false,false,false,false,"2020-01-01","172"]
["172-122","KW-TA-1984-087","(H) Rijswijk, 's Gravenmade (Delftweg)","2xTw \n+4xBw","810  \n  ","   \n  ","Sonderzug VDVA-Tagung",16,8,1984,"Karl-Heinz Wagner","172",1,false,false,false,false,false,false,false,false,false,false,false,false,false,false,false,false,false,false,false,false,false,false,false,false,false,false,false,false,false,false,false,false,false,false,false,false,false,false,false,false,false,false,false,false,false,"2020-01-01","172"]
["172-131",null,null,"4xBw ","110",null,"Haagsche Fernbahnen\n(war Bild 173-006)",{"$nulls":4},"172",1,false,false,false,false,false,false,false,false,false,false,false,false,false,false,false,false,false,false,false,false,false,false,false,false,false,false,false,false,false,false,false,false,false,false,false,false,false,false,false,false,false,false,false,false,false,"2020-01-01","172"]
["174-004",null,null,"2xTw  \n2xBw ","162 \n ","5 \n5",{"$nulls":4},"Emil Konrad","174",1,false,false,false,false,false,false,false,false,false,false,false,false,false,false,false,false,false,false,false,false,false,false,false,false,false,false,false,false,false,false,false,false,false,false,false,false,false,false,false,false,false,false,false,false,false,"2020-01-01","174"]
["174-019",null,"Place Wolnosci","2xTw ","138",{"$nulls":4},1941,null,"174",1,false,false,false,false,false,false,false,false,false,false,false,false,false,false,false,false,false,false,false,false,false,false,false,false,false,false,false,false,false,false,false,false,false,false,false,false,false,false,false,false,false,false,false,false,false,"2020-01-01","174"]
["174-034",null,"Betriebshof","2xTw ","108",{"$nulls":4},1941,null,"174",1,false,false,false,false,false,false,false,false,false,false,false,false,false,false,false,false,false,false,false,false,false,false,false,false,false,false,false,false,false,false,false,false,false,false,false,false,false,false,false,false,false,false,false,false,false,"2020-01-01","174"]
["176-003","VDVA-0176-003","Saarbrücken, Rathaus/Ecke Bahnhofstraße","Bus ","3363",null,null,28,9,1948,"John H. Price","176",1,false,false,false,false,false,false,false,false,false,false,false,false,false,false,false,false,false,false,false,false,false,false,false,false,false,false,false,false,false,false,false,false,false,false,false,false,false,false,false,false,false,false,false,false,false,"2020-01-01","176"]
["179-001",null,null,"2xTw ","32",{"$nulls":4},1942,null,"179",1,false,false,false,false,false,false,false,false,false,false,false,false,false,false,false,false,false,false,false,false,false,false,false,false,false,false,false,false,false,false,false,false,false,false,false,false,false,false,false,false,false,false,false,false,false,"2020-01-01","179"]
["179-021",null,null,"2xTw ","109",{"$nulls":4},1942,null,"179",1,false,false,false,false,false,false,false,false,false,false,false,false,false,false,false,false,false,false,false,false,false,false,false,false,false,false,false,false,false,false,false,false,false,false,false,false,false,false,false,false,false,false,false,false,false,"2020-01-01","179"]
["179-024",null," ","2xTw ","169",{"$nulls":4},1942,null,"179",1,false,false,false,false,false,false,false,false,false,false,false,false,false,false,false,false,false,false,false,false,false,false,false,false,false,false,false,false,false,false,false,false,false,false,false,false,false,false,false,false,false,false,false,false,false,"2020-01-01","179"]
["180-001",{"$nulls":5},"Gleiskreuzung mit Dreischienengleis",{"$nulls":4},"180",1,false,false,false,false,false,false,false,false,false,false,false,false,false,false,false,false,false,false,false,false,false,false,false,false,false,false,false,false,false,false,false,false,false,false,false,false,false,false,false,false,false,false,false,false,false,"2020-01-01","180"]
["180-021",null,"Stadtpark in Jekaterinoslaw","Sommer-Bw  \n2xTw "," \n13"," \n ","Strecke Bahnhof-Sobornaia",{"$nulls":4},"180",1,false,false,false,false,false,false,false,false,false,false,false,false,false,false,false,false,false,false,false,false,false,false,false,false,false,false,false,false,false,false,false,false,false,false,false,false,false,false,false,false,false,false,false,false,false,"2020-01-01","180"]
["183-014","VDVA-0183-014",null,"2xTw  \n2xBw ","26 \n120","10 \n10",null,null,5,1964,"Wilhelm Pflug","183",1,false,false,false,false,false,false,false,false,false,false,false,false,false,false,false,false,false,false,false,false,false,false,false,false,false,false,false,false,false,false,false,false,false,false,false,false,false,false,false,false,false,false,false,false,false,"2020-01-01","183"]
["183-029","VDVA-0183-029",null,"3xTw ","26","10",null,5,9,1950,"G. S. Hearse","183",1,false,false,false,false,false,false,false,false,false,false,false,false,false,false,false,false,false,false,false,false,false,false,false,false,false,false,false,false,false,false,false,false,false,false,false,false,false,false,false,false,false,false,false,false,false,"2020-01-01","183"]
["183-048","GL-104-021","Place de la Gare","2xBw \n2xBw","104 \n ","4 \n4","",null,null,1955,"Gerd Leimbach","183",1,false,false,false,false,false,false,false,false,false,false,false,false,false,false,false,false,false,false,false,false,false,false,false,false,false,false,false,false,false,false,false,false,false,false,false,false,false,false,false,false,false,false,false,false,false,"2020-01-01","183"]
["183-058","GL-110-011","","3xTw","25","11","",null,null,1956,"Gerd Leimbach","183",1,false,false,false,false,false,false,false,false,false,false,false,false,false,false,false,false,false,false,false,false,false,false,false,false,false,false,false,false,false,false,false,false,false,false,false,false,false,false,false,false,false,false,false,false,false,"2020-01-01","183"]
["183-063","GL-110-018","","2xTw \n2xBw","34 \n101","10 \n10","",null,null,1956,"Gerd Leimbach","183",1,false,false,false,false,false,false,false,false,false,false,false,false,false,false,false,false,false,false,false,false,false,false,false,false,false,false,false,false,false,false,false,false,false,false,false,false,false,false,false,false,false,false,false,false,false,"2020-01-01","183"]
["183-082","GL-146-022","Place de la Gare","2xTw","1","1","",null,null,1958,"Gerd Leimbach","183",1,false,false,false,false,false,false,false,false,false,false,false,false,false,false,false,false,false,false,false,false,false,false,false,false,false,false,false,false,false,false,false,false,false,false,false,false,false,false,false,false,false,false,false,false,false,"2020-01-01","183"]
["187-010","VDVA-0187-010","Behelfsendstelle vor El- Mataria","4xtw ","4080",null,"Reisebüro Fischer Sonderzug",18,2,1981,"Dr. Heinrich Dillmann","187",1,false,false,false,false,false,false,false,false,false,false,false,false,false,false,false,false,false,false,false,false,false,false,false,false,false,false,false,false,false,false,false,false,false,false,false,false,false,false,false,false,false,false,false,false,false,"2020-01-01","187"]
["187-029","VDVA-0187-029","Viktoria Hotel","Bus ",{"$nulls":3},17,2,1981,"Dr. Heinrich Dillmann","187",1,false,false,false,false,false,false,false,false,false,false,false,false,false,false,false,false,false,false,false,false,false,false,false,false,false,false,false,false,false,false,false,false,false,false,false,false,false,false,false,false,false,false,false,false,false,"2020-01-01","187"]
["187-044","VDVA-0187-044","Wendestelle Citadel","2xTw  \n2xTw ","628 \n183"," \n ","Reisebüro Fischer Sonderzug",18,2,1981,"Dr. Heinrich Dillmann","187",1,false,false,false,false,false,false,false,false,false,false,false,false,false,false,false,false,false,false,false,false,false,false,false,false,false,false,false,false,false,false,false,false,false,false,false,false,false,false,false,false,false,false,false,false,false,"2020-01-01","187"]
["187-049",null,null,"2xTw  \n2xBw ","2509 \n2009"," \n ",{"$nulls":3},1965,"Emil Konrad","187",1,false,false,false,false,false,false,false,false,false,false,false,false,false,false,false,false,false,false,false,false,false,false,false,false,false,false,false,false,false,false,false,false,false,false,false,false,false,false,false,false,false,false,false,false,false,"2020-01-01","187"]
["189-011",{"$nulls":5},"Abgestellte Wagen",null,null,1942,null,"189",1,false,false,false,false,false,false,false,false,false,false,false,false,false,false,false,false,false,false,false,false,false,false,false,false,false,false,false,false,false,false,false,false,false,false,false,false,false,false,false,false,false,false,false,false,false,"2020-01-01","189"]
["189-054",null,"Zweiter Betriebshof",{"$nulls":3},"Abgestellte Wagen",null,10,1942,null,"189",1,false,false,false,false,false,false,false,false,false,false,false,false,false,false,false,false,false,false,false,false,false,false,false,false,false,false,false,false,false,false,false,false,false,false,false,false,false,false,false,false,false,false,false,false,false,"2020-01-01","189"]
["192-014",null,"Rue de Bains","2xBw  \n2xBw ","23 \n "," \n ","Linie Colmar-Wientzenheim",5,8,1956,"Reinhard Todt","192",1,false,false,false,false,false,false,false,false,false,false,false,false,false,false,false,false,false,false,false,false,false,false,false,false,false,false,false,false,false,false,false,false,false,false,false,false,false,false,false,false,false,false,false,false,false,"2020-01-01","192"]
["193-015","VDVA-0193-015",null,"2xTw ","245","1",{"$nulls":5},"193",1,false,false,false,false,false,false,false,false,false,false,false,false,false,false,false,false,false,false,false,false,false,false,false,false,false,false,false,false,false,false,false,false,false,false,false,false,false,false,false,false,false,false,false,false,false,"2020-01-01","193"]
["194-006","VDVA-0194-006",null,"2xBw ","217","14",{"$nulls":4},"Emil Konrad","194",1,false,false,false,false,false,false,false,false,false,false,false,false,false,false,false,false,false,false,false,false,false,false,false,false,false,false,false,false,false,false,false,false,false,false,false,false,false,false,false,false,false,false,false,false,false,"2020-01-01","194"]
["194-015","VDVA-0194-015","Ottrott","4xTw  \n4xBw  \n4xBw  \n4xBw ","500 \n  \n  \n "," \n  \n  \n ",{"$nulls":3},1942,"Friedrich Grünwald","194",1,false,false,false,false,false,false,false,false,false,false,false,false,false,false,false,false,false,false,false,false,false,false,false,false,false,false,false,false,false,false,false,false,false,false,false,false,false,false,false,false,false,false,false,false,false,"2020-01-01",{"$f":"LEFT(A1602,FIND(\"-\",A1602)-1)","v":"194"}]
["194-025","VDVA-0194-025","Hagenauer Platz","2xBw  \n2xTw ","165 \n50","4 \n4",{"$nulls":3},1942,"Friedrich Grünwald","194",1,false,false,false,false,false,false,false,false,false,false,false,false,false,false,false,false,false,false,false,false,false,false,false,false,false,false,false,false,false,false,false,false,false,false,false,false,false,false,false,false,false,false,false,false,false,"2020-01-01","194"]
["194-040","VDVA-0194-040",null,"4xTw  \n4xBw ","508 \n534"," \n ",{"$nulls":5},"194",1,false,false,false,false,false,false,false,false,false,false,false,false,false,false,false,false,false,false,false,false,false,false,false,false,false,false,false,false,false,false,false,false,false,false,false,false,false,false,false,false,false,false,false,false,false,"2020-01-01","194"]
["195-005","VDVA-0195-005","Kathedrale","2xTw  \n2xTw  \n2xTw ","106 \n115 \n102","8 \n2 \n1",{"$nulls":3},1942,"Friedrich Grünwald","195",1,false,false,false,false,false,false,false,false,false,false,false,false,false,false,false,false,false,false,false,false,false,false,false,false,false,false,false,false,false,false,false,false,false,false,false,false,false,false,false,false,false,false,false,false,false,"2020-01-01","195"]
["196-009",null,"U.C.P.M.I.","2xTw ","2",null,null,13,4,1955,"Dieter Waltking","196",1,false,false,false,false,false,false,false,false,false,false,false,false,false,false,false,false,false,false,false,false,false,false,false,false,false,false,false,false,false,false,false,false,false,false,false,false,false,false,false,false,false,false,false,false,false,"2020-01-01","196"]
["196-014",null,null,"2xTw ","5",null,"ex Paris Nr. 7",7,8,1959,"K. H. Kelzenberg","196",1,false,false,false,false,false,false,false,false,false,false,false,false,false,false,false,false,false,false,false,false,false,false,false,false,false,false,false,false,false,false,false,false,false,false,false,false,false,false,false,false,false,false,false,false,false,"2020-01-01",{"$f":"LEFT(A1666,FIND(\"-\",A1666)-1)","v":"196"}]
["198-004","VDVA-0198-004","Depot","2xTw ","57",null,null,4,9,1950,"John H. Price","198",1,false,false,false,false,false,false,false,false,false,false,false,false,false,false,false,false,false,false,false,false,false,false,false,false,false,false,false,false,false,false,false,false,false,false,false,false,false,false,false,false,false,false,false,false,false,"2020-01-01","198"]
["200-008","VDVA-0200-008","Ebelsberg","2xTw ","80","E",{"$nulls":3},1939,"Peter Boehm","200",1,false,true,false,false,false,false,false,false,true,false,false,false,false,false,false,false,false,false,false,false,false,false,false,false,false,false,false,false,false,false,false,false,false,false,false,false,false,false,false,false,false,false,false,false,false,"2020-01-01","200"]
["200-027","VDVA-0200-027",null,"2xTw  \n2xBw ","39 \n ","M \nM",{"$nulls":5},"200",1,false,true,true,false,false,false,false,false,true,false,false,false,false,false,false,false,false,false,false,true,false,false,false,false,false,false,false,false,false,false,false,false,false,false,false,false,false,false,false,false,false,false,false,false,false,"2020-01-01","200"]
["200-042","VDVA-0200-042",null,"2xTw ","25",null,null,20,8,1969,"Horst Michelke","200",1,false,true,false,false,false,false,false,false,true,false,false,false,false,false,false,false,false,false,false,false,false,false,false,false,false,false,false,false,false,false,false,false,false,false,false,false,false,false,false,false,false,false,false,false,false,"2020-01-01","200"]
["200-057","VDVA-0200-057","Bergstation der Pöstlingbergbahn","2xTw ","VII",null,"Pöstlingbergbahn",null,6,1959,null,"200",1,false,true,false,false,false,false,false,false,false,false,false,false,false,false,false,false,true,false,false,false,false,false,false,false,false,false,false,false,false,false,false,false,false,false,false,false,false,false,false,false,false,false,false,false,false,"2020-01-01","200"]
["200-062","VDVA-0200-062","Depot","2xTw ","V",null,"Pöstlingbergbahn",null,6,1964,"Konrad Lübbers","200",1,false,true,false,false,false,false,false,false,false,false,false,false,false,false,false,false,true,false,false,false,false,false,false,false,false,false,false,false,false,false,false,false,false,false,false,false,false,false,false,false,false,false,false,false,false,"2020-01-01","200"]
["200-084","VDVA-0200-084","Urfahr","2xTw ","9","3",null,31,8,1980,"Günter H. Köhler","200",1,false,true,false,false,false,false,false,false,true,false,false,false,false,false,false,false,false,false,false,false,false,false,false,false,false,false,false,false,false,false,false,false,false,false,false,false,false,false,false,false,false,false,false,false,false,"2020-01-01","200"]
["200-095","GL-448-006","Hauptplatz","10xGelTw","49","1","",null,null,1987,"Gerd Leimbach","200",1,false,true,false,false,false,false,false,false,false,false,false,true,false,false,false,false,false,false,false,false,false,false,false,false,false,false,false,false,false,false,false,false,false,false,false,false,false,false,false,false,false,false,false,false,false,"2020-01-01","200"]
["200-110","KW-TA-1982-024","Pöstlingberg","2xTw","XIV"," ","VDVA-Tagung\nPöstlingbergbahn\nman beachte die außen am Wagen aufgehängten Kinderkarren",2,8,1982,"Karl-Heinz Wagner","200",2,false,true,false,false,false,false,false,false,false,false,false,false,false,false,false,false,true,false,false,false,false,false,false,false,false,false,false,false,false,false,false,false,false,false,false,false,false,false,false,false,false,false,false,false,false,"2020-01-01","200"]
["200-125","HV-A1-07-19","Bf Urfahr","2xTw\n+2xBw\n+2xBw","54 \n \n ","V \nV \nV ",null,1,10,1962,"Horst Völkel","200",1,false,true,true,false,false,false,false,false,true,false,false,false,false,false,false,false,false,false,false,true,false,false,false,false,false,false,false,false,false,false,false,false,false,false,false,false,false,false,false,false,false,false,false,false,false,"2023-03-30","200"]
["200-130","HV-A1-07-38","Spinnereistr","10xGelTw","70 ","1 ",null,28,5,1980,"Horst Völkel","200",1,false,true,false,false,false,false,false,false,false,false,false,true,false,false,false,false,false,false,false,false,false,false,false,false,false,false,false,false,false,false,false,false,false,false,false,false,false,false,false,false,false,false,false,false,false,"2023-03-30","200"]
["200-145","HV-A1-09-01","Btf Urfahr","2xTw","VI "," ","Pöstlingbergbahn",25,8,1977,"Horst Völkel","200",1,false,true,false,false,false,false,false,false,false,false,false,false,false,false,false,false,true,false,false,false,false,false,false,false,false,false,false,false,false,false,false,false,false,false,false,false,false,false,false,false,false,false,false,false,false,"2023-03-30","200"]
["201-007","VDVA-0201-007","Bahnhofsplatz","2xTw  \n2xBw  \n2xBw ","11 \n  \n59"," \n  \n ",{"$nulls":3},1940,null,"201",1,false,false,false,false,false,false,false,false,false,false,false,false,false,false,false,false,false,false,false,false,false,false,false,false,false,false,false,false,false,false,false,false,false,false,false,false,false,false,false,false,false,false,false,false,false,"2020-01-01","201"]
["202-008","VDVA-0202-008",null,"ArbBw ","R1",null,"Schienenreinigunsbeiwagen",{"$nulls":4},"202",1,false,false,false,true,false,false,false,false,false,false,false,false,false,false,false,false,false,false,false,false,false,false,false,false,false,false,false,false,false,true,false,false,false,false,false,false,false,false,false,false,false,false,false,false,false,"2020-01-01","202"]
["202-023","VDVA-0202-023","Strassgans","Obus ","112",null,null,10,9,1954,"Dieter Waltking","202",1,false,false,false,false,false,true,false,false,false,false,false,false,false,false,false,false,false,false,false,false,false,false,false,false,false,false,false,false,false,false,false,false,true,false,false,false,false,false,false,false,false,false,false,false,false,"2020-01-01","202"]
["202-028","VDVA-0202-028","Schloßbergbahn","Zahnradbahn-Tw ",{"$nulls":3},1,8,1956,"John H. Price","202",1,false,false,false,false,false,false,false,true,false,false,false,false,false,false,false,false,false,false,false,false,false,false,false,false,false,false,false,false,false,false,false,false,false,false,false,false,false,false,false,false,false,false,true,false,false,"2020-01-01","202"]
["202-043","HV-A1-01-25","Btf",""," "," ",null,20,5,1980,"Horst Völkel","202",1,false,false,false,false,true,false,false,false,false,false,false,false,false,false,false,false,false,false,false,false,false,false,false,false,false,false,false,false,false,false,false,false,false,false,false,false,false,false,false,false,false,false,false,false,false,"2023-03-30","202"]
["202-058","HV-A1-02-40","Steyrergasse","2xBw\n+2xTw","336B \n ","4 \n4 ",null,20,5,1980,"Horst Völkel","202",1,false,true,true,false,false,false,false,false,true,false,false,false,false,false,false,false,false,false,true,false,false,false,false,false,false,false,false,false,false,false,false,false,false,false,false,false,false,false,false,false,false,false,false,false,false,"2023-03-30","202"]
["203-011",null,null,"2xTw ","2612","AK",{"$nulls":5},"203",1,false,true,false,false,false,false,false,false,true,false,false,false,false,false,false,false,false,false,false,false,false,false,false,false,false,false,false,false,false,false,false,false,false,false,false,false,false,false,false,false,false,false,false,false,false,"2020-01-01","203"]
["203-023",null,"Haltstelle Stadtpark","2xBw \n2xTw ","1843 \n6105"," \n ","Johannesgasse/Lothringer Straße",10,5,1977,"Dr. Heinrich Dillmann","203",1,false,true,true,false,false,false,false,false,true,false,false,false,false,false,false,false,false,false,true,false,false,false,false,false,false,false,false,false,false,false,false,false,false,false,false,false,false,false,false,false,false,false,false,false,false,"2020-01-01","203"]
["203-028",null,"Maurer Berg bei Schwarzwaldgasse","2xTw (Typ K) ","2362","360",{"$nulls":5},"203",1,false,true,false,false,false,false,false,false,true,false,false,false,false,false,false,false,false,false,false,false,false,false,false,false,false,false,false,false,false,false,false,false,false,false,false,false,false,false,false,false,false,false,false,false,false,"2020-01-01","203"]
["203-043",null,null,"2xBw \n2xTw "," \n737","C \nc",{"$nulls":4},"Friedrich Grünwald","203",1,false,true,true,false,false,false,false,false,true,false,false,false,false,false,false,false,false,false,true,false,false,false,false,false,false,false,false,false,false,false,false,false,false,false,false,false,false,false,false,false,false,false,false,false,false,"2020-01-01","203"]
["203-058",null,null,"2xBw ","5116","V",{"$nulls":4},"Emil Konrad","203",1,false,false,true,false,false,false,false,false,false,false,false,false,false,false,false,false,false,false,true,false,false,false,false,false,false,false,false,false,false,false,false,false,false,false,false,false,false,false,false,false,false,false,false,false,false,"2020-01-01","203"]
["203-077",null,null,"4xTw \n4xBw ","104 \n ","46 \n46",{"$nulls":3},1956,null,"203",1,false,true,true,false,false,false,false,false,false,false,true,false,false,false,false,false,false,false,false,false,true,false,false,false,false,false,false,false,false,false,false,false,false,false,false,false,false,false,false,false,false,false,false,false,false,"2020-01-01","203"]
["203-090",null,null,"4xBw \n2xTw ","1057 \n2596","J \nJ",{"$nulls":5},"203",1,false,true,true,false,false,false,false,false,true,false,false,false,false,false,false,false,false,false,false,false,true,false,false,false,false,false,false,false,false,false,false,false,false,false,false,false,false,false,false,false,false,false,false,false,false,"2020-01-01","203"]
["203-111",null,null,"4xGrwBw ","1202",{"$nulls":6},"203",1,false,false,true,false,false,false,false,false,false,false,false,false,false,false,false,false,false,false,false,false,true,false,false,false,false,false,false,false,false,false,false,false,false,false,false,false,false,false,false,false,false,false,false,false,false,"2020-01-01","203"]
["203-112",null,null,"2xTw ","2102","158",{"$nulls":5},"203",1,false,true,false,false,false,false,false,false,true,false,false,false,false,false,false,false,false,false,false,false,false,false,false,false,false,false,false,false,false,false,false,false,false,false,false,false,false,false,false,false,false,false,false,false,false,"2020-01-01","203"]
["203-127","VDVA-0203-127","Endschleife Ottakring","4xGrwTw \n+4xGrwBw ","105 \n1205","46 \n46",null,26,7,1956,"John H. Price","203",1,false,true,true,false,false,false,false,false,false,false,true,false,false,false,false,false,false,false,false,false,true,false,false,false,false,false,false,false,false,false,false,false,false,false,false,false,false,false,false,false,false,false,false,false,false,"2020-01-01","203"]
["203-146",null,"Schottenring","2xTw \n2xBw \n2xBw ","4036 \n  \n ","T \nT \nT",null,27,5,1951,"Josef Otto Slezak","203",1,false,true,true,false,false,false,false,false,true,false,false,false,false,false,false,false,false,false,true,false,false,false,false,false,false,false,false,false,false,false,false,false,false,false,false,false,false,false,false,false,false,false,false,false,false,"2020-01-01","203"]
["203-161",null,"Landstraßer Gürtel vor Südbahnhof","2xTw (Typ L2) \n2xBw ","2585 \n ","O \nO",{"$nulls":5},"203",1,false,true,false,false,false,false,false,false,true,false,false,false,false,false,false,false,false,false,false,false,false,false,false,false,false,false,false,false,false,false,false,false,false,false,false,false,false,false,false,false,false,false,false,false,false,"2020-01-01","203"]
["203-168",null,null,"2xTw ","100","11",{"$nulls":5},"203",1,false,true,false,false,false,false,false,false,true,false,false,false,false,false,false,false,false,false,false,false,false,false,false,false,false,false,false,false,false,false,false,false,false,false,false,false,false,false,false,false,false,false,false,false,false,"2020-01-01","203"]
["203-194",null,null,"2xBw ","5572",{"$nulls":6},"203",1,false,false,true,false,false,false,false,false,false,false,false,false,false,false,false,false,false,false,true,false,false,false,false,false,false,false,false,false,false,false,false,false,false,false,false,false,false,false,false,false,false,false,false,false,false,"2020-01-01","203"]
["203-195",null,null,"ArbBw ","7063",{"$nulls":6},"203",1,false,false,false,true,false,false,false,false,false,false,false,false,false,false,false,false,false,false,false,false,false,false,false,false,false,false,false,false,false,true,false,false,false,false,false,false,false,false,false,false,false,false,false,false,false,"2020-01-01","203"]
["203-214",null,null,"2xTw ","417","62",{"$nulls":4},"Othmar Bamer","203",1,false,true,false,false,false,false,false,false,true,false,false,false,false,false,false,false,false,false,false,false,false,false,false,false,false,false,false,false,false,false,false,false,false,false,false,false,false,false,false,false,false,false,false,false,false,"2020-01-01","203"]
["203-229",null,null,"2xBw ","1520",{"$nulls":4},1955,null,"203",1,false,false,true,false,false,false,false,false,false,false,false,false,false,false,false,false,false,false,true,false,false,false,false,false,false,false,false,false,false,false,false,false,false,false,false,false,false,false,false,false,false,false,false,false,false,"2020-01-01","203"]
["203-244","VDVA-0203-244","Lammersdorf","4xTw ","4237",null,"ex New York",16,7,1956,"John H. Price","203",1,false,true,false,false,false,false,false,false,false,true,false,false,false,false,false,false,false,false,false,false,false,false,false,false,false,false,false,false,false,false,false,false,false,false,false,false,false,false,false,false,false,false,false,false,false,"2020-01-01","203"]
["203-255",null,"Stadtpark","4xBw \n2xTw ","1147 \n2416"," \n ",{"$nulls":3},1966,"Walter Steinberger","203",1,false,true,true,false,false,false,false,false,true,false,false,false,false,false,false,false,false,false,false,false,true,false,false,false,false,false,false,false,false,false,false,false,false,false,false,false,false,false,false,false,false,false,false,false,false,"2020-01-01","203"]
["203-277","KW-TA-1969-031","Btf Heiligenstadt","2xTw \n  \n2xBw \n  \n2xTw \n  \n2xTw","2933  \n  \n5975  \n  \n2931  \n  \n2877 ","   \n  \n   \n  \n   \n  \n  ","VDVA-Tagung",23,8,1969,"Karl-Heinz Wagner","203",2,false,false,false,false,false,false,false,true,false,false,false,false,false,false,false,false,false,false,false,false,false,false,false,false,false,false,false,false,false,false,false,false,false,false,false,false,false,false,false,false,false,false,true,false,false,"2020-01-01","203"]
["203-278","KW-TA-1969-050","Btf Leesdorf der WLB","2xTw \n  \n2xTw","6214  \n  \n  ","   \n  \n  ","VDVA-Tagung",24,8,1969,"Karl-Heinz Wagner","203",2,false,true,false,false,false,false,false,false,true,false,false,false,false,false,false,false,false,false,false,false,false,false,false,false,false,false,false,false,false,false,false,false,false,false,false,false,false,false,false,false,false,false,false,false,false,"2020-01-01","203"]
["203-297","JN-A-W-009","Joachimsthalerplatz","4xGrwTw\n+4xGrwBw","114 \n1854 ","46 \n46 ",null,13,5,1996,"Jürgen Niemeyer","203",1,false,true,true,false,false,false,false,false,false,false,true,false,false,false,false,false,false,false,false,false,true,false,false,false,false,false,false,false,false,false,false,false,false,false,false,false,false,false,false,false,false,false,false,false,false,"2020-01-01","203"]
["203-312","JN-A-W-024","Opernring/Kärntner Str","4xGrwBw\n+6xGelTw","1357 \n4857 ","1 \n1 ",null,12,5,1996,"Jürgen Niemeyer","203",1,false,true,true,false,false,false,false,false,false,false,false,false,true,false,false,false,false,false,false,false,true,false,false,false,false,false,false,false,false,false,false,false,false,false,false,false,false,false,false,false,false,false,false,false,false,"2020-01-01","203"]
["203-331","JN-A-W-043","Opernring/Operngasse","6xGelTw\n+4xGrwBw","4521 \n1077 ","J \nJ ",null,12,5,1996,"Jürgen Niemeyer","203",1,false,true,true,false,false,false,false,false,false,false,false,false,true,false,false,false,false,false,false,false,true,false,false,false,false,false,false,false,false,false,false,false,false,false,false,false,false,false,false,false,false,false,false,false,false,"2020-01-01","203"]
["203-346","JN-A-W-058","Dr. Karl Renner-Ring","6xGelTw","4842 ","2 ",null,12,5,1996,"Jürgen Niemeyer","203",1,false,true,false,false,false,false,false,false,false,false,false,false,true,false,false,false,false,false,false,false,false,false,false,false,false,false,false,false,false,false,false,false,false,false,false,false,false,false,false,false,false,false,false,false,false,"2020-01-01","203"]
["203-354","HV-A1-10-47",null,"2xTw\n+2xBw","879 \n ","132 \n132 ",{"$nulls":4},"Slg. Horst Völkel","203",1,false,true,true,false,false,false,false,false,true,false,false,false,false,false,false,false,false,false,true,false,false,false,false,false,false,false,false,false,false,false,false,false,false,false,false,false,false,false,false,false,false,false,false,false,false,"2023-03-30","203"]
["203-365","HV-A1-11-18",null,"2xTw","2445 ","13 ",null,15,2,1961,"Slg. Horst Völkel","203",1,false,true,false,false,false,false,false,false,true,false,false,false,false,false,false,false,false,false,false,false,false,false,false,false,false,false,false,false,false,false,false,false,false,false,false,false,false,false,false,false,false,false,false,false,false,"2023-03-30","203"]
["203-380","HV-A1-11-49","Mariahilfer Str","2xTw","9 ","52 ","KSW",12,10,1962,"Horst Völkel","203",1,false,true,false,false,false,false,false,false,true,false,false,false,false,false,false,false,false,false,false,false,false,false,false,false,false,false,false,false,false,false,false,false,false,false,false,false,false,false,false,false,false,false,false,false,false,"2023-03-30","203"]
["203-399","HV-A1-12-31","Ring/Burg","2xTw\n+4xGrwBw","434 \n1113 ","T \nT ",null,10,8,1975,"Horst Völkel","203",1,false,true,true,false,false,false,false,false,true,false,false,false,false,false,false,false,false,false,false,false,true,false,false,false,false,false,false,false,false,false,false,false,false,false,false,false,false,false,false,false,false,false,false,false,false,"2023-03-30","203"]
["203-414","HV-A1-13-11","Maurer Hauptplatz","2xTw\n+4xGrwBw\n+4xGrwBw","559 \n1804 \n1813 ","60 \n60 \n60 ",null,10,9,1978,"Slg. Horst Völkel","203",1,false,true,true,false,false,false,false,false,true,false,false,false,false,false,false,false,false,false,false,false,true,false,false,false,false,false,false,false,false,false,false,false,false,false,false,false,false,false,false,false,false,false,false,false,false,"2023-03-30","203"]
["203-429","HV-A1-13-45","Karlsplatz","6xGelTw","4449 ","62 ",null,10,8,2000,"Horst Völkel","203",1,false,true,false,false,false,false,false,false,false,false,false,false,true,false,false,false,false,false,false,false,false,false,false,false,false,false,false,false,false,false,false,false,false,false,false,false,false,false,false,false,false,false,false,false,false,"2023-03-30","203"]
["203-441","HV-A1-14-25","HW Simmering","6xGelTw\n \nU-Bahn","4844 \n \n3209 "," \n \n ",null,20,7,1990,"Horst Völkel","203",1,false,true,false,false,false,false,false,true,false,false,false,false,true,false,false,false,false,false,false,false,false,false,false,false,false,false,false,false,false,false,false,false,false,false,false,false,false,false,false,false,false,false,false,true,false,"2023-03-30","203"]
["203-448","HV-A1-14-46",null,"2xBw\n+2xBw\n+2xTw","1155 \n1019 \n707 ","39 \n39 \n39 ",null,5,9,1954,"Slg. Horst Völkel","203",1,false,true,true,false,false,false,false,false,true,false,false,false,false,false,false,false,false,false,true,false,false,false,false,false,false,false,false,false,false,false,false,false,false,false,false,false,false,false,false,false,false,false,false,false,false,"2023-03-30","203"]
["203-463","HV-A2-01-05","Btf Vorgarten","2xBw","1453 "," ",null,10,8,1975,"Horst Völkel","203",1,false,false,true,false,false,false,false,false,false,false,false,false,false,false,false,false,false,false,true,false,false,false,false,false,false,false,false,false,false,false,false,false,false,false,false,false,false,false,false,false,false,false,false,false,false,"2023-03-30","203"]
["203-482","HV-A2-01-39",null,"2xTw","2731 ","60 ",null,13,5,1955,"Slg. Horst Völkel","203",1,false,true,false,false,false,false,false,false,true,false,false,false,false,false,false,false,false,false,false,false,false,false,false,false,false,false,false,false,false,false,false,false,false,false,false,false,false,false,false,false,false,false,false,false,false,"2023-03-30","203"]
["203-497","HV-A2-02-12","HW Simmering","4xArbTw","6111 "," ","Kranwagen",20,7,1990,"Horst Völkel","203",1,false,false,false,true,false,false,false,false,false,false,false,false,false,false,false,false,false,false,false,false,false,false,false,false,false,false,false,false,true,false,false,false,false,false,false,false,false,false,false,false,false,false,false,false,false,"2023-03-30","203"]
["203-502","HV-A2-02-21",null,"2xArbTw","6316 "," ",null,4,11,1954,"Slg. Horst Völkel","203",1,false,false,false,true,false,false,false,false,false,false,false,false,false,false,false,false,false,false,false,false,false,false,false,false,false,false,false,false,true,false,false,false,false,false,false,false,false,false,false,false,false,false,false,false,false,"2023-03-30","203"]
["203-519","HV-A2-02-45","HW Simmering","2xArbTw","6461 "," ",null,20,7,1990,"Horst Völkel","203",1,false,false,false,true,false,false,false,false,false,false,false,false,false,false,false,false,false,false,false,false,false,false,false,false,false,false,false,false,true,false,false,false,false,false,false,false,false,false,false,false,false,false,false,false,false,"2023-03-30","203"]
["203-531","HV-A2-03-13","Alser Str","2xArbBw","7503 "," ",null,27,4,1983,"Horst Völkel","203",1,false,false,false,true,false,false,false,false,false,false,false,false,false,false,false,false,false,false,false,false,false,false,false,false,false,false,false,false,false,true,false,false,false,false,false,false,false,false,false,false,false,false,false,false,false,"2023-03-30","203"]
["203-550","HV-A2-03-51",null,"2xTw\n+4xGrwBw\n+4xGrwBw","501 \n1782 \n ","62 \n62 \n62 ",{"$nulls":4},"Slg. Horst Völkel","203",1,false,true,true,false,false,false,false,false,true,false,false,false,false,false,false,false,false,false,false,false,true,false,false,false,false,false,false,false,false,false,false,false,false,false,false,false,false,false,false,false,false,false,false,false,false,"2023-03-30","203"]
["204-011","VDVA-0204-011","Endstation Rauenstein im Helenenthal","2xTw ",null,null,"historisch",{"$nulls":4},"204",1,false,true,false,false,false,false,false,false,true,false,false,false,false,false,false,false,false,false,false,false,false,false,false,false,false,false,false,false,false,false,false,false,false,false,false,false,false,false,false,false,false,false,false,false,false,"2020-01-01","204"]
["204-016","VDVA-0204-016",null,"Dampflok  \n4xBw  \n4xTw "," \n  \n "," \n  \n ","Tw und Bw im Dampflokschlepp",{"$nulls":3},"Hellmuth Fröhlich","204",1,false,true,true,false,false,false,false,false,false,true,false,false,false,false,false,false,true,false,false,true,false,false,false,false,false,false,false,false,false,false,false,false,false,false,false,false,false,false,false,false,false,false,false,false,false,"2020-01-01","204"]
["204-031","VDVA-0204-031","Wien, Depot Meidling","4xTw ",null,null,"Hofsalonwagen",27,7,1956,"John H. Price","204",1,false,true,false,false,false,false,false,false,false,true,false,false,false,false,false,false,false,false,false,false,false,false,false,false,false,false,false,false,false,false,false,false,false,false,false,false,false,false,false,false,false,false,false,false,false,"2020-01-01","204"]
["204-043","VDVA-0204-043","Betriebshof Wolfganggasse","4xTw  \n4xTw ","11 \n "," \n ","ex Köln",null,8,1969,"Walter Steinberger","204",1,false,true,false,false,false,false,false,false,false,false,true,false,false,false,false,false,false,false,false,false,false,false,false,false,false,false,false,false,false,false,false,false,false,false,false,false,false,false,false,false,false,false,false,false,false,"2020-01-01","204"]
["204-064","VDVA-0204-046","Depot Meidling","4xBw  \nEllok  \n4xBw ","260 \n1001 \n271"," \n  \n ","(ehem. Bild 400-021)",27,7,1952,"John H. Price","204",1,false,true,true,false,false,false,false,false,false,false,false,false,false,false,false,true,false,false,false,true,false,false,false,false,false,false,false,false,false,false,false,false,false,false,false,false,false,false,false,false,false,false,false,false,false,"2020-01-01","204"]
["204-079","HV-A2-13-42","Wien, Karlsplatz","8xGelTw","111 "," ",null,10,8,2000,"Horst Völkel","204",1,false,true,false,false,false,false,false,false,false,false,false,true,false,false,false,false,false,false,false,false,false,false,false,false,false,false,false,false,false,false,false,false,false,false,false,false,false,false,false,false,false,false,false,false,false,"2023-03-30","204"]
["205-002",null,null,"2xTw ","78","3",{"$nulls":3},1941,null,"205",1,false,false,false,false,false,false,false,false,false,false,false,false,false,false,false,false,false,false,false,false,false,false,false,false,false,false,false,false,false,false,false,false,false,false,false,false,false,false,false,false,false,false,false,false,false,"2020-01-01","205"]
["205-007",null,"Omnibusbahnhof",{"$nulls":8},"205",1,false,false,false,false,false,false,false,false,false,false,false,false,false,false,false,false,false,false,false,false,false,false,false,false,false,false,false,false,false,false,false,false,false,false,false,false,false,false,false,false,false,false,false,false,false,"2020-01-01","205"]
["205-022","GL-416-024","Btf Zuilenstein","2xDiesellok","322311"," ","VDVA-Tagung",14,8,1984,"Gerd Leimbach","205",1,false,false,false,false,false,false,false,false,false,false,false,false,false,false,false,false,false,false,false,false,false,false,false,false,false,false,false,false,false,false,false,false,false,false,false,false,false,false,false,false,false,false,false,false,false,"2020-01-01","205"]
["206-009","VDVA-0206-009","Neustadt","Obusanhänger  \nObus "," \n105"," \n ",{"$nulls":3},1951,null,"206",1,false,false,false,false,false,false,false,false,false,false,false,false,false,false,false,false,false,false,false,false,false,false,false,false,false,false,false,false,false,false,false,false,false,false,false,false,false,false,false,false,false,false,false,false,false,"2020-01-01","206"]
["206-026",{"$nulls":5},"(jetzt Bild 726-009 in Datenbank Eisenbahnen)",{"$nulls":4},"206",1,false,false,false,false,false,false,false,false,false,false,false,false,false,false,false,false,false,false,false,false,false,false,false,false,false,false,false,false,false,false,false,false,false,false,false,false,false,false,false,false,false,false,false,false,false,"2020-01-01","206"]
["207-004","VDVA-0207-004",null,"2xTw  \n2xBw ","142 \n411","4 \n4",{"$nulls":3},1941,null,"207",1,false,false,false,false,false,false,false,false,false,false,false,false,false,false,false,false,false,false,false,false,false,false,false,false,false,false,false,false,false,false,false,false,false,false,false,false,false,false,false,false,false,false,false,false,false,"2020-01-01","207"]
["207-009","VDVA-0207-009",null,"2xBw ","399","4",{"$nulls":3},1941,"Günter Stetza","207",1,false,false,false,false,false,false,false,false,false,false,false,false,false,false,false,false,false,false,false,false,false,false,false,false,false,false,false,false,false,false,false,false,false,false,false,false,false,false,false,false,false,false,false,false,false,"2020-01-01","207"]
["208-008",null,null,"2xBw ","110",{"$nulls":4},1915,null,"208",1,false,false,false,false,false,false,false,false,false,false,false,false,false,false,false,false,false,false,false,false,false,false,false,false,false,false,false,false,false,false,false,false,false,false,false,false,false,false,false,false,false,false,false,false,false,"2020-01-01","208"]
["211-007",null,null,"ArbTw ","426",{"$nulls":5},"Horst Michelke","211",1,false,false,false,false,false,false,false,false,false,false,false,false,false,false,false,false,false,false,false,false,false,false,false,false,false,false,false,false,false,false,false,false,false,false,false,false,false,false,false,false,false,false,false,false,false,"2020-01-01","211"]
["214-012",null,null,"2xTw ","199","16",{"$nulls":4},"John H. Price","214",1,false,false,false,false,false,false,false,false,false,false,false,false,false,false,false,false,false,false,false,false,false,false,false,false,false,false,false,false,false,false,false,false,false,false,false,false,false,false,false,false,false,false,false,false,false,"2020-01-01","214"]
["214-021",null,null,"4xTw ","379",{"$nulls":4},1952,"Louis Clessens","214",1,false,false,false,false,false,false,false,false,false,false,false,false,false,false,false,false,false,false,false,false,false,false,false,false,false,false,false,false,false,false,false,false,false,false,false,false,false,false,false,false,false,false,false,false,false,"2020-01-01","214"]
["214-040",null,"Betriebshof Hoboken","4xTw ","7384",null,null,20,8,1970,"Dr. Heinrich Dillmann","214",1,false,false,false,false,false,false,false,false,false,false,false,false,false,false,false,false,false,false,false,false,false,false,false,false,false,false,false,false,false,false,false,false,false,false,false,false,false,false,false,false,false,false,false,false,false,"2020-01-01","214"]
["214-041",null,"Betriebshof Hoboken","2xTw ","5853",null,null,20,8,1970,"Dr. Heinrich Dillmann","214",1,false,false,false,false,false,false,false,false,false,false,false,false,false,false,false,false,false,false,false,false,false,false,false,false,false,false,false,false,false,false,false,false,false,false,false,false,false,false,false,false,false,false,false,false,false,"2020-01-01","214"]
["214-056","KW-TA-1970-014","Btf Hoboken","4xTw","2048"," ","Sonderzug VDVA-Tagung",20,8,1970,"Karl-Heinz Wagner","214",1,false,false,false,false,false,false,false,false,false,false,false,false,false,false,false,false,false,false,false,false,false,false,false,false,false,false,false,false,false,false,false,false,false,false,false,false,false,false,false,false,false,false,false,false,false,"2020-01-01","214"]
["221-002","VDVA-0221-002","in Pradl nächst der alten Endschleife","2xTw ","15","3","ex Remscheid",{"$nulls":3},"Friedrich Grünwald","221",1,false,true,false,false,false,false,false,false,true,false,false,false,false,false,false,false,false,false,false,false,false,false,false,false,false,false,false,false,false,false,false,false,false,false,false,false,false,false,false,false,false,false,false,false,false,"2020-01-01","221"]
["221-017","VDVA-0221-017","Betriebshof am Berg Isel","ArbTw ","36",null,null,30,4,1956,"Dr. Heinrich Dillmann","221",1,false,false,false,true,false,false,false,false,false,false,false,false,false,false,false,false,false,false,false,false,false,false,false,false,false,false,false,false,true,false,false,false,false,false,false,false,false,false,false,false,false,false,false,false,false,"2020-01-01","221"]
["221-035","VDVA-0221-035","Hauptbahnhof","2xBw","121",{"$nulls":4},1950,null,"221",1,false,false,true,false,false,false,false,false,false,false,false,false,false,false,false,false,false,false,true,false,false,false,false,false,false,false,false,false,false,false,false,false,false,false,false,false,false,false,false,false,false,false,false,false,false,"2020-01-01","221"]
["221-050","VDVA-0221-050","Hall, Hauptplatz",{"$nulls":3},"Dampfzug Innsbruck-Hall",{"$nulls":4},"221",1,false,true,false,false,false,false,false,false,false,false,false,false,false,false,false,false,true,false,false,false,false,false,false,false,false,false,false,false,false,false,false,false,false,false,false,false,false,false,false,false,false,false,false,false,false,"2020-01-01","221"]
["221-051","VDVA-0221-051","In Zell","4xTw  \n2xBw  \n2xBw  \n2xBw  \n2xBw ","1 \n  \n  \n  \n ","4 \n4 \n4 \n4 \n4","Sonderzug VDVA-Tagung",7,8,1965,"Schmiedeke","221",2,false,true,true,false,false,false,false,false,false,true,false,false,false,false,false,false,false,false,true,false,false,false,false,false,false,false,false,false,false,false,false,false,false,false,false,false,false,false,false,false,false,false,false,false,false,"2020-01-01","221"]
["221-070","VDVA-0221-070","Betriebshof Berg Isel","2xBw  \n2xBw  \nArbBw ","54 \n53 \n "," \n  \n ","beide Bw und der Kesselwagen ex Rechtsufrige Thunersee- Bahn",16,6,1955,"John H. Price","221",1,false,false,true,true,false,false,false,false,false,false,false,false,false,false,false,false,false,false,true,false,false,false,false,false,false,false,false,false,false,true,false,false,false,false,false,false,false,false,false,false,false,false,false,false,false,"2020-01-01","221"]
["221-085","VDVA-0221-085","Hungerburgbahn","Standseil-bahnwagen ","1",null,null,29,7,1953,"John H. Price","221",1,false,false,false,false,false,false,false,true,false,false,false,false,false,false,false,false,false,false,false,false,false,false,false,false,false,false,false,false,false,false,false,false,false,false,false,false,false,false,false,false,false,false,true,false,false,"2020-01-01","221"]
["221-095","VDVA-0221-095","Haltestelle Reichenaer Brücke","2xBw  \n2xBw  \n4xTw ","124 \n123 \n7","4 \n4 \n4",null,9,8,1971,"Dr. Heinrich Dillmann","221",1,false,true,true,false,false,false,false,false,false,true,false,false,false,false,false,false,false,false,true,false,false,false,false,false,false,false,false,false,false,false,false,false,false,false,false,false,false,false,false,false,false,false,false,false,false,"2020-01-01","221"]
["221-120","HV-A1-03-32","Bergisel","2xTw","20 "," ","ex Zürich",18,9,1979,"Horst Völkel","221",1,false,true,false,false,false,false,false,false,true,false,false,false,false,false,false,false,false,false,false,false,false,false,false,false,false,false,false,false,false,false,false,false,false,false,false,false,false,false,false,false,false,false,false,false,false,"2023-03-30","221"]
["221-135","HV-A1-04-22","Bergisel","4xGrwTw","63 ","1 ",null,18,9,1979,"Horst Völkel","221",1,false,true,false,false,false,false,false,false,false,false,false,true,false,false,false,false,false,false,false,false,false,false,false,false,false,false,false,false,false,false,false,false,false,false,false,false,false,false,false,false,false,false,false,false,false,"2023-03-30","221"]
["221-140","HV-A1-04-39","Bergisel","6xGelTw","84 ","1 ","ex Hagen 64",12,12,1982,"Horst Völkel","221",1,false,true,false,false,false,false,false,false,false,false,false,false,true,false,false,false,false,false,false,false,false,false,false,false,false,false,false,false,false,false,false,false,false,false,false,false,false,false,false,false,false,false,false,false,false,"2023-03-30","221"]
["221-155","HV-A1-05-28","Btf Bergisel","2xArbBw","262 "," ",null,12,12,1982,"Horst Völkel","221",1,false,false,false,true,false,false,false,false,false,false,false,false,false,false,false,false,false,false,false,false,false,false,false,false,false,false,false,false,false,true,false,false,false,false,false,false,false,false,false,false,false,false,false,false,false,"2023-03-30","221"]
["221-171","HV-A1-06-31","Bergisel","6xGelTw","86 ","1 ","ex Hagen 66",null,8,1977,"Horst Völkel","221",1,false,true,false,false,false,false,false,false,false,false,false,false,true,false,false,false,false,false,false,false,false,false,false,false,false,false,false,false,false,false,false,false,false,false,false,false,false,false,false,false,false,false,false,false,false,"2023-03-30","221"]
["222-014",null,null,"2xTw ","58",{"$nulls":4},1958,"Emil Konrad","222",1,false,false,false,false,false,false,false,false,false,false,false,false,false,false,false,false,false,false,false,false,false,false,false,false,false,false,false,false,false,false,false,false,false,false,false,false,false,false,false,false,false,false,false,false,false,"2020-01-01","222"]
["222-033","VDVA-0222-033",{"$nulls":4},"Strecke Oppsal-Böler",{"$nulls":4},"222",1,false,false,false,false,false,false,false,false,false,false,false,false,false,false,false,false,false,false,false,false,false,false,false,false,false,false,false,false,false,false,false,false,false,false,false,false,false,false,false,false,false,false,false,false,false,"2020-01-01","222"]
["222-048","KW-TA-1975-026","Btf Sagene","2xArbTw","325"," ","VDVA-Tagung",20,8,1975,"Karl-Heinz Wagner","222",1,false,false,false,false,false,false,false,false,false,false,false,false,false,false,false,false,false,false,false,false,false,false,false,false,false,false,false,false,false,false,false,false,false,false,false,false,false,false,false,false,false,false,false,false,false,"2020-01-01","222"]
["222-053","KW-TA-1975-035","Btf Avlos","4xTw","203"," ","Sonderzug VDVA-Tagung",21,8,1975,"Karl-Heinz Wagner","222",1,false,false,false,false,false,false,false,false,false,false,false,false,false,false,false,false,false,false,false,false,false,false,false,false,false,false,false,false,false,false,false,false,false,false,false,false,false,false,false,false,false,false,false,false,false,"2020-01-01","222"]
["222-068","KW-TA-1975-036","Btf Avlos","4xTw","402"," ","VDVA-Tagung\nHolmenkolbanen\n(war Bild 441-009)",21,8,1975,"Karl-Heinz Wagner","222",1,false,false,false,false,false,false,false,false,false,false,false,false,false,false,false,false,false,false,false,false,false,false,false,false,false,false,false,false,false,false,false,false,false,false,false,false,false,false,false,false,false,false,false,false,false,"2020-01-01","222"]
["226-003",null,null,"2xTw ",{"$nulls":6},"Peter Boehm","226",1,false,false,false,false,false,false,false,false,false,false,false,false,false,false,false,false,false,false,false,false,false,false,false,false,false,false,false,false,false,false,false,false,false,false,false,false,false,false,false,false,false,false,false,false,false,"2020-01-01","226"]
["226-008",null,null,"2xTw ","485","12",{"$nulls":4},"Emil Konrad","226",1,false,false,false,false,false,false,false,false,false,false,false,false,false,false,false,false,false,false,false,false,false,false,false,false,false,false,false,false,false,false,false,false,false,false,false,false,false,false,false,false,false,false,false,false,false,"2020-01-01","226"]
["229-005","VDVA-0229-005",null,"2xBw ","4",{"$nulls":3},6,1964,"Konrad Lübbers","229",1,false,false,false,false,false,false,false,false,false,false,false,false,false,false,false,false,false,false,false,false,false,false,false,false,false,false,false,false,false,false,false,false,false,false,false,false,false,false,false,false,false,false,false,false,false,"2020-01-01","229"]
["229-010","VDVA-0229-010","St. Florian","2xTw ","3",null,null,23,7,1956,"John H. Price","229",1,false,false,false,false,false,false,false,false,false,false,false,false,false,false,false,false,false,false,false,false,false,false,false,false,false,false,false,false,false,false,false,false,false,false,false,false,false,false,false,false,false,false,false,false,false,"2020-01-01","229"]
["230-002",null,null,"2xBw ","362",{"$nulls":5},"Hans Engel","230",1,false,false,false,false,false,false,false,false,false,false,false,false,false,false,false,false,false,false,false,false,false,false,false,false,false,false,false,false,false,false,false,false,false,false,false,false,false,false,false,false,false,false,false,false,false,"2020-01-01","230"]
["230-022",null,null,"Bw  \n4xTw "," \n303","4 \n4",{"$nulls":5},"230",1,false,false,false,false,false,false,false,false,false,false,false,false,false,false,false,false,false,false,false,false,false,false,false,false,false,false,false,false,false,false,false,false,false,false,false,false,false,false,false,false,false,false,false,false,false,"2020-01-01","230"]
["230-037",null,null,"Diesel-Tw  \n4xBw  \n4xBw ","1802 \n  \n1517"," \n  \n ",null,13,8,1952,"Ben Willemsen","230",1,false,false,false,false,false,false,false,false,false,false,false,false,false,false,false,false,false,false,false,false,false,false,false,false,false,false,false,false,false,false,false,false,false,false,false,false,false,false,false,false,false,false,false,false,false,"2020-01-01","230"]
["230-052","GL-149-023","","4xBw","1003","2","",1,6,1958,"Gerd Leimbach","230",1,false,false,false,false,false,false,false,false,false,false,false,false,false,false,false,false,false,false,false,false,false,false,false,false,false,false,false,false,false,false,false,false,false,false,false,false,false,false,false,false,false,false,false,false,false,"2020-01-01","230"]
["230-067","GL-187-055","","4xBw \n4xTw","  \n108","14 \n14","",null,null,1960,"Gerd Leimbach","230",1,false,false,false,false,false,false,false,false,false,false,false,false,false,false,false,false,false,false,false,false,false,false,false,false,false,false,false,false,false,false,false,false,false,false,false,false,false,false,false,false,false,false,false,false,false,"2020-01-01","230"]
["230-071","GL-277-041","U-Bahn-Station Zuidplein","6xU-Bahn-GelTw \n6xU-Bahn-GelTw \n6xU-Bahn-GelTw","  \n  \n ","  \n  \n ","",24,8,1968,"Gerd Leimbach","230",1,false,false,false,false,false,false,false,false,false,false,false,false,false,false,false,false,false,false,false,false,false,false,false,false,false,false,false,false,false,false,false,false,false,false,false,false,false,false,false,false,false,false,false,false,false,"2020-01-01","230"]
["230-086","GL-416-003","","6xGelTw \n4xTw","730 \n303","1 \n ","Tw 303: Museumswagen; Sonderzug VDVA-Tagung",15,8,1984,"Gerd Leimbach","230",1,false,false,false,false,false,false,false,false,false,false,false,false,false,false,false,false,false,false,false,false,false,false,false,false,false,false,false,false,false,false,false,false,false,false,false,false,false,false,false,false,false,false,false,false,false,"2020-01-01","230"]
["230-105","GL-416-035","Btf","4xTw","2520"," ","Museumswagen\nVDVA-Tagung",15,8,1984,"Gerd Leimbach","230",1,false,false,false,false,false,false,false,false,false,false,false,false,false,false,false,false,false,false,false,false,false,false,false,false,false,false,false,false,false,false,false,false,false,false,false,false,false,false,false,false,false,false,false,false,false,"2020-01-01","230"]
["230-120","KW-TA-1984-075","","6xGelTw \n  \n6xGelTw","713  \n  \n717 ","14  \n  \n22 ","",15,8,1984,"Karl-Heinz Wagner","230",1,false,false,false,false,false,false,false,false,false,false,false,false,false,false,false,false,false,false,false,false,false,false,false,false,false,false,false,false,false,false,false,false,false,false,false,false,false,false,false,false,false,false,false,false,false,"2020-01-01","230"]
["230-125","RCN218-027","Centraal Station","4xTw","6 ","11 ",{"$nulls":4},"Ronald Copson","230",1,false,false,false,false,false,false,false,false,false,false,false,false,false,false,false,false,false,false,false,false,false,false,false,false,false,false,false,false,false,false,false,false,false,false,false,false,false,false,false,false,false,false,false,false,false,"2020-01-01","230"]
["232-003",null,"Piazza Solforino","2xTw ","21",null,"historisch",{"$nulls":4},"232",1,false,false,false,false,false,false,false,false,false,false,false,false,false,false,false,false,false,false,false,false,false,false,false,false,false,false,false,false,false,false,false,false,false,false,false,false,false,false,false,false,false,false,false,false,false,"2020-01-01","232"]
["232-012",null,null,"4xTw ","2552","8",null,28,6,1958,"G. Masino","232",1,false,false,false,false,false,false,false,false,false,false,false,false,false,false,false,false,false,false,false,false,false,false,false,false,false,false,false,false,false,false,false,false,false,false,false,false,false,false,false,false,false,false,false,false,false,"2020-01-01","232"]
["232-031",null,"Triumpfbogen","4xTw ",null,"14",null,null,5,1962,"Reinhard Todt","232",1,false,false,false,false,false,false,false,false,false,false,false,false,false,false,false,false,false,false,false,false,false,false,false,false,false,false,false,false,false,false,false,false,false,false,false,false,false,false,false,false,false,false,false,false,false,"2020-01-01","232"]
["232-046","KW-TA-1978-055","Btf Sassi","2xTw","116"," ","VDVA-Tagung\nMuseumswagen",2,6,1978,"Karl-Heinz Wagner","232",1,false,false,false,false,false,false,false,false,false,false,false,false,false,false,false,false,false,false,false,false,false,false,false,false,false,false,false,false,false,false,false,false,false,false,false,false,false,false,false,false,false,false,false,false,false,"2020-01-01","232"]
["233-001",null,"Coloumbus Denkmal","Obus ","2272",{"$nulls":3},9,1954,"K. Rathgeber","233",1,false,false,false,false,false,false,false,false,false,false,false,false,false,false,false,false,false,false,false,false,false,false,false,false,false,false,false,false,false,false,false,false,false,false,false,false,false,false,false,false,false,false,false,false,false,"2020-01-01","233"]
["233-016",null,"Tunnel Galleria Cristoforo Colombo",{"$nulls":4},5,4,1953,"Theodor Alt","233",1,false,false,false,false,false,false,false,false,false,false,false,false,false,false,false,false,false,false,false,false,false,false,false,false,false,false,false,false,false,false,false,false,false,false,false,false,false,false,false,false,false,false,false,false,false,"2020-01-01","233"]
["234-005",null,"Stazione Centrale","Bus ",{"$nulls":6},"Emil Konrad","234",1,false,false,false,false,false,false,false,false,false,false,false,false,false,false,false,false,false,false,false,false,false,false,false,false,false,false,false,false,false,false,false,false,false,false,false,false,false,false,false,false,false,false,false,false,false,"2020-01-01","234"]
["234-023","VDVA-0234-023",null,"2xTw  \n2xTw ","237 \n232","32 \n32",{"$nulls":4},"Günter Stetza","234",1,false,false,false,false,false,false,false,false,false,false,false,false,false,false,false,false,false,false,false,false,false,false,false,false,false,false,false,false,false,false,false,false,false,false,false,false,false,false,false,false,false,false,false,false,false,"2020-01-01","234"]
["234-063",null,"Piazzale G . Cesare","4xTw ","1675","5",null,8,10,1963,"Manfred Schoen","234",1,false,false,false,false,false,false,false,false,false,false,false,false,false,false,false,false,false,false,false,false,false,false,false,false,false,false,false,false,false,false,false,false,false,false,false,false,false,false,false,false,false,false,false,false,false,"2020-01-01","234"]
["234-078","KW-TA-1978-005","Piazza Castello","4xTw"," ","14","",30,5,1978,"Karl-Heinz Wagner","234",1,false,false,false,false,false,false,false,false,false,false,false,false,false,false,false,false,false,false,false,false,false,false,false,false,false,false,false,false,false,false,false,false,false,false,false,false,false,false,false,false,false,false,false,false,false,"2020-01-01","234"]
["234-083","KW-TA-1978-010","Btf Messina","4xTw","5116"," ","VDVA-Tagung",31,5,1978,"Karl-Heinz Wagner","234",1,false,false,false,false,false,false,false,false,false,false,false,false,false,false,false,false,false,false,false,false,false,false,false,false,false,false,false,false,false,false,false,false,false,false,false,false,false,false,false,false,false,false,false,false,false,"2020-01-01","234"]
["234-098","KW-TA-1978-028","Btf Gorgonzola","4xTw","540"," ","VDVA-Tagung\nWagen der Überlandbahn",1,6,1978,"Karl-Heinz Wagner","234",1,false,false,false,false,false,false,false,false,false,false,false,false,false,false,false,false,false,false,false,false,false,false,false,false,false,false,false,false,false,false,false,false,false,false,false,false,false,false,false,false,false,false,false,false,false,"2020-01-01","234"]
["235-009",null,"St. Louis","2xTw ",null,"5",null,null,8,1950,"N. Forbes","235",1,false,false,false,false,false,false,false,false,false,false,false,false,false,false,false,false,false,false,false,false,false,false,false,false,false,false,false,false,false,false,false,false,false,false,false,false,false,false,false,false,false,false,false,false,false,"2020-01-01","235"]
["235-023",null,"Marktplatz",{"$nulls":6},1950,null,"235",1,false,false,false,false,false,false,false,false,false,false,false,false,false,false,false,false,false,false,false,false,false,false,false,false,false,false,false,false,false,false,false,false,false,false,false,false,false,false,false,false,false,false,false,false,false,"2020-01-01","235"]
["235-038",null,"Marktplatz (vor Schlotterbeck)","4xTw ","601","2","Bugattl",null,null,1955,"Fritz Stäuble","235",1,false,false,false,false,false,false,false,false,false,false,false,false,false,false,false,false,false,false,false,false,false,false,false,false,false,false,false,false,false,false,false,false,false,false,false,false,false,false,false,false,false,false,false,false,false,"2020-01-01","235"]
["235-067","GL-254-074","Btf Wiesenplatz","2xTw \n2xBw \n2xBw","151 \n  \n ","  \n  \n ","Sonderzug VDVA-Tagung\nBw: Sommerwagen",5,8,1966,"Gerd Leimbach","235",1,false,false,false,false,false,false,false,false,false,false,false,false,false,false,false,false,false,false,false,false,false,false,false,false,false,false,false,false,false,false,false,false,false,false,false,false,false,false,false,false,false,false,false,false,false,"2020-01-01","235"]
["235-068","GL-254-076","Btf Wiesenplatz","2xBw \n2xTw","1145 \n ","  \n ","abgestellt\nVDVA-Tagung",5,8,1966,"Gerd Leimbach","235",1,false,false,false,false,false,false,false,false,false,false,false,false,false,false,false,false,false,false,false,false,false,false,false,false,false,false,false,false,false,false,false,false,false,false,false,false,false,false,false,false,false,false,false,false,false,"2020-01-01","235"]
["235-083","GL-452-004","Allschwil, Schleife (Dorfplatz)","4xTw \n4xBw","493 \n1442","6 \n6","",null,null,1987,"Gerd Leimbach","235",1,false,false,false,false,false,false,false,false,false,false,false,false,false,false,false,false,false,false,false,false,false,false,false,false,false,false,false,false,false,false,false,false,false,false,false,false,false,false,false,false,false,false,false,false,false,"2020-01-01","235"]
["235-097","GL-453-013","","6xGelTw","601","8","",null,null,1987,"Gerd Leimbach","235",1,false,false,false,false,false,false,false,false,false,false,false,false,false,false,false,false,false,false,false,false,false,false,false,false,false,false,false,false,false,false,false,false,false,false,false,false,false,false,false,false,false,false,false,false,false,"2020-01-01","235"]
["235-116","KW-TA-1986-064","Museumsbahn Blonay-Chamby","2xTw","182"," ","VDVA-Tagung",1,8,1986,"Karl-Heinz Wagner","235",1,false,false,false,false,false,false,false,false,false,false,false,false,false,false,false,false,false,false,false,false,false,false,false,false,false,false,false,false,false,false,false,false,false,false,false,false,false,false,false,false,false,false,false,false,false,"2020-01-01","235"]
["235-135","JN-CH-BS-019","Spiegelgasse","6xGelTw\n+4xGrwBw","625 \n ","1 \n1 ",null,3,9,1995,"Jürgen Niemeyer","235",1,false,false,false,false,false,false,false,false,false,false,false,false,false,false,false,false,false,false,false,false,false,false,false,false,false,false,false,false,false,false,false,false,false,false,false,false,false,false,false,false,false,false,false,false,false,"2020-01-01","235"]
["236-016",null,null,"2xTw ",{"$nulls":6},"Günter Stetza","236",1,false,false,false,false,false,false,false,false,false,false,false,false,false,false,false,false,false,false,false,false,false,false,false,false,false,false,false,false,false,false,false,false,false,false,false,false,false,false,false,false,false,false,false,false,false,"2020-01-01","236"]
["236-017","VDVA-0236-017",null,"4xTw ","1047","80",{"$nulls":4},"Günter Stetza","236",1,false,false,false,false,false,false,false,false,false,false,false,false,false,false,false,false,false,false,false,false,false,false,false,false,false,false,false,false,false,false,false,false,false,false,false,false,false,false,false,false,false,false,false,false,false,"2020-01-01","236"]
["237-002",null,null,"2xTw ","36","1","Strecke Meche-Verviers",{"$nulls":3},"Louis Clessens","237",1,false,false,false,false,false,false,false,false,false,false,false,false,false,false,false,false,false,false,false,false,false,false,false,false,false,false,false,false,false,false,false,false,false,false,false,false,false,false,false,false,false,false,false,false,false,"2020-01-01",{"$f":"LEFT(A3522,FIND(\"-\",A3522)-1)","v":"237"}]
["238-004",null,"St. Pieters","3xTw ","346","7",null,23,5,1947,"John H. Price","238",1,false,false,false,false,false,false,false,false,false,false,false,false,false,false,false,false,false,false,false,false,false,false,false,false,false,false,false,false,false,false,false,false,false,false,false,false,false,false,false,false,false,false,false,false,false,"2020-01-01","238"]
["238-019",null,"Haltestelle Stelplaats","3xTw ","359",null,null,21,8,1970,"Dr. Heinrich Dillmann","238",1,false,false,false,false,false,false,false,false,false,false,false,false,false,false,false,false,false,false,false,false,false,false,false,false,false,false,false,false,false,false,false,false,false,false,false,false,false,false,false,false,false,false,false,false,false,"2020-01-01","238"]
["238-034","KW-TA-1980-052","Konigin Maria Hendrikaplein (St. Pietersstation)","4xTw \n  \n4xTw","10  \n  \n39 ","4  \n  \n  ","",21,8,1980,"Karl-Heinz Wagner","238",1,false,false,false,false,false,false,false,false,false,false,false,false,false,false,false,false,false,false,false,false,false,false,false,false,false,false,false,false,false,false,false,false,false,false,false,false,false,false,false,false,false,false,false,false,false,"2020-01-01","238"]
["239-014",null,null,"Doppelstock-Tw ","2003","33","mit Unterleitung",{"$nulls":3},"C. W. Helft","239",1,false,false,false,false,false,false,false,false,false,false,false,false,false,false,false,false,false,false,false,false,false,false,false,false,false,false,false,false,false,false,false,false,false,false,false,false,false,false,false,false,false,false,false,false,false,"2020-01-01","239"]
["239-019",null,null,"Doppelstock-Tw ","2074",{"$nulls":6},"239",1,false,false,false,false,false,false,false,false,false,false,false,false,false,false,false,false,false,false,false,false,false,false,false,false,false,false,false,false,false,false,false,false,false,false,false,false,false,false,false,false,false,false,false,false,false,"2020-01-01","239"]
["239-034",null,"Stratford Broadway mit Stratford Church","Doppelstock-Tw ",null,"99",{"$nulls":4},"M. J. O'Connor","239",1,false,false,false,false,false,false,false,false,false,false,false,false,false,false,false,false,false,false,false,false,false,false,false,false,false,false,false,false,false,false,false,false,false,false,false,false,false,false,false,false,false,false,false,false,false,"2020-01-01","239"]
["239-047","VDVA-0239-047",null,"Doppelstock-Tw ",null,"20","Feltham Tw",{"$nulls":3},"Günter Stetza","239",1,false,false,false,false,false,false,false,false,false,false,false,false,false,false,false,false,false,false,false,false,false,false,false,false,false,false,false,false,false,false,false,false,false,false,false,false,false,false,false,false,false,false,false,false,false,"2020-01-01","239"]
["239-067",null,null,"ArbBw ",null,null,"Schotterwagen",{"$nulls":4},"239",1,false,false,false,false,false,false,false,false,false,false,false,false,false,false,false,false,false,false,false,false,false,false,false,false,false,false,false,false,false,false,false,false,false,false,false,false,false,false,false,false,false,false,false,false,false,"2020-01-01","239"]
["239-082",null,null,"4xBw ","8805",null,"U-Bahnwagen der DistrIct Line",null,null,1927,null,"239",1,false,false,false,false,false,false,false,false,false,false,false,false,false,false,false,false,false,false,false,false,false,false,false,false,false,false,false,false,false,false,false,false,false,false,false,false,false,false,false,false,false,false,false,false,false,"2020-01-01","239"]
["239-087",null,null,"4xBw ",null,null,"U-Bahnwagen der Metropolitain Line",{"$nulls":4},"239",1,false,false,false,false,false,false,false,false,false,false,false,false,false,false,false,false,false,false,false,false,false,false,false,false,false,false,false,false,false,false,false,false,false,false,false,false,false,false,false,false,false,false,false,false,false,"2020-01-01","239"]
["239-102",null,null,"Doppelstock-Tw ","95","46","mit Unterleitung",{"$nulls":4},"239",1,false,false,false,false,false,false,false,false,false,false,false,false,false,false,false,false,false,false,false,false,false,false,false,false,false,false,false,false,false,false,false,false,false,false,false,false,false,false,false,false,false,false,false,false,false,"2020-01-01","239"]
["239-117",null,"Station West Hampstead",{"$nulls":3},"Zug der Bakerloo Line",12,6,1975,"Dr. Heinrich Dillmann","239",1,false,false,false,false,false,false,false,false,false,false,false,false,false,false,false,false,false,false,false,false,false,false,false,false,false,false,false,false,false,false,false,false,false,false,false,false,false,false,false,false,false,false,false,false,false,"2020-01-01","239"]
["239-136",null,null,"Doppelstock-Tw ","2261","51",{"$nulls":4},"G. Carter","239",1,false,false,false,false,false,false,false,false,false,false,false,false,false,false,false,false,false,false,false,false,false,false,false,false,false,false,false,false,false,false,false,false,false,false,false,false,false,false,false,false,false,false,false,false,false,"2020-01-01","239"]
["241-003",null,"Rotherham Markt","Doppelstock-Tw ","82",null,"historisch",null,null,1912,null,"241",1,false,false,false,false,false,false,false,false,false,false,false,false,false,false,false,false,false,false,false,false,false,false,false,false,false,false,false,false,false,false,false,false,false,false,false,false,false,false,false,false,false,false,false,false,false,"2020-01-01","241"]
["241-018",null,"City Centre","Doppelstock-Tw ","501",null,"LRTL Tour",22,5,1949,null,"241",1,false,false,false,false,false,false,false,false,false,false,false,false,false,false,false,false,false,false,false,false,false,false,false,false,false,false,false,false,false,false,false,false,false,false,false,false,false,false,false,false,false,false,false,false,false,"2020-01-01","241"]
["242-003",null,"Temphbori-boundary","Doppelstock-Tw ",{"$nulls":7},"242",1,false,false,false,false,false,false,false,false,false,false,false,false,false,false,false,false,false,false,false,false,false,false,false,false,false,false,false,false,false,false,false,false,false,false,false,false,false,false,false,false,false,false,false,false,false,"2020-01-01","242"]
["243-015",null,null,"2xTw ",null,null,"Roundhay Park Car (historisch)",null,null,1892,null,"243",1,false,false,false,false,false,false,false,false,false,false,false,false,false,false,false,false,false,false,false,false,false,false,false,false,false,false,false,false,false,false,false,false,false,false,false,false,false,false,false,false,false,false,false,false,false,"2020-01-01","243"]
["243-034","VDVA-0243-034","Omnibusbahnhof",{"$nulls":7},"Günter Stetza","243",1,false,false,false,false,false,false,false,false,false,false,false,false,false,false,false,false,false,false,false,false,false,false,false,false,false,false,false,false,false,false,false,false,false,false,false,false,false,false,false,false,false,false,false,false,false,"2020-01-01","243"]
["243-042",null,null,"Doppelstock-Tw ","119","2",null,26,4,1948,null,"243",1,false,false,false,false,false,false,false,false,false,false,false,false,false,false,false,false,false,false,false,false,false,false,false,false,false,false,false,false,false,false,false,false,false,false,false,false,false,false,false,false,false,false,false,false,false,"2020-01-01","243"]
["244-009",null,null,"4xTw ",null,null,"historisch",{"$nulls":4},"244",1,false,false,false,false,false,false,false,false,false,false,false,false,false,false,false,false,false,false,false,false,false,false,false,false,false,false,false,false,false,false,false,false,false,false,false,false,false,false,false,false,false,false,false,false,false,"2020-01-01","244"]
["244-014","RCN186-007",null,"Doppeldeck-Obus","785 ","45 ",{"$nulls":4},"Ronald Copson","244",1,false,false,false,false,false,false,false,false,false,false,false,false,false,false,false,false,false,false,false,false,false,false,false,false,false,false,false,false,false,false,false,false,false,false,false,false,false,false,false,false,false,false,false,false,false,"2020-01-01","244"]
["248-001",null,null,"Doppelstock-Tw ","544","47",{"$nulls":5},"248",1,false,false,false,false,false,false,false,false,false,false,false,false,false,false,false,false,false,false,false,false,false,false,false,false,false,false,false,false,false,false,false,false,false,false,false,false,false,false,false,false,false,false,false,false,false,"2020-01-01","248"]
["248-020",null,null,"Doppelstock-Tw ","770","13",{"$nulls":5},"248",1,false,false,false,false,false,false,false,false,false,false,false,false,false,false,false,false,false,false,false,false,false,false,false,false,false,false,false,false,false,false,false,false,false,false,false,false,false,false,false,false,false,false,false,false,false,"2020-01-01","248"]
["248-036",null,null,"2xBw ",null,null,"zerstört",{"$nulls":4},"248",1,false,false,false,false,false,false,false,false,false,false,false,false,false,false,false,false,false,false,false,false,false,false,false,false,false,false,false,false,false,false,false,false,false,false,false,false,false,false,false,false,false,false,false,false,false,"2020-01-01","248"]
["249-013",null,"nahe Craig-Y-Don","4xTw ",{"$nulls":7},"249",1,false,false,false,false,false,false,false,false,false,false,false,false,false,false,false,false,false,false,false,false,false,false,false,false,false,false,false,false,false,false,false,false,false,false,false,false,false,false,false,false,false,false,false,false,false,"2020-01-01","249"]
["249-016",null,"Rhos-on-Sea Depot","4xTw ","5",null,"ex Accrington",2,10,1941,null,"249",1,false,false,false,false,false,false,false,false,false,false,false,false,false,false,false,false,false,false,false,false,false,false,false,false,false,false,false,false,false,false,false,false,false,false,false,false,false,false,false,false,false,false,false,false,false,"2020-01-01","249"]
["251-005",null,null,"4xTw ",{"$nulls":7},"251",1,false,false,false,false,false,false,false,false,false,false,false,false,false,false,false,false,false,false,false,false,false,false,false,false,false,false,false,false,false,false,false,false,false,false,false,false,false,false,false,false,false,false,false,false,false,"2020-01-01","251"]
["251-021",null,"Marton Depot",{"$nulls":3},"Illuminations tram \"The Gondola\"",{"$nulls":4},"251",1,false,false,false,false,false,false,false,false,false,false,false,false,false,false,false,false,false,false,false,false,false,false,false,false,false,false,false,false,false,false,false,false,false,false,false,false,false,false,false,false,false,false,false,false,false,"2020-01-01","251"]
["251-043","KW-TA-1973-066","","","","","Wappen der Blackpool Transport Corporation",19,8,1973,"Karl-Heinz Wagner","251",1,false,false,false,false,false,false,false,false,false,false,false,false,false,false,false,false,false,false,false,false,false,false,false,false,false,false,false,false,false,false,false,false,false,false,false,false,false,false,false,false,false,false,false,false,false,"2020-01-01","251"]
["252-012",null,null,"Doppeldeckbus ","1725","5A",{"$nulls":5},"252",1,false,false,false,false,false,false,false,false,false,false,false,false,false,false,false,false,false,false,false,false,false,false,false,false,false,false,false,false,false,false,false,false,false,false,false,false,false,false,false,false,false,false,false,false,false,"2020-01-01","252"]
["252-017",null,null,"Doppelstockobus ","22","94","Baujahr des Trolleybusses 1934",16,6,1951,null,"252",1,false,false,false,false,false,false,false,false,false,false,false,false,false,false,false,false,false,false,false,false,false,false,false,false,false,false,false,false,false,false,false,false,false,false,false,false,false,false,false,false,false,false,false,false,false,"2020-01-01","252"]
["254-016",null,null,"2xBw ","41",null,null,15,2,1947,"B. Kühne","254",1,false,false,false,false,false,false,false,false,false,false,false,false,false,false,false,false,false,false,false,false,false,false,false,false,false,false,false,false,false,false,false,false,false,false,false,false,false,false,false,false,false,false,false,false,false,"2020-01-01","254"]
["254-022",null,null,"2xBw ","72",{"$nulls":4},1938,null,"254",1,false,false,false,false,false,false,false,false,false,false,false,false,false,false,false,false,false,false,false,false,false,false,false,false,false,false,false,false,false,false,false,false,false,false,false,false,false,false,false,false,false,false,false,false,false,"2020-01-01","254"]
["254-042",null,"Amersfoort","4xTw  \nBw ","81 \n "," \n ",{"$nulls":3},1941,null,"254",1,false,false,false,false,false,false,false,false,false,false,false,false,false,false,false,false,false,false,false,false,false,false,false,false,false,false,false,false,false,false,false,false,false,false,false,false,false,false,false,false,false,false,false,false,false,"2020-01-01","254"]
["254-058",null,null,"2xTw ","2",{"$nulls":4},1947,"B. Kühne","254",1,false,false,false,false,false,false,false,false,false,false,false,false,false,false,false,false,false,false,false,false,false,false,false,false,false,false,false,false,false,false,false,false,false,false,false,false,false,false,false,false,false,false,false,false,false,"2020-01-01","254"]
["254-079",null,"Zeist","2xBw ","96",null,"aufgeladen für Deutschland",3,9,1949,"J. A. Bonthuis","254",1,false,false,false,false,false,false,false,false,false,false,false,false,false,false,false,false,false,false,false,false,false,false,false,false,false,false,false,false,false,false,false,false,false,false,false,false,false,false,false,false,false,false,false,false,false,"2020-01-01","254"]
["254-080",null,"Zeist","2xBw ","82",null,null,5,9,1949,"J. A. Bonthuis","254",1,false,false,false,false,false,false,false,false,false,false,false,false,false,false,false,false,false,false,false,false,false,false,false,false,false,false,false,false,false,false,false,false,false,false,false,false,false,false,false,false,false,false,false,false,false,"2020-01-01","254"]
["254-109",null,"Zeist, Remise",{"$nulls":3},"Letzte Fahrt der Straßenbahn",2,5,1969,null,"254",1,false,false,false,false,false,false,false,false,false,false,false,false,false,false,false,false,false,false,false,false,false,false,false,false,false,false,false,false,false,false,false,false,false,false,false,false,false,false,false,false,false,false,false,false,false,"2020-01-01","254"]
["256-005",null,null,"2xTw ","11","1",{"$nulls":5},"256",1,false,false,false,false,false,false,false,false,false,false,false,false,false,false,false,false,false,false,false,false,false,false,false,false,false,false,false,false,false,false,false,false,false,false,false,false,false,false,false,false,false,false,false,false,false,"2020-01-01","256"]
["258-008",null,"Basel, Aeschenplatz","2xBw  \n2xTw  \n2xBw ","28 \n2 \n29"," \n  \n ",null,5,8,1966,"G. Gerlach","258",1,false,false,false,false,false,false,false,false,false,false,false,false,false,false,false,false,false,false,false,false,false,false,false,false,false,false,false,false,false,false,false,false,false,false,false,false,false,false,false,false,false,false,false,false,false,"2020-01-01","258"]
["260-002",null,null,"ArbTw ","1909",null,null,8,9,1962,null,"260",1,false,false,false,false,false,false,false,false,false,false,false,false,false,false,false,false,false,false,false,false,false,false,false,false,false,false,false,false,false,false,false,false,false,false,false,false,false,false,false,false,false,false,false,false,false,"2020-01-01","260"]
["260-021",null,"Endhaltestelle Triemli","6xGelTw  \n6xGelTw ","1701 \n1652"," \n ",null,17,3,1973,"Dr. Heinrich Dillmann","260",1,false,false,false,false,false,false,false,false,false,false,false,false,false,false,false,false,false,false,false,false,false,false,false,false,false,false,false,false,false,false,false,false,false,false,false,false,false,false,false,false,false,false,false,false,false,"2020-01-01","260"]
["260-022",null,"Paradeplatz",{"$nulls":3},"reger Straßenbahnverkehr",{"$nulls":4},"260",1,false,false,false,false,false,false,false,false,false,false,false,false,false,false,false,false,false,false,false,false,false,false,false,false,false,false,false,false,false,false,false,false,false,false,false,false,false,false,false,false,false,false,false,false,false,"2020-01-01","260"]
["260-046",null,null,"ArbTw  \n4xBw "," \n744"," \n ",null,28,8,1958,"Peter Boehm","260",1,false,false,false,false,false,false,false,false,false,false,false,false,false,false,false,false,false,false,false,false,false,false,false,false,false,false,false,false,false,false,false,false,false,false,false,false,false,false,false,false,false,false,false,false,false,"2020-01-01","260"]
["260-064",null,null,"4xTw  \n4xTw ","1359 \n1358","5 \n5",{"$nulls":5},"260",1,false,false,false,false,false,false,false,false,false,false,false,false,false,false,false,false,false,false,false,false,false,false,false,false,false,false,false,false,false,false,false,false,false,false,false,false,false,false,false,false,false,false,false,false,false,"2020-01-01","260"]
["260-087","GL-307-055","Btf. Burgwies","2xTw","93"," ","Museumswagen",null,null,1971,"Gerd Leimbach","260",1,false,false,false,false,false,false,false,false,false,false,false,false,false,false,false,false,false,false,false,false,false,false,false,false,false,false,false,false,false,false,false,false,false,false,false,false,false,false,false,false,false,false,false,false,false,"2020-01-01","260"]
["264-001",null,"Nahe Haltestelle Viaducto","Metro-Tw ",{"$nulls":3},5,12,1978,"Emil Konrad","264",1,false,false,false,false,false,false,false,false,false,false,false,false,false,false,false,false,false,false,false,false,false,false,false,false,false,false,false,false,false,false,false,false,false,false,false,false,false,false,false,false,false,false,false,false,false,"2020-01-01","264"]
["270-008",null,null,"4xTw ","6007","35",{"$nulls":3},1970,"Emil Konrad","270",1,false,false,false,false,false,false,false,false,false,false,false,false,false,false,false,false,false,false,false,false,false,false,false,false,false,false,false,false,false,false,false,false,false,false,false,false,false,false,false,false,false,false,false,false,false,"2020-01-01","270"]
["270-009",null,null,"4xBw  \n4xTw "," \n3155","35 \n35",{"$nulls":3},1964,"Emil Konrad","270",1,false,false,false,false,false,false,false,false,false,false,false,false,false,false,false,false,false,false,false,false,false,false,false,false,false,false,false,false,false,false,false,false,false,false,false,false,false,false,false,false,false,false,false,false,false,"2020-01-01","270"]
["270-026",null,"Marsfeld","4xTw  \n4xTw ","7069 \n ","34 \n34",null,15,4,1979,"Günter H. Köhler","270",1,false,false,false,false,false,false,false,false,false,false,false,false,false,false,false,false,false,false,false,false,false,false,false,false,false,false,false,false,false,false,false,false,false,false,false,false,false,false,false,false,false,false,false,false,false,"2020-01-01","270"]
["273-008",null,"Depot","ArbTw ","304",{"$nulls":3},6,1957,null,"273",1,false,false,false,false,false,false,false,false,false,false,false,false,false,false,false,false,false,false,false,false,false,false,false,false,false,false,false,false,false,false,false,false,false,false,false,false,false,false,false,false,false,false,false,false,false,"2020-01-01","273"]
["279-002","VDVA-0279-002","Schönegg","2xTw ","2",null,null,26,3,1959,"J. Zimmer","279",1,false,false,false,false,false,false,false,false,false,false,false,false,false,false,false,false,false,false,false,false,false,false,false,false,false,false,false,false,false,false,false,false,false,false,false,false,false,false,false,false,false,false,false,false,false,"2020-01-01","279"]
["280-004","VDVA-0280-004",null,"2xTw ","24","2",{"$nulls":4},"Günter Stetza","280",1,false,false,false,false,false,false,false,false,false,false,false,false,false,false,false,false,false,false,false,false,false,false,false,false,false,false,false,false,false,false,false,false,false,false,false,false,false,false,false,false,false,false,false,false,false,"2020-01-01","280"]
["282-002","VDVA-0282-002",null,"Bus ","5",null,null,5,9,1976,"Dr. Heinrich Dillmann","282",1,false,false,false,false,false,false,false,false,false,false,false,false,false,false,false,false,false,false,false,false,false,false,false,false,false,false,false,false,false,false,false,false,false,false,false,false,false,false,false,false,false,false,false,false,false,"2020-01-01","282"]
["282-007","VDVA-0282-007",null,"4xBw ","26",null,"\"Bärnfescht\"",5,9,1976,"Dr. Heinrich Dillmann","282",1,false,false,false,false,false,false,false,false,false,false,false,false,false,false,false,false,false,false,false,false,false,false,false,false,false,false,false,false,false,false,false,false,false,false,false,false,false,false,false,false,false,false,false,false,false,"2020-01-01","282"]
["282-028","GL-407-015A","(H) Wabern (Endschleife) Seftigenstr","8xGelTw","10","9","",null,null,1983,"Gerd Leimbach","282",1,false,false,false,false,false,false,false,false,false,false,false,false,false,false,false,false,false,false,false,false,false,false,false,false,false,false,false,false,false,false,false,false,false,false,false,false,false,false,false,false,false,false,false,false,false,"2020-01-01","282"]
["282-040","GL-444-004","Bahnhofplatz","4xTw \n4xBw","612 \n327","5 \n5","",null,null,1986,"Gerd Leimbach","282",1,false,false,false,false,false,false,false,false,false,false,false,false,false,false,false,false,false,false,false,false,false,false,false,false,false,false,false,false,false,false,false,false,false,false,false,false,false,false,false,false,false,false,false,false,false,"2020-01-01","282"]
["288-001","VDVA-0288-001",null,"2xBw ","121",null,null,27,7,1966,"Horst Michelke","288",1,false,false,false,false,false,false,false,false,false,false,false,false,false,false,false,false,false,false,false,false,false,false,false,false,false,false,false,false,false,false,false,false,false,false,false,false,false,false,false,false,false,false,false,false,false,"2020-01-01","288"]
["288-016","VDVA-0288-016","Auvernier","4xTw ","43","5",null,25,7,1953,"Dieter Waltking","288",1,false,false,false,false,false,false,false,false,false,false,false,false,false,false,false,false,false,false,false,false,false,false,false,false,false,false,false,false,false,false,false,false,false,false,false,false,false,false,false,false,false,false,false,false,false,"2020-01-01","288"]
["288-021","VDVA-0288-021","Bahnhof CFF","2xTw ","31","6",null,31,8,1959,"Dieter Waltking","288",1,false,false,false,false,false,false,false,false,false,false,false,false,false,false,false,false,false,false,false,false,false,false,false,false,false,false,false,false,false,false,false,false,false,false,false,false,false,false,false,false,false,false,false,false,false,"2020-01-01","288"]
["288-036","KW-TA-1986-125","Place Pury","Bus","202","S","",2,8,1986,"Karl-Heinz Wagner","288",1,false,false,false,false,false,false,false,false,false,false,false,false,false,false,false,false,false,false,false,false,false,false,false,false,false,false,false,false,false,false,false,false,false,false,false,false,false,false,false,false,false,false,false,false,false,"2020-01-01","288"]
["289-009",null,"Ausfahrt aus der Endstation in Kairo","Tw ","812",null,"\"Gepäcktransport\" nach Heliopolis",17,2,1981,"Dr. Heinrich Dillmann","289",1,false,false,false,false,false,false,false,false,false,false,false,false,false,false,false,false,false,false,false,false,false,false,false,false,false,false,false,false,false,false,false,false,false,false,false,false,false,false,false,false,false,false,false,false,false,"2020-01-01","289"]
["290-002",null,"Sodornaja Platz","2xTw ",{"$nulls":5},1914,null,"290",1,false,false,false,false,false,false,false,false,false,false,false,false,false,false,false,false,false,false,false,false,false,false,false,false,false,false,false,false,false,false,false,false,false,false,false,false,false,false,false,false,false,false,false,false,false,"2020-01-01","290"]
["294-006",null,null,"2xTw ","8",null,null,16,8,1948,"K. Wyssek","294",1,false,false,false,false,false,false,false,false,false,false,false,false,false,false,false,false,false,false,false,false,false,false,false,false,false,false,false,false,false,false,false,false,false,false,false,false,false,false,false,false,false,false,false,false,false,"2020-01-01","294"]
["294-011",null,null,"2xTw ",{"$nulls":7},"294",1,false,false,false,false,false,false,false,false,false,false,false,false,false,false,false,false,false,false,false,false,false,false,false,false,false,false,false,false,false,false,false,false,false,false,false,false,false,false,false,false,false,false,false,false,false,"2020-01-01",{"$f":"LEFT(A4418,FIND(\"-\",A4418)-1)","v":"294"}]
["297-015","VDVA-0297-012",null,"ArbTw ",null,null,"Traktor für Schiebebühne",null,10,1963,null,"297",1,false,false,false,false,false,false,false,false,false,false,false,false,false,false,false,false,false,false,false,false,false,false,false,false,false,false,false,false,false,false,false,false,false,false,false,false,false,false,false,false,false,false,false,false,false,"2020-01-01","297"]
["304-006",null,"Col Bretaye","4xBw  \n4xBw  \n4xTw ","51 \n52 \n31"," \n  \n ",{"$nulls":5},"304",1,false,false,false,false,false,false,false,false,false,false,false,false,false,false,false,false,false,false,false,false,false,false,false,false,false,false,false,false,false,false,false,false,false,false,false,false,false,false,false,false,false,false,false,false,false,"2020-01-01","304"]
["306-003",{"$nulls":5},"Innenansicht der S-Bahn Toronto",null,null,1952,null,"306",1,false,false,false,false,false,false,false,false,false,false,false,false,false,false,false,false,false,false,false,false,false,false,false,false,false,false,false,false,false,false,false,false,false,false,false,false,false,false,false,false,false,false,false,false,false,"2020-01-01","306"]
["314-012","VDVA-0314-012",null,"4xTw ","89",{"$nulls":5},"Günter Stetza","314",1,false,false,false,false,false,false,false,false,false,false,false,false,false,false,false,false,false,false,false,false,false,false,false,false,false,false,false,false,false,false,false,false,false,false,false,false,false,false,false,false,false,false,false,false,false,"2020-01-01","314"]
["314-023",null,null,"2xBw  \n4xTw "," \n105","2 \n2",{"$nulls":3},1948,"V. E. Burrows","314",1,false,false,false,false,false,false,false,false,false,false,false,false,false,false,false,false,false,false,false,false,false,false,false,false,false,false,false,false,false,false,false,false,false,false,false,false,false,false,false,false,false,false,false,false,false,"2020-01-01","314"]
["317-001",null,null,"2xTw ","16",{"$nulls":4},1940,"Emil Konrad","317",1,false,false,false,false,false,false,false,false,false,false,false,false,false,false,false,false,false,false,false,false,false,false,false,false,false,false,false,false,false,false,false,false,false,false,false,false,false,false,false,false,false,false,false,false,false,"2020-01-01","317"]
["324-004",null,null,"2xTw ","2",{"$nulls":6},"324",1,false,false,false,false,false,false,false,false,false,false,false,false,false,false,false,false,false,false,false,false,false,false,false,false,false,false,false,false,false,false,false,false,false,false,false,false,false,false,false,false,false,false,false,false,false,"2020-01-01","324"]
["327-012","VDVA-0331-001",null,"2xBw  \n2xTw ","11 \n "," \n ","Lugano-Cadro-Dino\n(war Bild 331-001)",{"$nulls":4},"327",1,false,false,false,false,false,false,false,false,false,false,false,false,false,false,false,false,false,false,false,false,false,false,false,false,false,false,false,false,false,false,false,false,false,false,false,false,false,false,false,false,false,false,false,false,false,"2020-01-01","327"]
["335-002","VDVA-0335-002",null,"2xTw ","4",{"$nulls":5},"Günter Stetza","335",1,false,false,false,false,false,false,false,false,false,false,false,false,false,false,false,false,false,false,false,false,false,false,false,false,false,false,false,false,false,false,false,false,false,false,false,false,false,false,false,false,false,false,false,false,false,"2020-01-01",{"$f":"LEFT(A4546,FIND(\"-\",A4546)-1)","v":"335"}]
["341-012",null,null,"Doppelstock-Tw ","48",{"$nulls":5},"Günter Stetza","341",1,false,false,false,false,false,false,false,false,false,false,false,false,false,false,false,false,false,false,false,false,false,false,false,false,false,false,false,false,false,false,false,false,false,false,false,false,false,false,false,false,false,false,false,false,false,"2020-01-01","341"]
["342-002",null,null,"Doppelstock-Tw ","86","5",{"$nulls":5},"342",1,false,false,false,false,false,false,false,false,false,false,false,false,false,false,false,false,false,false,false,false,false,false,false,false,false,false,false,false,false,false,false,false,false,false,false,false,false,false,false,false,false,false,false,false,false,"2020-01-01","342"]
["343-004",null,null,"2xTw ","52",{"$nulls":6},"343",1,false,false,false,false,false,false,false,false,false,false,false,false,false,false,false,false,false,false,false,false,false,false,false,false,false,false,false,false,false,false,false,false,false,false,false,false,false,false,false,false,false,false,false,false,false,"2020-01-01","343"]
["345-004","VDVA-0345-004",null,"2xBw  \n2xTw "," \n2209","3 \n3",{"$nulls":5},"345",1,false,false,false,false,false,false,false,false,false,false,false,false,false,false,false,false,false,false,false,false,false,false,false,false,false,false,false,false,false,false,false,false,false,false,false,false,false,false,false,false,false,false,false,false,false,"2020-01-01","345"]
["345-019","VDVA-0345-019",null,"4xBw ","769",{"$nulls":4},1949,null,"345",1,false,false,false,false,false,false,false,false,false,false,false,false,false,false,false,false,false,false,false,false,false,false,false,false,false,false,false,false,false,false,false,false,false,false,false,false,false,false,false,false,false,false,false,false,false,"2020-01-01","345"]
["345-025","VDVA-0345-025",null,"2xTw ","348","7",{"$nulls":3},1949,null,"345",1,false,false,false,false,false,false,false,false,false,false,false,false,false,false,false,false,false,false,false,false,false,false,false,false,false,false,false,false,false,false,false,false,false,false,false,false,false,false,false,false,false,false,false,false,false,"2020-01-01","345"]
["345-040","VDVA-0345-040",null,"4xTw ","44","8",{"$nulls":4},"Günter Stetza","345",1,false,false,false,false,false,false,false,false,false,false,false,false,false,false,false,false,false,false,false,false,false,false,false,false,false,false,false,false,false,false,false,false,false,false,false,false,false,false,false,false,false,false,false,false,false,"2020-01-01","345"]
["345-055","VDVA-0345-055","Depot","Tw  \nTw  \nTw ","155 \n154 \n205","16 \n3 \n16",{"$nulls":5},"345",1,false,false,false,false,false,false,false,false,false,false,false,false,false,false,false,false,false,false,false,false,false,false,false,false,false,false,false,false,false,false,false,false,false,false,false,false,false,false,false,false,false,false,false,false,false,"2020-01-01","345"]
["347-011",{"$nulls":10},"347",1,false,false,false,false,false,false,false,false,false,false,false,false,false,false,false,false,false,false,false,false,false,false,false,false,false,false,false,false,false,false,false,false,false,false,false,false,false,false,false,false,false,false,false,false,false,"2020-01-01","347"]
["352-008",null,null,"Doppelstock-Tw ","21",{"$nulls":6},"352",1,false,false,false,false,false,false,false,false,false,false,false,false,false,false,false,false,false,false,false,false,false,false,false,false,false,false,false,false,false,false,false,false,false,false,false,false,false,false,false,false,false,false,false,false,false,"2020-01-01","352"]
["353-003",null,"Haymarket","Doppelstock-Tw ","63",{"$nulls":6},"353",1,false,false,false,false,false,false,false,false,false,false,false,false,false,false,false,false,false,false,false,false,false,false,false,false,false,false,false,false,false,false,false,false,false,false,false,false,false,false,false,false,false,false,false,false,false,"2020-01-01","353"]
["354-003",null,null,"Doppelstock-Tw ","178",{"$nulls":4},1943,null,"354",1,false,false,false,false,false,false,false,false,false,false,false,false,false,false,false,false,false,false,false,false,false,false,false,false,false,false,false,false,false,false,false,false,false,false,false,false,false,false,false,false,false,false,false,false,false,"2020-01-01","354"]
["355-007",null,"Endstation Airdrie","Doppelstock-Tw ","1279","8",{"$nulls":5},"355",1,false,false,false,false,false,false,false,false,false,false,false,false,false,false,false,false,false,false,false,false,false,false,false,false,false,false,false,false,false,false,false,false,false,false,false,false,false,false,false,false,false,false,false,false,false,"2020-01-01","355"]
["357-005","VDVA-0357-005","Porta Venezia","4xBw  \n4xBw  \n4xTw "," \n  \n134"," \n  \n ",{"$nulls":4},"Günter Stetza","357",1,false,false,false,false,false,false,false,false,false,false,false,false,false,false,false,false,false,false,false,false,false,false,false,false,false,false,false,false,false,false,false,false,false,false,false,false,false,false,false,false,false,false,false,false,false,"2020-01-01","357"]
["362-001",null,"Bahnhof","2xTw  \n2xBw ","9 \n31"," \n ",{"$nulls":3},1952,"Günter Stetza","362",1,false,false,false,false,false,false,false,false,false,false,false,false,false,false,false,false,false,false,false,false,false,false,false,false,false,false,false,false,false,false,false,false,false,false,false,false,false,false,false,false,false,false,false,false,false,"2020-01-01","362"]
["363-008",null,null,"4xBw  \n4xTw "," \n543","7 \n7",{"$nulls":5},"363",1,false,false,false,false,false,false,false,false,false,false,false,false,false,false,false,false,false,false,false,false,false,false,false,false,false,false,false,false,false,false,false,false,false,false,false,false,false,false,false,false,false,false,false,false,false,"2020-01-01","363"]
["363-027",null,"Vesterbrogade","2xTw  \n2xBw "," \n "," \n ",{"$nulls":5},"363",1,false,false,false,false,false,false,false,false,false,false,false,false,false,false,false,false,false,false,false,false,false,false,false,false,false,false,false,false,false,false,false,false,false,false,false,false,false,false,false,false,false,false,false,false,false,"2020-01-01","363"]
["363-041",null,null,"2xTw  \n2xBw ","226 \n ","2 \n2",{"$nulls":5},"363",1,false,false,false,false,false,false,false,false,false,false,false,false,false,false,false,false,false,false,false,false,false,false,false,false,false,false,false,false,false,false,false,false,false,false,false,false,false,false,false,false,false,false,false,false,false,"2020-01-01",{"$f":"LEFT(A4802,FIND(\"-\",A4802)-1)","v":"363"}]
["363-042",null,null,"Pferdebahnwagen ",null,null,"historisch",null,null,1890,null,"363",1,false,false,false,false,false,false,false,false,false,false,false,false,false,false,false,false,false,false,false,false,false,false,false,false,false,false,false,false,false,false,false,false,false,false,false,false,false,false,false,false,false,false,false,false,false,"2020-01-01","363"]
["363-061",null,"Betriebshof","2xBw  \n2xTw "," \n140","14 \n14",{"$nulls":3},1946,null,"363",1,false,false,false,false,false,false,false,false,false,false,false,false,false,false,false,false,false,false,false,false,false,false,false,false,false,false,false,false,false,false,false,false,false,false,false,false,false,false,false,false,false,false,false,false,false,"2020-01-01","363"]
["363-082",null,null,"4xBw  \n4xTw "," \n511","2 \n2",{"$nulls":5},"363",1,false,false,false,false,false,false,false,false,false,false,false,false,false,false,false,false,false,false,false,false,false,false,false,false,false,false,false,false,false,false,false,false,false,false,false,false,false,false,false,false,false,false,false,false,false,"2020-01-01","363"]
["363-100","KW-VA-1960-011","Essen, Gruga/Messe - Verkehrsausstellung Schiene und Straße\"","6xGelTw","811"," ","(Bild auch in der Datenbank Deutschland unter Nr. 744-025 erfasst)",null,9,1960,"Karl-Heinz Wagner","363",1,false,false,false,false,false,false,false,false,false,false,false,false,false,false,false,false,false,false,false,false,false,false,false,false,false,false,false,false,false,false,false,false,false,false,false,false,false,false,false,false,false,false,false,false,false,"2020-01-01","363"]
["364-025",null,"Kalksteinwerk","Pferdebahnwagen ",null,null,"Ehemaliger Pferdebahnwagen von Limhamm",{"$nulls":4},"364",1,false,false,false,false,false,false,false,false,false,false,false,false,false,false,false,false,false,false,false,false,false,false,false,false,false,false,false,false,false,false,false,false,false,false,false,false,false,false,false,false,false,false,false,false,false,"2020-01-01","364"]
["366-004",null,null,"2xTw ","186","4",null,28,8,1967,"Horst Michelke","366",1,false,false,false,false,false,false,false,false,false,false,false,false,false,false,false,false,false,false,false,false,false,false,false,false,false,false,false,false,false,false,false,false,false,false,false,false,false,false,false,false,false,false,false,false,false,"2020-01-01","366"]
["366-019",null,null,"2xBw ","354",{"$nulls":4},1945,null,"366",1,false,false,false,false,false,false,false,false,false,false,false,false,false,false,false,false,false,false,false,false,false,false,false,false,false,false,false,false,false,false,false,false,false,false,false,false,false,false,false,false,false,false,false,false,false,"2020-01-01","366"]
["366-040",null,"LInneplatsen","2xTw  \n2xTw  \n2xBw ","89 \n193 \n328","1 \n2 \n2",null,16,6,1954,null,"366",1,false,false,false,false,false,false,false,false,false,false,false,false,false,false,false,false,false,false,false,false,false,false,false,false,false,false,false,false,false,false,false,false,false,false,false,false,false,false,false,false,false,false,false,false,false,"2020-01-01","366"]
["366-065",null,"Saltholmen","2xTw  \n2xTw  \nSommer-Bw  \n2xTw ","302 \n19 \n507 \n15"," \n  \n  \n ","Straßenbahnmuseum",null,9,1967,"Harald Maaß","366",1,false,false,false,false,false,false,false,false,false,false,false,false,false,false,false,false,false,false,false,false,false,false,false,false,false,false,false,false,false,false,false,false,false,false,false,false,false,false,false,false,false,false,false,false,false,"2020-01-01","366"]
["366-084","KW-TA-1975-015","","4xTw \n+4xTw","754  \n  ","6  \n  ","",18,8,1975,"Karl-Heinz Wagner","366",1,false,false,false,false,false,false,false,false,false,false,false,false,false,false,false,false,false,false,false,false,false,false,false,false,false,false,false,false,false,false,false,false,false,false,false,false,false,false,false,false,false,false,false,false,false,"2020-01-01","366"]
["367-012","VDVA-0367-012",null,"2xTw  \n2xBw "," \n ","5 \n5",{"$nulls":4},"Günter Stetza","367",1,false,false,false,false,false,false,false,false,false,false,false,false,false,false,false,false,false,false,false,false,false,false,false,false,false,false,false,false,false,false,false,false,false,false,false,false,false,false,false,false,false,false,false,false,false,"2020-01-01","367"]
["367-027",null,null,"Obus ","96",{"$nulls":6},"367",1,false,false,false,false,false,false,false,false,false,false,false,false,false,false,false,false,false,false,false,false,false,false,false,false,false,false,false,false,false,false,false,false,false,false,false,false,false,false,false,false,false,false,false,false,false,"2020-01-01","367"]
["367-034",null,null,"Dampf-straßenbahn","3",null,"Dampftriebwagen (historisch) auf Drehscheibe",{"$nulls":4},"367",1,false,false,false,false,false,false,false,false,false,false,false,false,false,false,false,false,false,false,false,false,false,false,false,false,false,false,false,false,false,false,false,false,false,false,false,false,false,false,false,false,false,false,false,false,false,"2020-01-01","367"]
["367-056",null,null,"2xTw  \n2xBw ","42 \n916","7 \n7",{"$nulls":4},"Emil Konrad","367",1,false,false,false,false,false,false,false,false,false,false,false,false,false,false,false,false,false,false,false,false,false,false,false,false,false,false,false,false,false,false,false,false,false,false,false,false,false,false,false,false,false,false,false,false,false,"2020-01-01","367"]
["371-010",null,null,"2xTw ","19","E",{"$nulls":5},"371",1,false,false,false,false,false,false,false,false,false,false,false,false,false,false,false,false,false,false,false,false,false,false,false,false,false,false,false,false,false,false,false,false,false,false,false,false,false,false,false,false,false,false,false,false,false,"2020-01-01","371"]
["372-010",null,"Bahnhofsplatz","2xTw  \n2xBw ","7 \n49","2 \n2",{"$nulls":4},"Othmar Bamer","372",1,false,false,false,false,false,false,false,false,false,false,false,false,false,false,false,false,false,false,false,false,false,false,false,false,false,false,false,false,false,false,false,false,false,false,false,false,false,false,false,false,false,false,false,false,false,"2020-01-01","372"]
["374-012",null,"Betriebshof","2xBw  \n2xTw ","37 \n425"," \n ",null,22,8,1970,"Ronald Copson","374",1,false,false,false,false,false,false,false,false,false,false,false,false,false,false,false,false,false,false,false,false,false,false,false,false,false,false,false,false,false,false,false,false,false,false,false,false,false,false,false,false,false,false,false,false,false,"2020-01-01","374"]
["374-017",null,"Moutigny, Neufville","2xTw ","362","6",null,24,7,1954,"Dieter Waltking","374",1,false,false,false,false,false,false,false,false,false,false,false,false,false,false,false,false,false,false,false,false,false,false,false,false,false,false,false,false,false,false,false,false,false,false,false,false,false,false,false,false,false,false,false,false,false,"2020-01-01","374"]
["374-028",null,"Depot","ArbTw ","200",null,null,22,8,1970,"Dr. Heinrich Dillmann","374",1,false,false,false,false,false,false,false,false,false,false,false,false,false,false,false,false,false,false,false,false,false,false,false,false,false,false,false,false,false,false,false,false,false,false,false,false,false,false,false,false,false,false,false,false,false,"2020-01-01","374"]
["374-050",null,"",{"$nulls":3},"(jetzt Bild 2136-001)",{"$nulls":4},"374",1,false,false,false,false,false,false,false,false,false,false,false,false,false,false,false,false,false,false,false,false,false,false,false,false,false,false,false,false,false,false,false,false,false,false,false,false,false,false,false,false,false,false,false,false,false,"2020-01-01","374"]
["377-002","VDVA-0377-002",null,"2xTw  \n2xTw "," \n ","16 \n19",{"$nulls":4},"Günter Stetza","377",1,false,false,false,false,false,false,false,false,false,false,false,false,false,false,false,false,false,false,false,false,false,false,false,false,false,false,false,false,false,false,false,false,false,false,false,false,false,false,false,false,false,false,false,false,false,"2020-01-01","377"]
["377-017","VDVA-0377-017","Rue Achard","2xTw  \n2xBw ","7 \n ","1 \n1",null,null,8,1949,"N. Forbes","377",1,false,false,false,false,false,false,false,false,false,false,false,false,false,false,false,false,false,false,false,false,false,false,false,false,false,false,false,false,false,false,false,false,false,false,false,false,false,false,false,false,false,false,false,false,false,"2020-01-01","377"]
["377-022","VDVA-0377-022",null,"2xTw ",null,"S",{"$nulls":4},"Günter Stetza","377",1,false,false,false,false,false,false,false,false,false,false,false,false,false,false,false,false,false,false,false,false,false,false,false,false,false,false,false,false,false,false,false,false,false,false,false,false,false,false,false,false,false,false,false,false,false,"2020-01-01","377"]
["377-037","VDVA-0377-0037","Bahnhof","2xBw  \n2xTw "," \n ","7 \n7",{"$nulls":4},"Günter Stetza","377",1,false,false,false,false,false,false,false,false,false,false,false,false,false,false,false,false,false,false,false,false,false,false,false,false,false,false,false,false,false,false,false,false,false,false,false,false,false,false,false,false,false,false,false,false,false,"2020-01-01","377"]
["383-009",null,null,"2xTw ","165",{"$nulls":5},"Emil Konrad","383",1,false,false,false,false,false,false,false,false,false,false,false,false,false,false,false,false,false,false,false,false,false,false,false,false,false,false,false,false,false,false,false,false,false,false,false,false,false,false,false,false,false,false,false,false,false,"2020-01-01","383"]
["383-024","RCN218-010",null,"4xTw","218 ","11 ",{"$nulls":4},"Ronald Copson","383",1,false,false,false,false,false,false,false,false,false,false,false,false,false,false,false,false,false,false,false,false,false,false,false,false,false,false,false,false,false,false,false,false,false,false,false,false,false,false,false,false,false,false,false,false,false,"2020-01-01","383"]
["384-002",null,null,"2xTw  \n2xBw ","237 \n206"," \n ",null,null,8,1949,null,"384",1,false,false,false,false,false,false,false,false,false,false,false,false,false,false,false,false,false,false,false,false,false,false,false,false,false,false,false,false,false,false,false,false,false,false,false,false,false,false,false,false,false,false,false,false,false,"2020-01-01","384"]
["384-008",null,null,"2xTw ","38",{"$nulls":4},1953,"Emil Konrad","384",1,false,false,false,false,false,false,false,false,false,false,false,false,false,false,false,false,false,false,false,false,false,false,false,false,false,false,false,false,false,false,false,false,false,false,false,false,false,false,false,false,false,false,false,false,false,"2020-01-01","384"]
["384-025",null,null,"4xBw  \n4xTw "," \n11"," \n ","Vorort-Tw mit verschiedenen Stromabnehmern",null,5,1959,null,"384",1,false,false,false,false,false,false,false,false,false,false,false,false,false,false,false,false,false,false,false,false,false,false,false,false,false,false,false,false,false,false,false,false,false,false,false,false,false,false,false,false,false,false,false,false,false,"2020-01-01","384"]
["385-009",null,null,"2xTw ","34",{"$nulls":5},"Emil Konrad","385",1,false,false,false,false,false,false,false,false,false,false,false,false,false,false,false,false,false,false,false,false,false,false,false,false,false,false,false,false,false,false,false,false,false,false,false,false,false,false,false,false,false,false,false,false,false,"2020-01-01","385"]
["387-026",null,null,"Tw ","701","63",{"$nulls":3},1952,"von Witsen","387",1,false,false,false,false,false,false,false,false,false,false,false,false,false,false,false,false,false,false,false,false,false,false,false,false,false,false,false,false,false,false,false,false,false,false,false,false,false,false,false,false,false,false,false,false,false,"2020-01-01","387"]
["387-038",null,null,"4xTw  \n4xTw ","M7 \nR7","71 \n71","Großraumzug mit ungewöhnlich hohem Fassungsvermögen",null,null,1959,"Emil Konrad","387",1,false,false,false,false,false,false,false,false,false,false,false,false,false,false,false,false,false,false,false,false,false,false,false,false,false,false,false,false,false,false,false,false,false,false,false,false,false,false,false,false,false,false,false,false,false,"2020-01-01","387"]
["388-001","VDVA-0388-001","Marcq","4xTw ","433",null,null,8,5,1983,"Günter H. Köhler","388",1,false,false,false,false,false,false,false,false,false,false,false,false,false,false,false,false,false,false,false,false,false,false,false,false,false,false,false,false,false,false,false,false,false,false,false,false,false,false,false,false,false,false,false,false,false,"2020-01-01","388"]
["388-016","VDVA-0388-016","Place de Bethune","2xTw ","844",null,null,13,5,1958,"Dieter Waltking","388",1,false,false,false,false,false,false,false,false,false,false,false,false,false,false,false,false,false,false,false,false,false,false,false,false,false,false,false,false,false,false,false,false,false,false,false,false,false,false,false,false,false,false,false,false,false,"2020-01-01","388"]
["388-031","KW-TA-1980-074","VAL-Btf (Chem. De Lille/Rue de Cysoing)","2x+2xTw","P02"," ","VDVA-Tagung\nVAL-Metro Muster-Haltestelle auf der Ostseite des Betriebshofs",22,8,1980,"Karl-Heinz Wagner","388",1,false,false,false,false,false,false,false,false,false,false,false,false,false,false,false,false,false,false,false,false,false,false,false,false,false,false,false,false,false,false,false,false,false,false,false,false,false,false,false,false,false,false,false,false,false,"2020-01-01","388"]
["388-050","VDVA-0389-020","Lille","4xTw ","407",null,"(war Bild 389-019)",{"$nulls":3},"Peter Boehm","388",1,false,false,false,false,false,false,false,false,false,false,false,false,false,false,false,false,false,false,false,false,false,false,false,false,false,false,false,false,false,false,false,false,false,false,false,false,false,false,false,false,false,false,false,false,false,"2020-01-01","388"]
["388-064","VDVA-0389-039",null,"Bus ",null,"9","Bus für lokalen Service in Roubaix und Tourcoing\n(war Bild 389-039)",1,8,1954,null,"388",1,false,false,false,false,false,false,false,false,false,false,false,false,false,false,false,false,false,false,false,false,false,false,false,false,false,false,false,false,false,false,false,false,false,false,false,false,false,false,false,false,false,false,false,false,false,"2020-01-01","388"]
["390-008","VDVA-0390-008",null,"2xTw  \n2xBw "," \n "," \n ",{"$nulls":4},"Günter Stetza","390",1,false,false,false,false,false,false,false,false,false,false,false,false,false,false,false,false,false,false,false,false,false,false,false,false,false,false,false,false,false,false,false,false,false,false,false,false,false,false,false,false,false,false,false,false,false,"2020-01-01","390"]
["391-001","VDVA-0391-001","Innsbruck, Stubaitalbahnhof","4xTw  \n2xBw "," \n "," \n ",{"$nulls":4},"Peter Boehm","391",1,false,false,false,false,false,false,false,false,false,false,false,false,false,false,false,false,false,false,false,false,false,false,false,false,false,false,false,false,false,false,false,false,false,false,false,false,false,false,false,false,false,false,false,false,false,"2020-01-01","391"]
["391-016","VDVA-0391-016",null,"ArbBw ",null,null,"Unkrautvertilgungswagen",1,9,1959,null,"391",1,false,false,false,false,false,false,false,false,false,false,false,false,false,false,false,false,false,false,false,false,false,false,false,false,false,false,false,false,false,false,false,false,false,false,false,false,false,false,false,false,false,false,false,false,false,"2020-01-01","391"]
["391-035","KW-TA-1965-074","Btf Innsbruck","4xTw","1"," ","",7,8,1965,"Karl-Heinz Wagner","391",1,false,false,false,false,false,false,false,false,false,false,false,false,false,false,false,false,false,false,false,false,false,false,false,false,false,false,false,false,false,false,false,false,false,false,false,false,false,false,false,false,false,false,false,false,false,"2020-01-01","391"]
["391-050","HV-A1-06-38","Stubaitalbahnhof","2xBw","16 "," ",null,17,5,1968,"Horst Völkel","391",1,false,false,false,false,false,false,false,false,false,false,false,false,false,false,false,false,false,false,false,false,false,false,false,false,false,false,false,false,false,false,false,false,false,false,false,false,false,false,false,false,false,false,false,false,false,"2023-03-30",{"$f":"LEFT(A5378,FIND(\"-\",A5378)-1)","v":"391"}]
["392-002","VDVA-0392-002",null,"2xBw ","32",null,"Historisch. Strecke Thun- Interlaken",null,null,1910,null,"392",1,false,false,false,false,false,false,false,false,false,false,false,false,false,false,false,false,false,false,false,false,false,false,false,false,false,false,false,false,false,false,false,false,false,false,false,false,false,false,false,false,false,false,false,false,false,"2020-01-01","392"]
["394-001","VDVA-0394-001","Bahnhof","2xBw  \n4xTw "," \n14"," \n ",{"$nulls":4},"Günter Stetza","394",1,false,false,false,false,false,false,false,false,false,false,false,false,false,false,false,false,false,false,false,false,false,false,false,false,false,false,false,false,false,false,false,false,false,false,false,false,false,false,false,false,false,false,false,false,false,"2020-01-01","394"]
["395-001",null,"Bahnhof, Endstation","Sommer-Bw  \n2xTw "," \n "," \n ","historisch",{"$nulls":4},"395",1,false,false,false,false,false,false,false,false,false,false,false,false,false,false,false,false,false,false,false,false,false,false,false,false,false,false,false,false,false,false,false,false,false,false,false,false,false,false,false,false,false,false,false,false,false,"2020-01-01","395"]
["398-012","VDVA-0398-012","Promenade","2xTw ","5",null,null,4,9,1954,null,"398",1,false,false,false,false,false,false,false,false,false,false,false,false,false,false,false,false,false,false,false,false,false,false,false,false,false,false,false,false,false,false,false,false,false,false,false,false,false,false,false,false,false,false,false,false,false,"2020-01-01","398"]
["398-031","VDVA-0398-031","Endhaltestelle Hauptbahnhof","4xTw ","8",null,null,15,8,1976,"Dr. Heinrich Dillmann","398",1,false,false,false,false,false,false,false,false,false,false,false,false,false,false,false,false,false,false,false,false,false,false,false,false,false,false,false,false,false,false,false,false,false,false,false,false,false,false,false,false,false,false,false,false,false,"2020-01-01","398"]
["401-002","VDVA-0401-002",null,"2xTw ","1",{"$nulls":5},"Friedrich Grünwald","401",1,false,false,false,false,false,false,false,false,false,false,false,false,false,false,false,false,false,false,false,false,false,false,false,false,false,false,false,false,false,false,false,false,false,false,false,false,false,false,false,false,false,false,false,false,false,"2020-01-01","401"]
["401-015","VDVA-0401-015","Krennser Landstraße","2xTw ","2",null,"nahe der Haltestelle Goldeggerstraße",20,8,1969,"Dr. Heinrich Dillmann","401",1,false,false,false,false,false,false,false,false,false,false,false,false,false,false,false,false,false,false,false,false,false,false,false,false,false,false,false,false,false,false,false,false,false,false,false,false,false,false,false,false,false,false,false,false,false,"2020-01-01","401"]
["401-035","HV-A1-10-25",null,"2xBw","11 "," ",{"$nulls":4},"Slg. Horst Völkel","401",1,false,false,false,false,false,false,false,false,false,false,false,false,false,false,false,false,false,false,false,false,false,false,false,false,false,false,false,false,false,false,false,false,false,false,false,false,false,false,false,false,false,false,false,false,false,"2023-03-30","401"]
["401-036","HV-A1-10-27","Papierfabrik Selzer","2xTw","2229 "," ","ex Wien",5,8,1975,"Horst Völkel","401",1,false,false,false,false,false,false,false,false,false,false,false,false,false,false,false,false,false,false,false,false,false,false,false,false,false,false,false,false,false,false,false,false,false,false,false,false,false,false,false,false,false,false,false,false,false,"2023-03-30","401"]
["405-022",null,null,"4xTw ","425","9","(war Bild 404-014)",null,5,1961,null,"405",1,false,false,false,false,false,false,false,false,false,false,false,false,false,false,false,false,false,false,false,false,false,false,false,false,false,false,false,false,false,false,false,false,false,false,false,false,false,false,false,false,false,false,false,false,false,"2020-01-01","405"]
["406-015","VDVA-0406-015","Pisarsky, Depot","2xBw  \n2xBw ","286 \n289"," \n ",null,24,7,1966,"John H. Price","406",1,false,false,false,false,false,false,false,false,false,false,false,false,false,false,false,false,false,false,false,false,false,false,false,false,false,false,false,false,false,false,false,false,false,false,false,false,false,false,false,false,false,false,false,false,false,"2020-01-01","406"]
["406-034","KW-TA-1982-062","Btf Pisárky","4xArbTw","4105"," ","VDVA-Tagung",6,8,1982,"Karl-Heinz Wagner","406",1,false,false,false,false,false,false,false,false,false,false,false,false,false,false,false,false,false,false,false,false,false,false,false,false,false,false,false,false,false,false,false,false,false,false,false,false,false,false,false,false,false,false,false,false,false,"2020-01-01","406"]
["406-038","KW-TA-1982-066","(H) Modrice, smycka (Schleife) Brnenská","6xGelTw \n  \n6xGelTw","1044  \n  \n1066 ","   \n  \n2 ","VDVA-Tagung",6,8,1982,"Karl-Heinz Wagner","406",1,false,false,false,false,false,false,false,false,false,false,false,false,false,false,false,false,false,false,false,false,false,false,false,false,false,false,false,false,false,false,false,false,false,false,false,false,false,false,false,false,false,false,false,false,false,"2020-01-01","406"]
["411-002",null,"Verona PN (Bahnhof)","Obus  \nObus  \nObus "," \n  \n203","  \n  \n1",null,15,8,1962,"K. Rathgeber","411",1,false,false,false,false,false,false,false,false,false,false,false,false,false,false,false,false,false,false,false,false,false,false,false,false,false,false,false,false,false,false,false,false,false,false,false,false,false,false,false,false,false,false,false,false,false,"2020-01-01","411"]
["414-002","VDVA-0414-002","Bahnhof","2xTw ","7",{"$nulls":5},"Günter Stetza","414",1,false,false,false,false,false,false,false,false,false,false,false,false,false,false,false,false,false,false,false,false,false,false,false,false,false,false,false,false,false,false,false,false,false,false,false,false,false,false,false,false,false,false,false,false,false,"2020-01-01","414"]
["416-008",null,"zwischen Wolfsgruben und Lichtenstern","4xTw ",{"$nulls":4},8,1972,null,"416",1,false,false,false,false,false,false,false,false,false,false,false,false,false,false,false,false,false,false,false,false,false,false,false,false,false,false,false,false,false,false,false,false,false,false,false,false,false,false,false,false,false,false,false,false,false,"2020-01-01","416"]
["416-023","VDVA-0416-023","Oberbozen","4xTw  \nGüter-Bw ","1 \n "," \n ",null,13,6,1955,"John H. Price","416",1,false,false,false,false,false,false,false,false,false,false,false,false,false,false,false,false,false,false,false,false,false,false,false,false,false,false,false,false,false,false,false,false,false,false,false,false,false,false,false,false,false,false,false,false,false,"2020-01-01","416"]
["417-010",null,"Schlosspark","2xTw ","55",null,"Trianon Linie",{"$nulls":4},"417",1,false,false,false,false,false,false,false,false,false,false,false,false,false,false,false,false,false,false,false,false,false,false,false,false,false,false,false,false,false,false,false,false,false,false,false,false,false,false,false,false,false,false,false,false,false,"2020-01-01","417"]
["419-008",null,"LRTL Sonderwagen","Doppelstock-Bw ","1",null,"Abtransport ex Marine Drive Nr. 1, Baujahr 1897. Sommerwagen der Douglas Head Marine Drive Ltd (DHMD), 1939 stillgelegt",23,6,1951,"D. W .K. Jones","419",1,false,false,false,false,false,false,false,false,false,false,false,false,false,false,false,false,false,false,false,false,false,false,false,false,false,false,false,false,false,false,false,false,false,false,false,false,false,false,false,false,false,false,false,false,false,"2020-01-01","419"]
["419-015",null,"Douglas","Pferdebahnwagen ","40",null,"LRTL Besuch",30,5,1955,"John H. Price","419",1,false,false,false,false,false,false,false,false,false,false,false,false,false,false,false,false,false,false,false,false,false,false,false,false,false,false,false,false,false,false,false,false,false,false,false,false,false,false,false,false,false,false,false,false,false,"2020-01-01","419"]
["420-002",null,"Ramsey","4xTw ","21",{"$nulls":4},1908,null,"420",1,false,false,false,false,false,false,false,false,false,false,false,false,false,false,false,false,false,false,false,false,false,false,false,false,false,false,false,false,false,false,false,false,false,false,false,false,false,false,false,false,false,false,false,false,false,"2020-01-01","420"]
["421-001","VDVA-0421-001","Snaefell Gipfelstatlon","4xTw ","6",{"$nulls":5},"Günter Stetza","421",1,false,false,false,false,false,false,false,false,false,false,false,false,false,false,false,false,false,false,false,false,false,false,false,false,false,false,false,false,false,false,false,false,false,false,false,false,false,false,false,false,false,false,false,false,false,"2020-01-01","421"]
["423-007",null,null,"4xTw ","228","12",null,2,6,1979,"Horst Michelke","423",1,false,false,false,false,false,false,false,false,false,false,false,false,false,false,false,false,false,false,false,false,false,false,false,false,false,false,false,false,false,false,false,false,false,false,false,false,false,false,false,false,false,false,false,false,false,"2020-01-01","423"]
["423-022","JN-HR-ZG-002","Ljubljanica","Bus","74 ","113 ","ex Nürnberg",3,8,1997,"Jürgen Niemeyer","423",1,false,false,false,false,false,false,false,false,false,false,false,false,false,false,false,false,false,false,false,false,false,false,false,false,false,false,false,false,false,false,false,false,false,false,false,false,false,false,false,false,false,false,false,false,false,"2020-01-01","423"]
["423-027","JN-HR-ZG-007","Savski Most","4xBw\n+4xTw\n \n4xBw\n+4xTw","873 \n \n \n \n ","7 \n7 \n \n \n ",null,3,8,1997,"Jürgen Niemeyer","423",1,false,false,false,false,false,false,false,false,false,false,false,false,false,false,false,false,false,false,false,false,false,false,false,false,false,false,false,false,false,false,false,false,false,false,false,false,false,false,false,false,false,false,false,false,false,"2020-01-01","423"]
["423-046","JN-HR-ZG-026","Dolje ","4xTw\n+4xBw","421 \nx "," \n ",null,5,8,1997,"Jürgen Niemeyer","423",1,false,false,false,false,false,false,false,false,false,false,false,false,false,false,false,false,false,false,false,false,false,false,false,false,false,false,false,false,false,false,false,false,false,false,false,false,false,false,false,false,false,false,false,false,false,"2020-01-01","423"]
["423-056","JN-HR-ZG-036",null,"6xGelTw","908 ","13 ","ex Mannheim 435 ",3,8,1997,"Jürgen Niemeyer","423",1,false,false,false,false,false,false,false,false,false,false,false,false,false,false,false,false,false,false,false,false,false,false,false,false,false,false,false,false,false,false,false,false,false,false,false,false,false,false,false,false,false,false,false,false,false,"2020-01-01","423"]
["423-075","JN-HR-ZG-055",null,"6xGelTw","924 ","1 ","ex Mannheim 375",7,8,1997,"Jürgen Niemeyer","423",1,false,false,false,false,false,false,false,false,false,false,false,false,false,false,false,false,false,false,false,false,false,false,false,false,false,false,false,false,false,false,false,false,false,false,false,false,false,false,false,false,false,false,false,false,false,"2020-01-01","423"]
["423-090","JN-HR-ZG-070","Jelacicplatz ","6xGelTw","941 ","13 ","ex Mannheim 462 ",7,8,1997,"Jürgen Niemeyer","423",1,false,false,false,false,false,false,false,false,false,false,false,false,false,false,false,false,false,false,false,false,false,false,false,false,false,false,false,false,false,false,false,false,false,false,false,false,false,false,false,false,false,false,false,false,false,"2020-01-01","423"]
["423-105",null,"Samobor","4xSommer-Bw ","22",null,"Zagreb-Samobar (GZZ)\n(war Bild 718-006)",27,8,1976,"Dr. Heinrich Dillmann","423",1,false,false,false,false,false,false,false,false,false,false,false,false,false,false,false,false,false,false,false,false,false,false,false,false,false,false,false,false,false,false,false,false,false,false,false,false,false,false,false,false,false,false,false,false,false,"2020-01-01","423"]
["424-005","VDVA-0424-005","Hauptdepot","4xTw ","46",null,null,1,7,1960,"John H. Price","424",1,false,false,false,false,false,false,false,false,false,false,false,false,false,false,false,false,false,false,false,false,false,false,false,false,false,false,false,false,false,false,false,false,false,false,false,false,false,false,false,false,false,false,false,false,false,"2020-01-01","424"]
["424-019","VDVA-0424-019",null,"2xTw  \n2xBw ","92 \n137"," \n ",{"$nulls":3},1960,"Emil Konrad","424",1,false,false,false,false,false,false,false,false,false,false,false,false,false,false,false,false,false,false,false,false,false,false,false,false,false,false,false,false,false,false,false,false,false,false,false,false,false,false,false,false,false,false,false,false,false,"2020-01-01","424"]
["424-038","VDVA-0424-038","Kalemegdan","Bus ","441",null,null,11,6,1962,"John H. Price","424",1,false,false,false,false,false,false,false,false,false,false,false,false,false,false,false,false,false,false,false,false,false,false,false,false,false,false,false,false,false,false,false,false,false,false,false,false,false,false,false,false,false,false,false,false,false,"2020-01-01","424"]
["428-014","VDVA-0428-014",null,"2xTw","1051",{"$nulls":6},"428",1,false,false,false,false,false,false,false,false,false,false,false,false,false,false,false,false,false,false,false,false,false,false,false,false,false,false,false,false,false,false,false,false,false,false,false,false,false,false,false,false,false,false,false,false,false,"2020-01-01","428"]
["429-014","VDVA-0429-014",null,"4xTw ","968","3",{"$nulls":4},"Emil Konrad","429",1,false,false,false,false,false,false,false,false,false,false,false,false,false,false,false,false,false,false,false,false,false,false,false,false,false,false,false,false,false,false,false,false,false,false,false,false,false,false,false,false,false,false,false,false,false,"2020-01-01","429"]
["429-019","VDVA-0429-019",null,"4xTw ",{"$nulls":5},1951,null,"429",1,false,false,false,false,false,false,false,false,false,false,false,false,false,false,false,false,false,false,false,false,false,false,false,false,false,false,false,false,false,false,false,false,false,false,false,false,false,false,false,false,false,false,false,false,false,"2020-01-01","429"]
["429-037","RCN186-020","Via Ammiraglio Ferdinando Acton (Tunnel del Vittoria)","4xTw","993 ","1 ",{"$nulls":4},"Ronald Copson","429",1,false,false,false,false,false,false,false,false,false,false,false,false,false,false,false,false,false,false,false,false,false,false,false,false,false,false,false,false,false,false,false,false,false,false,false,false,false,false,false,false,false,false,false,false,false,"2020-01-01","429"]
["435-006",null,null,"2xBw ",{"$nulls":6},"Emil Konrad","435",1,false,false,false,false,false,false,false,false,false,false,false,false,false,false,false,false,false,false,false,false,false,false,false,false,false,false,false,false,false,false,false,false,false,false,false,false,false,false,false,false,false,false,false,false,false,"2020-01-01","435"]
["437-002",null,"Altstätten","2xTw ","1",{"$nulls":5},"Peter Boehm","437",1,false,false,false,false,false,false,false,false,false,false,false,false,false,false,false,false,false,false,false,false,false,false,false,false,false,false,false,false,false,false,false,false,false,false,false,false,false,false,false,false,false,false,false,false,false,"2020-01-01","437"]
["439-005","GL-410-010","Btf Anderlues","6xGelTw"," "," ","(war Bild 374-040)",null,null,1984,"Gerd Leimbach","439",1,false,false,false,false,false,false,false,false,false,false,false,false,false,false,false,false,false,false,false,false,false,false,false,false,false,false,false,false,false,false,false,false,false,false,false,false,false,false,false,false,false,false,false,false,false,"2020-01-01","439"]
["439-010","GL-410-015","","4xTw","9173","41","(war Bild 374-045)",null,null,1984,"Gerd Leimbach","439",1,false,false,false,false,false,false,false,false,false,false,false,false,false,false,false,false,false,false,false,false,false,false,false,false,false,false,false,false,false,false,false,false,false,false,false,false,false,false,false,false,false,false,false,false,false,"2020-01-01","439"]
["439-025","KW-TA-1980-062","","4xTw \n+4xBw","   \n  ","80  \n80 ","(war Bild 374-063)",20,8,1980,"Karl-Heinz Wagner","439",1,false,false,false,false,false,false,false,false,false,false,false,false,false,false,false,false,false,false,false,false,false,false,false,false,false,false,false,false,false,false,false,false,false,false,false,false,false,false,false,false,false,false,false,false,false,"2020-01-01","439"]
["439-040",null,"Marchienne bei Charleroi","4xTw ","10231","83","(war Bild 170-088)",23,3,1949,null,"439",1,false,false,false,false,false,false,false,false,false,false,false,false,false,false,false,false,false,false,false,false,false,false,false,false,false,false,false,false,false,false,false,false,false,false,false,false,false,false,false,false,false,false,false,false,false,"2020-01-01","439"]
["442-001",null,null,"4xTw ","50",{"$nulls":6},"442",1,false,false,false,false,false,false,false,false,false,false,false,false,false,false,false,false,false,false,false,false,false,false,false,false,false,false,false,false,false,false,false,false,false,false,false,false,false,false,false,false,false,false,false,false,false,"2020-01-01","442"]
["444-013","KW-TA-1975-054","Btf Abels gate","2xArbTw","44"," ","VDVA-Tagung",22,8,1975,"Karl-Heinz Wagner","444",1,false,false,false,false,false,false,false,false,false,false,false,false,false,false,false,false,false,false,false,false,false,false,false,false,false,false,false,false,false,false,false,false,false,false,false,false,false,false,false,false,false,false,false,false,false,"2020-01-01","444"]
["446-004",{"$nulls":5},"Fünf 2x Tw an einer Kreuzung. Menschenauflauf. Unfall?",{"$nulls":4},"446",1,false,false,false,false,false,false,false,false,false,false,false,false,false,false,false,false,false,false,false,false,false,false,false,false,false,false,false,false,false,false,false,false,false,false,false,false,false,false,false,false,false,false,false,false,false,"2020-01-01","446"]
["447-001","VDVA-0447-001",null,"2xTw ","17",{"$nulls":5},"Günter Stetza","447",1,false,false,false,false,false,false,false,false,false,false,false,false,false,false,false,false,false,false,false,false,false,false,false,false,false,false,false,false,false,false,false,false,false,false,false,false,false,false,false,false,false,false,false,false,false,"2020-01-01","447"]
["452-004",null,"Straßenbahnhaltestelle",{"$nulls":3},"in Richtung Stadion",null,null,1952,null,"452",1,false,false,false,false,false,false,false,false,false,false,false,false,false,false,false,false,false,false,false,false,false,false,false,false,false,false,false,false,false,false,false,false,false,false,false,false,false,false,false,false,false,false,false,false,false,"2020-01-01","452"]
["458-002",null,null,"4xTw ",null,null,"PCC Wagen",{"$nulls":3},"Louis Clessens","458",1,false,false,false,false,false,false,false,false,false,false,false,false,false,false,false,false,false,false,false,false,false,false,false,false,false,false,false,false,false,false,false,false,false,false,false,false,false,false,false,false,false,false,false,false,false,"2020-01-01","458"]
["461-005","VDVA-0461-005",null,"2xTw ","41","8",{"$nulls":4},"Günter Stetza","461",1,false,false,false,false,false,false,false,false,false,false,false,false,false,false,false,false,false,false,false,false,false,false,false,false,false,false,false,false,false,false,false,false,false,false,false,false,false,false,false,false,false,false,false,false,false,"2020-01-01","461"]
["462-007",null,null,"2xTw ","17","6",{"$nulls":4},"Dr. Bürnheim","462",1,false,false,false,false,false,false,false,false,false,false,false,false,false,false,false,false,false,false,false,false,false,false,false,false,false,false,false,false,false,false,false,false,false,false,false,false,false,false,false,false,false,false,false,false,false,"2020-01-01","462"]
["466-010",null,"Praca do Comercio","2xBw  \n2xTw "," \n521"," \n ",{"$nulls":3},1969,"Helmut Glock","466",1,false,false,false,false,false,false,false,false,false,false,false,false,false,false,false,false,false,false,false,false,false,false,false,false,false,false,false,false,false,false,false,false,false,false,false,false,false,false,false,false,false,false,false,false,false,"2020-01-01","466"]
["466-011",null,"Praca de Figuera","2xTw ","5140",{"$nulls":6},"466",1,false,false,false,false,false,false,false,false,false,false,false,false,false,false,false,false,false,false,false,false,false,false,false,false,false,false,false,false,false,false,false,false,false,false,false,false,false,false,false,false,false,false,false,false,false,"2020-01-01","466"]
["466-030","KW-TA-1974-015","Altstadt","","","","VDVA-Tagung\nGleiszustand",26,8,1974,"Karl-Heinz Wagner","466",1,false,false,false,false,false,false,false,false,false,false,false,false,false,false,false,false,false,false,false,false,false,false,false,false,false,false,false,false,false,false,false,false,false,false,false,false,false,false,false,false,false,false,false,false,false,"2020-01-01","466"]
["466-045","KW-TA-1974-035","U-Bahn-Btf","4xTw","A-6"," ","VDVA-Tagung",27,8,1974,"Karl-Heinz Wagner","466",1,false,false,false,false,false,false,false,false,false,false,false,false,false,false,false,false,false,false,false,false,false,false,false,false,false,false,false,false,false,false,false,false,false,false,false,false,false,false,false,false,false,false,false,false,false,"2020-01-01","466"]
["467-009","KW-TA-1974-060","Btf","2xBw"," "," ","VDVA-Tagung\n=a",28,8,1974,"Karl-Heinz Wagner","467",1,false,false,false,false,false,false,false,false,false,false,false,false,false,false,false,false,false,false,false,false,false,false,false,false,false,false,false,false,false,false,false,false,false,false,false,false,false,false,false,false,false,false,false,false,false,"2020-01-01","467"]
["468-012","KW-TA-1974-096","","2xTw","215"," ","Sonderzug VDVA-Tagung",30,8,1974,"Karl-Heinz Wagner","468",1,false,false,false,false,false,false,false,false,false,false,false,false,false,false,false,false,false,false,false,false,false,false,false,false,false,false,false,false,false,false,false,false,false,false,false,false,false,false,false,false,false,false,false,false,false,"2020-01-01","468"]
["468-027","KW-TA-1974-115","Btf Masarelos","2xTw","400"," ","VDVA-Tagung",30,8,1974,"Karl-Heinz Wagner","468",1,false,false,false,false,false,false,false,false,false,false,false,false,false,false,false,false,false,false,false,false,false,false,false,false,false,false,false,false,false,false,false,false,false,false,false,false,false,false,false,false,false,false,false,false,false,"2020-01-01","468"]
["468-028","KW-TA-1974-116","Btf Masarelos","4xBw","1"," ","VDVA-Tagung",30,8,1974,"Karl-Heinz Wagner","468",1,false,false,false,false,false,false,false,false,false,false,false,false,false,false,false,false,false,false,false,false,false,false,false,false,false,false,false,false,false,false,false,false,false,false,false,false,false,false,false,false,false,false,false,false,false,"2020-01-01","468"]
["469-014",null,"Keleti pu (Ostbahnhof)","2xBw ","5806","17",{"$nulls":4},"Emil Konrad","469",1,false,false,false,false,false,false,false,false,false,false,false,false,false,false,false,false,false,false,false,false,false,false,false,false,false,false,false,false,false,false,false,false,false,false,false,false,false,false,false,false,false,false,false,false,false,"2020-01-01","469"]
["469-029",null,"Baross-ter","2xBw  \n2xTw  \n2xBw ","5965 \n2715 \n5955","4 \n4 \n4",null,28,7,1956,"John H. Price","469",1,false,false,false,false,false,false,false,false,false,false,false,false,false,false,false,false,false,false,false,false,false,false,false,false,false,false,false,false,false,false,false,false,false,false,false,false,false,false,false,false,false,false,false,false,false,"2020-01-01","469"]
["469-045",null,"Donauufer","4xTw ","3604","2",null,29,7,1956,"John H. Price","469",1,false,false,false,false,false,false,false,false,false,false,false,false,false,false,false,false,false,false,false,false,false,false,false,false,false,false,false,false,false,false,false,false,false,false,false,false,false,false,false,false,false,false,false,false,false,"2020-01-01","469"]
["469-062",null,null,"2xTw ","1057","58",{"$nulls":3},1964,null,"469",1,false,false,false,false,false,false,false,false,false,false,false,false,false,false,false,false,false,false,false,false,false,false,false,false,false,false,false,false,false,false,false,false,false,false,false,false,false,false,false,false,false,false,false,false,false,"2020-01-01","469"]
["469-077",null,"An der Linie 56","2xBw  \n2xTw ","5800 \n2800","56 \n56",{"$nulls":5},"469",1,false,false,false,false,false,false,false,false,false,false,false,false,false,false,false,false,false,false,false,false,false,false,false,false,false,false,false,false,false,false,false,false,false,false,false,false,false,false,false,false,false,false,false,false,false,"2020-01-01","469"]
["469-082",null,null,"Obus  \nObusanhänger ","T277 \n910"," \n ",{"$nulls":3},1961,null,"469",1,false,false,false,false,false,false,false,false,false,false,false,false,false,false,false,false,false,false,false,false,false,false,false,false,false,false,false,false,false,false,false,false,false,false,false,false,false,false,false,false,false,false,false,false,false,"2020-01-01",{"$f":"LEFT(A6274,FIND(\"-\",A6274)-1)","v":"469"}]
["469-097",null,null,"2xBw ","5200","3",null,null,9,1975,"Horst Golzsch","469",1,false,false,false,false,false,false,false,false,false,false,false,false,false,false,false,false,false,false,false,false,false,false,false,false,false,false,false,false,false,false,false,false,false,false,false,false,false,false,false,false,false,false,false,false,false,"2020-01-01","469"]
["469-116","VDVA-0469-116","Vaci-út","2xTw  \n2xTw ","2104 \n2105"," \n ",null,29,7,1956,"John H. Price","469",1,false,false,false,false,false,false,false,false,false,false,false,false,false,false,false,false,false,false,false,false,false,false,false,false,false,false,false,false,false,false,false,false,false,false,false,false,false,false,false,false,false,false,false,false,false,"2020-01-01","469"]
["469-123","VDVA-0469-123","Lenin-körút","2xBw  \n2xBw  \n2xTw ","6040 \n6041 \n2810","6 \n6 \n6",null,29,7,1956,"John H. Price","469",1,false,false,false,false,false,false,false,false,false,false,false,false,false,false,false,false,false,false,false,false,false,false,false,false,false,false,false,false,false,false,false,false,false,false,false,false,false,false,false,false,false,false,false,false,false,"2020-01-01","469"]
["469-145","KW-TA-1969-060","(H) Városmajor (Szilágyi Erzsébet fasor)","2xTw \n+2xBw","1504  \nxx91 ","63  \n63 ","",null,8,1969,"Karl-Heinz Wagner","469",1,false,false,false,false,false,false,false,false,false,false,false,false,false,false,false,false,false,false,false,false,false,false,false,false,false,false,false,false,false,false,false,false,false,false,false,false,false,false,false,false,false,false,false,false,false,"2020-01-01","469"]
["469-150","KW-TA-1969-065","Fiumei út","4xTw \n+4xBw \n+4xTw","3547  \n5650  \n  ","   \n   \n  ","",null,8,1969,"Karl-Heinz Wagner","469",1,false,false,false,false,false,false,false,false,false,false,false,false,false,false,false,false,false,false,false,false,false,false,false,false,false,false,false,false,false,false,false,false,false,false,false,false,false,false,false,false,false,false,false,false,false,"2020-01-01","469"]
["472-006","VDVA-0472-006",null,"2xTw  \n2xTw ","211 \n212","2 \n2",{"$nulls":4},"Günter Stetza","472",1,false,false,false,false,false,false,false,false,false,false,false,false,false,false,false,false,false,false,false,false,false,false,false,false,false,false,false,false,false,false,false,false,false,false,false,false,false,false,false,false,false,false,false,false,false,"2020-01-01","472"]
["474-006","VDVA-0474-006","Lapad","2xTw ","7",null,null,27,6,1960,"John H. Price","474",1,false,false,false,false,false,false,false,false,false,false,false,false,false,false,false,false,false,false,false,false,false,false,false,false,false,false,false,false,false,false,false,false,false,false,false,false,false,false,false,false,false,false,false,false,false,"2020-01-01","474"]
["475-010","VDVA-0475-010","nahe Neuer Hauptbahnhof","2xBw  \n2xTw "," \n52"," \n ",null,29,6,1960,"John H. Price","475",1,false,false,false,false,false,false,false,false,false,false,false,false,false,false,false,false,false,false,false,false,false,false,false,false,false,false,false,false,false,false,false,false,false,false,false,false,false,false,false,false,false,false,false,false,false,"2020-01-01","475"]
["478-005",null,"Endstation Hafen von Soller","2xTw ","2",null,null,8,9,1975,"Günter H. Köhler","478",1,false,false,false,false,false,false,false,false,false,false,false,false,false,false,false,false,false,false,false,false,false,false,false,false,false,false,false,false,false,false,false,false,false,false,false,false,false,false,false,false,false,false,false,false,false,"2020-01-01","478"]
["480-002",null,"Telfneien (Kohlehafen)","2xTw ","63",{"$nulls":6},"480",1,false,false,false,false,false,false,false,false,false,false,false,false,false,false,false,false,false,false,false,false,false,false,false,false,false,false,false,false,false,false,false,false,false,false,false,false,false,false,false,false,false,false,false,false,false,"2020-01-01","480"]
["486-002",null,null,"4xTw ","6911",{"$nulls":5},"Peter Boehm","486",1,false,false,false,false,false,false,false,false,false,false,false,false,false,false,false,false,false,false,false,false,false,false,false,false,false,false,false,false,false,false,false,false,false,false,false,false,false,false,false,false,false,false,false,false,false,"2020-01-01","486"]
["487-013","VDVA-0487-013","Depot Moharrem Bey","2xTw ","99",null,null,20,2,1981,"Dr. Heinrich Dillmann","487",1,false,false,false,false,false,false,false,false,false,false,false,false,false,false,false,false,false,false,false,false,false,false,false,false,false,false,false,false,false,false,false,false,false,false,false,false,false,false,false,false,false,false,false,false,false,"2020-01-01","487"]
["487-032",null,null,"4xTw ","995",null,null,27,11,1975,"Horst Michelke","487",1,false,false,false,false,false,false,false,false,false,false,false,false,false,false,false,false,false,false,false,false,false,false,false,false,false,false,false,false,false,false,false,false,false,false,false,false,false,false,false,false,false,false,false,false,false,"2020-01-01","487"]
["488-002",null,null,"Obus ","593",{"$nulls":6},"488",1,false,false,false,false,false,false,false,false,false,false,false,false,false,false,false,false,false,false,false,false,false,false,false,false,false,false,false,false,false,false,false,false,false,false,false,false,false,false,false,false,false,false,false,false,false,"2020-01-01","488"]
["492-002",null,null,"4xTw ","5704",{"$nulls":6},"492",1,false,false,false,false,false,false,false,false,false,false,false,false,false,false,false,false,false,false,false,false,false,false,false,false,false,false,false,false,false,false,false,false,false,false,false,false,false,false,false,false,false,false,false,false,false,"2020-01-01","492"]
["493-006",null,"Quincy, Mass.","ArbBw  \nArbBw  \n4xTw  \nArbBw "," \n  \n  \n "," \n  \n  \n ","East Mass. Street Railway\n(war Bild 494-002)",{"$nulls":4},"493",1,false,false,false,false,false,false,false,false,false,false,false,false,false,false,false,false,false,false,false,false,false,false,false,false,false,false,false,false,false,false,false,false,false,false,false,false,false,false,false,false,false,false,false,false,false,"2020-01-01","493"]
["493-021",null,"Fields Depot","ArbTw ","1059",null,"Boston Elevated Railway\n(war Bild 666-013)",null,null,1947,null,"493",1,false,false,false,false,false,false,false,false,false,false,false,false,false,false,false,false,false,false,false,false,false,false,false,false,false,false,false,false,false,false,false,false,false,false,false,false,false,false,false,false,false,false,false,false,false,"2020-01-01","493"]
["498-016","VDVA-0498-016","Baicului","Doppelgelenkbus ","7071",null,null,30,8,1994,"Günter H. Köhler","498",1,false,false,false,false,false,false,false,false,false,false,false,false,false,false,false,false,false,false,false,false,false,false,false,false,false,false,false,false,false,false,false,false,false,false,false,false,false,false,false,false,false,false,false,false,false,"2020-01-01","498"]
["498-031","VDVA-0498-031","Nordbahnhof","4xBw  \n4xTw ","1226 \n241","34 \n34","ex Frankfurt am Main",18,8,1996,"Günter H. Köhler","498",1,false,false,false,false,false,false,false,false,false,false,false,false,false,false,false,false,false,false,false,false,false,false,false,false,false,false,false,false,false,false,false,false,false,false,false,false,false,false,false,false,false,false,false,false,false,"2020-01-01","498"]
["500-011","VDVA-0500-011","Bahnhof Srodmiescie","2xTw  \n2xBw ","540 \n1690","30 \n30","Bw 1690: KSW",23,7,1957,"John H. Price","500",1,false,false,false,false,false,false,false,false,false,false,false,false,false,false,false,false,false,false,false,false,false,false,false,false,false,false,false,false,false,false,false,false,false,false,false,false,false,false,false,false,false,false,false,false,false,"2020-01-01","500"]
["500-016","VDVA-0500-016","Altstadttunnel, Ost-West- Straße","2xTw  \n2xBw  \n2xBw "," \n  \n1709","18 \n18 \n18","KSW",23,7,1957,"John H. Price","500",1,false,false,false,false,false,false,false,false,false,false,false,false,false,false,false,false,false,false,false,false,false,false,false,false,false,false,false,false,false,false,false,false,false,false,false,false,false,false,false,false,false,false,false,false,false,"2020-01-01","500"]
["500-033","VDVA-0500-033","Kreuzung Marzalkowska","Obus ","101",null,null,23,7,1957,"John H. Price","500",1,false,false,false,false,false,false,false,false,false,false,false,false,false,false,false,false,false,false,false,false,false,false,false,false,false,false,false,false,false,false,false,false,false,false,false,false,false,false,false,false,false,false,false,false,false,"2020-01-01","500"]
["503-008",null,"Depot der Straßenbahnlinie 20","6xGelTw  \n6xGelTw ","1003 \n1002"," \n ",null,2,9,1994,"Günter H. Köhler","503",1,false,false,false,false,false,false,false,false,false,false,false,false,false,false,false,false,false,false,false,false,false,false,false,false,false,false,false,false,false,false,false,false,false,false,false,false,false,false,false,false,false,false,false,false,false,"2020-01-01","503"]
["503-023",null,null,"6xGelTw ","937","9",null,10,6,1964,null,"503",1,false,false,false,false,false,false,false,false,false,false,false,false,false,false,false,false,false,false,false,false,false,false,false,false,false,false,false,false,false,false,false,false,false,false,false,false,false,false,false,false,false,false,false,false,false,"2020-01-01","503"]
["511-005","VDVA-0511-005",null,"2xTw ","8","11",null,5,7,1968,"Horst Michelke","511",1,false,false,false,false,false,false,false,false,false,false,false,false,false,false,false,false,false,false,false,false,false,false,false,false,false,false,false,false,false,false,false,false,false,false,false,false,false,false,false,false,false,false,false,false,false,"2020-01-01","511"]
["511-010","VDVA-0511-010",null,"2xTw ","6",{"$nulls":6},"511",1,false,false,false,false,false,false,false,false,false,false,false,false,false,false,false,false,false,false,false,false,false,false,false,false,false,false,false,false,false,false,false,false,false,false,false,false,false,false,false,false,false,false,false,false,false,"2020-01-01","511"]
["511-025","VDVA-0511-025","Markt","2xTw  \n2xBw ","6 \n56","3 \n3",{"$nulls":3},1938,"Friedrich Grünwald","511",1,false,false,false,false,false,false,false,false,false,false,false,false,false,false,false,false,false,false,false,false,false,false,false,false,false,false,false,false,false,false,false,false,false,false,false,false,false,false,false,false,false,false,false,false,false,"2020-01-01","511"]
["520-005",{"$nulls":5},"Führerstand des Typs KTM-5",{"$nulls":3},"Ladislav Reznicek","520",1,false,false,false,false,false,false,false,false,false,false,false,false,false,false,false,false,false,false,false,false,false,false,false,false,false,false,false,false,false,false,false,false,false,false,false,false,false,false,false,false,false,false,false,false,false,"2020-01-01","520"]
["523-007",null,null,"Metro-Tw ","2248",{"$nulls":4},1964,"Emil Konrad","523",1,false,false,false,false,false,false,false,false,false,false,false,false,false,false,false,false,false,false,false,false,false,false,false,false,false,false,false,false,false,false,false,false,false,false,false,false,false,false,false,false,false,false,false,false,false,"2020-01-01","523"]
["524-003",null,"Knokke, Endhaltestelle","4xBw ","19711",null,"(war Bild 170-067)",21,8,1970,"Dr. Heinrich Dillmann","524",1,false,false,false,false,false,false,false,false,false,false,false,false,false,false,false,false,false,false,false,false,false,false,false,false,false,false,false,false,false,false,false,false,false,false,false,false,false,false,false,false,false,false,false,false,false,"2020-01-01","524"]
["524-022",null,"De Panne, Betriebshof","4xTw  \n4xBw ","10049 \n19698"," \n ","VDVA Sonderzug\n(war Bild 170-195)",21,8,1970,"Dr. Heinrich Dillmann","524",1,false,false,false,false,false,false,false,false,false,false,false,false,false,false,false,false,false,false,false,false,false,false,false,false,false,false,false,false,false,false,false,false,false,false,false,false,false,false,false,false,false,false,false,false,false,"2020-01-01","524"]
["524-023",null,"Oostende, Betriebshof","ArbTw ","10021",null,"(war Bild 170-196)",21,8,1970,"Dr. Heinrich Dillmann","524",1,false,false,false,false,false,false,false,false,false,false,false,false,false,false,false,false,false,false,false,false,false,false,false,false,false,false,false,false,false,false,false,false,false,false,false,false,false,false,false,false,false,false,false,false,false,"2020-01-01","524"]
["524-038","KW-TA-1970-036","Btf Oostende","2xArbTw","10021"," ","VDVA-Tagung\n(war Bild 170-218)",21,8,1970,"Karl-Heinz Wagner","524",1,false,false,false,false,false,false,false,false,false,false,false,false,false,false,false,false,false,false,false,false,false,false,false,false,false,false,false,false,false,false,false,false,false,false,false,false,false,false,false,false,false,false,false,false,false,"2020-01-01","524"]
["527-002",null,null,"2xTw ",{"$nulls":7},"527",1,false,false,false,false,false,false,false,false,false,false,false,false,false,false,false,false,false,false,false,false,false,false,false,false,false,false,false,false,false,false,false,false,false,false,false,false,false,false,false,false,false,false,false,false,false,"2020-01-01","527"]
["533-003",null,null,"2xTw ","28",{"$nulls":6},"533",1,false,false,false,false,false,false,false,false,false,false,false,false,false,false,false,false,false,false,false,false,false,false,false,false,false,false,false,false,false,false,false,false,false,false,false,false,false,false,false,false,false,false,false,false,false,"2020-01-01","533"]
["533-022",null,null,"ArbTw ","1336",{"$nulls":3},8,1985,"Wolfgang Schreiner","533",1,false,false,false,false,false,false,false,false,false,false,false,false,false,false,false,false,false,false,false,false,false,false,false,false,false,false,false,false,false,false,false,false,false,false,false,false,false,false,false,false,false,false,false,false,false,"2020-01-01","533"]
["536-001",null,null,"4xBw ","128",null,null,27,7,1949,"J. R. Bernard","536",1,false,false,false,false,false,false,false,false,false,false,false,false,false,false,false,false,false,false,false,false,false,false,false,false,false,false,false,false,false,false,false,false,false,false,false,false,false,false,false,false,false,false,false,false,false,"2020-01-01","536"]
["537-001",null,null,"ArbTw ","523",{"$nulls":5},"Ladislav Reznicek","537",1,false,false,false,false,false,false,false,false,false,false,false,false,false,false,false,false,false,false,false,false,false,false,false,false,false,false,false,false,false,false,false,false,false,false,false,false,false,false,false,false,false,false,false,false,false,"2020-01-01","537"]
["543-005",null,null,"Obus ","745",{"$nulls":3},8,1985,"Wolfgang Schreiner","543",1,false,false,false,false,false,false,false,false,false,false,false,false,false,false,false,false,false,false,false,false,false,false,false,false,false,false,false,false,false,false,false,false,false,false,false,false,false,false,false,false,false,false,false,false,false,"2020-01-01","543"]
["553-002",null,"Diosgyr","4xGelTw ","104",null,"mit schwebendem Mittelteil",null,9,1964,"Folkard","553",1,false,false,false,false,false,false,false,false,false,false,false,false,false,false,false,false,false,false,false,false,false,false,false,false,false,false,false,false,false,false,false,false,false,false,false,false,false,false,false,false,false,false,false,false,false,"2020-01-01","553"]
["562-002",null,null,"2xTw ","4",{"$nulls":3},5,1906,null,"562",1,false,false,false,false,false,false,false,false,false,false,false,false,false,false,false,false,false,false,false,false,false,false,false,false,false,false,false,false,false,false,false,false,false,false,false,false,false,false,false,false,false,false,false,false,false,"2020-01-01","562"]
["567-006",null,null,"4xTw  \n4xTw ","88 \n4387"," \n ",{"$nulls":5},"567",1,false,false,false,false,false,false,false,false,false,false,false,false,false,false,false,false,false,false,false,false,false,false,false,false,false,false,false,false,false,false,false,false,false,false,false,false,false,false,false,false,false,false,false,false,false,"2020-01-01","567"]
["577-004",null,null,"4xTw ","515",null,"Ringlinie",28,11,1948,"J. R. Bernard","577",1,false,false,false,false,false,false,false,false,false,false,false,false,false,false,false,false,false,false,false,false,false,false,false,false,false,false,false,false,false,false,false,false,false,false,false,false,false,false,false,false,false,false,false,false,false,"2020-01-01","577"]
["580-001",null,null,"4xTw ","66",{"$nulls":5},"Anderson","580",1,false,false,false,false,false,false,false,false,false,false,false,false,false,false,false,false,false,false,false,false,false,false,false,false,false,false,false,false,false,false,false,false,false,false,false,false,false,false,false,false,false,false,false,false,false,"2020-01-01","580"]
["586-004",null,"Allentown, PA, At. Johns Bridge","4xTw ","432",null,"City Car",20,6,1947,null,"586",1,false,false,false,false,false,false,false,false,false,false,false,false,false,false,false,false,false,false,false,false,false,false,false,false,false,false,false,false,false,false,false,false,false,false,false,false,false,false,false,false,false,false,false,false,false,"2020-01-01","586"]
["590-002",null,null,"ArbTw  \nArbTw  \nArbBw ","0519 \n  \n "," \n  \n ","für die Instandhaltung",null,8,1949,"Bill Vigrass","590",1,false,false,false,false,false,false,false,false,false,false,false,false,false,false,false,false,false,false,false,false,false,false,false,false,false,false,false,false,false,false,false,false,false,false,false,false,false,false,false,false,false,false,false,false,false,"2020-01-01","590"]
["602-001",null,null,"2xTw  \n2xBw ","27 \n ","8 \n8",{"$nulls":3},1936,null,"602",1,false,false,false,false,false,false,false,false,false,false,false,false,false,false,false,false,false,false,false,false,false,false,false,false,false,false,false,false,false,false,false,false,false,false,false,false,false,false,false,false,false,false,false,false,false,"2020-01-01","602"]
["610-001",null,null,"Obus ","21",{"$nulls":4},1947,null,"610",1,false,false,false,false,false,false,false,false,false,false,false,false,false,false,false,false,false,false,false,false,false,false,false,false,false,false,false,false,false,false,false,false,false,false,false,false,false,false,false,false,false,false,false,false,false,"2020-01-01","610"]
["618-003",null,null,"ArbTw ","71",{"$nulls":3},8,1947,null,"618",1,false,false,false,false,false,false,false,false,false,false,false,false,false,false,false,false,false,false,false,false,false,false,false,false,false,false,false,false,false,false,false,false,false,false,false,false,false,false,false,false,false,false,false,false,false,"2020-01-01","618"]
["620-001",null,null,"Doppelstock-Tw ","3",{"$nulls":6},"620",1,false,false,false,false,false,false,false,false,false,false,false,false,false,false,false,false,false,false,false,false,false,false,false,false,false,false,false,false,false,false,false,false,false,false,false,false,false,false,false,false,false,false,false,false,false,"2020-01-01","620"]
["624-003",null,null,"4xBw ","1",{"$nulls":4},1902,null,"624",1,false,false,false,false,false,false,false,false,false,false,false,false,false,false,false,false,false,false,false,false,false,false,false,false,false,false,false,false,false,false,false,false,false,false,false,false,false,false,false,false,false,false,false,false,false,"2020-01-01","624"]
["639-002",null,"Betriebshof Mallard Road","Doppelstockobus ","160",null,null,15,5,1958,"Dieter Waltking","639",1,false,false,false,false,false,false,false,false,false,false,false,false,false,false,false,false,false,false,false,false,false,false,false,false,false,false,false,false,false,false,false,false,false,false,false,false,false,false,false,false,false,false,false,false,false,"2020-01-01","639"]
["649-019",null,null,"Doppelstock-Tw ",{"$nulls":7},"649",1,false,false,false,false,false,false,false,false,false,false,false,false,false,false,false,false,false,false,false,false,false,false,false,false,false,false,false,false,false,false,false,false,false,false,false,false,false,false,false,false,false,false,false,false,false,"2020-01-01","649"]
["658-004",null,"Depot","4xTw  \n4xTw ","? \n17"," \n ","HTC existierte von 1903-1946",null,12,1946,"R. Fredrick","658",1,false,false,false,false,false,false,false,false,false,false,false,false,false,false,false,false,false,false,false,false,false,false,false,false,false,false,false,false,false,false,false,false,false,false,false,false,false,false,false,false,false,false,false,false,false,"2020-01-01","658"]
["663-001",null,null,"4xTw ","18",{"$nulls":4},1903,null,"663",1,false,false,false,false,false,false,false,false,false,false,false,false,false,false,false,false,false,false,false,false,false,false,false,false,false,false,false,false,false,false,false,false,false,false,false,false,false,false,false,false,false,false,false,false,false,"2020-01-01","663"]
["680-000",{"$nulls":5},"Die Dias für diese Kategorie sind bereits gescannt, aber noch nicht verarbeitet. Bitte noch etwas Geduld.",{"$nulls":4},"680",1,false,false,false,false,false,false,false,false,false,false,false,false,false,false,false,false,false,false,false,false,false,false,false,false,false,false,false,false,false,false,false,false,false,false,false,false,false,false,false,false,false,false,false,false,false,null,"680"]
["697-008",null,null,"2xTw ","40",null,null,12,7,1968,"Horst Michelke","697",1,false,false,false,false,false,false,false,false,false,false,false,false,false,false,false,false,false,false,false,false,false,false,false,false,false,false,false,false,false,false,false,false,false,false,false,false,false,false,false,false,false,false,false,false,false,"2020-01-01","697"]
["697-018","VDVA-0697-018","Hranecnik Depot","ArbTw ","449",null,null,25,7,1966,"John H. Price","697",1,false,false,false,false,false,false,false,false,false,false,false,false,false,false,false,false,false,false,false,false,false,false,false,false,false,false,false,false,false,false,false,false,false,false,false,false,false,false,false,false,false,false,false,false,false,"2020-01-01","697"]
["736-002","VDVA-0736-002","Endstation Orasul de Sus","2xBw  \n2xTw ","5 \n10"," \n ",null,21,6,1962,"John H. Price","736",1,false,false,false,false,false,false,false,false,false,false,false,false,false,false,false,false,false,false,false,false,false,false,false,false,false,false,false,false,false,false,false,false,false,false,false,false,false,false,false,false,false,false,false,false,false,"2020-01-01","736"]
["736-007","VDVA-0736-008","Endstation Orasul de Sus","2xBw  \n2xTw ","5 \n10"," \n ",null,21,6,1962,"John H. Price","736",1,false,false,false,false,false,false,false,false,false,false,false,false,false,false,false,false,false,false,false,false,false,false,false,false,false,false,false,false,false,false,false,false,false,false,false,false,false,false,false,false,false,false,false,false,false,"2020-01-01","736"]
["745-001",null,null,"2xTw ","6",null,null,13,8,1969,"Ronald Copson","745",1,false,false,false,false,false,false,false,false,false,false,false,false,false,false,false,false,false,false,false,false,false,false,false,false,false,false,false,false,false,false,false,false,false,false,false,false,false,false,false,false,false,false,false,false,false,"2020-01-01","745"]
["749-002","VDVA-0749-002","Casa Ofrterilor","Obus ","49",null,null,20,6,1962,"John H. Price","749",1,false,false,false,false,false,false,false,false,false,false,false,false,false,false,false,false,false,false,false,false,false,false,false,false,false,false,false,false,false,false,false,false,false,false,false,false,false,false,false,false,false,false,false,false,false,"2020-01-01","749"]
["759-011",null,null,"4xTw ","300","1",null,null,6,1986,"Wolfgang Schreiner","759",1,false,false,false,false,false,false,false,false,false,false,false,false,false,false,false,false,false,false,false,false,false,false,false,false,false,false,false,false,false,false,false,false,false,false,false,false,false,false,false,false,false,false,false,false,false,"2020-01-01","759"]
["764-000",{"$nulls":5},"Die Dias für diese Kategorie sind bereits gescannt, aber noch nicht verarbeitet. Bitte noch etwas Geduld.",{"$nulls":4},"764",1,false,false,false,false,false,false,false,false,false,false,false,false,false,false,false,false,false,false,false,false,false,false,false,false,false,false,false,false,false,false,false,false,false,false,false,false,false,false,false,false,false,false,false,false,false,null,"764"]
["773-000",{"$nulls":5},"Die Dias für diese Kategorie sind bereits gescannt, aber noch nicht verarbeitet. Bitte noch etwas Geduld.",{"$nulls":4},"773",1,false,false,false,false,false,false,false,false,false,false,false,false,false,false,false,false,false,false,false,false,false,false,false,false,false,false,false,false,false,false,false,false,false,false,false,false,false,false,false,false,false,false,false,false,false,null,{"$f":"LEFT(A7170,FIND(\"-\",A7170)-1)","v":"773"}]
["788-000",{"$nulls":5},"Die Dias für diese Kategorie sind bereits gescannt, aber noch nicht verarbeitet. Bitte noch etwas Geduld.",{"$nulls":4},"788",1,false,false,false,false,false,false,false,false,false,false,false,false,false,false,false,false,false,false,false,false,false,false,false,false,false,false,false,false,false,false,false,false,false,false,false,false,false,false,false,false,false,false,false,false,false,null,"788"]
["803-000",{"$nulls":5},"Die Dias für diese Kategorie sind bereits gescannt, aber noch nicht verarbeitet. Bitte noch etwas Geduld.",{"$nulls":4},"803",1,false,false,false,false,false,false,false,false,false,false,false,false,false,false,false,false,false,false,false,false,false,false,false,false,false,false,false,false,false,false,false,false,false,false,false,false,false,false,false,false,false,false,false,false,false,null,"803"]
["822-000",{"$nulls":5},"Die Dias für diese Kategorie sind bereits gescannt, aber noch nicht verarbeitet. Bitte noch etwas Geduld.",{"$nulls":4},"822",1,false,false,false,false,false,false,false,false,false,false,false,false,false,false,false,false,false,false,false,false,false,false,false,false,false,false,false,false,false,false,false,false,false,false,false,false,false,false,false,false,false,false,false,false,false,null,"822"]
["837-000",{"$nulls":5},"Die Dias für diese Kategorie sind bereits gescannt, aber noch nicht verarbeitet. Bitte noch etwas Geduld.",{"$nulls":4},"837",1,false,false,false,false,false,false,false,false,false,false,false,false,false,false,false,false,false,false,false,false,false,false,false,false,false,false,false,false,false,false,false,false,false,false,false,false,false,false,false,false,false,false,false,false,false,null,{"$f":"LEFT(A7234,FIND(\"-\",A7234)-1)","v":"837"}]
["846-000",{"$nulls":5},"Die Dias für diese Kategorie sind bereits gescannt, aber noch nicht verarbeitet. Bitte noch etwas Geduld.",{"$nulls":4},"846",1,false,false,false,false,false,false,false,false,false,false,false,false,false,false,false,false,false,false,false,false,false,false,false,false,false,false,false,false,false,false,false,false,false,false,false,false,false,false,false,false,false,false,false,false,false,null,"846"]
["856-000",{"$nulls":5},"Die Dias für diese Kategorie sind bereits gescannt, aber noch nicht verarbeitet. Bitte noch etwas Geduld.",{"$nulls":4},"856",1,false,false,false,false,false,false,false,false,false,false,false,false,false,false,false,false,false,false,false,false,false,false,false,false,false,false,false,false,false,false,false,false,false,false,false,false,false,false,false,false,false,false,false,false,false,null,"856"]
["871-000",{"$nulls":5},"Die Dias für diese Kategorie sind bereits gescannt, aber noch nicht verarbeitet. Bitte noch etwas Geduld.",{"$nulls":4},"871",1,false,false,false,false,false,false,false,false,false,false,false,false,false,false,false,false,false,false,false,false,false,false,false,false,false,false,false,false,false,false,false,false,false,false,false,false,false,false,false,false,false,false,false,false,false,null,"871"]
["1111-005",{"$nulls":5},"Brighton & Rottingdean Seashore Electric Railway",null,null,1896,null,"1111",1,false,false,false,false,false,false,false,false,false,false,false,false,false,false,false,false,false,false,false,false,false,false,false,false,false,false,false,false,false,false,false,false,false,false,false,false,false,false,false,false,false,false,false,false,false,"2020-01-01","1111"]
["1120-004",null,null,"Doppelstock-Tw ","99","D","In 1936 stillgelegt",{"$nulls":4},"1120",1,false,false,false,false,false,false,false,false,false,false,false,false,false,false,false,false,false,false,false,false,false,false,false,false,false,false,false,false,false,false,false,false,false,false,false,false,false,false,false,false,false,false,false,false,false,"2020-01-01","1120"]
["1128-005",null,null,"Doppelstock-Tw ",null,null,"stillgelegt 1941",null,null,1941,null,"1128",1,false,false,false,false,false,false,false,false,false,false,false,false,false,false,false,false,false,false,false,false,false,false,false,false,false,false,false,false,false,false,false,false,false,false,false,false,false,false,false,false,false,false,false,false,false,"2020-01-01","1128"]
["1133-001",null,null,"Doppelstock-Tw ","84",null,"Museumstram",null,null,1984,"John H. Price","1133",1,false,false,false,false,false,false,false,false,false,false,false,false,false,false,false,false,false,false,false,false,false,false,false,false,false,false,false,false,false,false,false,false,false,false,false,false,false,false,false,false,false,false,false,false,false,"2020-01-01","1133"]
["1134-001",null,null,"Doppelstockobus ",null,null,"Museumsstück mit offenem Oberdeck, Baujahr 1928",null,null,1928,null,"1134",1,false,false,false,false,false,false,false,false,false,false,false,false,false,false,false,false,false,false,false,false,false,false,false,false,false,false,false,false,false,false,false,false,false,false,false,false,false,false,false,false,false,false,false,false,false,"2020-01-01","1134"]
["1201-018",null,"Place de le Pte. De St. Cloud","2xTw  \n4xBw "," \n ","123 \n123","letzte Linie von Paris",null,3,1937,null,"1201",1,false,false,false,false,false,false,false,false,false,false,false,false,false,false,false,false,false,false,false,false,false,false,false,false,false,false,false,false,false,false,false,false,false,false,false,false,false,false,false,false,false,false,false,false,false,"2020-01-01","1201"]
["1207-001",null,null,"2xTw ","30",{"$nulls":6},"1207",1,false,false,false,false,false,false,false,false,false,false,false,false,false,false,false,false,false,false,false,false,false,false,false,false,false,false,false,false,false,false,false,false,false,false,false,false,false,false,false,false,false,false,false,false,false,"2020-01-01","1207"]
["1401-010","VDVA-1401-010","Innenstadt. Endstation Gleisende",{"$nulls":4},11,6,1955,"John H. Price","1401",1,false,false,false,false,false,false,false,false,false,false,false,false,false,false,false,false,false,false,false,false,false,false,false,false,false,false,false,false,false,false,false,false,false,false,false,false,false,false,false,false,false,false,false,false,false,"2020-01-01","1401"]
["1601-015",null,null,"4xTw ","143",{"$nulls":5},"Emil Konrad","1601",1,false,false,false,false,false,false,false,false,false,false,false,false,false,false,false,false,false,false,false,false,false,false,false,false,false,false,false,false,false,false,false,false,false,false,false,false,false,false,false,false,false,false,false,false,false,"2020-01-01","1601"]
["1601-016",null,"Piräus, Staatstheater","Obus ","711",null,null,26,9,1979,"Günter H. Köhler","1601",1,false,false,false,false,false,false,false,false,false,false,false,false,false,false,false,false,false,false,false,false,false,false,false,false,false,false,false,false,false,false,false,false,false,false,false,false,false,false,false,false,false,false,false,false,false,"2020-01-01","1601"]
["1701-007","VDVA-1701-007","Titor Trg.","Obus ","14",null,null,26,6,1960,"John H. Price","1701",1,false,false,false,false,false,false,false,false,false,false,false,false,false,false,false,false,false,false,false,false,false,false,false,false,false,false,false,false,false,false,false,false,false,false,false,false,false,false,false,false,false,false,false,false,false,"2020-01-01","1701"]
["1701-008","VDVA-1701-008","Hauptbahnhof","Obus ","6",null,null,26,6,1960,"John H. Price","1701",1,false,false,false,false,false,false,false,false,false,false,false,false,false,false,false,false,false,false,false,false,false,false,false,false,false,false,false,false,false,false,false,false,false,false,false,false,false,false,false,false,false,false,false,false,false,"2020-01-01","1701"]
["2101-001","HV-A1-03-02","Graz, Btf II","2xTw\n \n2xTw","2406 \n \n297 "," \n \n ","Tw 2406 ex Wien\nTw 297 ex München",20,5,1980,"Horst Völkel","2101",1,false,false,false,false,false,false,false,false,false,false,false,false,false,false,false,false,false,false,false,false,false,false,false,false,false,false,false,false,false,false,false,false,false,false,false,false,false,false,false,false,false,false,false,false,false,"2023-03-30","2101"]
["2101-002","HV-A1-03-03","Graz, Btf III","2xArbTw","6154 "," ","ex Wien",20,5,1980,"Horst Völkel","2101",1,false,false,false,false,false,false,false,false,false,false,false,false,false,false,false,false,false,false,false,false,false,false,false,false,false,false,false,false,false,false,false,false,false,false,false,false,false,false,false,false,false,false,false,false,false,"2023-03-30","2101"]
["2102-000",{"$nulls":5},"Die Dias für diese Kategorie sind bereits gescannt, aber noch nicht verarbeitet. Bitte noch etwas Geduld.",{"$nulls":4},"2102",null,false,false,false,false,false,false,false,false,false,false,false,false,false,false,false,false,false,false,false,false,false,false,false,false,false,false,false,false,false,false,false,false,false,false,false,false,false,false,false,false,false,false,false,false,false,null,"2102"]
["2104-001","HV-A1-10-29","Straßenbahnmuseum Btf Erdberg",""," "," ",{"$nulls":4},"Horst Völkel","2104",1,false,false,false,false,false,false,false,false,false,false,false,false,false,false,false,false,false,false,false,false,false,false,false,false,false,false,false,false,false,false,false,false,false,false,false,false,false,false,false,false,false,false,false,false,false,"2023-03-30","2104"]
["2104-002","HV-A1-10-30","Straßenbahnmuseum Btf Erdberg","Pferdebahnwg","340 "," ",null,20,7,1990,"Horst Völkel","2104",1,false,false,false,false,false,false,false,false,false,false,false,false,false,false,false,false,false,false,false,false,false,false,false,false,false,false,false,false,false,false,false,false,false,false,false,false,false,false,false,false,false,false,false,false,false,"2023-03-30","2104"]
["2104-003","HV-A1-10-31","Straßenbahnmuseum Btf Erdberg","Dampflok","11 "," ",null,20,7,1990,"Horst Völkel","2104",1,false,false,false,false,false,false,false,false,false,false,false,false,false,false,false,false,false,false,false,false,false,false,false,false,false,false,false,false,false,false,false,false,false,false,false,false,false,false,false,false,false,false,false,false,false,"2023-03-30",{"$f":"LEFT(A7426,FIND(\"-\",A7426)-1)","v":"2104"}]
["2104-004","HV-A1-10-32","Straßenbahnmuseum Btf Erdberg","2xBw","72 "," ",null,20,7,1990,"Horst Völkel","2104",1,false,false,false,false,false,false,false,false,false,false,false,false,false,false,false,false,false,false,false,false,false,false,false,false,false,false,false,false,false,false,false,false,false,false,false,false,false,false,false,false,false,false,false,false,false,"2023-03-30","2104"]
["2104-005","HV-A1-10-35","Straßenbahnmuseum Btf Erdberg","2xTw","2215 "," ",null,20,7,1990,"Horst Völkel","2104",1,false,false,false,false,false,false,false,false,false,false,false,false,false,false,false,false,false,false,false,false,false,false,false,false,false,false,false,false,false,false,false,false,false,false,false,false,false,false,false,false,false,false,false,false,false,"2023-03-30","2104"]
["2104-006","HV-A1-10-38","Straßenbahnmuseum Btf Erdberg","2xTw","51 "," ",null,20,7,1990,"Horst Völkel","2104",1,false,false,false,false,false,false,false,false,false,false,false,false,false,false,false,false,false,false,false,false,false,false,false,false,false,false,false,false,false,false,false,false,false,false,false,false,false,false,false,false,false,false,false,false,false,"2023-03-30","2104"]
["2104-007","HV-A1-10-41","Straßenbahnmuseum Btf Erdberg","2xBw","5786 "," ",null,20,7,1990,"Horst Völkel","2104",1,false,false,false,false,false,false,false,false,false,false,false,false,false,false,false,false,false,false,false,false,false,false,false,false,false,false,false,false,false,false,false,false,false,false,false,false,false,false,false,false,false,false,false,false,false,"2023-03-30","2104"]
["2104-008","HV-A1-10-42","Straßenbahnmuseum Btf Erdberg","2xArbTw","6859 "," ",null,20,7,1990,"Horst Völkel","2104",1,false,false,false,false,false,false,false,false,false,false,false,false,false,false,false,false,false,false,false,false,false,false,false,false,false,false,false,false,false,false,false,false,false,false,false,false,false,false,false,false,false,false,false,false,false,"2023-03-30","2104"]
["2104-009","HV-A1-14-61","Straßenbahnmuseum Btf Erdberg","2xBw","5235 "," ","Sonderzug VDVA-Tagung",20,7,1990,"Horst Völkel","2104",1,false,false,false,false,false,false,false,false,false,false,false,false,false,false,false,false,false,false,false,false,false,false,false,false,false,false,false,false,false,false,false,false,false,false,false,false,false,false,false,false,false,false,false,false,false,"2023-03-30","2104"]
["2104-010","JN-A-W-034","Verkehrsmuseum Remise, Fruethstr","4xTw","4208 "," ","(war Bild 203-322)",12,5,1996,"Jürgen Niemeyer","2104",3,false,true,false,false,false,false,false,false,false,true,false,false,false,false,false,false,false,false,false,false,false,false,false,false,false,false,false,false,false,false,false,false,false,false,false,false,false,false,false,false,false,false,false,false,false,"2020-01-01","2104"]
["2104-011","JN-A-W-035","Verkehrsmuseum Remise, Fruethstr","4xGelTw","4301 "," ","Detailaufnahme des schwebenden Mittelteils\n(war Bild 203-323)",12,5,1996,"Jürgen Niemeyer","2104",1,false,true,false,false,false,false,false,false,false,false,false,true,false,false,false,false,false,false,false,false,false,false,false,false,false,false,false,false,false,false,false,false,false,false,false,false,false,false,false,false,false,false,false,false,false,"2020-01-01","2104"]
["2104-012","JN-A-W-036","Verkehrsmuseum Remise, Fruethstr","4xGelTw","4301 "," ","(war Bild 203-324)",12,5,1996,"Jürgen Niemeyer","2104",1,false,true,false,false,false,false,false,false,false,false,false,true,false,false,false,false,false,false,false,false,false,false,false,false,false,false,false,false,false,false,false,false,false,false,false,false,false,false,false,false,false,false,false,false,false,"2020-01-01","2104"]
["2106-001","HV-A1-10-14",null,"2xDraisine"," "," ","ex St. Pölten",28,5,1980,"Horst Völkel","2106",1,false,false,false,false,false,false,false,false,false,false,false,false,false,false,false,false,false,false,false,false,false,false,false,false,false,false,false,false,false,false,false,false,false,false,false,false,false,false,false,false,false,false,false,false,false,"2023-03-30","2106"]
["2106-002","KW-TA-1982-073",null,"2xTw","2362"," ","ex Wien \n(Bild auch unter Nr. 203-285 abgelegt)",null,8,1982,"Karl-Heinz Wagner","2106",1,false,true,false,false,false,false,false,false,true,false,false,false,false,false,false,false,false,false,false,false,false,false,false,false,false,false,false,false,false,false,false,false,false,false,false,false,false,false,false,false,false,false,false,false,false,"2020-01-01","2106"]
["2106-003","KW-TA-1982-074",null,"2xBw","5527"," ","ex Wien \n(Bild auch unter Nr. 203-286 abgelegt)",null,8,1982,"Karl-Heinz Wagner","2106",1,false,false,true,false,false,false,false,false,false,false,false,false,false,false,false,false,false,false,true,false,false,false,false,false,false,false,false,false,false,false,false,false,false,false,false,false,false,false,false,false,false,false,false,false,false,"2020-01-01","2106"]
["2107-001","KW-TA-1982-009","St. Florian","2xTw \n+2xBw","1  \n4 ","   \n  ","VDVA-Tagung\n(war Bild 229-012)",2,8,1982,"Karl-Heinz Wagner","2107",1,true,false,false,false,false,false,false,false,false,false,false,false,false,false,false,false,false,false,false,false,false,false,false,false,false,false,false,false,false,false,false,false,false,false,false,false,false,false,false,false,false,false,false,false,false,"2020-01-01","2107"]
["2107-002","KW-TA-1982-010","St. Florian","2xTw","7"," ","VDVA-Tagung\nex Gmunden\n(war Bild 229-013)",2,8,1982,"Karl-Heinz Wagner","2107",1,true,false,false,false,false,false,false,false,false,false,false,false,false,false,false,false,false,false,false,false,false,false,false,false,false,false,false,false,false,false,false,false,false,false,false,false,false,false,false,false,false,false,false,false,false,"2020-01-01","2107"]
["2107-003","KW-TA-1982-011","St. Florian","2xTw","7"," ","VDVA-Tagung\nex Gmunden\n(war Bild 229-014)",2,8,1982,"Karl-Heinz Wagner","2107",1,true,false,false,false,false,false,false,false,false,false,false,false,false,false,false,false,false,false,false,false,false,false,false,false,false,false,false,false,false,false,false,false,false,false,false,false,false,false,false,false,false,false,false,false,false,"2020-01-01","2107"]
["2107-004","KW-TA-1982-014","(H) Pichling-See","2xTw","1"," ","VDVA-Tagung\n(war Bild 229-015)",2,8,1982,"Karl-Heinz Wagner","2107",1,true,false,false,false,false,false,false,false,false,false,false,false,false,false,false,false,false,false,false,false,false,false,false,false,false,false,false,false,false,false,false,false,false,false,false,false,false,false,false,false,false,false,false,false,false,"2020-01-01","2107"]
["2107-005","KW-TA-1982-015","(H) Pichling-See","","","","VDVA-Tagung\n(war Bild 229-016)",2,8,1982,"Karl-Heinz Wagner","2107",1,true,false,false,false,false,false,false,false,false,false,false,false,false,false,false,false,false,false,false,false,false,false,false,false,false,false,false,false,false,false,false,false,false,false,false,false,false,false,false,false,false,false,false,false,false,"2020-01-01","2107"]
["2107-006","KW-TA-1982-016","(H) Pichling-See","2xTw","1"," ","VDVA-Tagung\n(war Bild 229-017)",2,8,1982,"Karl-Heinz Wagner","2107",1,true,false,false,false,false,false,false,false,false,false,false,false,false,false,false,false,false,false,false,false,false,false,false,false,false,false,false,false,false,false,false,false,false,false,false,false,false,false,false,false,false,false,false,false,false,"2020-01-01","2107"]
["2107-007","HV-A1-07-15",null,"2xTw","30 "," ","ex Linz",26,7,1987,"Horst Völkel","2107",1,true,false,false,false,false,false,false,false,false,false,false,false,false,false,false,false,false,false,false,false,false,false,false,false,false,false,false,false,false,false,false,false,false,false,false,false,false,false,false,false,false,false,false,false,false,"2023-03-30","2107"]
["2107-008","HV-A1-09-39",null,"2xTw","XIII "," ","ex Linz Pöstlingbergbahn",2,8,1982,"Horst Völkel","2107",1,true,false,false,false,false,false,false,false,false,false,false,false,false,false,false,false,false,false,false,false,false,false,false,false,false,false,false,false,false,false,false,false,false,false,false,false,false,false,false,false,false,false,false,false,false,"2023-03-30","2107"]
["2107-009","HV-A1-09-30",null,"2xTw","7 "," ","ex Gmunden\nMuseumsbahn",26,7,1987,"Horst Völkel","2107",1,true,false,false,false,false,false,false,false,false,false,false,false,false,false,false,false,false,false,false,false,false,false,false,false,false,false,false,false,false,false,false,false,false,false,false,false,false,false,false,false,false,false,false,false,false,"2023-03-30","2107"]
["2107-010","HV-A1-09-31",null,"2xTw","7 "," ","ex Gmunden\nMuseumsbahn",null,8,1987,"Slg. Horst Völkel","2107",1,true,false,false,false,false,false,false,false,false,false,false,false,false,false,false,false,false,false,false,false,false,false,false,false,false,false,false,false,false,false,false,false,false,false,false,false,false,false,false,false,false,false,false,false,false,"2023-03-30","2107"]
["2107-011","HV-A1-09-36",null,"2xBw","4 "," ",null,28,5,1980,"Horst Völkel","2107",1,true,false,false,false,false,false,false,false,false,false,false,false,false,false,false,false,false,false,false,false,false,false,false,false,false,false,false,false,false,false,false,false,false,false,false,false,false,false,false,false,false,false,false,false,false,"2023-03-30","2107"]
["2107-012","HV-A1-09-42",null,"2xArbBw","30 "," ","Generatorwagen ex Bw 127",28,5,1980,"Horst Völkel","2107",1,true,false,false,false,false,false,false,false,false,false,false,false,false,false,false,false,false,false,false,false,false,false,false,false,false,false,false,false,false,false,false,false,false,false,false,false,false,false,false,false,false,false,false,false,false,"2023-03-30","2107"]
["2107-013","HV-A1-10-02",null,"2xTw\n+2xBw","7 \n4 "," \n ","VDVA-Tagung\nTw 7 ex Gmunden\nMuseumsbahn",2,8,1982,"Horst Völkel","2107",1,true,false,false,false,false,false,false,false,false,false,false,false,false,false,false,false,false,false,false,false,false,false,false,false,false,false,false,false,false,false,false,false,false,false,false,false,false,false,false,false,false,false,false,false,false,"2023-03-30","2107"]
["2111-000",{"$nulls":5},"Die Dias für diese Kategorie sind bereits gescannt, aber noch nicht verarbeitet. Bitte noch etwas Geduld.",{"$nulls":4},"2111",1,true,false,false,false,false,false,false,false,false,false,false,false,false,false,false,false,false,false,false,false,false,false,false,false,false,false,false,false,false,false,false,false,false,false,false,false,false,false,false,false,false,false,false,false,false,null,"2111"]
["2112-000",{"$nulls":5},"Die Dias für diese Kategorie sind bereits gescannt, aber noch nicht verarbeitet. Bitte noch etwas Geduld.",{"$nulls":4},"2112",1,true,false,false,false,false,false,false,false,false,false,false,false,false,false,false,false,false,false,false,false,false,false,false,false,false,false,false,false,false,false,false,false,false,false,false,false,false,false,false,false,false,false,false,false,false,null,"2112"]
["2113-000",{"$nulls":5},"Die Dias für diese Kategorie sind bereits gescannt, aber noch nicht verarbeitet. Bitte noch etwas Geduld.",{"$nulls":4},"2113",1,true,false,false,false,false,false,false,false,false,false,false,false,false,false,false,false,false,false,false,false,false,false,false,false,false,false,false,false,false,false,false,false,false,false,false,false,false,false,false,false,false,false,false,false,false,null,"2113"]
["2114-000",{"$nulls":5},"Die Dias für diese Kategorie sind bereits gescannt, aber noch nicht verarbeitet. Bitte noch etwas Geduld.",{"$nulls":4},"2114",1,true,false,false,false,false,false,false,false,false,false,false,false,false,false,false,false,false,false,false,false,false,false,false,false,false,false,false,false,false,false,false,false,false,false,false,false,false,false,false,false,false,false,false,false,false,null,"2114"]
["2115-000",{"$nulls":5},"Die Dias für diese Kategorie sind bereits gescannt, aber noch nicht verarbeitet. Bitte noch etwas Geduld.",{"$nulls":4},"2115",1,true,false,false,false,false,false,false,false,false,false,false,false,false,false,false,false,false,false,false,false,false,false,false,false,false,false,false,false,false,false,false,false,false,false,false,false,false,false,false,false,false,false,false,false,false,null,"2115"]
["2116-000",{"$nulls":5},"Die Dias für diese Kategorie sind bereits gescannt, aber noch nicht verarbeitet. Bitte noch etwas Geduld.",{"$nulls":4},"2116",1,true,false,false,false,false,false,false,false,false,false,false,false,false,false,false,false,false,false,false,false,false,false,false,false,false,false,false,false,false,false,false,false,false,false,false,false,false,false,false,false,false,false,false,false,false,null,"2116"]
["2117-000",{"$nulls":5},"Die Dias für diese Kategorie sind bereits gescannt, aber noch nicht verarbeitet. Bitte noch etwas Geduld.",{"$nulls":4},"2117",1,true,false,false,false,false,false,false,false,false,false,false,false,false,false,false,false,false,false,false,false,false,false,false,false,false,false,false,false,false,false,false,false,false,false,false,false,false,false,false,false,false,false,false,false,false,null,"2117"]
["2118-000",{"$nulls":5},"Die Dias für diese Kategorie sind bereits gescannt, aber noch nicht verarbeitet. Bitte noch etwas Geduld.",{"$nulls":4},"2118",1,true,false,false,false,false,false,false,false,false,false,false,false,false,false,false,false,false,false,false,false,false,false,false,false,false,false,false,false,false,false,false,false,false,false,false,false,false,false,false,false,false,false,false,false,false,null,"2118"]
["2119-000",{"$nulls":5},"Die Dias für diese Kategorie sind bereits gescannt, aber noch nicht verarbeitet. Bitte noch etwas Geduld.",{"$nulls":4},"2119",1,true,false,false,false,false,false,false,false,false,false,false,false,false,false,false,false,false,false,false,false,false,false,false,false,false,false,false,false,false,false,false,false,false,false,false,false,false,false,false,false,false,false,false,false,false,null,"2119"]
["2131-000",{"$nulls":5},"Die Dias für diese Kategorie sind bereits gescannt, aber noch nicht verarbeitet. Bitte noch etwas Geduld.",{"$nulls":4},"2131",1,true,false,false,false,false,false,false,false,false,false,false,false,false,false,false,false,false,false,false,false,false,false,false,false,false,false,false,false,false,false,false,false,false,false,false,false,false,false,false,false,false,false,false,false,false,null,"2131"]
["2132-000",{"$nulls":5},"Die Dias für diese Kategorie sind bereits gescannt, aber noch nicht verarbeitet. Bitte noch etwas Geduld.",{"$nulls":4},"2132",1,true,false,false,false,false,false,false,false,false,false,false,false,false,false,false,false,false,false,false,false,false,false,false,false,false,false,false,false,false,false,false,false,false,false,false,false,false,false,false,false,false,false,false,false,false,null,"2132"]
["2133-000",{"$nulls":5},"Die Dias für diese Kategorie sind bereits gescannt, aber noch nicht verarbeitet. Bitte noch etwas Geduld.",{"$nulls":4},"2133",1,true,false,false,false,false,false,false,false,false,false,false,false,false,false,false,false,false,false,false,false,false,false,false,false,false,false,false,false,false,false,false,false,false,false,false,false,false,false,false,false,false,false,false,false,false,null,"2133"]
["2134-001",null,null,"2xTw ","19",null,"(war Bild 170-191)",29,9,1963,"G. Gerlach","2134",1,true,false,false,false,false,false,false,false,false,false,false,false,false,false,false,false,false,false,false,false,false,false,false,false,false,false,false,false,false,false,false,false,false,false,false,false,false,false,false,false,false,false,false,false,false,"2020-01-01","2134"]
["2134-002",null,null,"Pferdebahnwagen ","132",null,"(war Bild 170-192)",29,9,1963,"G. Gerlach","2134",1,true,false,false,false,false,false,false,false,false,false,false,false,false,false,false,false,false,false,false,false,false,false,false,false,false,false,false,false,false,false,false,false,false,false,false,false,false,false,false,false,false,false,false,false,false,"2020-01-01","2134"]
["2136-001","GL-464-017","","4xTw","10409","41","PCC\n(war Bild 374-050)",null,null,1989,"Gerd Leimbach","2136",1,true,false,false,false,false,false,false,false,false,false,false,false,false,false,false,false,false,false,false,false,false,false,false,false,false,false,false,false,false,false,false,false,false,false,false,false,false,false,false,false,false,false,false,false,false,"2020-01-01","2136"]
["2136-002","GL-464-022","","4xTw","10409"," ","PCC\n(war Bild 374-052)",null,null,1989,"Gerd Leimbach","2136",1,true,false,false,false,false,false,false,false,false,false,false,false,false,false,false,false,false,false,false,false,false,false,false,false,false,false,false,false,false,false,false,false,false,false,false,false,false,false,false,false,false,false,false,false,false,"2020-01-01","2136"]
["2136-003","GL-464-024","Btf","4xTw","10409","60","PCC\n(war Bild 374-054)",null,null,1989,"Gerd Leimbach","2136",1,true,false,false,false,false,false,false,false,false,false,false,false,false,false,false,false,false,false,false,false,false,false,false,false,false,false,false,false,false,false,false,false,false,false,false,false,false,false,false,false,false,false,false,false,false,"2020-01-01","2136"]
["2161-000",{"$nulls":5},"Die Dias für diese Kategorie sind bereits gescannt, aber noch nicht verarbeitet. Bitte noch etwas Geduld.",{"$nulls":4},"2161",1,true,false,false,false,false,false,false,false,false,false,false,false,false,false,false,false,false,false,false,false,false,false,false,false,false,false,false,false,false,false,false,false,false,false,false,false,false,false,false,false,false,false,false,false,false,null,"2161"]
["2162-000",{"$nulls":5},"Die Dias für diese Kategorie sind bereits gescannt, aber noch nicht verarbeitet. Bitte noch etwas Geduld.",{"$nulls":4},"2162",1,true,false,false,false,false,false,false,false,false,false,false,false,false,false,false,false,false,false,false,false,false,false,false,false,false,false,false,false,false,false,false,false,false,false,false,false,false,false,false,false,false,false,false,false,false,null,"2162"]
["2163-000",{"$nulls":5},"Die Dias für diese Kategorie sind bereits gescannt, aber noch nicht verarbeitet. Bitte noch etwas Geduld.",{"$nulls":4},"2163",1,true,false,false,false,false,false,false,false,false,false,false,false,false,false,false,false,false,false,false,false,false,false,false,false,false,false,false,false,false,false,false,false,false,false,false,false,false,false,false,false,false,false,false,false,false,null,"2163"]
["2164-000",{"$nulls":5},"Die Dias für diese Kategorie sind bereits gescannt, aber noch nicht verarbeitet. Bitte noch etwas Geduld.",{"$nulls":4},"2164",1,true,false,false,false,false,false,false,false,false,false,false,false,false,false,false,false,false,false,false,false,false,false,false,false,false,false,false,false,false,false,false,false,false,false,false,false,false,false,false,false,false,false,false,false,false,null,"2164"]
["2171-000",{"$nulls":5},"Die Dias für diese Kategorie sind bereits gescannt, aber noch nicht verarbeitet. Bitte noch etwas Geduld.",{"$nulls":4},"2171",1,true,false,false,false,false,false,false,false,false,false,false,false,false,false,false,false,false,false,false,false,false,false,false,false,false,false,false,false,false,false,false,false,false,false,false,false,false,false,false,false,false,false,false,false,false,null,"2171"]
["2172-000",{"$nulls":5},"Die Dias für diese Kategorie sind bereits gescannt, aber noch nicht verarbeitet. Bitte noch etwas Geduld.",{"$nulls":4},"2172",1,true,false,false,false,false,false,false,false,false,false,false,false,false,false,false,false,false,false,false,false,false,false,false,false,false,false,false,false,false,false,false,false,false,false,false,false,false,false,false,false,false,false,false,false,false,null,"2172"]
["2173-000",{"$nulls":5},"Die Dias für diese Kategorie sind bereits gescannt, aber noch nicht verarbeitet. Bitte noch etwas Geduld.",{"$nulls":4},"2173",1,true,false,false,false,false,false,false,false,false,false,false,false,false,false,false,false,false,false,false,false,false,false,false,false,false,false,false,false,false,false,false,false,false,false,false,false,false,false,false,false,false,false,false,false,false,null,"2173"]
["2191-000",{"$nulls":5},"Die Dias für diese Kategorie sind bereits gescannt, aber noch nicht verarbeitet. Bitte noch etwas Geduld.",{"$nulls":4},"2191",1,true,false,false,false,false,false,false,false,false,false,false,false,false,false,false,false,false,false,false,false,false,false,false,false,false,false,false,false,false,false,false,false,false,false,false,false,false,false,false,false,false,false,false,false,false,null,"2191"]
["2192-000",{"$nulls":5},"Die Dias für diese Kategorie sind bereits gescannt, aber noch nicht verarbeitet. Bitte noch etwas Geduld.",{"$nulls":4},"2192",1,true,false,false,false,false,false,false,false,false,false,false,false,false,false,false,false,false,false,false,false,false,false,false,false,false,false,false,false,false,false,false,false,false,false,false,false,false,false,false,false,false,false,false,false,false,null,"2192"]
["2201-000",{"$nulls":5},"Die Dias für diese Kategorie sind bereits gescannt, aber noch nicht verarbeitet. Bitte noch etwas Geduld.",{"$nulls":4},"2201",1,true,false,false,false,false,false,false,false,false,false,false,false,false,false,false,false,false,false,false,false,false,false,false,false,false,false,false,false,false,false,false,false,false,false,false,false,false,false,false,false,false,false,false,false,false,null,"2201"]
["2211-000",{"$nulls":5},"Die Dias für diese Kategorie sind bereits gescannt, aber noch nicht verarbeitet. Bitte noch etwas Geduld.",{"$nulls":4},"2211",1,true,false,false,false,false,false,false,false,false,false,false,false,false,false,false,false,false,false,false,false,false,false,false,false,false,false,false,false,false,false,false,false,false,false,false,false,false,false,false,false,false,false,false,false,false,null,"2211"]
["2212-000",{"$nulls":5},"Die Dias für diese Kategorie sind bereits gescannt, aber noch nicht verarbeitet. Bitte noch etwas Geduld.",{"$nulls":4},"2212",1,true,false,false,false,false,false,false,false,false,false,false,false,false,false,false,false,false,false,false,false,false,false,false,false,false,false,false,false,false,false,false,false,false,false,false,false,false,false,false,false,false,false,false,false,false,null,"2212"]
["2221-000",{"$nulls":5},"Die Dias für diese Kategorie sind bereits gescannt, aber noch nicht verarbeitet. Bitte noch etwas Geduld.",{"$nulls":4},"2221",1,true,false,false,false,false,false,false,false,false,false,false,false,false,false,false,false,false,false,false,false,false,false,false,false,false,false,false,false,false,false,false,false,false,false,false,false,false,false,false,false,false,false,false,false,false,null,"2221"]
["2222-000",{"$nulls":5},"Die Dias für diese Kategorie sind bereits gescannt, aber noch nicht verarbeitet. Bitte noch etwas Geduld.",{"$nulls":4},"2222",1,true,false,false,false,false,false,false,false,false,false,false,false,false,false,false,false,false,false,false,false,false,false,false,false,false,false,false,false,false,false,false,false,false,false,false,false,false,false,false,false,false,false,false,false,false,null,"2222"]
["2223-000",{"$nulls":5},"Die Dias für diese Kategorie sind bereits gescannt, aber noch nicht verarbeitet. Bitte noch etwas Geduld.",{"$nulls":4},"2223",1,true,false,false,false,false,false,false,false,false,false,false,false,false,false,false,false,false,false,false,false,false,false,false,false,false,false,false,false,false,false,false,false,false,false,false,false,false,false,false,false,false,false,false,false,false,null,"2223"]
["2224-000",{"$nulls":5},"Die Dias für diese Kategorie sind bereits gescannt, aber noch nicht verarbeitet. Bitte noch etwas Geduld.",{"$nulls":4},"2224",1,true,false,false,false,false,false,false,false,false,false,false,false,false,false,false,false,false,false,false,false,false,false,false,false,false,false,false,false,false,false,false,false,false,false,false,false,false,false,false,false,false,false,false,false,false,null,"2224"]
["2225-000",{"$nulls":5},"Die Dias für diese Kategorie sind bereits gescannt, aber noch nicht verarbeitet. Bitte noch etwas Geduld.",{"$nulls":4},"2225",1,true,false,false,false,false,false,false,false,false,false,false,false,false,false,false,false,false,false,false,false,false,false,false,false,false,false,false,false,false,false,false,false,false,false,false,false,false,false,false,false,false,false,false,false,false,null,"2225"]
["2226-000",{"$nulls":5},"Die Dias für diese Kategorie sind bereits gescannt, aber noch nicht verarbeitet. Bitte noch etwas Geduld.",{"$nulls":4},"2226",1,true,false,false,false,false,false,false,false,false,false,false,false,false,false,false,false,false,false,false,false,false,false,false,false,false,false,false,false,false,false,false,false,false,false,false,false,false,false,false,false,false,false,false,false,false,null,"2226"]
["2227-000",{"$nulls":5},"Die Dias für diese Kategorie sind bereits gescannt, aber noch nicht verarbeitet. Bitte noch etwas Geduld.",{"$nulls":4},"2227",1,true,false,false,false,false,false,false,false,false,false,false,false,false,false,false,false,false,false,false,false,false,false,false,false,false,false,false,false,false,false,false,false,false,false,false,false,false,false,false,false,false,false,false,false,false,null,"2227"]
["2281-001","HV-A1-11-20",null,"2xTw","2614 "," ","ex Wien\nSonderfahrt Tram 81",17,5,1981,"Slg. Horst Völkel","2281",1,true,false,false,false,false,false,false,false,false,false,false,false,false,false,false,false,false,false,false,false,false,false,false,false,false,false,false,false,false,false,false,false,false,false,false,false,false,false,false,false,false,false,false,false,false,"2023-03-30","2281"]
["2281-002","HV-A1-14-63",null,"2xBw\n+2xBw\n+2xTw","5312 \n5920 \n ","A \nA \nA ","ex Wien\nSonderfahrt Tram 81",1,5,1981,"Slg. Horst Völkel","2281",1,true,false,false,false,false,false,false,false,false,false,false,false,false,false,false,false,false,false,false,false,false,false,false,false,false,false,false,false,false,false,false,false,false,false,false,false,false,false,false,false,false,false,false,false,false,"2023-03-30","2281"]
["2282-000",{"$nulls":5},"Die Dias für diese Kategorie sind bereits gescannt, aber noch nicht verarbeitet. Bitte noch etwas Geduld.",{"$nulls":4},"2282",1,true,false,false,false,false,false,false,false,false,false,false,false,false,false,false,false,false,false,false,false,false,false,false,false,false,false,false,false,false,false,false,false,false,false,false,false,false,false,false,false,false,false,false,false,false,null,{"$f":"LEFT(A7490,FIND(\"-\",A7490)-1)","v":"2282"}]
["2283-000",{"$nulls":5},"Die Dias für diese Kategorie sind bereits gescannt, aber noch nicht verarbeitet. Bitte noch etwas Geduld.",{"$nulls":4},"2283",1,true,false,false,false,false,false,false,false,false,false,false,false,false,false,false,false,false,false,false,false,false,false,false,false,false,false,false,false,false,false,false,false,false,false,false,false,false,false,false,false,false,false,false,false,false,null,"2283"]
["2341-000",{"$nulls":5},"Die Dias für diese Kategorie sind bereits gescannt, aber noch nicht verarbeitet. Bitte noch etwas Geduld.",{"$nulls":4},"2341",1,true,false,false,false,false,false,false,false,false,false,false,false,false,false,false,false,false,false,false,false,false,false,false,false,false,false,false,false,false,false,false,false,false,false,false,false,false,false,false,false,false,false,false,false,false,null,"2341"]
["2342-000",{"$nulls":5},"Die Dias für diese Kategorie sind bereits gescannt, aber noch nicht verarbeitet. Bitte noch etwas Geduld.",{"$nulls":4},"2342",1,true,false,false,false,false,false,false,false,false,false,false,false,false,false,false,false,false,false,false,false,false,false,false,false,false,false,false,false,false,false,false,false,false,false,false,false,false,false,false,false,false,false,false,false,false,null,"2342"]
["2343-000",{"$nulls":5},"Die Dias für diese Kategorie sind bereits gescannt, aber noch nicht verarbeitet. Bitte noch etwas Geduld.",{"$nulls":4},"2343",1,true,false,false,false,false,false,false,false,false,false,false,false,false,false,false,false,false,false,false,false,false,false,false,false,false,false,false,false,false,false,false,false,false,false,false,false,false,false,false,false,false,false,false,false,false,null,"2343"]
["2344-000",{"$nulls":5},"Die Dias für diese Kategorie sind bereits gescannt, aber noch nicht verarbeitet. Bitte noch etwas Geduld.",{"$nulls":4},"2344",1,true,false,false,false,false,false,false,false,false,false,false,false,false,false,false,false,false,false,false,false,false,false,false,false,false,false,false,false,false,false,false,false,false,false,false,false,false,false,false,false,false,false,false,false,false,null,"2344"]
["2401-000",{"$nulls":5},"Die Dias für diese Kategorie sind bereits gescannt, aber noch nicht verarbeitet. Bitte noch etwas Geduld.",{"$nulls":4},"2401",1,true,false,false,false,false,false,false,false,false,false,false,false,false,false,false,false,false,false,false,false,false,false,false,false,false,false,false,false,false,false,false,false,false,false,false,false,false,false,false,false,false,false,false,false,false,null,"2401"]
["2402-000",{"$nulls":5},"Die Dias für diese Kategorie sind bereits gescannt, aber noch nicht verarbeitet. Bitte noch etwas Geduld.",{"$nulls":4},"2402",1,true,false,false,false,false,false,false,false,false,false,false,false,false,false,false,false,false,false,false,false,false,false,false,false,false,false,false,false,false,false,false,false,false,false,false,false,false,false,false,false,false,false,false,false,false,null,"2402"]
["2403-000",{"$nulls":5},"Die Dias für diese Kategorie sind bereits gescannt, aber noch nicht verarbeitet. Bitte noch etwas Geduld.",{"$nulls":4},"2403",1,true,false,false,false,false,false,false,false,false,false,false,false,false,false,false,false,false,false,false,false,false,false,false,false,false,false,false,false,false,false,false,false,false,false,false,false,false,false,false,false,false,false,false,false,false,null,"2403"]
["2404-000",{"$nulls":5},"Die Dias für diese Kategorie sind bereits gescannt, aber noch nicht verarbeitet. Bitte noch etwas Geduld.",{"$nulls":4},"2404",1,true,false,false,false,false,false,false,false,false,false,false,false,false,false,false,false,false,false,false,false,false,false,false,false,false,false,false,false,false,false,false,false,false,false,false,false,false,false,false,false,false,false,false,false,false,null,"2404"]
["2405-000",{"$nulls":5},"Die Dias für diese Kategorie sind bereits gescannt, aber noch nicht verarbeitet. Bitte noch etwas Geduld.",{"$nulls":4},"2405",1,true,false,false,false,false,false,false,false,false,false,false,false,false,false,false,false,false,false,false,false,false,false,false,false,false,false,false,false,false,false,false,false,false,false,false,false,false,false,false,false,false,false,false,false,false,null,"2405"]
["2406-000",{"$nulls":5},"Die Dias für diese Kategorie sind bereits gescannt, aber noch nicht verarbeitet. Bitte noch etwas Geduld.",{"$nulls":4},"2406",1,true,false,false,false,false,false,false,false,false,false,false,false,false,false,false,false,false,false,false,false,false,false,false,false,false,false,false,false,false,false,false,false,false,false,false,false,false,false,false,false,false,false,false,false,false,null,"2406"]
["2407-000",{"$nulls":5},"Die Dias für diese Kategorie sind bereits gescannt, aber noch nicht verarbeitet. Bitte noch etwas Geduld.",{"$nulls":4},"2407",1,true,false,false,false,false,false,false,false,false,false,false,false,false,false,false,false,false,false,false,false,false,false,false,false,false,false,false,false,false,false,false,false,false,false,false,false,false,false,false,false,false,false,false,false,false,null,"2407"]
["2410-000",{"$nulls":5},"Die Dias für diese Kategorie sind bereits gescannt, aber noch nicht verarbeitet. Bitte noch etwas Geduld.",{"$nulls":4},"2410",1,true,false,false,false,false,false,false,false,false,false,false,false,false,false,false,false,false,false,false,false,false,false,false,false,false,false,false,false,false,false,false,false,false,false,false,false,false,false,false,false,false,false,false,false,false,null,"2410"]
["2411-000",{"$nulls":5},"Die Dias für diese Kategorie sind bereits gescannt, aber noch nicht verarbeitet. Bitte noch etwas Geduld.",{"$nulls":4},"2411",1,true,false,false,false,false,false,false,false,false,false,false,false,false,false,false,false,false,false,false,false,false,false,false,false,false,false,false,false,false,false,false,false,false,false,false,false,false,false,false,false,false,false,false,false,false,null,"2411"]
["2412-000",{"$nulls":5},"Die Dias für diese Kategorie sind bereits gescannt, aber noch nicht verarbeitet. Bitte noch etwas Geduld.",{"$nulls":4},"2412",1,true,false,false,false,false,false,false,false,false,false,false,false,false,false,false,false,false,false,false,false,false,false,false,false,false,false,false,false,false,false,false,false,false,false,false,false,false,false,false,false,false,false,false,false,false,null,"2412"]
["2413-000",{"$nulls":5},"Die Dias für diese Kategorie sind bereits gescannt, aber noch nicht verarbeitet. Bitte noch etwas Geduld.",{"$nulls":4},"2413",1,true,false,false,false,false,false,false,false,false,false,false,false,false,false,false,false,false,false,false,false,false,false,false,false,false,false,false,false,false,false,false,false,false,false,false,false,false,false,false,false,false,false,false,false,false,null,"2413"]
["2414-000",{"$nulls":5},"Die Dias für diese Kategorie sind bereits gescannt, aber noch nicht verarbeitet. Bitte noch etwas Geduld.",{"$nulls":4},"2414",1,true,false,false,false,false,false,false,false,false,false,false,false,false,false,false,false,false,false,false,false,false,false,false,false,false,false,false,false,false,false,false,false,false,false,false,false,false,false,false,false,false,false,false,false,false,null,"2414"]
["2415-000",{"$nulls":5},"Die Dias für diese Kategorie sind bereits gescannt, aber noch nicht verarbeitet. Bitte noch etwas Geduld.",{"$nulls":4},"2415",1,true,false,false,false,false,false,false,false,false,false,false,false,false,false,false,false,false,false,false,false,false,false,false,false,false,false,false,false,false,false,false,false,false,false,false,false,false,false,false,false,false,false,false,false,false,null,"2415"]
["2416-000",{"$nulls":5},"Die Dias für diese Kategorie sind bereits gescannt, aber noch nicht verarbeitet. Bitte noch etwas Geduld.",{"$nulls":4},"2416",1,true,false,false,false,false,false,false,false,false,false,false,false,false,false,false,false,false,false,false,false,false,false,false,false,false,false,false,false,false,false,false,false,false,false,false,false,false,false,false,false,false,false,false,false,false,null,"2416"]
[{"$nulls":59},{"$error":"#VALUE!"}]
[{"$nulls":59},{"$error":"#VALUE!"}]
[{"$nulls":59},{"$error":"#VALUE!"}]
[{"$nulls":59},{"$error":"#VALUE!"}]
[{"$nulls":59},{"$error":"#VALUE!"}]
[{"$nulls":59},{"$error":"#VALUE!"}]
[{"$nulls":59},{"$error":"#VALUE!"}]
[{"$nulls":59},{"$error":"#VALUE!"}]
[{"$nulls":59},{"$error":"#VALUE!"}]
[{"$nulls":59},{"$error":"#VALUE!"}]
[{"$nulls":59},{"$error":"#VALUE!"}]
[{"$nulls":59},{"$error":"#VALUE!"}]
[{"$nulls":59},{"$error":"#VALUE!"}]
[{"$nulls":59},{"$error":"#VALUE!"}]
[{"$nulls":59},{"$error":"#VALUE!"}]
[{"$nulls":59},{"$error":"#VALUE!"}]
[{"$nulls":59},{"$error":"#VALUE!"}]
[{"$nulls":59},{"$error":"#VALUE!"}]
[{"$nulls":59},{"$error":"#VALUE!"}]
[{"$nulls":59},{"$error":"#VALUE!"}]
[{"$nulls":59},{"$error":"#VALUE!"}]
[{"$nulls":59},{"$error":"#VALUE!"}]
[{"$nulls":59},{"$error":"#VALUE!"}]
[{"$nulls":59},{"$error":"#VALUE!"}]
[{"$nulls":59},{"$error":"#VALUE!"}]
[{"$nulls":59},{"$error":"#VALUE!"}]
[{"$nulls":59},{"$error":"#VALUE!"}]
[{"$nulls":59},{"$error":"#VALUE!"}]
[{"$nulls":59},{"$error":"#VALUE!"}]
[{"$nulls":59},{"$error":"#VALUE!"}]
[{"$nulls":59},{"$error":"#VALUE!"}]
[{"$nulls":59},{"$error":"#VALUE!"}]
[{"$nulls":59},{"$error":"#VALUE!"}]
[{"$nulls":59},{"$error":"#VALUE!"}]